{"text_format":"1","workbook":"xlsx","n_sheets":14,"sheets":["Summer","Summer Peak 2015-01-15","Summer Check Differences","ColdWinter","C. Winter Peak 2015-01-15","C. Winter Check Differences","FPL System Capability (winter)","FPL System Capability (summer)","FPL Generation MW Capacity","FPL Profile","16. OFFCC Incr Graph","Pareto Data OFFCC Incr","Exhibit J-3","Sheet3"],"not_rendered":{"charts":2,"images":0,"macros":0,"external_links":4,"defined_names":7,"comments":6,"pivot_tables":0},"unopened":[{"sheet":"16. OFFCC Incr Graph","index":10,"reason":"not_a_worksheet"}],"bounds":{"document_bytes":16777216,"sheet_cells":100000,"rows_first":2000,"rows_last":500,"rows_between":2000,"halvings":0,"cell_chars":16384,"cell_head_chars":4096},"cells_cut":0,"cells_raw":0,"read":"whole","date_system":"1900"}

{"sheet":"Summer","index":0,"n_rows":73,"n_cols":123,"rows_kept":73,"cut":false,"hidden":false,"merged":[[1,111,1,122],[1,3,1,14],[1,15,1,26],[1,39,1,50],[1,51,1,62],[1,63,1,74],[1,75,1,86],[1,87,1,98],[1,99,1,110],[1,27,1,38]]}
["OPC 006101","Long-Term Summer Peak Capabilities"]
["FPL RC-16",null,2013,2014,null,null,null,null,null,null,null,null,null,null,null,2015,null,null,null,null,null,null,null,null,null,null,null,2016,null,null,null,null,null,null,null,null,null,null,null,2017,null,null,null,null,null,null,null,null,null,null,null,2018,null,null,null,null,null,null,null,null,null,null,null,2019,null,null,null,null,null,null,null,null,null,null,null,2020,null,null,null,null,null,null,null,null,null,null,null,2021,null,null,null,null,null,null,null,null,null,null,null,2022,null,null,null,null,null,null,null,null,null,null,null,2023]
[null,"Unit","Dec","Jan","Feb","Mar","Apr","May","Jun","Jul","Aug","Sep","Oct","Nov","Dec","Jan","Feb","Mar","Apr","May","Jun","Jul","Aug","Sep","Oct","Nov","Dec","Jan","Feb","Mar","Apr","May","Jun","Jul","Aug","Sep","Oct","Nov","Dec","Jan","Feb","Mar","Apr","May","Jun","Jul","Aug","Sep","Oct","Nov","Dec","Jan","Feb","Mar","Apr","May","Jun","Jul","Aug","Sep","Oct","Nov","Dec","Jan","Feb","Mar","Apr","May","Jun","Jul","Aug","Sep","Oct","Nov","Dec","Jan","Feb","Mar","Apr","May","Jun","Jul","Aug","Sep","Oct","Nov","Dec","Jan","Feb","Mar","Apr","May","Jun","Jul","Aug","Sep","Oct","Nov","Dec","Jan","Feb","Mar","Apr","May","Jun","Jul","Aug","Sep","Oct","Nov","Dec","Jan","Feb","Mar","Apr","May","Jun","Jul","Aug","Sep","Oct","Nov","Dec"]
[null,"PCC1",0,0,{"$f":"D4","v":0},0,0,0,0,0,0,0,0,0,0,0,0,0,0,{"$f":"S4","v":0},0,0,0,0,0,0,0,{"$f":"AA4","v":0},{"$f":"AB4","v":0},{"$f":"AC4","v":0},0,0,0,0,0,0,0,0,0,{"$f":"AM4","v":0},{"$f":"AN4","v":0},{"$f":"AO4","v":0},0,0,0,0,0,0,0,0,0,{"$f":"AY4","v":0},{"$f":"AZ4","v":0},{"$f":"BA4","v":0},0,0,0,0,0,0,0,0,0,{"$f":"BK4","v":0},{"$f":"BL4","v":0},{"$f":"BM4","v":0},0,0,0,0,0,0,0,0,0,{"$f":"BW4","v":0},{"$f":"BX4","v":0},{"$f":"BY4","v":0},0,0,0,0,0,0,0,0,0,{"$f":"CI4","v":0},{"$f":"CJ4","v":0},{"$f":"CK4","v":0},0,0,0,0,0,0,0,0,0,{"$f":"CU4","v":0},{"$f":"CV4","v":0},{"$f":"CW4","v":0},0,0,0,0,0,0,0,0,0,{"$f":"DG4","v":0},{"$f":"DH4","v":0},{"$f":"DI4","v":0},0,0,0,0,0,0,0,0,0]
[null,"PCC2",0,0,0,0,0,0,0,0,0,0,0,0,0,0,0,0,0,0,0,0,0,0,0,0,0,0,0,0,0,0,0,0,0,0,0,0,0,0,0,0,0,0,0,0,0,0,0,0,0,0,0,0,0,0,0,0,0,0,0,0,0,0,0,0,0,0,0,0,0,0,0,0,0,0,0,0,0,0,0,0,0,0,0,0,0,0,0,0,0,0,0,0,0,0,0,0,0,0,0,0,0,0,0,0,0,0,0,0,0,0,0,0,0,0,0,0,0,0,0,0,0]
[null,"PCC3",1210,1210,1210,1210,1210,1210,1210,1210,1210,1210,1210,1210,1210,1210,1210,1210,1210,1210,1210,1210,1210,1210,1210,1210,1210,1210,1210,1210,1210,1210,{"$f":"AF6","v":1210},1210,1210,1210,1210,1210,1210,1210,1210,1210,1210,1210,1210,1210,1210,1210,1210,1210,1210,1210,1210,1210,1210,1210,1210,1210,1210,1210,1210,1210,1210,1210,1210,1210,1210,1210,1210,1210,1210,1210,1210,1210,1210,1210,1210,1210,1210,1210,1210,1210,1210,1210,1210,1210,1210,1210,1210,1210,1210,1210,1210,1210,1210,1210,1210,1210,1210,1210,1210,{"$f":"CW6+29","v":1239},{"$f":"CX6","v":1239},{"$f":"CY6+29","v":1268},{"$f":"CZ6","v":1268},{"$f":"DA6+29","v":1297},1297,1297,1297,1297,1297,1297,1297,1297,1297,1297,1297,1297,1297,1297,1297,1297,1297]
[null,"PCU5",0,0,0,0,0,0,0,0,0,0,0,0,0,0,0,0,0,0,0,0,0,0,0,0,0,0,0,0,0,0,0,0,0,0,0,0,0,0,0,0,0,0,0,0,0,0,0,0,0,0,0,0,0,0,0,0,0,0,0,0,0,0,0,0,0,0,0,0,0,0,0,0,0,0,0,0,0,0,0,0,0,0,0,0,0,0,0,0,0,0,0,0,0,0,0,0,0,0,0,0,0,0,0,0,0,0,0,0,0,0,0,0,0,0,0,0,0,0,0,0,0]
[null,"PCU6",0,0,0,0,0,0,0,0,0,0,0,0,0,0,0,0,0,0,0,0,0,0,0,0,0,0,0,0,0,0,0,0,0,0,0,0,0,0,0,0,0,0,0,0,0,0,0,0,0,0,0,0,0,0,0,0,0,0,0,0,0,0,0,0,0,0,0,0,0,0,0,0,0,0,0,0,0,0,0,0,0,0,0,0,0,0,0,0,0,0,0,0,0,0,0,0,0,0,0,0,0,0,0,0,0,0,0,0,0,0,0,0,0,0,0,0,0,0,0,0,0]
[null,"PDO",25,25,25,25,25,25,25,25,25,25,25,25,25,25,25,25,25,25,25,25,25,25,25,25,25,25,25,25,25,25,25,25,25,25,25,25,25,25,25,25,25,25,25,25,25,25,25,25,25,25,25,25,25,25,25,25,25,25,25,25,25,25,25,25,25,25,25,25,25,25,25,25,25,25,25,25,25,25,25,25,25,25,25,25,25,25,25,25,25,25,25,25,25,25,25,25,25,25,25,25,25,25,25,25,25,25,25,25,25,25,25,25,25,25,25,25,25,25,25,25,25]
[null,"PFL4",442,442,442,442,442,442,442,442,442,442,442,442,442,442,442,442,442,442,442,442,442,442,442,442,442,442,442,442,442,442,442,442,442,442,442,442,442,442,442,442,442,442,442,442,442,442,442,442,442,442,442,442,442,442,442,442,442,442,442,442,442,442,442,442,442,442,442,442,442,442,442,442,442,442,442,442,442,442,442,442,442,442,442,442,442,442,442,442,442,442,442,442,442,442,442,442,442,442,442,442,442,442,442,442,442,442,442,442,442,442,442,442,442,442,442,442,442,442,442,442,442]
[null,"PFL5",442,442,442,442,442,442,442,442,442,442,442,442,442,442,442,442,442,442,442,442,442,442,442,442,442,442,442,442,442,442,442,442,442,442,442,442,442,442,442,442,442,442,442,442,442,442,442,442,442,442,442,442,442,442,442,442,442,442,442,442,442,442,442,442,442,442,442,442,442,442,442,442,442,442,442,442,442,442,442,442,442,442,442,442,442,442,442,442,442,442,442,442,442,442,442,442,442,442,442,442,442,442,442,442,442,442,442,442,442,442,442,442,442,442,442,442,442,442,442,442,442]
[null,"PFL GT1",420,420,420,420,420,420,420,420,420,420,420,420,420,420,420,420,420,420,420,420,420,420,420,420,420,420,420,420,420,420,420,420,420,420,420,420,420,420,420,420,420,420,420,420,420,420,420,420,420,420,420,420,420,420,420,420,420,420,420,420,420,{"$f":"BK12","v":420},420,420,420,420,420,420,420,420,420,420,420,420,420,420,420,420,420,420,420,420,420,420,420,420,420,420,420,420,420,420,420,420,420,420,420,420,420,420,420,420,420,420,420,420,420,420,420,420,420,420,420,420,420,420,420,420,420,420,420]
[null,"PFL GT2",420,420,420,420,420,420,420,420,420,420,420,420,420,420,420,420,420,420,420,420,420,420,420,420,420,420,420,420,420,420,420,420,420,420,420,420,420,420,420,420,420,420,420,420,420,420,420,420,420,420,420,420,420,420,420,420,420,420,420,420,420,{"$f":"BK13","v":420},420,420,420,420,420,420,420,420,420,420,420,420,420,420,420,420,420,420,420,420,420,420,420,420,420,420,420,420,420,420,420,420,420,420,420,420,420,420,420,420,420,420,420,420,420,420,420,420,420,420,420,420,420,420,420,420,420,420,420]
[null,"PFL CT",0,0,0,0,0,0,0,0,0,0,0,0,0,0,0,0,0,0,0,0,0,0,0,0,0,0,0,0,0,0,0,0,0,0,0,0,0,0,0,0,0,0,0,0,0,0,0,0,0,0,0,0,0,0,0,0,0,0,0,0,0,{"$f":"BK14","v":0},0,0,0,0,0,0,0,0,0,0,0,0,0,0,0,0,0,0,0,0,0,0,0,0,0,0,0,0,0,0,0,0,0,0,0,0,0,0,0,0,0,0,0,0,0,0,0,0,0,0,0,0,0,0,0,0,0,0,0]
[null,"PFM2",1432,1436,1436,1436,1436,1436,1436,1436,1436,1436,1436,1436,1436,{"$f":"O15","v":1436},1436,{"$f":"Q15","v":1436},1436,{"$f":"S15+8","v":1444},{"$f":"T15+8","v":1452},{"$f":"U15+8","v":1460},{"$f":"V15+8","v":1468},{"$f":"W15+8","v":1476},1476,1476,1476,{"$f":"AA15+8","v":1484},1484,1484,1484,1484,1484,1484,1484,1484,1484,1484,1484,1484,1484,1484,1484,1484,1484,1484,1484,1484,1484,1484,1484,1484,1484,1484,1484,1484,1484,1484,1484,1484,1484,1484,1484,1484,1484,1484,1484,1484,1484,1484,1484,1484,1484,1484,1484,1484,1484,1484,1484,1484,1484,1484,1484,1484,1484,1484,1484,1484,1484,1484,1484,1484,1484,1484,1484,1484,1484,1484,1484,1484,1484,1484,1484,1484,1484,1484,1484,1484,1484,1484,1484,1484,1484,1484,1484,1484,1484,1484,1484,1484,1484,1484,1484]
[null,"PFM3",315,319,319,319,319,319,319,319,319,319,319,319,319,319,319,319,319,{"$f":"S16","v":319},319,319,319,319,319,319,319,319,319,319,319,319,319,319,319,319,319,319,319,319,319,319,319,319,319,319,319,319,319,319,319,319,319,319,319,319,319,319,319,319,319,319,319,319,319,319,319,319,319,319,319,319,319,319,319,319,319,319,319,319,319,319,319,319,319,319,319,319,319,319,319,319,319,319,319,319,319,319,319,319,319,319,319,319,319,319,319,319,319,319,319,319,319,319,319,319,319,319,319,319,319,319,319]
[null,"PFM GT",648,648,{"$f":"D17","v":648},648,648,648,648,648,648,648,648,648,648,648,648,648,648,648,648,648,648,648,648,648,648,648,648,648,648,648,648,648,648,648,648,648,648,648,648,648,648,648,648,648,648,648,648,648,648,648,648,648,648,648,648,648,648,648,648,648,648,648,648,648,648,648,648,648,648,648,648,648,648,648,648,648,648,648,648,648,648,648,648,648,648,648,648,648,648,648,648,648,648,648,648,648,648,648,648,648,648,648,648,648,648,648,648,648,648,648,648,648,648,648,648,648,648,648,648,648,648]
[null,"PJK1",127,127,127,127,127,127,127,127,127,127,127,127,127,127,127,127,127,127,127,127,127,127,127,127,127,127,127,127,127,127,127,127,127,127,127,127,127,127,127,127,127,127,127,127,127,127,127,127,127,127,127,127,127,127,127,127,127,127,127,127,127,127,127,127,127,127,127,127,127,127,127,127,127,127,127,127,127,127,127,127,127,127,127,127,127,127,127,127,127,127,127,127,127,127,127,127,127,127,127,127,127,127,127,127,127,127,127,127,127,127,127,127,127,127,127,127,127,127,127,127,127]
[null,"PJK2",127,127,127,127,127,127,127,127,127,127,127,127,127,127,127,127,127,127,127,127,127,127,127,127,127,127,127,127,127,127,127,127,127,127,127,127,127,127,127,127,127,127,127,127,127,127,127,127,127,127,127,127,127,127,127,127,127,127,127,127,127,127,127,127,127,127,127,127,127,127,127,127,127,127,127,127,127,127,127,127,127,127,127,127,127,127,127,127,127,127,127,127,127,127,127,127,127,127,127,127,127,127,127,127,127,127,127,127,127,127,127,127,127,127,127,127,127,127,127,127,127]
[null,"PMR1",826,826,826,{"$f":"E20","v":826},{"$f":"F20","v":826},{"$f":"G20-3","v":823},823,823,823,823,823,823,823,823,823,823,823,823,823,823,823,823,823,823,823,{"$f":"AA20","v":823},823,{"$f":"AC20","v":823},823,823,823,823,823,823,823,823,823,823,823,{"$f":"AO20","v":823},{"$f":"AP20","v":823},823,823,823,823,823,823,823,823,823,823,{"$f":"BA20","v":823},{"$f":"BB20","v":823},823,823,823,823,823,823,823,823,823,823,{"$f":"BM20","v":823},{"$f":"BN20","v":823},823,823,823,823,823,823,823,823,823,823,{"$f":"BY20","v":823},{"$f":"BZ20","v":823},823,823,823,823,823,823,823,823,823,823,{"$f":"CK20","v":823},{"$f":"CL20","v":823},823,823,823,823,823,823,823,823,823,823,{"$f":"CW20","v":823},{"$f":"CX20","v":823},823,823,823,823,823,823,823,823,823,823,{"$f":"DI20","v":823},{"$f":"DJ20","v":823},823,823,823,823,823,823,823,823]
[null,"PMR2",826,826,826,826,826,826,826,826,826,826,826,826,826,826,{"$f":"P21-3","v":823},823,823,823,823,823,823,823,823,823,823,823,823,823,823,823,823,823,823,823,823,823,823,823,823,823,823,823,823,823,823,823,823,823,823,823,823,823,823,823,823,823,823,823,823,823,823,823,823,823,823,823,823,823,823,823,823,823,823,823,823,823,823,823,823,823,823,823,823,823,823,823,823,823,823,823,823,823,823,823,823,823,823,823,823,823,823,823,823,823,823,823,823,823,823,823,823,823,823,823,823,823,823,823,823,823,823]
[null,"PMG3",469,469,469,469,469,469,469,469,469,469,469,469,469,469,469,469,469,469,469,469,469,469,469,469,469,469,469,469,469,469,469,469,469,469,469,469,469,469,469,469,469,469,469,469,469,469,469,469,469,469,469,469,469,469,469,469,469,469,469,469,469,469,469,469,469,469,469,469,469,469,469,469,469,469,469,469,469,469,469,469,469,469,469,469,469,469,469,469,469,469,469,469,469,469,469,469,469,469,469,469,469,469,469,469,469,469,469,469,469,469,469,469,469,469,469,469,469,469,469,469,469]
[null,"PMG4",469,469,469,469,469,469,469,469,469,469,469,469,469,469,469,469,469,469,469,469,469,469,469,469,469,469,469,469,469,469,469,469,469,469,469,469,469,469,469,469,469,469,469,469,469,469,469,469,469,469,469,469,469,469,469,469,469,469,469,469,469,469,469,469,469,469,469,469,469,469,469,469,469,469,469,469,469,469,469,469,469,469,469,469,469,469,469,469,469,469,469,469,469,469,469,469,469,469,469,469,469,469,469,469,469,469,469,469,469,469,469,469,469,469,469,469,469,469,469,469,469]
[null,"PMG8",1141,1135,1135,1135,1135,1135,1135,1135,1135,1135,1135,1135,1135,1135,1135,1135,1135,1135,1135,1135,1135,1135,1135,1135,1135,1135,1135,{"$f":"AC24","v":1135},1135,1135,1135,{"$f":"AG24","v":1135},1135,1135,1135,1135,{"$f":"AL24","v":1135},1135,1135,1135,1135,1135,1135,{"$f":"AS24","v":1135},{"$f":"AT24","v":1135},1135,1135,1135,1135,1135,1135,1135,1135,1135,1135,1135,1135,1135,1135,1135,1135,1135,1135,1135,1135,1135,1135,1135,1135,1135,1135,1135,1135,1135,1135,1135,1135,1135,1135,1135,1135,1135,1135,1135,1135,1135,1135,1135,1135,1135,1135,1135,1135,1135,1135,1135,1135,1135,1135,1135,1135,1135,1135,1135,1135,1135,1135,1135,1135,1135,1135,1135,1135,1135,1135,1135,1135,1135,1135,1135,1135]
[null,"PMT1",809,809,{"$f":"D25","v":809},809,809,809,809,809,809,809,809,809,809,809,809,809,809,809,809,809,809,809,809,809,809,809,809,809,809,809,809,809,809,809,809,809,809,809,809,809,809,809,809,809,809,809,809,809,809,809,809,809,809,809,809,809,809,809,809,809,809,809,809,809,809,809,809,809,809,809,809,809,809,809,809,809,809,809,809,809,809,809,809,809,809,809,809,809,809,809,809,809,809,809,809,809,809,809,809,809,809,809,809,809,809,809,809,809,809,809,809,809,809,809,809,809,809,809,809,809,809]
[null,"PMT2",809,809,809,809,809,809,809,809,809,809,809,809,809,809,809,809,809,809,809,809,809,809,809,809,809,809,809,809,809,809,809,809,809,809,809,809,809,809,809,809,809,809,809,809,809,809,809,809,809,809,809,809,809,809,809,809,809,809,809,809,809,809,809,809,809,809,809,809,809,809,809,809,809,809,809,809,809,809,809,809,809,809,809,809,809,809,809,809,809,809,809,809,809,809,809,809,809,809,809,809,809,809,809,809,809,809,809,809,809,809,809,809,809,809,809,809,809,809,809,809,809]
[null,"PMT3",1111,1108,1108,1108,1108,1108,{"$f":"H27+10+11+9","v":1138},{"$f":"I27","v":1138},{"$f":"J27+5","v":1143},1143,1143,1143,1143,1143,1143,1143,1143,1143,1143,1143,1143,1143,1143,1143,1143,1143,{"$f":"AB27","v":1143},1143,1143,1143,1143,1143,1143,{"$f":"AI27","v":1143},{"$f":"AJ27","v":1143},1143,1143,1143,{"$f":"AN27","v":1143},{"$f":"AO27","v":1143},1143,{"$f":"AQ27","v":1143},1143,1143,1143,1143,1143,1143,1143,1143,1143,1143,1143,1143,1143,1143,1143,1143,1143,1143,1143,1143,1143,1143,1143,1143,1143,1143,1143,1143,1143,1143,1143,1143,1143,1143,1143,1143,1143,1143,1143,1143,1143,1143,1143,1143,1143,1143,1143,1143,1143,1143,1143,1143,1143,1143,1143,1143,1143,1143,1143,1143,1143,1143,1143,1143,1143,1143,1143,1143,1143,1143,1143,1143,1143,1143,1143,1143,1143,1143,1143]
[null,"PPE1",0,0,0,0,0,0,0,0,0,0,0,0,0,0,0,0,0,0,0,0,0,0,0,0,0,0,0,0,0,0,0,0,0,0,0,0,0,0,0,0,0,0,0,0,0,0,0,0,0,0,0,0,0,0,0,0,0,0,0,0,0,0,0,0,0,0,0,0,0,0,0,0,0,0,0,0,0,0,0,0,0,0,0,0,0,0,0,0,0,0,0,0,0,0,0,0,0,0,0,0,0,0,0,0,0,0,0,0,0,0,0,0,0,0,0,0,0,0,0,0,0]
[null,"PPE2",0,0,0,0,0,0,0,0,0,0,0,0,0,0,0,0,0,0,0,0,0,0,0,0,0,0,0,0,0,0,0,0,0,0,0,0,0,0,0,0,0,0,0,0,0,0,0,0,0,0,0,0,0,0,0,0,0,0,0,0,0,0,0,0,0,0,0,0,0,0,0,0,0,0,0,0,0,0,0,0,0,0,0,0,0,0,0,0,0,0,0,0,0,0,0,0,0,0,0,0,0,0,0,0,0,0,0,0,0,0,0,0,0,0,0,0,0,0,0,0,0]
[null,"PPE3",0,0,0,0,0,0,0,0,0,0,0,0,0,0,0,0,0,0,0,0,0,0,0,0,0,0,0,0,0,0,0,0,0,0,0,0,0,0,0,0,0,0,0,0,0,0,0,0,0,0,0,0,0,0,0,0,0,0,0,0,0,0,0,0,0,0,0,0,0,0,0,0,0,0,0,0,0,0,0,0,0,0,0,0,0,0,0,0,0,0,0,0,0,0,0,0,0,0,0,0,0,0,0,0,0,0,0,0,0,0,0,0,0,0,0,0,0,0,0,0,0]
[null,"PPE4",0,0,0,0,0,0,0,0,0,0,0,0,0,0,0,0,0,0,0,0,0,0,0,0,0,0,0,0,0,0,0,0,0,0,0,0,0,0,0,0,0,0,0,0,0,0,0,0,0,0,0,0,0,0,0,0,0,0,0,0,0,0,0,0,0,0,0,0,0,0,0,0,0,0,0,0,0,0,0,0,0,0,0,0,0,0,0,0,0,0,0,0,0,0,0,0,0,0,0,0,0,0,0,0,0,0,0,0,0,0,0,0,0,0,0,0,0,0,0,0,0]
[null,"PPE5",0,0,0,0,0,0,0,0,0,0,0,0,0,0,0,0,0,0,0,0,0,0,0,0,0,0,0,0,0,0,{"$f":"AF32+1237","v":1237},1237,1237,1237,1237,1237,1237,1237,1237,1237,1237,1237,1237,1237,1237,1237,1237,1237,1237,1237,1237,1237,1237,1237,1237,1237,1237,1237,1237,1237,1237,1237,1237,1237,1237,1237,1237,1237,1237,1237,1237,1237,1237,1237,1237,1237,1237,1237,1237,1237,1237,1237,1237,1237,1237,1237,1237,1237,1237,1237,1237,1237,1237,1237,1237,1237,1237,1237,1237,1237,1237,1237,1237,1237,1237,1237,1237,1237,1237,1237,1237,1237,1237,1237,1237,1237,1237,1237,1237,1237,1237]
[null,"PPE GT",420,420,420,420,420,420,420,420,420,420,420,420,420,420,420,420,420,420,420,420,420,420,420,420,420,420,420,420,420,420,420,420,420,420,420,420,420,420,420,420,420,420,{"$f":"AR33","v":420},420,420,420,420,420,420,420,420,420,420,420,{"$f":"BD33","v":420},420,420,420,420,420,420,{"$f":"BK33","v":420},420,420,420,420,{"$f":"BP33","v":420},420,420,420,420,420,420,420,420,420,420,420,{"$f":"CB33","v":420},420,420,420,420,420,420,420,420,420,420,420,{"$f":"CN33","v":420},420,420,420,420,420,420,420,420,420,420,420,{"$f":"CZ33","v":420},420,420,420,420,420,420,420,420,420,420,420,{"$f":"DL33","v":420},420,420,420,420,420,420]
[null,"PPN1",249,247,247,247,247,247,247,247,247,247,247,247,0,{"$f":"O34","v":0},0,0,0,0,0,0,0,0,0,0,0,0,0,0,0,0,0,0,0,0,0,0,0,0,0,0,0,0,{"$f":"AR34","v":0},0,0,0,0,0,0,{"$f":"AY34","v":0},0,0,0,0,{"$f":"BD34","v":0},0,0,0,0,0,0,0,0,0,0,0,{"$f":"BP34","v":0},0,0,0,0,0,0,0,0,0,0,0,{"$f":"CB34","v":0},0,0,0,0,0,0,0,0,0,0,0,{"$f":"CN34","v":0},0,0,0,0,0,0,0,0,0,0,0,{"$f":"CZ34","v":0},0,0,0,0,0,0,0,0,0,0,0,{"$f":"DL34","v":0},0,0,0,0,0,0]
[null,"PPN2",249,247,247,247,247,247,247,247,247,247,247,247,0,{"$f":"O35","v":0},0,0,0,0,0,0,0,0,0,0,0,0,0,0,0,0,{"$f":"AF35","v":0},{"$f":"AG35","v":0},{"$f":"AH35","v":0},{"$f":"AI35","v":0},{"$f":"AJ35","v":0},0,0,0,0,0,0,0,{"$f":"AR35","v":0},{"$f":"AS35","v":0},{"$f":"AT35","v":0},{"$f":"AU35","v":0},{"$f":"AV35","v":0},0,0,{"$f":"AY35","v":0},0,0,0,0,{"$f":"BD35","v":0},{"$f":"BE35","v":0},{"$f":"BF35","v":0},{"$f":"BG35","v":0},{"$f":"BH35","v":0},0,0,0,0,0,0,0,{"$f":"BP35","v":0},{"$f":"BQ35","v":0},{"$f":"BR35","v":0},{"$f":"BS35","v":0},{"$f":"BT35","v":0},0,0,0,0,0,0,0,{"$f":"CB35","v":0},{"$f":"CC35","v":0},{"$f":"CD35","v":0},{"$f":"CE35","v":0},{"$f":"CF35","v":0},0,0,0,0,0,0,0,{"$f":"CN35","v":0},{"$f":"CO35","v":0},{"$f":"CP35","v":0},{"$f":"CQ35","v":0},{"$f":"CR35","v":0},0,0,0,0,0,0,0,{"$f":"CZ35","v":0},{"$f":"DA35","v":0},{"$f":"DB35","v":0},{"$f":"DC35","v":0},{"$f":"DD35","v":0},0,0,0,0,0,0,0,{"$f":"DL35","v":0},{"$f":"DM35","v":0},{"$f":"DN35","v":0},{"$f":"DO35","v":0},{"$f":"DP35","v":0},0,0]
[null,"PRV3",0,0,{"$f":"D36","v":0},0,0,0,{"$f":"H36","v":0},0,0,0,0,0,0,0,0,0,0,0,0,0,0,0,0,0,0,0,0,0,0,0,0,0,0,0,0,0,0,0,0,0,0,0,0,0,0,0,0,0,0,0,0,0,0,0,0,0,0,0,0,0,0,0,0,0,0,0,0,0,0,0,0,0,0,0,0,0,0,0,0,0,0,0,0,0,0,0,0,0,0,0,0,0,0,0,0,0,0,0,0,0,0,0,0,0,0,0,0,0,0,0,0,0,0,0,0,0,0,0,0,0,0]
[null,"PRV4",0,0,0,0,0,0,0,0,0,0,0,0,0,0,0,0,0,0,0,0,0,0,0,0,0,0,0,0,0,0,0,0,0,{"$f":"AI37","v":0},0,0,0,0,0,0,0,0,0,0,0,0,0,0,0,0,0,0,0,0,0,0,0,0,0,0,0,0,0,0,0,0,0,0,0,0,0,0,0,0,0,0,0,0,0,0,0,0,0,0,0,0,0,0,0,0,0,0,0,0,0,0,0,0,0,0,0,0,0,0,0,0,0,0,0,0,0,0,0,0,0,0,0,0,0,0,0]
[null,"PRV5",0,0,0,0,{"$f":"F38+1212","v":1212},{"$f":"G38","v":1212},1212,1212,1212,1212,1212,1212,1212,1212,1212,1212,1212,1212,1212,1212,1212,1212,1212,1212,1212,1212,1212,1212,1212,1212,1212,1212,1212,1212,1212,1212,1212,1212,1212,1212,1212,1212,1212,1212,1212,1212,1212,1212,1212,1212,1212,1212,1212,1212,1212,1212,1212,1212,1212,1212,1212,1212,1212,1212,1212,1212,1212,1212,1212,1212,1212,1212,1212,1212,1212,1212,1212,1212,1212,1212,1212,1212,1212,1212,1212,1212,1212,1212,1212,1212,1212,1212,1212,1212,1212,1212,1212,1212,1212,1212,1212,1212,1212,1212,1212,1212,1212,1212,1212,1212,1212,1212,1212,{"$f":"DK38+28","v":1240},{"$f":"DL38","v":1240},{"$f":"DM38+28","v":1268},{"$f":"DN38","v":1268},{"$f":"DO38","v":1268},{"$f":"DP38","v":1268},{"$f":"DQ38+27","v":1295},1295]
[null,"PSC",10,10,10,10,10,10,10,10,10,10,10,10,10,10,10,10,10,10,10,10,10,10,10,10,10,10,10,10,10,10,10,10,10,10,10,10,10,10,10,10,10,10,10,10,10,10,10,10,10,10,10,10,10,10,10,10,10,10,10,10,10,10,10,10,10,10,10,10,10,10,10,10,10,10,10,10,10,10,10,10,10,10,10,10,10,10,10,10,10,10,10,10,10,10,10,10,10,10,10,10,10,10,10,10,10,10,10,10,10,10,10,10,10,10,10,10,10,10,10,10,10]
[null,"PSH4",643,643,643,643,643,643,643,643,643,643,643,643,643,643,643,643,643,643,643,643,643,643,643,643,643,643,643,643,643,643,643,643,643,643,643,643,643,643,643,643,643,643,643,643,643,643,643,643,643,643,643,643,643,643,643,643,643,643,643,643,643,643,643,643,643,643,643,643,643,643,643,643,643,643,643,643,643,643,643,643,643,643,643,643,643,643,643,643,643,643,643,643,643,643,643,643,643,643,643,643,643,643,643,643,643,643,643,643,643,643,643,643,643,643,643,643,643,643,643,643,643]
[null,"PSL1",981,981,981,981,981,981,981,981,981,981,981,981,981,981,981,981,981,981,981,981,981,981,981,981,981,981,981,981,981,981,981,981,981,981,981,981,981,981,981,981,981,981,981,981,981,981,981,981,981,981,981,981,981,981,981,981,981,981,981,981,981,981,981,981,981,981,981,981,981,981,981,981,981,981,981,{"$f":"BY41","v":981},981,981,981,981,981,981,981,981,981,981,981,{"$f":"CK41","v":981},981,981,981,981,981,981,981,981,981,981,981,{"$f":"CW41","v":981},981,981,981,981,981,981,981,981,981,981,981,{"$f":"DI41","v":981},981,981,981,981,981,981,981,981,981]
[null,"PSL2",840,840,840,840,840,840,840,840,840,840,840,840,840,840,840,840,840,840,840,840,840,840,840,840,840,840,840,840,840,840,840,840,840,840,840,840,840,840,840,840,840,{"$f":"AQ42","v":840},840,840,840,840,840,840,840,840,840,840,840,840,840,840,840,{"$f":"BG42","v":840},840,840,840,840,840,840,840,840,840,840,840,840,840,840,840,{"$f":"BW42","v":840},840,840,840,840,840,840,840,840,840,840,840,840,840,840,840,840,840,840,840,840,840,840,840,840,840,840,840,840,840,840,840,840,840,840,840,840,840,840,840,840,840,840,840,840,840,840,840]
[null,"PSN3",0,0,0,0,0,0,0,0,0,0,0,0,0,0,0,0,0,0,0,0,0,0,0,0,0,0,0,0,0,0,0,0,0,0,0,0,0,0,0,0,0,0,0,0,0,0,0,0,0,0,0,0,0,0,0,0,0,0,0,0,0,0,0,0,0,0,0,0,0,0,0,0,0,0,0,0,0,0,0,0,0,0,0,0,0,0,0,0,0,0,0,0,0,0,0,0,0,0,0,0,0,0,0,0,0,0,0,0,0,0,0,0,0,0,0,0,0,0,0,0,0]
[null,"PSR4",989,1005,1005,1005,1005,1005,1005,1005,1005,1005,1005,1005,1005,1005,1005,1005,1005,1005,1005,1005,1005,1005,1005,1005,1005,1005,1005,{"$f":"AC44","v":1005},1005,{"$f":"AE44","v":1005},1005,{"$f":"AG44","v":1005},1005,{"$f":"AI44","v":1005},1005,1005,1005,1005,1005,1005,1005,1005,1005,1005,1005,1005,1005,1005,1005,1005,1005,1005,1005,1005,1005,1005,1005,1005,1005,1005,1005,1005,1005,1005,1005,1005,1005,1005,1005,1005,1005,1005,1005,1005,1005,1005,1005,1005,1005,1005,1005,1005,1005,1005,1005,1005,1005,1005,1005,1005,1005,1005,1005,1005,1005,1005,1005,1005,1005,1005,1005,1005,1005,1005,1005,1005,1005,1005,1005,1005,1005,1005,1005,1005,1005,1005,1005,1005,1005,1005,1005]
[null,"PSR5",991,1005,{"$f":"D45","v":1005},1005,1005,1005,1005,1005,1005,1005,1005,1005,1005,1005,1005,1005,1005,1005,1005,1005,1005,1005,1005,1005,1005,1005,1005,1005,1005,1005,1005,1005,1005,1005,1005,{"$f":"AK45","v":1005},1005,1005,1005,1005,1005,{"$f":"AQ45","v":1005},{"$f":"AR45","v":1005},1005,1005,1005,1005,1005,1005,1005,1005,1005,1005,1005,1005,1005,1005,1005,1005,1005,1005,1005,1005,1005,1005,1005,1005,1005,1005,1005,1005,1005,1005,1005,1005,1005,1005,1005,1005,1005,1005,1005,1005,1005,1005,1005,1005,1005,1005,1005,1005,1005,1005,1005,1005,1005,1005,1005,1005,1005,1005,1005,1005,1005,1005,1005,1005,1005,1005,1005,1005,1005,1005,1005,1005,1005,1005,1005,1005,1005,1005]
[null,"PTF1",396,396,{"$f":"D46","v":396},396,396,396,396,396,396,396,396,396,396,396,396,396,396,396,{"$f":"T46","v":396},396,396,396,396,396,396,0,0,0,0,0,{"$f":"AF46","v":0},0,0,0,0,0,0,0,0,0,0,0,{"$f":"AR46","v":0},0,0,0,0,0,0,{"$f":"AY46","v":0},0,0,0,0,{"$f":"BD46","v":0},0,0,0,0,0,0,{"$f":"BK46","v":0},0,0,0,0,{"$f":"BP46","v":0},0,0,0,0,0,0,{"$f":"BW46","v":0},0,0,0,0,{"$f":"CB46","v":0},0,0,0,0,0,0,{"$f":"CI46","v":0},0,0,0,0,{"$f":"CN46","v":0},0,0,0,0,0,0,{"$f":"CU46","v":0},0,0,0,0,{"$f":"CZ46","v":0},0,0,0,0,0,0,{"$f":"DG46","v":0},0,0,0,0,{"$f":"DL46","v":0},0,0,0,0,0,0]
[null,"PTF2",392,0,{"$f":"D47","v":0},0,0,0,0,0,0,0,0,0,0,0,0,0,0,0,0,0,0,0,0,0,0,0,0,0,0,0,0,0,0,0,0,0,0,0,0,0,0,0,0,0,0,0,0,0,0,0,0,0,0,0,0,0,0,0,0,0,0,0,0,0,0,0,0,0,0,0,0,0,0,{"$f":"BW47","v":0},0,0,0,0,0,0,0,0,0,0,0,0,0,0,0,0,0,0,0,0,0,0,0,0,0,0,0,0,0,0,0,0,0,0,0,0,0,0,0,0,0,0,0,0,0,0,0]
[null,"PTN3",811,811,811,811,811,811,811,811,811,811,811,811,811,811,811,811,811,811,811,811,811,811,811,811,811,811,811,811,811,811,811,811,811,811,811,811,811,811,811,811,811,811,811,811,811,811,811,811,811,811,811,811,811,811,811,811,811,811,811,811,811,811,811,811,811,811,811,811,811,811,811,811,811,811,811,811,811,811,811,811,811,811,811,811,811,811,811,811,811,811,811,811,811,811,811,811,811,811,811,811,811,811,811,811,811,811,811,811,811,811,811,811,811,811,811,811,811,811,811,811,811]
[null,"PTN4",821,821,821,821,821,821,821,821,821,821,821,821,821,821,821,821,821,821,821,821,821,821,821,821,821,821,821,821,821,821,821,821,821,821,821,821,821,821,821,821,821,821,821,821,821,821,821,821,821,821,821,821,821,821,821,821,821,821,821,821,821,821,821,821,821,821,821,821,821,821,821,821,821,821,821,821,821,821,821,821,821,821,821,821,821,821,821,821,821,821,821,821,821,821,821,821,821,821,821,821,821,821,821,821,821,821,821,821,821,821,821,821,821,821,821,821,821,821,821,821,821]
[null,"PTF5",1148,1149,1149,{"$f":"E50+9+9","v":1167},1167,{"$f":"G50+11","v":1178},{"$f":"H50+14","v":1192},1192,1192,1192,1192,1192,1192,1192,1192,1192,1192,1192,1192,1192,1192,1192,1192,1192,1192,1192,1192,1192,1192,1192,1192,1192,1192,1192,1192,1192,1192,1192,1192,1192,1192,1192,1192,{"$f":"AS50","v":1192},{"$f":"AT50","v":1192},{"$f":"AU50","v":1192},{"$f":"AV50","v":1192},1192,1192,1192,1192,1192,1192,1192,1192,1192,1192,1192,1192,1192,1192,1192,1192,1192,1192,1192,1192,1192,1192,1192,1192,1192,1192,1192,1192,1192,1192,1192,1192,1192,1192,1192,1192,1192,1192,1192,1192,1192,1192,1192,1192,1192,1192,1192,1192,1192,1192,1192,1192,1192,1192,1192,1192,1192,1192,1192,1192,1192,1192,1192,1192,1192,1192,1192,1192,1192,1192,1192,1192,1192,1192]
[null,"PTN6",0,0,{"$f":"D51","v":0},0,0,0,0,0,0,0,0,0,0,0,0,0,0,0,0,0,0,0,0,0,0,0,0,0,0,0,0,0,0,0,0,0,0,0,0,0,0,0,0,0,0,0,0,0,0,0,0,0,0,0,0,0,0,0,0,0,0,0,0,0,0,0,0,0,0,0,0,0,0,0,0,0,0,0,0,0,0,0,0,0,0,0,0,0,0,0,0,0,0,0,0,0,0,0,0,0,0,0,{"$f":"CZ51+1100","v":1100},1100,1100,1100,1100,1100,1100,1100,1100,1100,1100,1100,1100,1100,1100,1100,1100,1100,1100]
[null,"PTN7",0,0,0,0,0,0,0,0,0,0,0,0,0,0,0,0,0,0,0,0,0,0,0,0,0,0,0,0,0,0,0,0,0,0,0,0,0,0,0,0,0,0,0,0,{"$f":"AT52","v":0},0,0,0,0,0,0,0,0,0,0,0,0,0,{"$f":"BH52","v":0},0,0,0,0,0,0,0,0,0,0,0,0,0,0,0,0,0,0,0,0,0,0,0,0,0,0,0,0,0,0,0,0,0,0,0,0,0,0,0,0,0,0,0,{"$f":"CZ52","v":0},0,0,0,0,0,0,0,0,0,0,0,{"$f":"DL52+1100","v":1100},1100,1100,1100,1100,1100,1100]
[null,"PTFD",0,0,0,0,0,0,0,{"$f":"I53","v":0},0,0,0,0,0,0,0,0,0,0,0,0,0,0,0,0,0,0,0,0,0,0,0,0,0,0,0,0,0,0,0,0,0,0,0,0,0,0,0,0,0,0,0,0,0,0,0,0,0,0,0,0,0,0,0,0,0,0,0,0,0,0,0,0,0,0,0,0,0,0,0,0,0,0,0,0,0,0,0,0,0,0,0,0,0,0,0,0,0,0,0,0,0,0,0,0,0,0,0,0,0,0,0,0,0,0,0,0,0,0,0,0,0]
[null,"PVB",0,0,0,0,0,0,0,0,0,0,0,0,0,{"$f":"O54","v":0},0,0,0,0,0,0,0,0,0,0,0,0,0,0,0,0,0,0,0,0,0,0,0,{"$f":"AM54+44","v":44},44,44,44,44,44,44,44,44,44,44,44,{"$f":"AY54","v":44},44,44,44,44,44,44,44,44,44,44,{"$f":"BJ54-44","v":0},0,0,0,0,0,0,0,0,0,0,0,0,0,0,0,0,0,0,0,0,0,0,0,0,0,0,0,0,0,0,0,0,0,0,0,0,0,0,0,0,0,0,0,0,0,0,0,0,0,0,0,0,0,0,0,0,0,0,0,0]
[null,"PWC1",1219,1219,1219,1219,1219,1219,{"$f":"H55","v":1219},{"$f":"I55","v":1219},{"$f":"J55","v":1219},{"$f":"K55","v":1219},{"$f":"L55","v":1219},1219,1219,1219,1219,1219,1219,1219,1219,1219,1219,1219,1219,1219,1219,1219,1219,1219,1219,1219,1219,1219,1219,1219,1219,1219,1219,1219,1219,1219,1219,1219,1219,1219,1219,1219,1219,1219,1219,1219,1219,1219,1219,1219,1219,1219,1219,1219,1219,1219,1219,1219,1219,1219,1219,1219,1219,1219,1219,1219,1219,1219,1219,1219,1219,1219,1219,1219,1219,1219,1219,1219,1219,1219,1219,1219,1219,1219,1219,1219,1219,1219,1219,1219,1219,1219,1219,1219,1219,1219,1219,1219,1219,1219,1219,1219,1219,1219,1219,1219,1219,1219,1219,1219,1219,1219,1219,1219,1219,1219,1219]
[null,"PWC2",1219,1219,1219,1219,1219,1219,1219,1219,1219,1219,1219,1219,1219,1219,1219,1219,1219,1219,1219,1219,1219,1219,1219,1219,1219,1219,1219,1219,1219,1219,1219,1219,1219,1219,1219,1219,1219,1219,1219,1219,1219,1219,1219,1219,1219,1219,1219,1219,1219,1219,1219,1219,1219,1219,1219,1219,1219,1219,1219,1219,1219,1219,1219,1219,1219,1219,1219,1219,1219,1219,1219,1219,1219,1219,1219,1219,1219,1219,1219,1219,1219,1219,1219,1219,1219,1219,1219,1219,1219,1219,1219,1219,1219,1219,1219,1219,1219,1219,1219,1219,1219,1219,1219,1219,1219,1219,1219,1219,1219,1219,1219,1219,1219,1219,1219,1219,1219,1219,1219,1219,1219]
[null,"PWC3",1219,1219,1219,1219,1219,1219,1219,1219,1219,1219,1219,1219,1219,1219,1219,1219,1219,1219,1219,1219,1219,1219,1219,1219,1219,1219,1219,1219,1219,1219,1219,1219,1219,1219,1219,1219,1219,1219,1219,1219,1219,1219,1219,1219,1219,1219,1219,1219,1219,1219,1219,1219,1219,1219,1219,1219,1219,1219,1219,1219,1219,1219,1219,1219,1219,1219,1219,1219,1219,1219,1219,1219,1219,1219,1219,1219,1219,1219,1219,1219,1219,1219,1219,1219,1219,1219,1219,1219,1219,1219,1219,1219,1219,1219,1219,1219,1219,1219,1219,1219,1219,1219,1219,1219,1219,1219,1219,1219,1219,1219,1219,1219,1219,1219,1219,1219,1219,1219,1219,1219,1219]
[]
[null,"Total",{"$f":"SUM(C4:C57)","v":24665},24299,24299,24317,25529,25537,25581,25581,25586,25586,25586,25586,25092,25092,25089,25089,25089,25097,25105,25113,25121,25129,25129,25129,25129,24741,24741,24741,24741,24741,25978,25978,{"$f":"SUM(AI4:AI57)","v":25978},25978,25978,25978,25978,26022,26022,26022,26022,26022,26022,26022,26022,26022,26022,26022,26022,26022,26022,26022,26022,26022,26022,26022,26022,26022,26022,26022,25978,25978,25978,25978,{"$f":"SUM(BO4:BO57)","v":25978},25978,25978,25978,25978,25978,25978,25978,25978,25978,25978,25978,25978,25978,25978,25978,25978,25978,25978,25978,25978,25978,25978,25978,25978,25978,25978,25978,25978,25978,25978,25978,{"$f":"SUM(CU4:CU57)","v":25978},25978,25978,26007,26007,26036,27136,27165,27165,27165,27165,27165,27165,27165,27165,27165,27165,27193,28293,28321,28321,28321,28321,28348,28348]
[]
[null,"New Gen",null,null,null,null,{"$f":"(G38-D38)","v":1212},null,null,null,null,null,null,null,null,null,null,null,null,null,null,null,null,null,null,null,null,null,null,null,null,null,{"$f":"(AG32-AF32)","v":1237},null,null,null,null,null,null,{"$f":"AN54-AM54","v":44},null,null,null,null,null,null,null,null,null,null,null,null,null,null,null,null,null,null,null,null,null,null,null,null,null,null,null,null,null,null,null,null,null,null,null,null,null,null,null,null,null,null,null,null,null,null,null,null,null,null,null,null,null,null,null,null,null,null,null,null,null,null,null,null,{"$f":"(DA51-CZ51)","v":1100},null,null,null,null,null,null,null,null,null,null,null,{"$f":"(DM52-DL52)","v":1100}]
[null,"Repower"]
[null,"EPU"]
[null,"CT Upgrade",null,{"$f":"(D24-C24)+(D44-C44)+(D45-C45)","v":24},null,{"$f":"(F50-E50)","v":18},null,{"$f":"(H50-G50)","v":11},{"$f":"(I27-H27)+(I50-H50)","v":44},{"$f":"(J27-I27)","v":0},{"$f":"(K27-J27)","v":5},null,null,null,null,null,null,null,null,{"$f":"T15-S15","v":8},{"$f":"U15-T15","v":8},{"$f":"V15-U15","v":8},{"$f":"W15-V15","v":8},{"$f":"X15-W15","v":8},null,null,null,{"$f":"AB15-AA15","v":8},null,{"$f":"AD24-AC24","v":0},null,{"$f":"AF44-AE44","v":0},null,{"$f":"AH44-AG44","v":0},null,{"$f":"AJ44-AI44","v":0},null,{"$f":"AL45-AK45","v":0},{"$f":"AM24-AL24","v":0},null,{"$f":"AO27-AN27","v":0},{"$f":"AP27-AO27","v":0},null,{"$f":"AR27-AQ27+AR45-AQ45","v":0},{"$f":"AS45-AR45","v":0},{"$f":"AT50-AS50","v":0},{"$f":"AU24-AT24+AU50-AT50","v":0},{"$f":"AV50-AU50","v":0},{"$f":"AW50-AV50","v":0},null,null,null,null,null,null,null,null,null,null,null,null,null,null,null,null,null,null,null,null,null,null,null,null,null,null,null,null,null,null,null,null,null,null,null,null,null,null,null,null,null,null,null,null,null,null,null,null,null,null,null,null,{"$f":"(CX6-CW6)","v":29},null,{"$f":"(CZ6-CY6)","v":29},null,{"$f":"(DB6-DA6)","v":29},null,null,null,null,null,null,null,null,null,{"$f":"(DL38-DK38)","v":28},null,{"$f":"(DN38-DM38)","v":28},null,null,null,{"$f":"(DR38-DQ38)","v":27}]
[null,"Capability",null,{"$f":"(D15-C15)+(D16-C16)+(D27-C27)+(D34-C34)+(D35-C35)+(D50-C50)","v":2},null,null,null,{"$f":"(H20-G20)","v":-3},null,null,null,null,null,null,null,null,{"$f":"(Q21-P21)","v":-3}]
[null,"Temp"]
[null,"Retired",null,{"$f":"(D47-C47)","v":-392},null,null,null,null,null,null,null,null,null,null,{"$f":"(O34-N34)+(O35-N35)","v":-494},null,null,null,null,null,null,null,null,null,null,null,null,{"$f":"AB46-AA46","v":-396},null,null,null,null,null,null,null,null,null,null,null,null,null,null,null,null,null,null,null,null,null,null,null,{"$f":"(AZ34-AY34)+(AZ35-AY35)","v":0},null,null,null,null,null,null,null,null,null,null,{"$f":"BK54-BJ54","v":-44}]
[null,"Cap Letter"]
[null,null,{"$f":"C59-SUM(C9,C39)","v":24630},24264,24264,24282,25494,25502,25546,25546,25551,25551,25551,25551,25057,25057,25054,25054,25054,25062,25070,25078,25086,25094,25094,25094,25094,24706,24706,24706,24706,24706,25943,25943,{"$f":"AI59-SUM(AI9,AI39)","v":25943},25943,25943,25943,25943,25987,25987,25987,25987,25987,25987,25987,25987,25987,25987,25987,25987,25987,25987,25987,25987,25987,25987,25987,25987,25987,25987,25987,25943,25943,25943,25943,{"$f":"BO59-SUM(BO9,BO39)","v":25943},25943,25943,25943,25943,25943,25943,25943,25943,25943,25943,25943,25943,25943,25943,25943,25943,25943,25943,25943,25943,25943,25943,25943,25943,25943,25943,25943,25943,25943,25943,25943,{"$f":"CU59-SUM(CU9,CU39)","v":25943},25943,25943,25972,25972,26001,27101,27130,27130,27130,27130,27130,27130,27130,27130,27130,27130,27158,28258,28286,28286,28286,28286,28313,28313]
[]
[]
[]
[null,null,null,null,null,null,null,null,null,null,null,null,null,null,null,null,null,null,null,null,null,null,null,null,null,null,null,null,null,null,null,null,null,null,null,null,null,null,null,null,null,null,null,null,null,null,null,null,{"$f":"AM59+SUM(AN61:AW67)","v":26022}]

{"sheet":"Summer Peak 2015-01-15","index":1,"n_rows":77,"n_cols":266,"rows_kept":77,"cut":false,"hidden":false,"merged":[[1,182,1,193],[1,194,1,205],[1,254,1,265],[1,242,1,253],[1,170,1,181],[1,230,1,241],[1,146,1,157],[1,158,1,169],[1,2,1,13],[1,206,1,217],[1,218,1,229],[1,14,1,25],[1,26,1,37],[1,86,1,97],[1,98,1,109],[1,110,1,121],[1,122,1,133],[1,38,1,49],[1,50,1,61],[1,62,1,73],[1,74,1,85],[1,134,1,145]]}
["OPC 006102","Long-Term Summer Peak Capabilities"]
["FPL RC-16",null,2002,null,null,null,null,null,null,null,null,null,null,null,2003,null,null,null,null,null,null,null,null,null,null,null,2004,null,null,null,null,null,null,null,null,null,null,null,2005,null,null,null,null,null,null,null,null,null,null,null,2006,null,null,null,null,null,null,null,null,null,null,null,2007,null,null,null,null,null,null,null,null,null,null,null,2008,null,null,null,null,null,null,null,null,null,null,null,2009,null,null,null,null,null,null,null,null,null,null,null,2010,null,null,null,null,null,null,null,null,null,null,null,2011,null,null,null,null,null,null,null,null,null,null,null,2012,null,null,null,null,null,null,null,null,null,null,null,2013,null,null,null,null,null,null,null,null,null,null,null,2014,null,null,null,null,null,null,null,null,null,null,null,2015,null,null,null,null,null,null,null,null,null,null,null,2016,null,null,null,null,null,null,null,null,null,null,null,2017,null,null,null,null,null,null,null,null,null,null,null,2018,null,null,null,null,null,null,null,null,null,null,null,2019,null,null,null,null,null,null,null,null,null,null,null,2020,null,null,null,null,null,null,null,null,null,null,null,2021,null,null,null,null,null,null,null,null,null,null,null,2022,null,null,null,null,null,null,null,null,null,null,null,2023]
[null,"Unit","Jan","Feb","Mar","Apr","May","Jun","Jul","Aug","Sep","Oct","Nov","Dec","Jan","Feb","Mar","Apr","May","Jun","Jul","Aug","Sep","Oct","Nov","Dec","Jan","Feb","Mar","Apr","May","Jun","Jul","Aug","Sep","Oct","Nov","Dec","Jan","Feb","Mar","Apr","May","Jun","Jul","Aug","Sep","Oct","Nov","Dec","Jan","Feb","Mar","Apr","May","Jun","Jul","Aug","Sep","Oct","Nov","Dec","Jan","Feb","Mar","Apr","May","Jun","Jul","Aug","Sep","Oct","Nov","Dec","Jan","Feb","Mar","Apr","May","Jun","Jul","Aug","Sep","Oct","Nov","Dec","Jan","Feb","Mar","Apr","May","Jun","Jul","Aug","Sep","Oct","Nov","Dec","Jan","Feb","Mar","Apr","May","Jun","Jul","Aug","Sep","Oct","Nov","Dec","Jan","Feb","Mar","Apr","May","Jun","Jul","Aug","Sep","Oct","Nov","Dec","Jan","Feb","Mar","Apr","May","Jun","Jul","Aug","Sep","Oct","Nov","Dec","Jan","Feb","Mar","Apr","May","Jun","Jul","Aug","Sep","Oct","Nov","Dec","Jan","Feb","Mar","Apr","May","Jun","Jul","Aug","Sep","Oct","Nov","Dec","Jan","Feb","Mar","Apr","May","Jun","Jul","Aug","Sep","Oct","Nov","Dec","Jan","Feb","Mar","Apr","May","Jun","Jul","Aug","Sep","Oct","Nov","Dec","Jan","Feb","Mar","Apr","May","Jun","Jul","Aug","Sep","Oct","Nov","Dec","Jan","Feb","Mar","Apr","May","Jun","Jul","Aug","Sep","Oct","Nov","Dec","Jan","Feb","Mar","Apr","May","Jun","Jul","Aug","Sep","Oct","Nov","Dec","Jan","Feb","Mar","Apr","May","Jun","Jul","Aug","Sep","Oct","Nov","Dec","Jan","Feb","Mar","Apr","May","Jun","Jul","Aug","Sep","Oct","Nov","Dec","Jan","Feb","Mar","Apr","May","Jun","Jul","Aug","Sep","Oct","Nov","Dec","Jan","Feb","Mar","Apr","May","Jun","Jul","Aug","Sep","Oct","Nov","Dec"]
[null,"PCC1",403,{"$f":"C4","v":403},{"$f":"D4","v":403},403,403,403,403,403,403,403,403,403,{"$f":"N4","v":403},{"$f":"O4","v":403},{"$f":"P4","v":403},403,403,403,403,403,403,403,403,403,{"$f":"Z4+4","v":407},{"$f":"AA4","v":407},407,407,407,407,407,407,407,407,407,407,{"$f":"AL4-13","v":394},{"$f":"AM4","v":394},394,394,394,394,394,394,394,{"$f":"AU4","v":394},394,394,{"$f":"AX4+5","v":399},{"$f":"AY4","v":399},399,399,399,399,399,399,399,399,399,{"$f":"BI4-3","v":396},{"$f":"BJ4","v":396},{"$f":"BK4","v":396},396,396,396,396,396,396,396,396,396,396,396,396,396,396,396,{"$f":"CA4","v":396},396,396,396,396,396,396,396,396,396,396,396,396,396,396,396,396,396,396,396,396,396,396,396,{"$f":"CY4-396","v":0},0,0,0,0,0,0,0,0,0,0,0,0,0,0,0,0,0,0,0,0,0,0,0,0,0,0,0,0,0,0,{"$f":"ED4","v":0},{"$f":"EE4","v":0},0,0,0,0,0,0,0,0,0,0,0,0,0,0,0,0,0,0,0,0,0,0,0,0,0,0,0,0,0,0,0,0,0,0,{"$f":"FN4","v":0},{"$f":"FO4","v":0},{"$f":"FP4","v":0},0,0,0,0,0,0,0,0,0,{"$f":"FZ4","v":0},{"$f":"GA4","v":0},{"$f":"GB4","v":0},0,0,0,0,0,0,0,0,0,{"$f":"GL4","v":0},{"$f":"GM4","v":0},{"$f":"GN4","v":0},0,0,0,0,0,0,0,0,0,{"$f":"GX4","v":0},{"$f":"GY4","v":0},{"$f":"GZ4","v":0},0,0,0,0,0,0,0,0,0,{"$f":"HJ4","v":0},{"$f":"HK4","v":0},{"$f":"HL4","v":0},0,0,0,0,0,0,0,0,0,{"$f":"HV4","v":0},{"$f":"HW4","v":0},{"$f":"HX4","v":0},0,0,0,0,0,0,0,0,0,{"$f":"IH4","v":0},{"$f":"II4","v":0},{"$f":"IJ4","v":0},0,0,0,0,0,0,0,0,0,{"$f":"IT4","v":0},{"$f":"IU4","v":0},{"$f":"IV4","v":0},0,0,0,0,0,0,0,0,0]
[null,"PCC2",403,{"$f":"C5","v":403},403,403,403,403,403,403,403,403,403,403,403,403,403,403,403,403,403,403,403,403,403,403,{"$f":"Z5+4","v":407},407,407,407,407,407,407,407,407,407,407,407,407,407,407,407,407,407,407,407,407,{"$f":"AU5","v":407},407,407,{"$f":"AX5-8","v":399},399,399,399,399,399,399,399,399,399,399,{"$f":"BI5-3","v":396},{"$f":"BJ5","v":396},396,396,396,396,396,396,396,396,396,396,396,396,396,396,396,396,396,396,396,396,396,396,396,396,396,396,396,396,396,396,396,396,396,396,396,396,396,396,396,396,{"$f":"CY5-396","v":0},0,0,0,0,0,0,0,0,0,0,0,0,0,0,0,0,0,0,0,0,0,0,0,0,0,0,0,0,0,0,{"$f":"ED5","v":0},0,0,0,0,0,0,0,0,0,0,0,0,0,0,0,0,0,0,0,0,0,0,0,0,0,0,0,0,0,0,0,0,0,0,0,{"$f":"FN5","v":0},0,0,0,0,0,0,0,0,0,0,0,0,0,0,0,0,0,0,0,0,0,0,0,0,0,0,0,0,0,0,0,0,0,0,0,0,0,0,0,0,0,0,0,0,0,0,0,0,0,0,0,0,0,0,0,0,0,0,0,0,0,0,0,0,0,0,0,0,0,0,0,0,0,0,0,0,0,0,0,0,0,0,0,0,0,0,0,0,0,0,0,0,0,0,0]
[null,"PCC3",0,0,0,0,0,0,0,0,0,0,0,0,0,0,0,0,0,0,0,0,0,0,0,0,{"$f":"Z6","v":0},0,0,0,0,0,0,0,0,0,0,0,0,0,0,0,0,0,0,0,0,{"$f":"AU6","v":0},0,0,{"$f":"AX6","v":0},0,0,0,0,0,0,0,0,0,0,{"$f":"BI6","v":0},0,0,0,0,0,0,0,0,0,0,0,0,0,0,0,0,0,0,0,0,0,0,0,0,0,0,0,0,0,0,0,0,0,0,0,0,0,0,0,0,0,0,0,0,0,0,0,0,0,0,0,0,0,0,0,0,0,0,0,0,0,0,0,0,0,0,0,0,0,0,0,0,{"$f":"ED6","v":0},0,0,{"$f":"EG6+1210","v":1210},{"$f":"EH6","v":1210},1210,1210,1210,1210,1210,1210,1210,1210,1210,1210,1210,1210,1210,1210,1210,1210,1210,1210,1210,1210,1210,1210,1210,1210,1210,1210,1210,1210,1210,1210,1210,1210,1210,1210,1210,1210,{"$f":"FS6","v":1210},1210,1210,1210,1210,1210,1210,1210,1210,1210,1210,1210,1210,1210,1210,1210,1210,1210,1210,1210,1210,1210,1210,1210,1210,1210,1210,1210,1210,1210,1210,1210,1210,1210,1210,1210,1210,1210,1210,1210,1210,1210,1210,1210,1210,1210,1210,1210,1210,1210,1210,1210,1210,1210,1210,1210,1210,1210,1210,1210,1210,1210,1210,1210,1210,1210,1210,1210,1210,{"$f":"IJ6+29","v":1239},{"$f":"IK6","v":1239},{"$f":"IL6+29","v":1268},{"$f":"IM6","v":1268},{"$f":"IN6+29","v":1297},1297,1297,1297,1297,1297,1297,1297,1297,1297,1297,1297,1297,1297,1297,1297,1297,1297]
[null,"PCU5",71,71,71,71,71,71,71,71,71,71,71,71,{"$f":"N7-3","v":68},68,68,68,68,68,68,68,68,68,68,68,{"$f":"Z7","v":68},68,68,68,68,68,68,68,68,68,68,68,68,68,68,68,68,68,68,68,68,68,68,68,{"$f":"AX7-3","v":65},65,65,65,65,65,65,65,65,65,65,{"$f":"BI7+3","v":68},68,68,68,68,68,68,68,68,68,68,68,68,68,68,68,68,68,68,68,68,68,68,68,68,68,68,68,68,68,68,68,68,68,68,68,68,68,68,68,68,68,68,68,68,68,68,68,68,68,68,68,68,68,68,68,68,68,68,68,68,68,68,68,68,68,68,68,68,68,68,68,{"$f":"EC7-68","v":0},0,0,0,0,0,0,0,0,0,0,0,0,0,0,0,0,0,0,0,0,0,0,0,0,0,0,0,0,0,0,0,0,0,0,0,0,0,0,0,0,0,0,0,0,0,0,0,0,0,0,0,0,0,0,0,0,0,0,0,0,0,0,0,0,0,0,0,0,0,0,0,0,0,0,0,0,0,0,0,0,0,0,0,0,0,0,0,0,0,0,0,0,0,0,0,0,0,0,0,0,0,0,0,0,0,0,0,0,0,0,0,0,0,0,0,0,0,0,0,0,0,0,0,0,0,0,0,0,0,0,0,0]
[null,"PCU6",142,142,142,142,142,142,142,142,142,142,142,142,{"$f":"N8-4","v":138},138,138,138,138,138,138,138,138,138,138,138,{"$f":"Z8","v":138},138,138,138,138,138,138,138,138,138,138,138,138,138,138,138,138,138,138,138,138,138,138,138,{"$f":"AX8-33","v":105},105,105,105,105,105,105,105,105,105,105,{"$f":"BI8+32","v":137},137,137,137,137,137,137,137,137,137,137,137,137,137,137,137,137,137,137,137,137,137,137,137,137,137,137,137,137,137,137,137,137,137,137,137,137,137,137,137,137,137,137,137,137,137,137,137,137,137,137,137,137,137,137,137,{"$f":"DM8","v":137},137,137,137,137,137,137,137,137,137,137,137,137,137,137,137,{"$f":"EC8-137","v":0},0,0,0,0,0,0,0,0,0,0,0,0,0,0,0,0,0,0,0,0,0,0,0,0,0,0,0,0,0,0,0,0,0,0,0,0,0,0,0,0,0,0,0,0,0,0,0,0,0,0,0,0,0,0,0,0,0,0,0,0,0,0,0,0,0,0,0,0,0,0,0,0,0,0,0,0,0,0,0,0,0,0,0,0,0,0,0,0,0,0,0,0,0,0,0,0,0,0,0,0,0,0,0,0,0,0,0,0,0,0,0,0,0,0,0,0,0,0,0,0,0,0,0,0,0,0,0,0,0,0,0,0]
[null,"PDO",0,0,0,0,0,0,0,0,0,0,0,0,0,0,0,0,0,0,0,0,0,0,0,0,{"$f":"Z9","v":0},0,0,0,0,0,0,0,0,0,0,0,0,0,0,0,0,0,0,0,0,0,0,0,0,0,0,0,0,0,0,0,0,0,0,{"$f":"BI9","v":0},0,0,0,0,0,0,0,0,0,0,0,0,0,0,0,0,0,{"$f":"CA9","v":0},0,0,0,0,0,0,0,0,0,0,0,0,0,0,0,19,{"$f":"CR9","v":19},19,{"$f":"CT9+6","v":25},{"$f":"CU9","v":25},{"$f":"CV9","v":25},{"$f":"CW9","v":25},25,25,25,25,25,25,25,25,25,25,25,25,25,25,25,25,25,25,25,25,25,25,25,25,25,25,25,25,25,25,25,{"$f":"EC9","v":25},25,25,25,25,25,25,25,25,25,25,25,25,25,25,25,25,25,25,25,25,25,25,25,25,25,25,25,25,25,25,25,25,25,25,25,25,25,25,25,25,25,25,25,25,25,25,25,25,25,25,25,25,25,25,25,25,25,25,25,25,25,25,25,25,25,25,25,25,25,25,25,25,25,25,25,25,25,25,25,25,25,25,25,25,25,25,25,25,25,25,25,25,25,25,25,25,25,25,25,25,25,25,25,25,25,25,25,25,25,25,25,25,25,25,25,25,25,25,25,25,25,25,25,25,25,25,25,25,25,25,25,25]
[null,"PFL4",425,425,425,425,425,425,425,425,425,425,425,{"$f":"M10","v":425},425,425,425,425,425,425,425,425,425,425,425,{"$f":"Y10","v":425},{"$f":"Z10+5","v":430},430,430,430,430,430,430,430,430,430,430,430,430,430,430,430,430,430,430,430,430,430,430,430,430,430,430,430,430,430,430,430,430,430,430,{"$f":"BI10+6","v":436},436,436,436,436,436,436,436,436,436,436,436,436,436,436,436,436,436,436,436,436,436,436,436,{"$f":"CG10+6","v":442},442,442,442,442,442,442,442,442,442,{"$f":"CQ10","v":442},442,442,442,442,442,442,442,442,442,442,442,442,442,442,442,442,442,442,442,442,442,442,442,442,442,442,442,442,442,442,442,442,442,442,442,442,442,442,442,442,442,442,442,442,442,442,442,442,442,442,442,442,442,442,442,442,442,442,442,442,442,442,442,442,442,442,442,442,442,442,442,442,442,442,442,442,442,442,442,442,442,442,442,442,442,442,442,442,442,442,442,442,442,442,442,442,442,442,442,442,442,442,442,442,442,442,442,442,442,442,442,442,442,442,442,442,442,442,442,442,442,442,442,442,442,442,442,442,442,442,442,442,442,442,442,442,442,442,442,442,442,442,442,442,442,442,442,442,442,442,442,442,442,442,442,442,442,442,442,442,442,442,442,442,442,442,442,442,442,442]
[null,"PFL5",429,429,429,429,429,429,429,429,429,429,429,429,429,429,429,429,429,429,429,429,429,429,429,429,{"$f":"Z11","v":429},429,429,429,429,429,429,429,429,429,429,429,429,429,429,429,429,429,429,429,429,429,429,429,429,429,429,429,429,429,429,429,429,429,429,{"$f":"BI11+6","v":435},435,435,435,435,435,435,435,435,435,435,435,435,{"$f":"BV11+1","v":436},436,436,436,436,436,436,436,436,436,436,{"$f":"CG11+6","v":442},442,442,442,442,442,442,442,442,442,442,442,442,442,442,442,442,442,442,442,442,442,442,442,442,442,442,442,442,442,442,442,442,442,442,442,442,442,442,442,442,442,442,442,442,442,442,442,442,442,442,442,442,442,442,442,442,442,442,442,442,442,442,442,442,442,442,442,442,442,442,442,442,442,442,442,442,442,442,442,442,442,442,442,442,442,442,442,442,442,442,442,442,442,442,442,442,442,442,442,442,442,442,442,442,442,442,442,442,442,442,442,442,442,442,442,442,442,442,442,442,442,442,442,442,442,442,442,442,442,442,442,442,442,442,442,442,442,442,442,442,442,442,442,442,442,442,442,442,442,442,442,442,442,442,442,442,442,442,442,442,442,442,442,442,442,442,442,442,442,442,442,442,442,442,442,442,442,442,442,442]
[null,"PFL GT1",420,420,420,420,420,420,420,420,420,420,420,420,{"$f":"N12","v":420},420,420,420,420,420,420,420,420,420,420,420,{"$f":"Z12","v":420},420,420,420,420,420,420,420,420,420,420,420,420,420,420,420,420,420,420,420,420,420,420,420,420,420,420,420,420,420,420,420,420,420,420,{"$f":"BI12","v":420},420,420,420,420,420,420,420,420,420,420,420,420,420,420,420,420,420,420,420,420,420,420,420,{"$f":"CG12","v":420},420,420,420,420,420,420,420,420,420,420,420,420,420,420,420,420,420,420,420,420,420,420,420,420,420,420,420,420,420,420,420,420,420,420,420,420,420,420,420,420,420,420,420,420,420,420,420,420,420,420,420,420,420,420,420,420,420,420,420,420,420,420,420,420,420,420,420,420,420,420,420,420,420,420,420,420,420,420,420,420,420,420,420,420,420,420,420,420,420,420,420,420,420,420,420,420,420,420,420,420,420,420,420,420,420,420,420,420,420,420,420,420,420,420,420,420,420,420,420,420,{"$f":"GX12","v":420},420,420,420,420,420,420,420,420,420,420,420,420,420,420,420,420,420,420,420,420,420,420,420,420,420,420,420,420,420,420,420,420,420,420,420,420,420,420,420,420,420,420,420,420,420,420,420,420,420,420,420,420,420,420,420,420,420,420,420]
[null,"PFL GT2",420,420,420,420,420,420,420,420,420,420,420,420,{"$f":"N13","v":420},420,420,420,420,420,420,420,420,420,420,420,{"$f":"Z13","v":420},420,420,420,420,420,420,420,420,420,420,420,420,420,420,420,420,420,420,420,420,420,420,420,420,420,420,420,420,420,420,420,420,420,420,{"$f":"BI13","v":420},420,420,420,420,420,420,420,420,420,420,420,420,420,420,420,420,420,420,420,420,420,420,420,{"$f":"CG13","v":420},420,420,420,420,420,420,420,420,420,420,420,420,420,420,420,420,420,420,420,420,420,420,420,420,420,420,420,420,420,420,420,420,420,420,420,420,420,420,420,420,420,420,420,420,420,420,420,420,420,420,420,420,420,420,420,420,420,420,420,420,420,420,420,420,420,420,420,420,420,420,420,420,420,420,420,420,420,420,420,420,420,420,420,420,420,420,420,420,420,420,420,420,420,420,420,420,420,420,420,420,420,420,420,420,420,420,420,420,420,420,420,420,420,420,420,420,420,420,420,420,{"$f":"GX13","v":420},420,420,420,420,420,420,420,420,420,420,420,420,420,420,420,420,420,420,420,420,420,420,420,420,420,420,420,420,420,420,420,420,420,420,420,420,420,420,420,420,420,420,420,420,420,420,420,420,420,420,420,420,420,420,420,420,420,420,420]
[null,"PFL CT",0,0,0,0,0,0,0,0,0,0,0,0,{"$f":"N14","v":0},0,0,0,0,0,0,0,0,0,0,0,{"$f":"Z14","v":0},0,0,0,0,0,0,0,0,0,0,0,0,0,0,0,0,0,0,0,0,0,0,0,0,0,0,0,0,0,0,0,0,0,0,{"$f":"BI14","v":0},0,0,0,0,0,0,0,0,0,0,0,0,0,0,0,0,0,0,0,0,0,0,0,{"$f":"CG14","v":0},0,0,0,0,0,0,0,0,0,0,0,0,0,0,0,0,0,0,0,0,0,0,0,0,0,0,0,0,0,0,0,0,0,0,0,0,0,0,0,0,0,0,0,0,0,0,0,0,0,0,0,0,0,0,0,0,0,0,0,0,0,0,0,0,0,0,0,0,0,0,0,0,0,0,0,0,0,0,0,0,0,0,0,0,0,0,0,0,0,0,0,0,0,0,0,0,0,0,0,0,0,0,0,0,0,0,0,0,0,0,0,0,0,0,0,0,0,0,0,0,{"$f":"GX14","v":0},0,0,0,0,0,0,0,0,0,0,0,0,0,0,0,0,0,0,0,0,0,0,0,0,0,0,0,0,0,0,0,0,0,0,0,0,0,0,0,0,0,0,0,0,0,0,0,0,0,0,0,0,0,0,0,0,0,0,0]
[null,"PFM2",894,894,{"$f":"D15-894","v":0},0,0,{"$f":"G15+1450","v":1450},1450,1450,1450,1450,1450,1450,{"$f":"N15-27","v":1423},1423,1423,1423,1423,1423,1423,1423,1423,1423,1423,1423,{"$f":"Z15+18","v":1441},1441,1441,1441,1441,1441,1441,1441,1441,1441,1441,1441,1441,1441,1441,1441,1441,1441,1441,1441,1441,1441,1441,1441,1441,1441,1441,1441,1441,1441,1441,1441,1441,1441,1441,{"$f":"BI15-1","v":1440},1440,1440,1440,1440,1440,1440,1440,1440,1440,1440,1440,1440,1440,1440,1440,1440,1440,1440,1440,1440,1440,1440,1440,{"$f":"CG15","v":1440},1440,1440,1440,1440,1440,1440,1440,1440,1440,1440,1440,1440,1440,1440,1440,1440,1440,1440,1440,1440,1440,1440,1440,{"$f":"DE15-8","v":1432},1432,1432,1432,1432,1432,1432,1432,1432,1432,1432,1432,1432,1432,1432,1432,1432,1432,1432,1432,1432,1432,1432,1432,1432,1432,1432,1432,1432,1432,1432,1432,1432,1432,1432,1432,1432,{"$f":"EP15+4","v":1436},1436,1436,1436,1436,1436,1436,1436,1436,1436,1436,{"$f":"FA15","v":1436},{"$f":"FB15","v":1436},1436,{"$f":"FD15","v":1436},1436,{"$f":"FF15+12-8","v":1440},{"$f":"FG15+12-8","v":1444},{"$f":"FH15+12-8","v":1448},{"$f":"FI15+12-8","v":1452},{"$f":"FJ15+25-16","v":1461},1461,1461,1461,1461,1461,1461,1461,1461,1461,1461,1461,1461,1461,1461,1461,1461,1461,1461,1461,1461,1461,1461,1461,1461,1461,1461,1461,1461,1461,1461,1461,1461,1461,1461,1461,1461,1461,1461,1461,1461,1461,1461,1461,1461,1461,1461,1461,1461,1461,1461,1461,1461,1461,1461,1461,1461,1461,1461,1461,1461,1461,1461,1461,1461,1461,1461,1461,1461,1461,1461,1461,1461,1461,1461,1461,1461,1461,1461,1461,1461,1461,1461,1461,1461,1461,1461,1461,1461,1461,1461,1461,1461,1461,1461,1461,1461,1461,1461,1461]
[null,"PFM3",0,0,0,0,0,0,0,0,0,0,0,0,{"$f":"N16","v":0},0,0,0,0,{"$f":"S16+314","v":314},314,314,314,314,314,314,{"$f":"Z16+20","v":334},334,334,334,334,334,334,334,334,334,334,334,{"$f":"AL16-8","v":326},326,326,326,326,326,326,326,326,326,326,326,326,326,326,326,326,326,326,326,326,326,326,{"$f":"BI16-2","v":324},324,324,324,324,324,324,324,324,324,324,324,324,324,324,324,324,324,324,{"$f":"CB16-4","v":320},320,320,320,320,{"$f":"CG16-2","v":318},318,318,318,318,318,318,318,318,318,318,318,{"$f":"CS16-3","v":315},315,315,315,315,315,315,315,315,315,315,315,315,315,315,315,315,315,315,315,315,315,315,315,315,315,315,315,315,315,315,315,315,315,315,315,315,315,315,315,315,315,315,315,315,315,315,315,315,{"$f":"EP16+4","v":319},319,319,319,{"$f":"ET16","v":319},319,319,319,319,319,319,319,319,319,319,319,319,319,319,319,{"$f":"FJ16","v":319},319,319,319,319,319,319,319,319,319,319,319,319,319,319,319,319,319,319,319,319,319,319,319,319,319,319,319,319,319,319,319,319,319,319,319,319,319,319,319,319,319,319,319,319,319,319,319,319,319,319,319,319,319,319,319,319,319,319,319,319,319,319,319,319,319,319,319,319,319,319,319,319,319,319,319,319,319,319,319,319,319,319,319,319,319,319,319,319,319,319,319,319,319,319,319,319,319,319,319]
[null,"PFM GT",636,636,636,636,636,636,636,636,636,636,636,636,{"$f":"N17","v":636},636,636,636,636,636,636,636,636,636,636,636,{"$f":"Z17+12","v":648},648,648,648,648,648,648,648,648,648,648,648,{"$f":"AL17","v":648},648,648,648,648,648,648,648,648,648,648,648,648,648,648,648,648,648,648,648,648,648,648,648,648,648,648,648,648,648,648,648,648,648,648,648,648,648,648,648,648,648,648,648,648,648,648,{"$f":"CG17","v":648},648,648,648,648,648,648,648,648,648,648,648,{"$f":"CS17","v":648},648,648,648,648,648,648,648,648,648,648,648,648,648,648,648,648,648,648,648,648,648,648,648,648,648,648,648,648,648,648,648,648,648,648,648,648,648,648,648,648,648,648,648,648,648,648,648,648,648,648,648,{"$f":"ES17","v":648},648,648,648,648,648,648,648,648,648,648,648,648,648,648,648,648,648,648,648,648,648,648,648,648,648,648,648,648,648,648,648,648,648,648,648,648,648,648,648,648,648,648,648,648,648,648,648,648,648,648,648,648,648,648,648,648,648,648,648,648,648,648,648,648,648,648,648,648,648,648,648,648,648,648,648,648,648,648,648,648,648,648,648,648,648,648,648,648,648,648,648,648,648,648,648,648,648,648,648,648,648,648,648,648,648,648,648,648,648,648,648,648,648,648,648,648]
[null,"PJK1",127,127,127,127,127,127,127,127,127,127,127,127,127,127,127,127,127,127,127,127,127,127,127,127,{"$f":"Z18","v":127},127,127,127,127,127,127,127,127,127,127,127,{"$f":"AL18","v":127},127,127,127,127,127,127,127,127,127,127,127,127,127,127,127,127,127,127,127,127,127,127,{"$f":"BI18-2","v":125},125,125,125,125,125,125,125,125,125,125,125,125,125,125,125,125,125,125,125,125,125,125,125,{"$f":"CG18+2","v":127},127,127,127,127,127,127,127,127,127,127,127,{"$f":"CS18","v":127},127,127,127,127,127,127,127,127,127,127,127,127,127,127,127,127,127,127,127,127,127,127,127,127,127,127,127,127,127,127,127,127,127,127,127,127,127,127,127,127,127,127,127,127,127,127,127,127,127,127,127,127,127,127,127,127,127,127,127,127,127,127,127,127,127,127,127,127,127,127,127,127,127,127,127,127,127,127,127,127,127,127,127,127,127,127,127,127,127,127,127,127,127,127,127,127,127,127,127,127,127,127,127,127,127,127,127,127,127,127,127,127,127,127,127,127,127,127,127,127,127,127,127,127,127,127,127,127,127,127,127,127,127,127,127,127,127,127,127,127,127,127,127,127,127,127,127,127,127,127,127,127,127,127,127,127,127,127,127,127,127,127,127,127,127,127,127,127]
[null,"PJK2",127,127,127,127,127,127,127,127,127,127,127,127,127,127,127,127,127,127,127,127,127,127,127,127,{"$f":"Z19","v":127},127,127,127,127,127,127,127,127,127,127,127,{"$f":"AL19-22","v":105},105,105,105,105,105,105,105,105,105,105,105,105,105,105,{"$f":"BA19+22","v":127},127,127,127,127,127,127,127,{"$f":"BI19-2","v":125},125,125,125,125,125,125,125,125,125,125,125,125,125,125,125,125,125,125,125,125,125,125,125,{"$f":"CG19+2","v":127},127,127,127,127,127,127,127,127,127,127,127,{"$f":"CS19","v":127},127,127,127,127,127,127,127,127,127,127,127,127,127,127,127,127,127,127,127,127,127,127,127,127,127,127,127,127,127,127,127,127,127,127,127,127,127,127,127,127,127,127,127,127,127,127,127,127,127,127,127,127,127,127,127,127,127,127,127,127,127,127,127,127,127,127,127,127,127,127,127,127,127,127,127,127,127,127,127,127,127,127,127,127,127,127,127,127,127,127,127,127,127,127,127,127,127,127,127,127,127,127,127,127,127,127,127,127,127,127,127,127,127,127,127,127,127,127,127,127,127,127,127,127,127,127,127,127,127,127,127,127,127,127,127,127,127,127,127,127,127,127,127,127,127,127,127,127,127,127,127,127,127,127,127,127,127,127,127,127,127,127,127,127,127,127,127,127]
[null,"PMR1",814,814,814,814,814,814,814,814,814,814,814,814,{"$f":"N20+4","v":818},818,818,818,818,818,{"$f":"T20","v":818},818,818,818,818,818,{"$f":"Z20+10","v":828},{"$f":"AA20","v":828},828,828,828,828,828,828,828,828,828,828,{"$f":"AL20","v":828},{"$f":"AM20","v":828},828,828,828,828,828,828,828,828,828,828,828,828,828,{"$f":"BA20","v":828},{"$f":"BB20","v":828},828,828,828,828,828,828,{"$f":"BI20+11","v":839},839,839,839,839,839,839,839,839,839,839,839,839,839,839,839,{"$f":"BY20-10","v":829},{"$f":"BZ20","v":829},829,829,829,829,829,829,{"$f":"CG20-3","v":826},826,826,826,826,826,826,826,826,826,826,826,{"$f":"CS20","v":826},826,826,826,826,826,826,826,826,826,826,826,826,826,826,826,826,826,826,826,826,826,826,826,826,826,826,826,826,826,826,826,826,826,826,826,826,826,826,826,826,826,826,826,826,826,826,826,826,826,826,{"$f":"ER20","v":826},826,{"$f":"ET20-3","v":823},823,823,823,823,823,823,823,823,823,823,823,823,823,823,823,823,823,823,823,823,823,{"$f":"FP20","v":823},823,823,823,823,823,823,823,823,823,823,{"$f":"GA20","v":823},{"$f":"GB20","v":823},{"$f":"GC20","v":823},823,823,823,823,823,823,823,823,823,823,{"$f":"GN20","v":823},{"$f":"GO20","v":823},823,823,823,823,823,823,823,823,823,823,{"$f":"GZ20","v":823},{"$f":"HA20","v":823},823,823,823,823,823,823,823,823,823,823,{"$f":"HL20","v":823},{"$f":"HM20","v":823},823,823,823,823,823,823,823,823,823,823,{"$f":"HX20","v":823},{"$f":"HY20","v":823},823,823,823,823,823,823,823,823,823,823,{"$f":"IJ20","v":823},{"$f":"IK20","v":823},823,823,823,823,823,823,823,823,823,823,{"$f":"IV20","v":823},{"$f":"IW20","v":823},823,823,823,823,823,823,823,823]
[null,"PMR2",799,799,799,799,799,799,799,799,799,799,799,799,{"$f":"N21","v":799},799,799,799,799,799,799,799,799,799,799,799,{"$f":"Z21+22","v":821},821,821,821,821,821,821,821,821,821,821,821,{"$f":"AL21-6","v":815},815,815,815,815,815,815,815,815,815,815,815,815,815,815,{"$f":"BA21","v":815},815,815,815,815,815,815,815,{"$f":"BI21+24","v":839},839,839,839,839,839,839,839,839,839,839,839,839,839,839,839,{"$f":"BY21-10","v":829},829,829,829,829,829,829,829,{"$f":"CG21-3","v":826},826,826,826,826,826,826,826,826,826,826,826,{"$f":"CS21","v":826},826,826,826,826,826,826,826,826,826,826,826,826,826,826,826,826,826,826,826,826,826,826,826,826,826,826,826,826,826,826,826,826,826,826,826,826,826,826,826,826,826,826,826,826,826,826,826,826,826,826,826,826,826,826,826,826,826,826,826,826,826,{"$f":"FC21-3","v":823},823,823,823,823,823,823,823,823,823,823,823,823,823,823,823,823,823,823,823,823,823,823,823,823,823,823,823,823,823,823,823,823,823,823,823,823,823,823,823,823,823,823,823,823,823,823,823,823,823,823,823,823,823,823,823,823,823,823,823,823,823,823,823,823,823,823,823,823,823,823,823,823,823,823,823,823,823,823,823,823,823,823,823,823,823,823,823,823,823,823,823,823,823,823,823,823,823,823,823,823,823,823,823,823,823,823]
[null,"PMG3",467,467,467,467,467,467,467,467,467,467,467,467,{"$f":"N22","v":467},467,467,467,467,467,467,467,467,467,467,467,{"$f":"Z22+10","v":477},477,477,477,477,477,477,477,477,477,{"$f":"AJ22","v":477},{"$f":"AK22","v":477},{"$f":"AL22-6","v":471},471,471,471,471,471,471,471,471,471,{"$f":"AV22","v":471},{"$f":"AW22","v":471},{"$f":"AX22-22","v":449},449,449,{"$f":"BA22","v":449},449,449,449,449,449,449,449,{"$f":"BI22+29","v":478},478,478,478,478,478,478,478,478,478,478,478,478,478,478,478,478,478,478,478,478,478,478,478,{"$f":"CG22-6","v":472},472,472,472,472,472,472,472,472,472,472,472,{"$f":"CS22-3","v":469},469,469,469,469,469,469,469,469,469,469,469,469,469,469,469,469,469,469,469,469,469,469,469,469,469,469,469,469,469,469,469,469,469,469,469,469,469,469,469,469,469,469,469,469,469,469,469,469,469,469,469,469,469,469,469,469,469,469,469,469,469,469,469,469,469,469,469,469,469,469,469,469,469,469,469,469,469,469,469,469,469,469,469,469,469,469,469,469,469,469,469,469,469,469,469,469,469,469,469,469,469,469,469,469,469,469,469,469,469,469,469,469,469,469,469,469,469,469,469,469,469,469,469,469,469,469,469,469,469,469,469,469,469,469,469,469,469,469,469,469,469,469,469,469,469,469,469,469,469,469,469,469,469,469,469,469,469,469,469,469,469,469,469,469,469,469,469,469]
[null,"PMG4",468,468,468,468,468,468,468,468,468,468,468,468,{"$f":"N23","v":468},468,468,468,468,468,468,468,468,468,468,468,{"$f":"Z23+10","v":478},478,478,478,478,478,478,478,478,478,{"$f":"AJ23","v":478},{"$f":"AK23","v":478},{"$f":"AL23-6","v":472},472,472,472,472,472,472,472,472,472,{"$f":"AV23","v":472},{"$f":"AW23","v":472},{"$f":"AX23-22","v":450},450,450,{"$f":"BA23","v":450},450,450,450,450,450,450,450,{"$f":"BI23+28","v":478},478,478,478,478,478,478,478,478,478,478,478,478,478,478,478,478,478,478,478,478,478,478,478,{"$f":"CG23-6","v":472},472,472,472,472,472,472,472,472,472,472,472,{"$f":"CS23-3","v":469},469,469,469,469,469,469,469,469,469,469,469,469,469,469,469,469,469,469,469,469,469,469,469,469,469,469,469,469,469,469,469,469,469,469,{"$f":"EB23","v":469},469,469,469,469,469,469,469,469,469,469,469,469,469,469,469,469,469,469,469,469,469,469,469,469,469,469,469,469,469,469,469,469,469,469,469,469,{"$f":"FM23","v":469},469,469,469,469,469,469,469,469,469,469,469,469,469,469,469,469,469,469,469,469,469,469,469,469,469,469,469,469,469,469,469,469,469,469,469,469,469,469,469,469,469,469,469,469,469,469,469,469,469,469,469,469,469,469,469,469,469,469,469,469,469,469,469,469,469,469,469,469,469,469,469,469,469,469,469,469,469,469,469,469,469,469,469,469,469,469,469,469,469,469,469,469,469,469,469,469]
[null,"PMG8",298,298,298,298,298,298,298,298,298,298,298,298,{"$f":"N24","v":298},298,298,298,298,298,298,298,298,298,298,298,{"$f":"Z24+22","v":320},320,320,320,320,{"$f":"AE24","v":320},{"$f":"AF24","v":320},{"$f":"AG24","v":320},{"$f":"AH24","v":320},320,320,320,{"$f":"AL24","v":320},320,320,320,320,{"$f":"AQ24+787","v":1107},1107,1107,1107,1107,1107,1107,{"$f":"AX24","v":1107},1107,1107,{"$f":"BA24+12","v":1119},1119,1119,1119,1119,1119,1119,1119,{"$f":"BI24-15","v":1104},1104,1104,1104,1104,1104,1104,1104,1104,1104,1104,1104,1104,1104,1104,1104,1104,1104,1104,1104,1104,1104,1104,1104,{"$f":"CG24+1","v":1105},1105,1105,1105,1105,1105,1105,1105,1105,1105,1105,1105,1105,1105,1105,1105,1105,1105,1105,1105,1105,1105,1105,1105,1105,1105,1105,1105,1105,1105,1105,1105,{"$f":"DM24","v":1105},1105,1105,1105,{"$f":"DQ24+27","v":1132},{"$f":"DR24","v":1132},1132,1132,1132,1132,1132,1132,1132,1132,1132,{"$f":"EB24+9","v":1141},{"$f":"EC24","v":1141},1141,1141,1141,1141,1141,1141,1141,1141,1141,1141,1141,1141,{"$f":"EP24-6","v":1135},1135,1135,1135,1135,1135,1135,1135,1135,1135,1135,1135,1135,1135,1135,1135,1135,1135,1135,1135,1135,1135,1135,1135,1135,1135,1135,1135,1135,{"$f":"FS24+2","v":1137},{"$f":"FT24+1","v":1138},1138,1138,1138,1138,1138,1138,1138,1138,1138,1138,1138,{"$f":"GF24+1","v":1139},1139,1139,1139,1139,1139,1139,1139,1139,1139,1139,1139,1139,1139,1139,1139,1139,1139,1139,1139,1139,1139,1139,1139,1139,1139,1139,1139,1139,1139,1139,1139,1139,1139,1139,1139,1139,1139,1139,1139,1139,1139,1139,1139,1139,1139,1139,1139,1139,1139,1139,1139,1139,1139,1139,1139,1139,1139,1139,1139,1139,1139,1139,1139,1139,1139,1139,1139,1139,1139,1139,1139,1139,1139,1139,1139,1139,1139]
[null,"PMT1",809,809,809,{"$f":"E25","v":809},809,809,809,809,809,809,809,809,{"$f":"N25+1","v":810},{"$f":"O25","v":810},810,810,810,810,810,810,810,810,810,810,{"$f":"Z25+4","v":814},814,814,814,814,{"$f":"AE25","v":814},814,814,814,814,814,814,{"$f":"AL25-26","v":788},788,788,788,788,788,788,788,788,788,788,788,{"$f":"AX25+22","v":810},810,810,{"$f":"BA25","v":810},810,810,810,810,810,810,810,{"$f":"BI25+9","v":819},819,819,819,819,819,819,819,819,819,819,819,819,819,819,819,819,819,819,819,819,819,819,819,{"$f":"CG25-7","v":812},{"$f":"CH25","v":812},812,812,812,812,812,812,812,812,812,812,812,812,812,812,812,812,812,812,812,812,812,812,812,812,{"$f":"DG25","v":812},812,812,812,812,812,812,812,812,812,812,812,812,812,812,812,812,812,812,812,812,812,812,812,812,812,812,812,{"$f":"EI25","v":812},{"$f":"EJ25","v":812},{"$f":"EK25-3","v":809},809,809,809,809,809,809,{"$f":"ER25","v":809},809,809,809,809,809,809,809,809,809,809,809,809,809,809,809,809,809,809,809,809,809,809,809,809,809,809,809,809,809,809,809,809,809,809,809,809,809,809,809,809,809,809,809,809,809,809,809,809,809,809,809,809,809,809,809,809,809,809,809,809,809,809,809,809,809,809,809,809,809,809,809,809,809,809,809,809,809,809,809,809,809,809,809,809,809,809,809,809,809,809,809,809,809,809,809,809,809,809,809,809,809,809,809,809,809,809,809,809,809,809,809,809,809,809,809,809,809]
[null,"PMT2",810,810,810,810,810,810,810,810,810,810,810,810,{"$f":"N26","v":810},810,810,810,810,810,810,810,810,810,810,810,{"$f":"Z26+4","v":814},814,814,814,814,{"$f":"AE26","v":814},814,814,814,814,814,814,{"$f":"AL26-11","v":803},803,803,803,803,803,803,803,803,803,803,803,{"$f":"AX26+7","v":810},810,810,{"$f":"BA26","v":810},810,810,810,810,810,810,810,{"$f":"BI26+9","v":819},819,819,819,819,819,819,819,819,819,819,819,819,819,819,819,819,819,819,819,819,819,819,819,{"$f":"CG26-7","v":812},812,812,812,812,812,812,812,812,812,812,812,812,812,812,812,812,812,812,812,812,812,812,812,812,812,812,812,812,812,812,812,812,812,812,812,812,812,812,{"$f":"DT26","v":812},{"$f":"DU26","v":812},{"$f":"DV26","v":812},{"$f":"DW26","v":812},{"$f":"DX26-3","v":809},809,809,809,809,809,809,809,809,809,809,809,809,809,809,809,809,809,809,809,809,809,809,809,809,809,809,809,809,809,809,809,809,809,809,809,809,809,809,809,809,809,809,809,809,809,809,809,809,809,809,809,809,809,809,809,809,809,809,809,809,809,809,809,809,809,809,809,809,809,809,809,809,809,809,809,809,809,809,809,809,809,809,809,809,809,809,809,809,809,809,809,809,809,809,809,809,809,809,809,809,809,809,809,809,809,809,809,809,809,809,809,809,809,809,809,809,809,809,809,809,809,809,809,809,809,809,809,809,809,809,809,809,809,809,809,809,809]
[null,"PMT3",0,0,0,0,0,0,0,0,0,0,0,0,{"$f":"N27","v":0},0,0,0,0,0,0,0,0,0,0,0,{"$f":"Z27","v":0},0,0,0,0,{"$f":"AE27","v":0},{"$f":"AF27","v":0},{"$f":"AG27","v":0},{"$f":"AH27","v":0},0,0,0,{"$f":"AL27","v":0},0,0,0,0,{"$f":"AQ27+1107","v":1107},1107,1107,1107,1107,1107,1107,{"$f":"AX27","v":1107},1107,1107,{"$f":"BA27+11","v":1118},1118,1118,1118,1118,1118,1118,1118,{"$f":"BI27-14","v":1104},1104,1104,1104,1104,1104,1104,1104,1104,1104,1104,1104,1104,1104,1104,1104,1104,1104,1104,1104,1104,1104,1104,1104,{"$f":"CG27+7","v":1111},1111,1111,1111,1111,1111,1111,1111,1111,1111,1111,1111,1111,1111,1111,1111,1111,1111,1111,1111,1111,1111,1111,1111,1111,1111,1111,1111,1111,1111,1111,1111,1111,1111,1111,1111,1111,1111,1111,1111,1111,1111,1111,1111,1111,1111,1111,1111,1111,1111,1111,{"$f":"EF27","v":1111},{"$f":"EG27","v":1111},{"$f":"EH27","v":1111},1111,1111,1111,1111,1111,1111,1111,{"$f":"EP27-5+2","v":1108},1108,1108,1108,1108,{"$f":"EU27+10+11+9","v":1138},{"$f":"EV27","v":1138},{"$f":"EW27+5","v":1143},1143,1143,1143,1143,1143,1143,1143,1143,1143,1143,1143,1143,1143,1143,1143,1143,1143,1143,1143,1143,1143,1143,1143,1143,{"$f":"FV27+2","v":1145},{"$f":"FW27+1","v":1146},1146,1146,1146,1146,1146,1146,{"$f":"GD27+2","v":1148},1148,1148,1148,1148,1148,1148,1148,1148,1148,1148,1148,1148,1148,1148,1148,1148,1148,1148,1148,1148,1148,1148,1148,1148,1148,1148,1148,1148,1148,1148,1148,1148,1148,1148,1148,1148,1148,1148,1148,1148,1148,1148,1148,1148,1148,1148,1148,1148,1148,1148,1148,1148,1148,1148,1148,1148,1148,1148,1148,1148,1148,1148,1148,1148,1148,1148,1148,1148,1148,1148,1148,1148,1148,1148,1148,1148,1148,1148,1148]
[null,"PPE1",221,221,221,221,221,221,221,221,221,221,221,221,{"$f":"N28","v":221},221,221,221,221,221,221,221,221,221,221,221,{"$f":"Z28","v":221},{"$f":"AA28","v":221},221,221,221,221,221,221,221,221,221,221,{"$f":"AL28-9","v":212},{"$f":"AM28","v":212},212,212,212,212,212,212,212,212,212,212,{"$f":"AX28+7","v":219},219,219,219,219,219,219,219,219,219,219,{"$f":"BI28+1","v":220},220,220,220,220,220,220,220,220,220,220,220,220,220,220,220,220,220,220,220,220,220,220,220,{"$f":"CG28-7","v":213},213,213,213,213,213,213,213,213,213,213,213,213,213,213,213,213,213,213,213,213,213,213,213,213,213,213,213,213,213,213,213,213,213,213,213,213,213,213,213,213,213,213,213,213,213,213,213,{"$f":"EC28-213","v":0},0,{"$f":"EE28","v":0},{"$f":"EF28","v":0},0,0,0,0,0,0,0,0,0,0,0,0,0,0,0,0,0,0,0,0,0,0,0,0,0,0,0,0,0,0,0,0,0,0,0,0,0,0,0,0,0,0,0,0,0,0,0,0,0,0,0,0,0,0,0,0,0,0,0,0,0,0,0,0,0,0,0,0,0,0,0,0,0,0,0,0,0,0,0,0,0,0,0,0,0,0,0,0,0,0,0,0,0,0,0,0,0,0,0,0,0,0,0,0,0,0,0,0,0,0,0,0,0,0,0,0,0,0,0,0,0,0,0,0,0,0,0,0,0]
[null,"PPE2",221,221,221,221,221,221,221,221,221,221,221,221,{"$f":"N29","v":221},221,221,221,221,221,221,221,221,221,221,221,{"$f":"Z29","v":221},{"$f":"AA29","v":221},221,221,221,221,221,221,221,221,221,221,{"$f":"AL29-2","v":219},{"$f":"AM29","v":219},219,219,219,219,219,219,219,219,219,219,{"$f":"AX29","v":219},219,219,219,219,219,219,219,219,219,219,{"$f":"BI29+1","v":220},220,220,220,220,220,220,220,220,220,220,220,220,220,220,220,220,220,220,220,220,220,220,220,{"$f":"CG29-7","v":213},213,213,213,213,213,213,213,213,213,213,213,213,213,213,213,213,213,213,213,213,213,213,213,213,213,213,213,213,213,213,213,213,213,213,213,213,213,213,213,213,213,213,213,213,213,213,213,{"$f":"EC29-213","v":0},0,{"$f":"EE29","v":0},0,0,0,0,0,0,0,0,0,0,0,0,0,0,0,0,0,0,0,0,0,0,0,0,0,0,0,0,0,0,0,0,0,0,0,0,0,0,0,0,0,0,0,0,0,0,0,0,0,0,0,0,0,0,0,0,0,0,0,0,0,0,0,0,0,0,0,0,0,0,0,0,0,0,0,0,0,0,0,0,0,0,0,0,0,0,0,0,0,0,0,0,0,0,0,0,0,0,0,0,0,0,0,0,0,0,0,0,0,0,0,0,0,0,0,0,0,0,0,0,0,0,0,0,0,0,0,0,0,0]
[null,"PPE3",390,390,390,390,390,390,390,390,390,390,390,390,{"$f":"N30","v":390},390,390,390,390,390,390,390,390,390,390,390,{"$f":"Z30","v":390},{"$f":"AA30","v":390},390,390,390,390,390,390,390,390,390,390,{"$f":"AL30-5","v":385},{"$f":"AM30","v":385},385,385,385,385,385,385,385,385,385,385,{"$f":"AX30-8","v":377},377,377,377,377,377,377,377,377,377,377,{"$f":"BI30+10","v":387},387,387,387,387,387,387,387,387,387,387,387,387,387,387,387,387,387,387,387,387,387,387,387,387,387,387,387,387,387,387,387,387,387,387,387,387,387,387,387,387,387,387,387,387,387,387,387,387,387,387,387,387,387,387,387,387,387,387,387,387,387,387,387,387,387,387,387,387,387,387,387,387,387,{"$f":"EE30-387","v":0},0,0,0,0,0,0,0,0,0,0,0,0,0,0,0,0,0,0,0,0,0,0,0,0,0,0,0,0,0,0,0,0,0,0,0,0,0,0,0,0,0,0,0,0,0,0,0,0,0,0,0,0,0,0,0,0,0,0,0,0,0,0,0,0,0,0,0,0,0,0,0,0,0,0,0,0,0,0,0,0,0,0,0,0,0,0,0,0,0,0,0,0,0,0,0,0,0,0,0,0,0,0,0,0,0,0,0,0,0,0,0,0,0,0,0,0,0,0,0,0,0,0,0,0,0,0,0,0,0,0]
[null,"PPE4",408,408,408,408,408,408,408,408,408,408,408,408,{"$f":"N31-28","v":380},380,380,380,380,380,380,380,380,380,380,380,{"$f":"Z31+21","v":401},{"$f":"AA31","v":401},401,401,401,401,401,401,401,401,401,401,{"$f":"AL31-16","v":385},{"$f":"AM31","v":385},385,385,385,385,385,385,385,385,385,385,{"$f":"AX31","v":385},385,385,385,385,385,385,385,385,385,385,{"$f":"BI31+7","v":392},392,392,392,392,392,392,392,392,392,392,392,392,392,392,392,392,392,392,392,392,392,392,392,392,392,392,392,392,392,392,392,392,392,392,392,392,392,392,392,392,392,392,392,392,392,392,392,{"$f":"DE31-18","v":374},374,374,374,374,374,374,374,374,374,374,374,374,374,374,374,374,374,374,374,374,374,374,374,374,374,{"$f":"EE31-374","v":0},0,0,0,0,0,0,0,0,0,0,0,0,0,0,0,0,0,0,0,0,0,0,0,0,0,0,0,0,0,0,0,0,0,0,0,0,0,0,0,0,0,0,0,0,0,0,0,0,0,0,0,0,0,0,0,0,0,0,0,0,0,0,0,0,0,0,0,0,0,0,0,0,0,0,0,0,0,0,0,0,0,0,0,0,0,0,0,0,0,0,0,0,0,0,0,0,0,0,0,0,0,0,0,0,0,0,0,0,0,0,0,0,0,0,0,0,0,0,0,0,0,0,0,0,0,0,0,0,0,0]
[null,"PPE5",0,0,0,0,0,0,0,0,0,0,0,0,{"$f":"N32","v":0},0,0,0,0,0,0,0,0,0,0,0,0,0,0,0,0,0,0,0,0,0,0,0,0,0,0,0,0,0,0,0,0,{"$f":"AU32","v":0},0,0,{"$f":"AX32","v":0},0,0,0,0,0,0,0,0,0,0,{"$f":"BI32","v":0},0,0,0,0,0,0,0,0,0,0,0,0,0,0,0,0,0,0,0,0,0,0,0,0,0,0,0,0,0,0,0,0,0,0,0,0,0,0,0,0,0,0,0,0,0,0,0,0,0,0,0,0,0,0,0,0,0,0,0,0,0,0,0,0,0,0,0,0,0,0,0,0,0,0,0,0,0,0,0,0,0,0,0,0,0,0,0,0,0,0,0,0,0,0,0,0,0,0,0,0,0,0,{"$f":"FH32","v":0},0,0,0,0,0,0,0,0,0,0,{"$f":"FS32+1237","v":1237},1237,1237,1237,1237,1237,1237,1237,1237,1237,1237,1237,1237,1237,1237,1237,1237,1237,1237,1237,1237,1237,1237,1237,1237,1237,1237,1237,1237,1237,1237,1237,1237,1237,1237,1237,1237,1237,1237,1237,1237,1237,1237,1237,1237,1237,1237,1237,1237,1237,1237,1237,1237,1237,1237,1237,1237,1237,1237,1237,1237,1237,1237,1237,1237,1237,1237,1237,1237,1237,1237,1237,1237,1237,1237,1237,1237,1237,1237,1237,1237,1237,1237,1237,1237,1237,1237,1237,1237,1237,1237]
[null,"PPE GT",420,420,420,420,420,420,420,420,420,420,420,420,{"$f":"N33","v":420},420,420,420,420,420,420,420,420,420,420,420,420,420,420,420,420,420,420,420,420,420,420,420,420,420,420,420,420,420,420,420,420,{"$f":"AU33","v":420},420,420,{"$f":"AX33","v":420},420,420,420,420,420,420,420,420,420,420,{"$f":"BI33","v":420},420,420,420,420,420,420,420,420,420,420,420,420,420,420,420,420,420,420,420,420,420,420,420,420,420,420,420,420,420,420,420,420,420,420,420,420,420,420,420,420,420,420,420,420,420,420,420,420,420,420,420,420,420,420,420,420,420,420,420,420,420,420,420,420,420,420,420,420,420,420,420,420,420,420,420,420,420,420,420,420,420,420,420,420,420,420,420,420,420,420,420,420,420,420,420,420,420,420,420,420,420,420,420,420,420,420,420,420,420,420,420,420,420,420,420,420,420,420,420,420,420,420,420,420,420,{"$f":"GE33","v":420},420,420,420,420,420,420,420,420,420,420,420,{"$f":"GQ33","v":420},420,420,420,420,420,420,{"$f":"GX33","v":420},420,420,420,420,{"$f":"HC33","v":420},420,420,420,420,420,420,420,420,420,420,420,{"$f":"HO33","v":420},420,420,420,420,420,420,420,420,420,420,420,{"$f":"IA33","v":420},420,420,420,420,420,420,420,420,420,420,420,{"$f":"IM33","v":420},420,420,420,420,420,420,420,420,420,420,420,{"$f":"IY33","v":420},420,420,420,420,420,420]
[null,"PPN1",249,249,249,249,249,249,249,249,249,249,249,249,{"$f":"N34","v":249},249,249,249,249,249,249,249,249,249,249,249,249,249,249,249,249,249,249,249,249,249,249,249,{"$f":"AL34","v":249},249,249,249,249,249,249,249,249,249,249,249,{"$f":"AX34-4","v":245},245,245,245,245,245,245,245,245,245,245,{"$f":"BI34+4","v":249},249,249,249,249,249,249,249,249,249,249,249,249,249,249,249,249,249,249,249,249,249,249,249,249,249,249,249,249,249,249,249,249,249,249,249,249,249,249,249,249,249,249,249,249,249,249,249,249,249,249,249,249,249,249,249,249,249,249,249,249,249,249,249,249,249,249,249,249,249,249,249,249,249,249,249,249,249,249,249,249,249,249,249,249,{"$f":"EP34-2","v":247},247,247,247,247,247,247,247,247,247,247,{"$f":"FA34-247","v":0},{"$f":"FB34","v":0},0,0,0,0,0,0,0,0,0,0,0,0,0,0,0,0,0,0,0,0,0,0,0,0,0,0,0,0,{"$f":"GE34","v":0},0,0,0,0,0,0,{"$f":"GL34","v":0},0,0,0,0,{"$f":"GQ34","v":0},0,0,0,0,0,0,0,0,0,0,0,{"$f":"HC34","v":0},0,0,0,0,0,0,0,0,0,0,0,{"$f":"HO34","v":0},0,0,0,0,0,0,0,0,0,0,0,{"$f":"IA34","v":0},0,0,0,0,0,0,0,0,0,0,0,{"$f":"IM34","v":0},0,0,0,0,0,0,0,0,0,0,0,{"$f":"IY34","v":0},0,0,0,0,0,0]
[null,"PPN2",249,249,249,249,249,249,249,249,249,249,249,249,{"$f":"N35","v":249},249,249,249,249,249,249,249,249,249,249,249,249,{"$f":"AA35","v":249},249,249,249,249,249,249,249,{"$f":"AI35","v":249},{"$f":"AJ35","v":249},{"$f":"AK35","v":249},{"$f":"AL35","v":249},{"$f":"AM35","v":249},249,249,249,249,249,249,249,{"$f":"AU35","v":249},{"$f":"AV35","v":249},{"$f":"AW35","v":249},{"$f":"AX35","v":249},249,249,249,249,249,249,249,249,249,249,{"$f":"BI35","v":249},249,249,{"$f":"BL35","v":249},249,249,249,249,249,249,249,249,249,249,249,249,249,249,249,249,249,249,249,249,249,249,249,249,249,249,249,249,249,249,249,249,249,249,249,249,249,249,249,249,249,249,249,249,249,249,249,249,249,249,249,249,249,249,249,249,249,249,249,249,249,249,249,249,249,249,249,249,249,249,249,249,249,249,249,249,249,249,249,249,249,{"$f":"EP35-2","v":247},247,247,247,247,247,247,247,247,247,247,{"$f":"FA35-247","v":0},{"$f":"FB35","v":0},0,0,0,0,0,0,0,0,0,0,0,0,0,0,0,0,{"$f":"FS35","v":0},{"$f":"FT35","v":0},{"$f":"FU35","v":0},{"$f":"FV35","v":0},{"$f":"FW35","v":0},0,0,0,0,0,0,0,{"$f":"GE35","v":0},{"$f":"GF35","v":0},{"$f":"GG35","v":0},{"$f":"GH35","v":0},{"$f":"GI35","v":0},0,0,{"$f":"GL35","v":0},0,0,0,0,{"$f":"GQ35","v":0},{"$f":"GR35","v":0},{"$f":"GS35","v":0},{"$f":"GT35","v":0},{"$f":"GU35","v":0},0,0,0,0,0,0,0,{"$f":"HC35","v":0},{"$f":"HD35","v":0},{"$f":"HE35","v":0},{"$f":"HF35","v":0},{"$f":"HG35","v":0},0,0,0,0,0,0,0,{"$f":"HO35","v":0},{"$f":"HP35","v":0},{"$f":"HQ35","v":0},{"$f":"HR35","v":0},{"$f":"HS35","v":0},0,0,0,0,0,0,0,{"$f":"IA35","v":0},{"$f":"IB35","v":0},{"$f":"IC35","v":0},{"$f":"ID35","v":0},{"$f":"IE35","v":0},0,0,0,0,0,0,0,{"$f":"IM35","v":0},{"$f":"IN35","v":0},{"$f":"IO35","v":0},{"$f":"IP35","v":0},{"$f":"IQ35","v":0},0,0,0,0,0,0,0,{"$f":"IY35","v":0},{"$f":"IZ35","v":0},{"$f":"JA35","v":0},{"$f":"JB35","v":0},{"$f":"JC35","v":0},0,0]
[null,"PRV3",283,283,283,283,283,283,283,283,283,283,283,283,{"$f":"N36-2","v":281},281,281,281,281,281,281,281,281,281,281,281,281,281,281,281,281,{"$f":"AE36","v":281},281,281,281,281,281,281,{"$f":"AL36-9","v":272},{"$f":"AM36","v":272},272,272,272,272,272,272,272,272,272,272,272,272,272,272,272,272,272,272,272,272,272,{"$f":"BI36+5","v":277},{"$f":"BJ36","v":277},277,277,277,277,277,277,277,277,277,277,277,277,277,277,277,277,277,277,277,277,277,277,277,277,277,277,277,277,277,277,277,277,277,277,277,277,277,277,277,277,277,277,277,277,277,277,277,277,{"$f":"DG36-277","v":0},0,0,0,0,0,0,0,0,0,0,0,0,0,0,0,0,0,0,0,0,0,0,0,0,0,0,0,0,0,0,0,0,0,0,0,0,0,0,0,0,0,0,0,0,0,0,0,0,0,0,0,0,0,0,0,0,0,0,0,0,0,0,0,0,0,0,0,0,0,0,0,0,0,0,0,0,0,0,0,0,0,0,0,0,0,0,0,0,0,0,0,0,0,0,0,0,0,0,0,0,0,0,0,0,0,0,0,0,0,0,0,0,0,0,0,0,0,0,0,0,0,0,0,0,0,0,0,0,0,0,0,0,0,0,0,0,0,0,0,0,0,0,0,0,0,0,0,0,0,0,0,0,0,0]
[null,"PRV4",284,284,284,284,284,284,284,284,284,284,284,284,284,284,284,284,284,284,284,284,284,284,284,284,284,284,284,284,284,284,284,284,284,284,284,284,{"$f":"AL37","v":284},284,284,284,284,284,284,284,284,284,284,284,284,284,284,284,284,284,284,284,284,284,284,{"$f":"BI37+4","v":288},288,288,288,288,288,288,288,288,288,288,288,288,288,288,288,288,288,288,288,288,288,288,288,288,288,288,288,288,288,288,288,288,288,288,288,288,288,288,288,288,288,288,288,288,288,288,288,288,288,{"$f":"DG37-288","v":0},0,0,0,0,0,0,0,0,0,0,0,0,0,0,0,0,0,0,0,0,0,0,0,0,0,0,0,0,0,0,0,0,0,0,0,0,0,0,0,0,0,0,0,0,0,0,0,0,0,0,0,0,0,0,0,0,0,0,0,0,0,0,0,0,0,0,0,0,0,0,0,0,0,0,0,0,0,0,0,0,0,0,0,0,0,0,0,0,0,0,0,0,0,0,0,0,0,0,0,0,0,0,0,0,0,0,0,0,0,0,0,0,0,0,0,0,0,0,0,0,0,0,0,0,0,0,0,0,0,0,0,0,0,0,0,0,0,0,0,0,0,0,0,0,0,0,0,0,0,0,0,0,0,0]
[null,"PRV5",0,0,0,0,0,0,0,0,0,0,0,0,0,0,0,0,0,0,0,0,0,0,0,0,0,0,0,0,0,0,0,0,0,0,0,0,{"$f":"AL38","v":0},0,0,0,0,0,0,0,0,0,0,0,0,0,0,0,0,0,0,0,0,{"$f":"BE38","v":0},0,0,0,0,0,0,0,0,0,0,0,0,0,0,0,0,0,0,0,0,0,0,0,0,0,0,0,0,0,0,0,0,0,0,0,0,0,0,0,0,0,0,0,0,0,0,0,0,0,0,0,0,0,0,0,0,0,0,0,0,0,0,0,0,0,0,0,0,0,0,0,0,0,0,0,0,0,0,0,0,0,0,0,0,0,0,0,0,0,{"$f":"ES38+1212","v":1212},1212,1212,1212,1212,1212,1212,1212,1212,1212,1212,1212,1212,1212,1212,1212,1212,1212,1212,1212,1212,1212,1212,1212,1212,1212,1212,1212,1212,1212,1212,1212,1212,1212,1212,1212,1212,1212,1212,1212,1212,1212,1212,1212,1212,1212,1212,1212,1212,1212,1212,1212,1212,1212,1212,1212,1212,1212,1212,1212,1212,1212,1212,1212,1212,1212,1212,1212,1212,1212,1212,1212,1212,1212,1212,1212,1212,1212,1212,1212,1212,1212,1212,1212,1212,1212,1212,1212,1212,1212,1212,1212,1212,1212,1212,1212,1212,1212,1212,1212,1212,1212,1212,1212,1212,1212,1212,1212,1212,{"$f":"IX38+28","v":1240},{"$f":"IY38","v":1240},{"$f":"IZ38+28","v":1268},{"$f":"JA38","v":1268},{"$f":"JB38","v":1268},{"$f":"JC38","v":1268},{"$f":"JD38+27","v":1295},1295]
[null,"PSC",0,0,0,0,0,0,0,0,0,0,0,0,0,0,0,0,0,0,0,0,0,0,0,0,0,0,0,0,0,0,0,0,0,0,0,0,{"$f":"AL39","v":0},0,0,0,0,0,0,0,0,0,0,0,0,0,0,0,0,0,0,0,0,{"$f":"BE39","v":0},0,0,0,0,0,0,0,0,0,0,0,0,0,0,0,0,0,0,0,0,0,0,0,0,0,0,0,0,0,0,0,0,0,0,0,0,0,0,0,0,0,{"$f":"CW39+10","v":10},10,10,10,10,10,10,10,10,10,10,10,10,10,10,10,10,10,10,10,10,10,10,10,10,10,10,10,10,10,10,10,10,10,10,10,10,10,10,10,10,10,10,10,10,10,10,10,10,10,10,10,10,10,10,10,10,10,10,10,10,10,10,10,10,10,10,10,10,10,10,10,10,10,10,10,10,{"$f":"FV39","v":10},10,10,10,10,10,10,10,10,10,10,10,10,10,10,10,10,10,10,10,10,10,10,10,10,10,10,10,10,10,10,10,10,10,10,10,10,10,10,10,10,10,10,10,10,10,10,10,10,10,10,10,10,10,10,10,10,10,10,10,10,10,10,10,10,10,10,10,10,10,10,10,10,10,10,10,10,10,10,10,10,10,10,10,10,10,10,10]
[null,"PSH4",658,658,658,658,658,658,658,658,658,658,658,658,658,658,658,658,658,658,658,658,658,658,658,658,658,658,658,658,658,658,658,658,658,658,658,658,{"$f":"AL40-19","v":639},639,639,639,639,639,639,639,639,639,639,639,639,639,639,639,{"$f":"BB40-4","v":635},{"$f":"BC40","v":635},635,635,635,{"$f":"BE40+11","v":646},646,646,646,646,646,646,646,646,646,646,646,646,646,646,646,646,646,646,646,{"$f":"CA40","v":646},646,646,646,646,646,646,646,646,646,646,646,646,646,646,646,646,646,646,646,646,646,646,646,646,646,646,646,646,646,646,646,646,646,646,646,646,{"$f":"DL40+26","v":672},672,672,672,672,672,672,672,{"$f":"DT40","v":672},{"$f":"DU40","v":672},{"$f":"DV40-30","v":642},642,642,642,642,642,642,642,{"$f":"ED40+1","v":643},643,643,643,643,643,643,643,643,643,643,643,643,643,643,643,643,643,643,643,643,643,643,643,643,643,643,643,643,643,643,643,643,643,643,643,643,643,643,643,643,643,643,643,643,643,643,643,643,643,643,643,643,643,643,643,643,643,643,643,643,643,643,643,643,643,643,643,643,643,643,643,643,643,643,643,643,643,643,643,643,643,643,643,643,643,643,643,643,643,643,643,643,643,643,643,643,643,643,643,643,643,643,643,643,643,643,643,643,643,643,643,643,643,643,643,643,643,643,643,643,643,643,643,643,643,643,643,643,643,643,643]
[null,"PSL1",839,839,839,839,839,839,839,839,839,839,839,839,839,839,839,839,839,839,839,839,839,839,839,839,839,839,839,839,839,839,839,839,839,839,839,839,{"$f":"AL41","v":839},839,839,839,839,839,839,839,839,839,839,839,839,839,839,839,{"$f":"BB41","v":839},{"$f":"BC41","v":839},{"$f":"BD41","v":839},839,839,{"$f":"BE41","v":839},{"$f":"BH41","v":839},839,839,839,839,839,839,839,839,839,839,839,839,839,839,839,839,839,839,839,839,839,839,839,839,839,839,839,839,839,839,839,839,839,839,839,839,839,839,839,839,{"$f":"CW41","v":839},839,839,839,839,839,839,839,839,839,839,839,839,839,839,839,{"$f":"DM41","v":839},839,839,839,839,839,839,839,{"$f":"DU41","v":839},839,839,{"$f":"DX41","v":839},{"$f":"DY41+148","v":987},987,987,987,{"$f":"EC41-6","v":981},{"$f":"ED41","v":981},981,981,{"$f":"EG41","v":981},981,981,981,981,981,981,981,981,981,981,981,981,981,981,981,981,981,981,981,981,981,981,981,981,981,981,981,981,981,981,981,981,981,981,981,981,981,981,981,981,981,981,981,981,981,981,981,981,981,981,981,981,981,981,981,981,981,981,981,981,981,981,981,981,981,981,981,981,981,981,981,981,981,981,981,981,981,981,981,981,981,981,{"$f":"HL41","v":981},981,981,981,981,981,981,981,981,981,981,981,{"$f":"HX41","v":981},981,981,981,981,981,981,981,981,981,981,981,{"$f":"IJ41","v":981},981,981,981,981,981,981,981,981,981,981,981,{"$f":"IV41","v":981},981,981,981,981,981,981,981,981,981]
[null,"PSL2",714,714,714,714,714,714,714,714,714,714,714,714,714,714,714,714,714,714,714,714,714,714,714,714,714,714,714,714,714,714,714,714,714,714,714,714,{"$f":"AL42","v":714},714,714,714,714,714,714,714,714,714,714,714,714,714,714,714,{"$f":"BB42","v":714},{"$f":"BC42","v":714},714,714,714,{"$f":"BE42","v":714},714,714,714,714,714,714,714,714,714,714,714,714,714,714,714,714,714,714,714,714,714,714,714,714,714,714,714,714,714,714,714,714,714,714,714,714,714,714,714,714,714,714,714,714,714,714,714,714,714,714,714,714,714,{"$f":"DI42+29","v":743},743,743,743,743,743,743,743,{"$f":"DQ42+2","v":745},745,745,745,745,745,745,{"$f":"DX42","v":745},745,745,745,{"$f":"EB42","v":745},{"$f":"EC42+107-9","v":843},843,843,843,{"$f":"EG42-3","v":840},840,840,840,840,840,840,840,840,840,840,840,840,840,840,840,840,840,840,840,840,840,840,840,840,840,840,840,840,840,840,840,840,840,840,840,840,840,840,840,840,840,840,840,840,840,840,840,840,840,840,{"$f":"GF42","v":840},840,840,840,840,840,840,840,840,840,840,840,840,840,840,840,{"$f":"GV42","v":840},840,840,840,840,840,840,840,840,840,840,840,840,840,840,840,840,840,840,840,840,840,840,840,840,840,840,840,840,840,840,840,840,840,840,840,840,840,840,840,840,840,840,840,840,840,840,840,840,840,840,840,840,840,840,840,840,840,840,840,840,840]
[null,"PSN3",142,142,142,142,142,142,142,142,142,142,142,142,{"$f":"N43-4","v":138},138,138,138,138,138,138,138,138,138,138,138,138,138,138,138,138,138,138,138,138,138,138,138,{"$f":"AL43","v":138},138,138,138,138,138,138,138,138,138,138,138,138,138,138,138,{"$f":"BB43","v":138},{"$f":"BC43","v":138},138,138,138,{"$f":"BE43","v":138},138,138,138,138,138,138,138,138,138,138,138,138,138,138,138,138,138,138,138,138,138,138,138,138,138,138,138,138,138,138,138,138,138,138,138,138,138,138,138,138,138,138,138,138,138,138,138,138,138,138,138,138,138,138,138,138,138,138,138,138,138,138,138,138,138,138,138,138,138,138,138,138,138,{"$f":"EC43-138","v":0},0,0,0,0,0,0,0,0,0,0,0,0,0,0,0,0,0,0,0,0,0,0,0,0,0,0,0,0,0,0,0,0,0,0,0,0,0,0,0,0,0,0,0,0,0,0,0,0,0,0,0,0,0,0,0,0,0,0,0,0,0,0,0,0,0,0,0,0,0,0,0,0,0,0,0,0,0,0,0,0,0,0,0,0,0,0,0,0,0,0,0,0,0,0,0,0,0,0,0,0,0,0,0,0,0,0,0,0,0,0,0,0,0,0,0,0,0,0,0,0,0,0,0,0,0,0,0,0,0,0,0,0]
[null,"PSR4",381,381,381,{"$f":"E44-381","v":0},0,0,0,0,0,0,0,0,{"$f":"N44","v":0},0,0,0,{"$f":"R44+957","v":957},957,957,957,957,957,957,957,{"$f":"Z44-5","v":952},952,952,952,952,952,952,952,952,952,952,952,{"$f":"AL44","v":952},952,952,952,952,952,952,952,952,952,952,952,952,952,952,952,{"$f":"BB44","v":952},{"$f":"BC44","v":952},{"$f":"BD44+14","v":966},966,966,966,966,{"$f":"BI44-8","v":958},{"$f":"BJ44","v":958},958,958,958,958,958,958,958,958,958,958,958,958,958,958,958,958,958,958,958,958,958,958,958,958,958,958,958,958,958,958,958,958,958,958,958,958,958,958,958,958,958,958,958,958,958,958,958,958,958,958,958,958,958,958,958,958,958,958,958,958,958,958,958,958,958,958,958,958,{"$f":"EA44+7","v":965},{"$f":"EB44","v":965},{"$f":"EC44+8","v":973},973,{"$f":"EE44","v":973},{"$f":"EF44","v":973},{"$f":"EG44+16","v":989},989,989,989,989,989,989,989,989,{"$f":"EP44+16","v":1005},1005,1005,1005,1005,1005,1005,1005,1005,1005,1005,1005,1005,1005,1005,1005,1005,1005,1005,1005,1005,1005,1005,1005,1005,1005,{"$f":"FP44+1","v":1006},1006,1006,1006,1006,1006,1006,1006,1006,1006,1006,1006,1006,1006,1006,1006,1006,1006,1006,1006,1006,1006,1006,1006,1006,1006,1006,1006,1006,1006,1006,1006,1006,1006,1006,1006,1006,1006,1006,1006,1006,1006,1006,1006,1006,1006,1006,1006,1006,1006,1006,1006,1006,1006,1006,1006,1006,1006,1006,1006,1006,1006,1006,1006,1006,1006,1006,1006,1006,1006,1006,1006,1006,1006,1006,1006,1006,1006,1006,1006,1006,1006,1006,1006,1006,1006,1006,1006,1006,1006,1006,1006,1006,1006]
[null,"PSR5",0,0,0,0,0,{"$f":"G45+926","v":926},926,926,926,926,926,926,{"$f":"N45-16","v":910},910,910,910,910,910,910,910,910,910,910,910,{"$f":"Z45+42","v":952},952,952,952,952,952,952,952,952,952,952,952,{"$f":"AL45-12","v":940},940,940,{"$f":"AO45+6","v":946},946,946,{"$f":"AR45+3","v":949},949,949,949,949,949,{"$f":"AX45+3","v":952},952,952,952,952,{"$f":"BC45","v":952},952,952,952,952,952,{"$f":"BI45-4","v":948},{"$f":"BJ45+3","v":951},951,951,{"$f":"BM45+3","v":954},{"$f":"BN45","v":954},{"$f":"BO45+4","v":958},958,958,958,958,958,958,958,958,958,958,958,958,958,958,958,958,958,{"$f":"CG45-4","v":954},954,954,954,954,954,954,954,954,954,954,954,954,954,954,954,954,954,954,954,954,954,954,954,954,954,954,954,954,954,954,954,954,954,954,954,954,954,954,{"$f":"DT45","v":954},{"$f":"DU45+19","v":973},{"$f":"DV45","v":973},973,973,973,973,973,973,{"$f":"EC45","v":973},973,{"$f":"EE45","v":973},{"$f":"EF45","v":973},973,973,{"$f":"EI45+8","v":981},981,981,{"$f":"EL45+10","v":991},{"$f":"EM45","v":991},{"$f":"EN45","v":991},{"$f":"EO45","v":991},{"$f":"EP45+14","v":1005},{"$f":"EQ45","v":1005},1005,1005,1005,1005,1005,1005,1005,1005,1005,1005,1005,1005,1005,1005,1005,1005,1005,1005,1005,1005,1005,1005,1005,1005,1005,1005,1005,1005,1005,1005,1005,1005,1005,1005,1005,1005,1005,1005,1005,{"$f":"GE45+1","v":1006},1006,1006,1006,1006,1006,1006,1006,1006,1006,1006,1006,1006,1006,1006,1006,1006,1006,1006,1006,1006,1006,1006,1006,1006,1006,1006,1006,1006,1006,1006,1006,1006,1006,1006,1006,1006,1006,1006,1006,1006,1006,1006,1006,1006,1006,1006,1006,1006,1006,1006,1006,1006,1006,1006,1006,1006,1006,1006,1006,1006,1006,1006,1006,1006,1006,1006,1006,1006,1006,1006,1006,1006,1006,1006,1006,1006,1006,1006]
[null,"PTF1",400,400,400,400,400,400,400,400,400,400,400,400,{"$f":"N46","v":400},400,400,400,400,400,400,400,400,400,{"$f":"X46","v":400},400,{"$f":"Z46+7","v":407},407,407,407,407,407,407,407,407,407,407,407,{"$f":"AL46-9","v":398},398,398,398,398,398,398,398,398,398,398,398,{"$f":"AX46-13","v":385},385,385,{"$f":"BA46+13","v":398},398,398,398,398,398,398,398,{"$f":"BI46-2","v":396},396,396,396,396,396,396,396,396,396,396,396,396,396,396,396,396,396,396,396,396,396,396,396,396,396,396,396,396,396,396,396,396,396,396,396,396,396,396,396,396,396,396,396,396,396,396,396,396,396,396,396,396,396,396,396,396,396,396,396,396,396,396,396,396,396,396,396,396,396,396,396,396,396,396,396,396,396,396,396,396,396,396,396,396,396,396,396,396,396,396,396,396,396,396,396,396,396,396,396,396,396,396,396,396,396,396,396,396,{"$f":"FN46","v":396},396,396,396,396,{"$f":"FS46","v":396},396,396,396,396,396,396,0,0,0,0,0,{"$f":"GE46","v":0},0,0,0,0,0,0,{"$f":"GL46","v":0},0,0,0,0,{"$f":"GQ46","v":0},0,0,0,0,0,0,{"$f":"GX46","v":0},0,0,0,0,{"$f":"HC46","v":0},0,0,0,0,0,0,{"$f":"HJ46","v":0},0,0,0,0,{"$f":"HO46","v":0},0,0,0,0,0,0,{"$f":"HV46","v":0},0,0,0,0,{"$f":"IA46","v":0},0,0,0,0,0,0,{"$f":"IH46","v":0},0,0,0,0,{"$f":"IM46","v":0},0,0,0,0,0,0,{"$f":"IT46","v":0},0,0,0,0,{"$f":"IY46","v":0},0,0,0,0,0,0]
[null,"PTF2",400,400,400,400,400,400,400,400,400,400,400,400,400,400,400,400,400,400,400,{"$f":"U47","v":400},400,400,400,400,400,400,400,400,400,400,400,400,400,400,400,400,400,400,400,400,400,400,400,400,400,400,400,400,400,400,400,400,400,400,400,400,400,400,400,{"$f":"BI47-8","v":392},392,392,392,392,392,392,392,392,392,392,392,392,392,392,392,392,392,392,392,392,392,392,392,392,392,392,392,392,392,392,392,392,392,392,392,392,392,392,392,392,392,392,392,392,392,392,392,392,392,392,392,392,392,392,392,392,392,392,392,392,392,392,392,392,392,392,392,392,392,392,392,392,392,392,392,392,392,392,392,392,392,392,392,392,{"$f":"EP47-392","v":0},{"$f":"EQ47","v":0},0,0,0,0,0,0,0,0,0,0,0,0,0,0,0,0,0,0,0,0,0,0,0,0,0,0,0,0,0,0,0,0,0,0,0,0,0,0,0,0,0,0,0,0,0,0,0,0,0,0,0,0,0,0,0,0,0,0,0,0,0,0,0,0,0,0,0,0,0,0,0,0,0,0,0,0,0,0,0,0,0,0,0,0,0,0,0,0,0,0,0,0,0,0,0,0,0,0,0,0,0,0,0,0,0,0,0,0,0,0,0,0,0,0,0,0,0,0]
[null,"PTN3",693,693,693,693,693,693,693,693,693,693,693,693,693,693,693,693,693,693,693,693,693,693,693,693,693,693,693,693,693,693,693,693,693,693,693,693,693,693,693,693,693,693,693,693,693,693,693,693,693,693,693,693,693,693,693,693,693,693,693,693,693,693,693,693,693,693,693,693,693,693,693,693,693,693,693,693,693,693,693,693,693,693,693,693,693,693,693,693,693,693,693,693,693,693,693,693,{"$f":"CT48","v":693},693,693,693,693,693,693,693,693,693,693,693,693,693,693,693,693,693,693,693,693,693,693,693,693,693,693,693,693,693,{"$f":"DX48","v":693},693,693,{"$f":"EA48+115","v":808},808,{"$f":"EC48+1","v":809},809,809,809,809,809,{"$f":"EI48-1","v":808},808,808,{"$f":"EL48+3","v":811},811,811,811,811,811,811,811,811,811,811,811,811,811,811,811,811,811,811,811,811,811,811,811,811,811,811,811,811,811,811,811,811,811,811,811,811,811,811,811,811,811,811,811,811,811,811,811,811,811,811,811,811,811,811,811,811,811,811,811,811,811,811,811,811,811,811,811,811,811,811,811,811,811,811,811,811,811,811,811,811,811,811,811,811,811,811,811,811,811,811,811,811,811,811,811,811,811,811,811,811,811,811,811,811,811,811,811,811,811,811,811,811,811,811,811,811,811,811,811,811,811,811,811]
[null,"PTN4",693,693,693,693,693,693,693,693,693,693,693,693,693,693,693,693,693,693,693,693,693,693,693,693,693,693,693,693,693,693,693,693,693,693,693,693,693,693,693,693,693,693,693,693,693,693,693,693,693,693,693,693,693,693,693,693,693,693,693,693,693,693,693,693,693,693,693,693,693,693,693,693,693,693,693,693,693,693,693,693,693,693,693,693,693,693,693,693,693,693,693,693,{"$f":"CP49","v":693},693,693,693,693,693,693,693,693,693,693,693,693,693,693,693,693,693,693,693,693,693,693,693,693,693,693,693,693,693,693,693,693,693,693,693,693,693,693,{"$f":"EC49","v":693},693,693,{"$f":"EF49","v":693},{"$f":"EG49+115+1","v":809},809,{"$f":"EI49+10","v":819},819,819,{"$f":"EL49+2","v":821},821,821,821,821,821,821,821,821,821,821,821,821,821,821,821,821,821,821,821,821,821,821,821,821,821,821,821,821,821,821,821,821,821,821,821,821,821,821,821,821,821,821,821,821,821,821,821,821,821,821,821,821,821,821,821,821,821,821,821,821,821,821,821,821,821,821,821,821,821,821,821,821,821,821,821,821,821,821,821,821,821,821,821,821,821,821,821,821,821,821,821,821,821,821,821,821,821,821,821,821,821,821,821,821,821,821,821,821,821,821,821,821,821,821,821,821,821,821,821,821,821,821,821]
[null,"PTF5",0,0,0,0,0,0,0,0,{"$f":"J50","v":0},0,0,0,0,0,0,0,0,0,0,0,0,0,0,0,0,0,0,0,0,0,0,0,0,0,0,0,0,0,0,0,0,0,0,0,0,0,0,0,0,0,0,0,0,0,0,0,0,{"$f":"BE50","v":0},0,0,0,0,0,0,{"$f":"BN50+1144","v":1144},1144,1144,1144,1144,1144,1144,1144,{"$f":"BV50+4","v":1148},1148,1148,1148,1148,1148,1148,1148,1148,1148,1148,1148,1148,1148,1148,1148,1148,1148,1148,1148,1148,1148,1148,1148,1148,1148,1148,1148,1148,1148,1148,1148,1148,1148,1148,1148,1148,1148,1148,1148,1148,1148,1148,1148,1148,1148,1148,1148,1148,1148,1148,1148,1148,1148,1148,1148,1148,1148,1148,1148,1148,1148,1148,1148,1148,1148,1148,1148,1148,1148,1148,1148,{"$f":"EP50+1","v":1149},1149,{"$f":"ER50+9+9","v":1167},1167,{"$f":"ET50+11","v":1178},{"$f":"EU50+14","v":1192},1192,1192,1192,1192,1192,1192,1192,1192,1192,1192,1192,1192,1192,1192,1192,1192,1192,1192,1192,1192,1192,1192,1192,1192,1192,1192,1192,1192,1192,1192,1192,{"$f":"GA50+13","v":1205},{"$f":"GB50+7","v":1212},{"$f":"GC50+7","v":1219},1219,1219,1219,1219,1219,1219,1219,1219,1219,1219,1219,1219,1219,1219,1219,1219,1219,1219,1219,1219,1219,1219,1219,1219,1219,1219,1219,1219,1219,1219,1219,1219,1219,1219,1219,1219,1219,1219,1219,1219,1219,1219,1219,1219,1219,1219,1219,1219,1219,1219,1219,1219,1219,1219,1219,1219,1219,1219,1219,1219,1219,1219,1219,1219,1219,1219,1219,1219,1219,1219,1219,1219,1219,1219,1219,1219,1219,1219,1219,1219]
[null,"PTN6",0,0,0,0,0,0,0,0,0,0,0,0,0,0,0,0,0,0,0,0,0,0,0,0,0,0,0,0,0,0,0,0,0,0,0,0,0,0,0,0,0,0,0,0,0,0,0,0,0,0,0,0,0,0,0,0,0,0,0,0,0,0,0,0,0,0,0,0,0,0,0,0,0,0,0,0,0,0,0,0,0,0,0,0,0,0,0,0,0,0,0,0,0,0,0,0,0,0,0,0,0,0,0,0,0,0,0,0,0,0,0,0,0,0,0,0,0,0,0,0,0,0,0,0,0,0,0,0,0,0,0,0,0,0,0,0,0,0,0,0,0,0,0,0,0,0,0,0,0,0,0,0,0,0,0,0,0,0,0,0,0,0,0,0,0,0,0,0,0,0,0,0,0,0,0,0,0,0,0,0,0,0,0,0,0,0,0,0,0,0,0,0,0,0,0,0,0,0,0,0,0,0,0,0,0,0,0,0,0,0,0,0,0,0,0,0,0,0,0,0,0,0,0,0,0,0,0,0,0,0,0,0,0,0,0,0,0,0,0,0,0,0,0,0,0,{"$f":"IM51+1100","v":1100},1100,1100,1100,1100,1100,1100,1100,1100,1100,1100,1100,1100,1100,1100,1100,1100,1100,1100]
[null,"PTN7",0,0,0,0,0,0,0,0,0,0,0,0,0,0,0,0,0,0,0,0,0,0,0,0,0,0,0,0,0,0,0,0,0,0,0,{"$f":"AK52","v":0},0,0,0,0,0,0,0,0,0,0,0,0,0,0,0,0,0,0,0,0,0,0,0,0,0,0,0,0,0,0,0,0,0,{"$f":"BS52","v":0},0,0,0,0,0,0,0,0,0,0,0,0,0,0,0,0,0,0,0,0,0,0,0,0,0,0,0,0,0,0,0,0,0,0,0,0,0,0,0,0,0,0,0,0,0,0,0,0,0,0,0,0,0,0,0,0,0,0,0,0,0,0,0,0,0,0,0,0,0,0,0,0,0,0,0,0,0,0,0,0,0,0,0,0,0,0,0,0,0,0,0,0,0,0,0,0,0,0,0,0,0,0,0,0,0,0,0,0,0,0,0,0,0,0,0,0,0,0,0,0,0,0,0,0,0,0,0,0,0,0,0,0,0,0,0,0,0,0,0,0,0,0,0,0,0,0,0,0,0,0,0,0,0,0,0,0,0,0,0,0,0,0,0,0,0,0,0,0,0,0,0,0,0,0,0,{"$f":"IM52","v":0},0,0,0,0,0,0,0,0,0,0,0,{"$f":"IY52+1100","v":1100},1100,1100,1100,1100,1100,1100]
[null,"PTFD",12,12,12,12,12,12,12,12,12,12,12,12,12,12,12,12,12,12,12,12,12,12,12,12,12,12,12,12,12,12,12,12,12,12,12,12,12,12,12,12,12,12,12,12,12,12,12,12,12,12,12,12,12,12,12,12,12,12,12,12,12,12,12,12,{"$f":"BN53","v":12},{"$f":"BO53","v":12},12,12,12,12,12,12,{"$f":"BV53","v":12},12,12,12,12,12,12,12,12,12,12,12,12,12,12,12,12,12,12,12,12,12,12,{"$f":"CS53-12","v":0},0,0,0,0,0,0,0,0,0,0,0,0,0,0,0,0,0,0,0,0,0,0,0,0,0,0,0,0,0,0,0,0,0,0,0,0,0,0,0,0,0,0,0,0,0,0,0,0,0,0,0,0,0,0,0,0,0,0,0,0,0,0,0,0,0,0,0,0,0,0,0,0,0,0,0,0,0,0,0,0,0,0,0,0,0,0,0,0,0,0,0,0,0,0,0,0,0,0,0,0,0,0,0,0,0,0,0,0,0,0,0,0,0,0,0,0,0,0,0,0,0,0,0,0,0,0,0,0,0,0,0,0,0,0,0,0,0,0,0,0,0,0,0,0,0,0,0,0,0,0,0,0,0,0,0,0,0,0,0,0,0,0,0,0,0,0,0,0]
[null,"PVB",0,0,0,0,0,0,0,0,0,0,0,0,0,0,0,0,0,0,0,0,0,0,0,0,0,0,0,0,0,0,0,0,0,0,0,0,0,0,0,0,0,0,0,0,0,0,0,0,0,0,0,0,0,0,0,0,0,0,0,0,0,0,0,0,{"$f":"BN54","v":0},0,0,0,0,0,0,0,{"$f":"BV54","v":0},0,0,0,0,0,0,0,0,0,0,0,0,0,0,0,0,0,0,0,0,0,0,{"$f":"CS54","v":0},0,0,0,0,0,0,0,0,0,0,0,0,0,0,0,0,0,0,0,0,0,0,0,0,0,0,0,0,0,0,0,0,0,0,0,0,0,0,0,0,0,0,0,0,0,0,0,0,0,0,0,0,0,0,0,0,0,0,0,0,{"$f":"FB54","v":0},0,0,0,0,0,0,0,0,0,0,0,0,0,0,0,0,0,0,0,0,0,0,0,{"$f":"FZ54+44","v":44},44,44,44,44,44,44,44,44,44,44,44,{"$f":"GL54","v":44},44,44,44,44,44,44,44,44,44,44,{"$f":"GW54-44","v":0},0,0,0,0,0,0,0,0,0,0,0,0,0,0,0,0,0,0,0,0,0,0,0,0,0,0,0,0,0,0,0,0,0,0,0,0,0,0,0,0,0,0,0,0,0,0,0,0,0,0,0,0,0,0,0,0,0,0,0,0]
[null,"PWC1",0,0,0,0,0,0,0,0,0,0,0,0,0,0,0,0,0,0,0,0,0,0,0,0,0,0,0,0,0,0,0,0,0,0,0,0,0,0,0,0,0,0,0,0,0,0,0,0,0,0,0,0,0,0,0,0,0,0,0,0,0,0,0,0,{"$f":"BN55","v":0},0,0,0,0,0,0,0,{"$f":"BV55","v":0},0,0,0,0,0,0,0,0,0,0,0,0,0,0,0,{"$f":"CL55","v":0},{"$f":"CM55","v":0},{"$f":"CN55","v":0},{"$f":"CO55+1219","v":1219},{"$f":"CP55","v":1219},1219,1219,{"$f":"CS55","v":1219},1219,1219,1219,1219,1219,1219,1219,1219,1219,1219,1219,1219,1219,1219,1219,1219,1219,1219,1219,1219,1219,1219,1219,1219,1219,1219,1219,1219,1219,1219,1219,1219,1219,1219,1219,1219,1219,1219,1219,1219,1219,1219,1219,1219,1219,1219,1219,1219,1219,1219,1219,1219,1219,1219,{"$f":"EV55","v":1219},{"$f":"EW55","v":1219},{"$f":"EX55","v":1219},{"$f":"EY55","v":1219},1219,1219,1219,1219,1219,1219,1219,1219,1219,1219,1219,1219,1219,1219,1219,1219,1219,1219,1219,1219,1219,1219,1219,1219,1219,1219,1219,1219,1219,1219,1219,1219,1219,1219,1219,1219,1219,1219,1219,1219,1219,1219,1219,1219,1219,1219,1219,1219,1219,1219,1219,1219,1219,1219,1219,1219,1219,1219,1219,1219,1219,1219,1219,1219,1219,1219,1219,1219,1219,1219,1219,1219,1219,1219,1219,1219,1219,1219,1219,1219,1219,1219,1219,1219,1219,1219,1219,1219,1219,1219,1219,1219,1219,1219,1219,1219,1219,1219,1219,1219,1219,1219,1219,1219,1219,1219,1219,1219,1219,1219]
[null,"PWC2",0,0,0,0,0,0,0,0,0,0,0,0,0,0,0,0,0,0,0,0,0,0,0,0,0,0,0,0,0,0,0,0,0,0,0,0,0,0,0,0,0,0,0,0,0,0,0,0,0,0,0,0,0,0,0,0,0,0,0,0,0,0,0,0,{"$f":"BN56","v":0},0,0,0,0,0,0,0,{"$f":"BV56","v":0},0,0,0,0,0,0,0,0,0,0,0,0,0,0,0,0,0,0,0,{"$f":"CP56","v":0},0,0,{"$f":"CS56+1219","v":1219},1219,1219,1219,1219,1219,1219,1219,1219,1219,1219,1219,1219,1219,1219,1219,1219,1219,1219,1219,1219,1219,1219,1219,1219,1219,1219,1219,1219,1219,1219,1219,1219,1219,1219,1219,1219,1219,1219,1219,1219,1219,1219,1219,1219,1219,1219,1219,1219,1219,1219,1219,1219,1219,1219,1219,1219,1219,1219,1219,1219,1219,1219,1219,1219,1219,1219,1219,1219,1219,1219,1219,1219,1219,1219,1219,1219,1219,1219,1219,1219,1219,1219,1219,1219,1219,1219,1219,1219,1219,1219,1219,1219,1219,1219,1219,1219,1219,1219,1219,1219,1219,1219,1219,1219,1219,1219,1219,1219,1219,1219,1219,1219,1219,1219,1219,1219,1219,1219,1219,1219,1219,1219,1219,1219,1219,1219,1219,1219,1219,1219,1219,1219,1219,1219,1219,1219,1219,1219,1219,1219,1219,1219,1219,1219,1219,1219,1219,1219,1219,1219,1219,1219,1219,1219,1219,1219,1219,1219,1219,1219,1219,1219,1219,1219,1219,1219,1219,1219]
[null,"PWC3",0,0,0,0,0,0,0,0,0,0,0,0,0,0,0,0,0,0,0,0,0,0,0,0,0,0,0,0,0,0,0,0,0,0,0,0,0,0,0,0,0,0,0,0,0,0,0,0,0,0,0,0,0,0,0,0,0,0,{"$f":"BH57","v":0},0,0,{"$f":"BK57","v":0},{"$f":"BL57","v":0},{"$f":"BM57","v":0},{"$f":"BN57","v":0},{"$f":"BO57","v":0},{"$f":"BP57","v":0},0,0,0,0,0,{"$f":"BV57","v":0},0,0,0,0,0,0,0,0,0,0,0,0,0,0,0,0,0,0,0,{"$f":"CP57","v":0},0,0,{"$f":"CS57","v":0},0,0,0,0,0,0,0,0,0,0,0,0,0,0,{"$f":"DH57","v":0},{"$f":"DI57","v":0},{"$f":"DH57+1219","v":1219},{"$f":"DK57","v":1219},1219,1219,1219,1219,1219,1219,1219,1219,1219,1219,1219,1219,1219,1219,1219,{"$f":"EA57","v":1219},1219,1219,1219,1219,1219,1219,1219,1219,1219,1219,1219,1219,1219,1219,1219,1219,1219,1219,1219,{"$f":"EU57","v":1219},1219,1219,1219,1219,1219,1219,1219,1219,1219,1219,1219,1219,1219,1219,1219,1219,1219,1219,1219,1219,1219,1219,1219,1219,1219,1219,1219,1219,1219,1219,1219,1219,1219,1219,1219,1219,1219,1219,1219,1219,1219,1219,1219,1219,1219,1219,1219,1219,1219,1219,1219,1219,1219,1219,1219,1219,1219,1219,1219,1219,1219,1219,1219,1219,1219,1219,1219,1219,1219,1219,1219,1219,1219,1219,1219,1219,1219,1219,1219,1219,1219,1219,1219,1219,1219,1219,1219,1219,1219,1219,1219,1219,1219,1219,1219,1219,1219,1219,1219,1219,1219,1219,1219,1219,1219,1219,1219,1219,1219,1219,1219,1219,1219,1219]
[]
[null,"Total",{"$f":"SUM(C4:C57)","v":16619},{"$f":"SUM(D4:D57)","v":16619},15725,15344,15344,17720,17720,17720,17720,17720,17720,17720,{"$f":"SUM(O4:O57)","v":17641},{"$f":"SUM(P4:P57)","v":17641},17641,17641,18598,18912,18912,18912,18912,18912,18912,18912,19122,19122,19122,19122,19122,19122,19122,19122,19122,19122,19122,19122,18943,18943,18943,18949,18949,20843,20846,20846,20846,20846,20846,20846,20777,20777,20777,20835,20831,20831,20845,20845,20845,20856,20856,20981,20984,20984,20984,20987,22131,22135,22135,22135,22135,22135,22135,22135,22140,22140,22140,22120,22120,{"$f":"SUM(CB4:CB57)","v":22120},22116,22116,22116,22116,22116,22088,22088,22088,22088,22088,22088,22088,22088,23307,23307,23326,23326,24524,24530,24530,24530,24540,24540,23748,23748,23748,23748,23748,23748,23722,23722,23157,23157,23186,24405,24405,24431,24431,24431,24431,24431,24460,24460,24460,24460,24479,24449,24449,24446,24594,24594,24716,24725,24057,24058,23297,23297,{"$f":"SUM(EH4:EH57)","v":24636},24636,24653,24653,24650,24665,{"$f":"SUM(EN4:EN57)","v":24665},24665,24665,{"$f":"SUM(EQ4:EQ57)","v":24299},24299,24317,25529,25537,25581,25581,25586,25586,25586,25586,25092,25092,25089,25089,25089,25093,25097,25101,25105,25114,25114,25114,25114,25114,25114,25115,25115,25115,26354,26355,26355,26357,26358,26358,26358,26006,26019,26026,26033,26035,26036,26037,26037,26037,26037,26037,26037,26037,26037,26037,26037,26037,26037,26037,26037,26037,26037,26037,25993,25993,{"$f":"SUM(GZ4:GZ57)","v":25993},25993,25993,25993,25993,25993,25993,25993,25993,25993,25993,25993,25993,25993,25993,25993,25993,25993,25993,25993,25993,25993,25993,25993,25993,25993,25993,25993,25993,25993,25993,25993,25993,25993,25993,25993,25993,26022,26022,26051,27151,27180,27180,27180,27180,27180,27180,27180,27180,27180,27180,{"$f":"SUM(IY4:IY57)","v":27208},{"$f":"SUM(IZ4:IZ57)","v":28308},28336,28336,28336,28336,28363,28363]
[]
[null,"New Gen",null,null,null,null,null,null,null,null,null,null,null,null,null,null,null,null,null,{"$f":"(T16-S16)","v":314},null,null,null,null,null,null,null,null,null,null,null,null,null,null,null,null,null,null,null,null,null,null,null,{"$f":"(AR24-AQ24)+(AR27-AQ27)","v":1894},null,null,null,null,null,null,null,null,null,null,null,null,null,null,null,null,null,null,null,null,null,null,{"$f":"(BO50-BN50)","v":1144},null,null,null,null,null,null,null,null,null,null,null,null,null,null,null,null,null,null,null,null,null,null,null,null,null,null,{"$f":"(CP55-CO55)","v":1219},null,{"$f":"(CR9-CQ9)","v":19},null,{"$f":"(CT56-CS56)","v":1219},null,null,null,null,null,{"$f":"(CX39-CY39)","v":0},null,null,null,null,null,null,null,null,null,null,{"$f":"(DK57-DJ57)","v":1219},null,null,null,null,null,null,null,null,null,null,null,null,null,null,null,null,null,null,null,null,null,null,{"$f":"(EH6-EG6)","v":1210},null,null,null,null,null,null,null,null,null,null,null,{"$f":"(ET38-EQ38)","v":1212},null,null,null,null,null,null,null,null,null,null,null,null,null,null,null,null,null,null,null,null,null,null,null,null,null,{"$f":"(FT32-FS32)","v":1237},null,null,null,null,null,null,{"$f":"(GA54-FZ54)","v":44},null,null,null,null,null,null,null,null,null,null,null,null,null,null,null,null,null,null,null,null,null,null,null,null,null,null,null,null,null,null,null,null,null,null,null,null,null,null,null,null,null,null,null,null,null,null,null,null,null,null,null,null,null,null,null,null,null,null,null,null,null,null,null,null,{"$f":"(IN51-IM51)","v":1100},null,null,null,null,null,null,null,null,null,null,null,{"$f":"(IZ52-IY52)","v":1100}]
[null,"Repower",null,null,{"$f":"(E15-D15)","v":-894},{"$f":"(F44-E44)","v":-381},null,{"$f":"(H15-G15)+(H45-G45)","v":2376},null,null,null,null,null,null,null,null,null,null,{"$f":"(S44-R44)","v":957}]
[null,"EPU",null,null,null,null,null,null,null,null,null,null,null,null,null,null,null,null,null,null,null,null,null,null,null,null,null,null,null,null,null,null,null,null,null,null,null,null,null,null,null,null,null,null,null,null,null,null,null,null,null,null,null,null,null,null,null,null,null,null,null,null,null,null,null,null,null,null,null,null,null,null,null,null,null,null,null,null,null,null,null,null,null,null,null,null,null,null,null,null,null,null,null,null,null,null,null,null,null,null,null,null,null,null,null,null,null,null,null,null,null,null,null,{"$f":"(DJ42-DI42)","v":29},null,null,null,null,null,null,null,{"$f":"(DR42-DO42)","v":2},null,null,null,null,null,null,null,{"$f":"(DZ48-DY48)+(DZ41-DY41)","v":148},null,{"$f":"(EB48-EA48)","v":115},null,{"$f":"(ED41-EC41)+(ED42-EC42)+(ED48-EC48)","v":93},null,null,null,{"$f":"(EH41-EG41)+(EH42-EG42)+(EH49-EG49)","v":113},null,{"$f":"(EJ48-EI48)+(EJ49-EI49)","v":9},null,null,{"$f":"(EM48-EL48)+(EM49-EL49)","v":5}]
[null,"CT Upgrade",null,null,null,null,null,null,null,null,null,null,null,null,null,null,null,null,null,null,null,null,null,null,null,null,null,null,null,null,null,null,null,null,null,null,null,null,null,null,null,null,null,null,null,null,null,null,null,null,null,null,null,null,null,null,null,null,null,null,null,null,null,null,null,null,null,null,null,null,null,null,null,null,null,null,null,null,null,null,null,null,null,null,null,null,null,null,null,null,null,null,null,null,null,null,null,null,null,null,null,null,null,null,null,null,null,null,null,null,null,null,null,null,null,null,null,null,null,null,null,{"$f":"(DR24-DO24)","v":27},null,null,null,{"$f":"(DV45-DU45)","v":19},null,null,null,null,null,{"$f":"(EB44-EA44)","v":7},{"$f":"(EC24-EB24)","v":9},{"$f":"(ED44-EC44)","v":8},null,null,null,{"$f":"(EH44-EG44)","v":16},null,{"$f":"(EJ45-EI45)","v":8},null,null,{"$f":"(EM45-EL45)","v":10},null,null,null,{"$f":"(EQ24-EP24)+(EQ44-EP44)+(EQ45-EP45)","v":24},null,{"$f":"(ES50-ER50)","v":18},null,{"$f":"(EU50-ET50)","v":11},{"$f":"(EV27-EU27)+(EV50-EU50)","v":44},{"$f":"(EW27-EV27)","v":0},{"$f":"(EX27-EW27)","v":5},null,null,null,null,null,null,null,null,{"$f":"FG15-FF15","v":4},{"$f":"FH15-FG15","v":4},4,4,9,null,null,null,null,null,{"$f":"FQ44-FP44","v":1},null,null,{"$f":"FT24-FS24","v":2},{"$f":"FU24-FT24","v":1},null,{"$f":"FW27-FV27","v":2},{"$f":"FX27-FW27","v":1},null,null,null,{"$f":"GB50-GA50","v":13},{"$f":"GC50-GB50","v":7},{"$f":"GD50-GC50","v":7},{"$f":"GE27-GD27","v":2},{"$f":"GF45-GE45","v":1},{"$f":"GG24-GF24","v":1},null,null,null,null,null,null,null,null,null,null,null,null,null,null,null,null,null,null,null,null,null,null,null,null,null,null,null,null,null,null,null,null,null,null,null,null,null,null,null,null,null,null,null,null,null,null,null,null,null,null,null,null,null,null,null,{"$f":"(IK6-IJ6)","v":29},null,{"$f":"(IM6-IL6)","v":29},null,{"$f":"(IO6-IN6)","v":29},null,null,null,null,null,null,null,null,null,{"$f":"(IY38-IX38)","v":28},null,{"$f":"(JA38-IZ38)","v":28},null,null,null,{"$f":"(JE38-JD38)","v":27}]
[null,"Capability",null,null,null,null,null,null,null,null,null,null,null,null,null,null,null,null,null,null,null,null,null,null,null,null,{"$f":"(AA4-Z4)+(AA5-Z5)+(AA10-Z10)+(AA15-Z15)+(AA16-Z16)+(AA17-Z17)+(AA20-Z20)+(AA21-Z21)+(AA22-Z22)+(AA23-Z23)+(AA24-Z24)+(AA25-Z25)+(AA26-Z26)+(AA31-Z31)+(AA44-Z44)+(AA45-Z45)+(AA46-Z46)","v":210},null,null,null,null,null,null,null,null,null,null,null,{"$f":"(AM4-AL4)+(AM16-AL16)+(AM19-AL19)+(AM21-AL21)+(AM22-AL22)+(AM23-AL23)+(AM25-AL25)+(AM26-AL26)+(AM28-AL28)+(AM29-AL29)+(AM30-AL30)+(AM31-AL31)+(AM36-AL36)+(AM40-AL40)+(AM45-AL45)+(AM46-AL46)","v":-179},null,null,{"$f":"(AP45-AO45)","v":6},null,null,{"$f":"(AS45-AR45)","v":3},null,null,null,null,null,{"$f":"(AY4-AX4)+(AY5-AX5)+(AY7-AX7)+(AY8-AX8)+(AY22-AX22)+(AY23-AX23)+(AY25-AX25)+(AY26-AX26)+(AY28-AX28)+(AY30-AX30)+(AY34-AX34)+(AY45-AX45)+(AY46-AX46)","v":-69},null,null,{"$f":"(BB19-BA19)+(BB24-BA24)+(BB27-BA27)+(BB46-BA46)","v":58},{"$f":"(BC40-BB40)","v":-4},null,{"$f":"(BE44-BD44)","v":14},null,null,{"$f":"(BH4-BE4)+(BH5-BE5)+(BH7-BE7)+(BH8-BE8)+(BH10-BE10)+(BH11-BE11)+(BH15-BE15)+(BH16-BE16)+(BH18-BE18)+(BH19-BE19)+(BH20-BE20)+(BH21-BE21)+(BH22-BE22)+(BH23-BE23)+(BH24-BE24)+(BH25-BE25)+(BH26-BE26)+(BH27-BE27)+(BH28-BE28)+(BH29-BE29)+(BH30-BE30)+(BH31-BE31)+(BH34-BE34)+(BH36-BE36)+(BH37-BE37)+(BH40-BE40)+(BH44-BE44)+(BH45-BE45)+(BH46-BE46)+(BH47-BE47)","v":11},null,{"$f":"(BJ4-BI4)+(BJ5-BI5)+(BJ7-BI7)+(BJ8-BI8)+(BJ10-BI10)+(BJ11-BI11)+(BJ15-BI15)+(BJ16-BI16)+(BJ18-BI18)+(BJ19-BI19)+(BJ20-BI20)+(BJ21-BI21)+(BJ22-BI22)+(BJ23-BI23)+(BJ24-BI24)+(BJ25-BI25)+(BJ26-BI26)+(BJ27-BI27)+(BJ28-BI28)+(BJ29-BI29)+(BJ30-BI30)+(BJ31-BI31)+(BJ34-BI34)+(BJ36-BI36)+(BJ37-BI37)+(BJ44-BI44)+(BJ45-BI45)+(BJ46-BI46)+(BJ47-BI47)","v":125},{"$f":"(BK45-BJ45)","v":3},null,null,{"$f":"(BN45-BM45)","v":3},null,{"$f":"(BP45-BO45)","v":4},null,null,null,null,null,null,{"$f":"(BW11-BV11)+(BW50-BV50)","v":5},null,null,{"$f":"(BZ20-BY20)+(BZ21-BY21)","v":-20},null,null,{"$f":"(CC16-CB16)","v":-4},null,null,null,null,{"$f":"(CH10-CG10)+(CH11-CG11)+(CH16-CG16)+(CH18-CG18)+(CH19-CG19)+(CH20-CG20)+(CH21-CG21)+(CH22-CG22)+(CH23-CG23)+(CH24-CG24)+(CH25-CG25)+(CH26-CG26)+(CH27-CG27)+(CH28-CG28)+(CH29-CG29)+(CH45-CG45)","v":-28},null,null,null,null,null,null,null,null,null,null,null,{"$f":"(CT16-CS16)+(CT22-CS22)+(CT23-CS23)","v":-9},{"$f":"(CU9-CT9)","v":6},null,null,{"$f":"(CX39-CW39)","v":10},null,null,null,null,null,null,null,{"$f":"(DF15-DE15)+(DF31-DE31)","v":-26},null,null,null,null,null,null,{"$f":"(DM40-DL40)","v":26},null,null,null,null,null,null,null,null,null,{"$f":"(DW40-DV40)","v":-30},null,{"$f":"(DY26-DX26)","v":-3},null,null,null,null,null,{"$f":"(EE40-ED40)","v":1},null,null,null,null,null,null,{"$f":"(EL25-EK25)","v":-3},null,null,null,null,{"$f":"(EQ15-EP15)+(EQ16-EP16)+(EQ27-EP27)+(EQ34-EP34)+(EQ35-EP35)+(EQ50-EP50)","v":2},null,null,null,{"$f":"(EU20-ET20)","v":-3},null,null,null,null,null,null,null,null,{"$f":"(FD21-FC21)","v":-3}]
[null,"Temp"]
[null,"Retired",null,null,null,null,null,null,null,null,null,null,null,null,null,null,null,null,null,null,null,null,null,null,null,null,null,null,null,null,null,null,null,null,null,null,null,null,null,null,null,null,null,null,null,null,null,null,null,null,null,null,null,null,null,null,null,null,null,null,null,null,null,null,null,null,null,null,null,null,null,null,null,null,null,null,null,null,null,null,null,null,null,null,null,null,null,null,null,null,null,null,null,null,null,null,null,{"$f":"(CT53-CS53)","v":-12},null,null,null,null,null,{"$f":"(CZ4-CY4)+(CZ5-CY5)","v":-792},null,null,null,null,null,null,null,{"$f":"(DH36-DG36)+(DH37-DG37)","v":-565},null,null,null,null,null,null,null,null,null,null,null,null,null,null,null,null,null,null,null,null,null,{"$f":"(ED7-EC7)+(ED8-EC8)+(ED28-EC28)+(ED29-EC29)+(ED43-EC43)","v":-769},null,{"$f":"(EF30-EE30)+(EF31-EE31)","v":-761},null,null,null,null,null,null,null,null,null,null,{"$f":"(EQ47-EP47)","v":-392},null,null,null,null,null,null,null,null,null,null,{"$f":"(FB34-FA34)+(FB35-FA35)","v":-494},null,null,null,null,null,null,null,null,null,null,null,null,null,null,null,null,null,null,null,null,null,null,null,null,-396,null,null,null,null,null,null,null,null,null,null,null,{"$f":"(GM34-GL34)+(GM35-GL35)","v":0},null,null,null,null,null,null,null,null,null,null,{"$f":"(GX54-GW54)","v":-44}]
[null,null,null,null,null,null,null,null,null,null,0,null,null,null,null,null,null,null,null,null,null,null,0,null,null,null,null,null,null,null,null,null,null,null,0,null,null,null,null,null,null,null,null,null,null,null,0,null,null,null,null,null,null,null,null,null,null,null,175,null,null,null,null,null,null,null,null,null,null,null,0,null,null,null,null,null,null,null,null,null,null,null,23,null,null,null,null,null,null,null,null,null,null,null,-1,null,null,null,null,null,null,null,null,null,null,null,757,null,null,null,null,null,null,null,null,null,null,null,-12,null,null,null,null,null,null,null,null,null,null,null,-289,null,null,null,null,null,null,null,null,null,null,null,-11]
[null,"Cap Letter",null,null,null,null,null,null,null,null,17720,null,null,null,null,null,null,null,null,null,null,null,18912,null,null,null,null,null,null,null,null,null,null,null,19122,null,null,null,null,null,null,null,null,null,null,null,20846,null,null,null,null,null,null,null,null,null,null,null,21020,null,null,null,null,null,null,null,null,null,null,null,22135,null,null,null,null,null,null,null,null,null,null,null,22139,null,null,null,null,null,null,null,null,null,null,null,23306,null,null,null,null,null,null,null,null,null,null,null,24505,null,null,null,null,null,null,null,null,null,null,null,24419,null,null,null,null,null,null,null,null,null,null,null,24305,null,null,null,null,null,null,null,null,null,null,null,24654]
[null,null,null,null,null,null,null,null,null,null,null,null,null,null,null,null,null,null,null,null,null,null,null,null,null,null,null,null,null,null,null,null,null,null,null,null,null,null,null,null,null,null,null,null,null,null,null,null,null,null,null,null,null,null,null,null,null,null,175,null,null,null,null,null,null,null,null,null,null,null,null,null,null,null,null,null,null,null,null,null,null,null,24,null,null,null,null,null,null,null,null,null,null,null,-1,null,null,null,null,null,null,null,null,null,null,null,757,null,null,null,null,null,null,null,null,null,null,null,-12,null,null,null,null,null,null,null,null,null,null,null,-289,null,null,null,null,null,null,null,null,null,null,null,-8]
[null,null,null,null,null,null,null,null,null,null,null,null,null,null,null,null,null,null,null,null,null,null,null,null,null,null,null,null,null,null,null,null,null,null,null,null,null,null,null,null,null,null,null,null,null,null,null,null,null,null,null,null,null,null,null,null,null,null,null,null,null,null,null,null,null,null,null,null,null,null,null,null,null,null,null,null,null,null,null,null,null,null,null,null,null,null,null,null,null,null,null,null,null,null,null,null,null,null,null,null,null,null,null,null,null,null,null,null,null,null,null,null,null,null,null,null,null,null,null,null,null,null,null,null,null,null,null,null,null,null,null,null,null,null,null,null,null,null,null,null,null,null,null,null,null,20002,null,null,null,null,null,null,null,null,null,null,null,19711,null,null,null,null,null,null,null,null,null,null,null,19239,null,null,null,null,null,null,null,null,null,null,null,19246,null,null,null,null,null,null,null,null,null,null,null,18925,null,null,null,null,null,null,null,null,null,null,null,18881,null,null,null,null,null,null,null,null,null,null,null,18626,null,null,null,null,null,null,null,null,null,null,null,18626,null,null,null,null,null,null,null,null,null,null,null,18626,null,null,null,null,null,null,null,null,null,null,null,19726]
[null,null,null,null,null,null,null,null,null,null,null,null,null,null,null,null,null,null,null,null,null,null,null,null,null,null,null,null,null,null,null,null,null,null,null,null,null,null,null,null,null,null,null,null,null,null,null,null,null,null,null,null,null,null,null,null,null,null,null,null,null,null,null,null,null,null,null,null,null,null,null,null,null,null,null,null,null,null,null,null,null,null,null,null,null,null,null,null,null,null,null,null,null,null,null,null,null,null,null,null,null,null,null,null,null,null,null,null,null,null,null,null,null,null,null,null,null,null,null,null,null,null,null,null,null,null,null,null,null,null,null,null,null,null,null,null,null,null,null,21206,null,null,21201]
[null,null,null,null,null,null,null,null,null,null,null,null,null,null,null,null,null,null,null,null,null,null,null,null,null,null,null,null,null,null,null,null,null,null,null,null,null,null,null,null,null,null,null,null,null,null,null,null,null,null,null,null,null,null,null,null,null,null,null,null,null,null,null,null,null,null,null,null,null,null,null,null,null,null,null,null,null,null,null,null,null,null,null,null,null,null,null,null,null,null,null,null,null,null,null,null,null,null,null,null,null,null,null,null,null,null,null,null,null,null,null,null,null,null,null,null,null,null,null,null,null,null,21490,21490,21490,21509,21479,21479,21476,21476,21476,21483,21492,20731,20732,19971,19971,21197,21197,21205,21205,21202,21212,21212,21212,21212,20846,20846,20864,22076,22084,22128,22128,22133,22133,22133,22133,22133,21639,21636,21636,21636,21640,21644,21648,21652,21661,21661,21661,21661,21661,21661,21662,21662,21662,22901,22902,22902,22904,22905,22905,22905]
[]
[]
[]
[null,null,null,null,null,null,null,null,null,null,null,null,null,null,null,null,null,null,null,null,null,null,null,null,null,null,null,null,null,null,null,null,null,null,null,null,null,null,null,null,null,null,null,null,null,null,null,null,null,null,null,null,null,null,null,null,null,null,null,null,null,null,null,null,null,null,null,null,null,null,null,null,null,null,null,null,null,null,null,null,null,null,null,null,null,null,null,null,null,null,null,null,null,null,null,null,null,null,null,null,null,null,null,null,null,null,null,null,null,null,null,null,null,null,null,null,null,null,null,null,null,null,null,null,null,null,null,null,null,null,null,null,null,null,null,null,null,null,null,null,null,null,null,null,null,24273]

{"sheet":"Summer Check Differences","index":2,"n_rows":70,"n_cols":124,"rows_kept":70,"cut":false,"hidden":false,"merged":[[1,75,1,86],[1,87,1,98],[1,99,1,110],[1,111,1,122],[1,3,1,14],[1,15,1,26],[1,27,1,38],[1,39,1,50],[1,51,1,62],[1,63,1,74]]}
["OPC 006103","Long-Term Summer Peak Capabilities"]
["FPL RC-16",null,2013,2014,null,null,null,null,null,null,null,null,null,null,null,2015,null,null,null,null,null,null,null,null,null,null,null,2016,null,null,null,null,null,null,null,null,null,null,null,2017,null,null,null,null,null,null,null,null,null,null,null,2018,null,null,null,null,null,null,null,null,null,null,null,2019,null,null,null,null,null,null,null,null,null,null,null,2020,null,null,null,null,null,null,null,null,null,null,null,2021,null,null,null,null,null,null,null,null,null,null,null,2022,null,null,null,null,null,null,null,null,null,null,null,2023]
[null,"Unit","Dec","Jan","Feb","Mar","Apr","May","Jun","Jul","Aug","Sep","Oct","Nov","Dec","Jan","Feb","Mar","Apr","May","Jun","Jul","Aug","Sep","Oct","Nov","Dec","Jan","Feb","Mar","Apr","May","Jun","Jul","Aug","Sep","Oct","Nov","Dec","Jan","Feb","Mar","Apr","May","Jun","Jul","Aug","Sep","Oct","Nov","Dec","Jan","Feb","Mar","Apr","May","Jun","Jul","Aug","Sep","Oct","Nov","Dec","Jan","Feb","Mar","Apr","May","Jun","Jul","Aug","Sep","Oct","Nov","Dec","Jan","Feb","Mar","Apr","May","Jun","Jul","Aug","Sep","Oct","Nov","Dec","Jan","Feb","Mar","Apr","May","Jun","Jul","Aug","Sep","Oct","Nov","Dec","Jan","Feb","Mar","Apr","May","Jun","Jul","Aug","Sep","Oct","Nov","Dec","Jan","Feb","Mar","Apr","May","Jun","Jul","Aug","Sep","Oct","Nov","Dec"]
[null,"PCC1",{"$f":"Summer!C4-'Summer Peak 2015-01-15'!EP4","v":0},{"$f":"Summer!D4-'Summer Peak 2015-01-15'!EQ4","v":0},{"$f":"Summer!E4-'Summer Peak 2015-01-15'!ER4","v":0},{"$f":"Summer!F4-'Summer Peak 2015-01-15'!ES4","v":0},{"$f":"Summer!G4-'Summer Peak 2015-01-15'!ET4","v":0},{"$f":"Summer!H4-'Summer Peak 2015-01-15'!EU4","v":0},{"$f":"Summer!I4-'Summer Peak 2015-01-15'!EV4","v":0},{"$f":"Summer!J4-'Summer Peak 2015-01-15'!EW4","v":0},{"$f":"Summer!K4-'Summer Peak 2015-01-15'!EX4","v":0},{"$f":"Summer!L4-'Summer Peak 2015-01-15'!EY4","v":0},{"$f":"Summer!M4-'Summer Peak 2015-01-15'!EZ4","v":0},{"$f":"Summer!N4-'Summer Peak 2015-01-15'!FA4","v":0},{"$f":"Summer!O4-'Summer Peak 2015-01-15'!FB4","v":0},{"$f":"Summer!P4-'Summer Peak 2015-01-15'!FC4","v":0},{"$f":"Summer!Q4-'Summer Peak 2015-01-15'!FD4","v":0},{"$f":"Summer!R4-'Summer Peak 2015-01-15'!FE4","v":0},{"$f":"Summer!S4-'Summer Peak 2015-01-15'!FF4","v":0},{"$f":"Summer!T4-'Summer Peak 2015-01-15'!FG4","v":0},{"$f":"Summer!U4-'Summer Peak 2015-01-15'!FH4","v":0},{"$f":"Summer!V4-'Summer Peak 2015-01-15'!FI4","v":0},{"$f":"Summer!W4-'Summer Peak 2015-01-15'!FJ4","v":0},{"$f":"Summer!X4-'Summer Peak 2015-01-15'!FK4","v":0},{"$f":"Summer!Y4-'Summer Peak 2015-01-15'!FL4","v":0},{"$f":"Summer!Z4-'Summer Peak 2015-01-15'!FM4","v":0},{"$f":"Summer!AA4-'Summer Peak 2015-01-15'!FN4","v":0},{"$f":"Summer!AB4-'Summer Peak 2015-01-15'!FO4","v":0},{"$f":"Summer!AC4-'Summer Peak 2015-01-15'!FP4","v":0},{"$f":"Summer!AD4-'Summer Peak 2015-01-15'!FQ4","v":0},{"$f":"Summer!AE4-'Summer Peak 2015-01-15'!FR4","v":0},{"$f":"Summer!AF4-'Summer Peak 2015-01-15'!FS4","v":0},{"$f":"Summer!AG4-'Summer Peak 2015-01-15'!FT4","v":0},{"$f":"Summer!AH4-'Summer Peak 2015-01-15'!FU4","v":0},{"$f":"Summer!AI4-'Summer Peak 2015-01-15'!FV4","v":0},{"$f":"Summer!AJ4-'Summer Peak 2015-01-15'!FW4","v":0},{"$f":"Summer!AK4-'Summer Peak 2015-01-15'!FX4","v":0},{"$f":"Summer!AL4-'Summer Peak 2015-01-15'!FY4","v":0},{"$f":"Summer!AM4-'Summer Peak 2015-01-15'!FZ4","v":0},{"$f":"Summer!AN4-'Summer Peak 2015-01-15'!GA4","v":0},{"$f":"Summer!AO4-'Summer Peak 2015-01-15'!GB4","v":0},{"$f":"Summer!AP4-'Summer Peak 2015-01-15'!GC4","v":0},{"$f":"Summer!AQ4-'Summer Peak 2015-01-15'!GD4","v":0},{"$f":"Summer!AR4-'Summer Peak 2015-01-15'!GE4","v":0},{"$f":"Summer!AS4-'Summer Peak 2015-01-15'!GF4","v":0},{"$f":"Summer!AT4-'Summer Peak 2015-01-15'!GG4","v":0},{"$f":"Summer!AU4-'Summer Peak 2015-01-15'!GH4","v":0},{"$f":"Summer!AV4-'Summer Peak 2015-01-15'!GI4","v":0},{"$f":"Summer!AW4-'Summer Peak 2015-01-15'!GJ4","v":0},{"$f":"Summer!AX4-'Summer Peak 2015-01-15'!GK4","v":0},{"$f":"Summer!AY4-'Summer Peak 2015-01-15'!GL4","v":0},{"$f":"Summer!AZ4-'Summer Peak 2015-01-15'!GM4","v":0},{"$f":"Summer!BA4-'Summer Peak 2015-01-15'!GN4","v":0},{"$f":"Summer!BB4-'Summer Peak 2015-01-15'!GO4","v":0},{"$f":"Summer!BC4-'Summer Peak 2015-01-15'!GP4","v":0},{"$f":"Summer!BD4-'Summer Peak 2015-01-15'!GQ4","v":0},{"$f":"Summer!BE4-'Summer Peak 2015-01-15'!GR4","v":0},{"$f":"Summer!BF4-'Summer Peak 2015-01-15'!GS4","v":0},{"$f":"Summer!BG4-'Summer Peak 2015-01-15'!GT4","v":0},{"$f":"Summer!BH4-'Summer Peak 2015-01-15'!GU4","v":0},{"$f":"Summer!BI4-'Summer Peak 2015-01-15'!GV4","v":0},{"$f":"Summer!BJ4-'Summer Peak 2015-01-15'!GW4","v":0},{"$f":"Summer!BK4-'Summer Peak 2015-01-15'!GX4","v":0},{"$f":"Summer!BL4-'Summer Peak 2015-01-15'!GY4","v":0},{"$f":"Summer!BM4-'Summer Peak 2015-01-15'!GZ4","v":0},{"$f":"Summer!BN4-'Summer Peak 2015-01-15'!HA4","v":0},{"$f":"Summer!BO4-'Summer Peak 2015-01-15'!HB4","v":0},{"$f":"Summer!BP4-'Summer Peak 2015-01-15'!HC4","v":0},{"$f":"Summer!BQ4-'Summer Peak 2015-01-15'!HD4","v":0},{"$f":"Summer!BR4-'Summer Peak 2015-01-15'!HE4","v":0},{"$f":"Summer!BS4-'Summer Peak 2015-01-15'!HF4","v":0},{"$f":"Summer!BT4-'Summer Peak 2015-01-15'!HG4","v":0},{"$f":"Summer!BU4-'Summer Peak 2015-01-15'!HH4","v":0},{"$f":"Summer!BV4-'Summer Peak 2015-01-15'!HI4","v":0},{"$f":"Summer!BW4-'Summer Peak 2015-01-15'!HJ4","v":0},{"$f":"Summer!BX4-'Summer Peak 2015-01-15'!HK4","v":0},{"$f":"Summer!BY4-'Summer Peak 2015-01-15'!HL4","v":0},{"$f":"Summer!BZ4-'Summer Peak 2015-01-15'!HM4","v":0},{"$f":"Summer!CA4-'Summer Peak 2015-01-15'!HN4","v":0},{"$f":"Summer!CB4-'Summer Peak 2015-01-15'!HO4","v":0},{"$f":"Summer!CC4-'Summer Peak 2015-01-15'!HP4","v":0},{"$f":"Summer!CD4-'Summer Peak 2015-01-15'!HQ4","v":0},{"$f":"Summer!CE4-'Summer Peak 2015-01-15'!HR4","v":0},{"$f":"Summer!CF4-'Summer Peak 2015-01-15'!HS4","v":0},{"$f":"Summer!CG4-'Summer Peak 2015-01-15'!HT4","v":0},{"$f":"Summer!CH4-'Summer Peak 2015-01-15'!HU4","v":0},{"$f":"Summer!CI4-'Summer Peak 2015-01-15'!HV4","v":0},{"$f":"Summer!CJ4-'Summer Peak 2015-01-15'!HW4","v":0},{"$f":"Summer!CK4-'Summer Peak 2015-01-15'!HX4","v":0},{"$f":"Summer!CL4-'Summer Peak 2015-01-15'!HY4","v":0},{"$f":"Summer!CM4-'Summer Peak 2015-01-15'!HZ4","v":0},{"$f":"Summer!CN4-'Summer Peak 2015-01-15'!IA4","v":0},{"$f":"Summer!CO4-'Summer Peak 2015-01-15'!IB4","v":0},{"$f":"Summer!CP4-'Summer Peak 2015-01-15'!IC4","v":0},{"$f":"Summer!CQ4-'Summer Peak 2015-01-15'!ID4","v":0},{"$f":"Summer!CR4-'Summer Peak 2015-01-15'!IE4","v":0},{"$f":"Summer!CS4-'Summer Peak 2015-01-15'!IF4","v":0},{"$f":"Summer!CT4-'Summer Peak 2015-01-15'!IG4","v":0},{"$f":"Summer!CU4-'Summer Peak 2015-01-15'!IH4","v":0},{"$f":"Summer!CV4-'Summer Peak 2015-01-15'!II4","v":0},{"$f":"Summer!CW4-'Summer Peak 2015-01-15'!IJ4","v":0},{"$f":"Summer!CX4-'Summer Peak 2015-01-15'!IK4","v":0},{"$f":"Summer!CY4-'Summer Peak 2015-01-15'!IL4","v":0},{"$f":"Summer!CZ4-'Summer Peak 2015-01-15'!IM4","v":0},{"$f":"Summer!DA4-'Summer Peak 2015-01-15'!IN4","v":0},{"$f":"Summer!DB4-'Summer Peak 2015-01-15'!IO4","v":0},{"$f":"Summer!DC4-'Summer Peak 2015-01-15'!IP4","v":0},{"$f":"Summer!DD4-'Summer Peak 2015-01-15'!IQ4","v":0},{"$f":"Summer!DE4-'Summer Peak 2015-01-15'!IR4","v":0},{"$f":"Summer!DF4-'Summer Peak 2015-01-15'!IS4","v":0},{"$f":"Summer!DG4-'Summer Peak 2015-01-15'!IT4","v":0},{"$f":"Summer!DH4-'Summer Peak 2015-01-15'!IU4","v":0},{"$f":"Summer!DI4-'Summer Peak 2015-01-15'!IV4","v":0},{"$f":"Summer!DJ4-'Summer Peak 2015-01-15'!IW4","v":0},{"$f":"Summer!DK4-'Summer Peak 2015-01-15'!IX4","v":0},{"$f":"Summer!DL4-'Summer Peak 2015-01-15'!IY4","v":0},{"$f":"Summer!DM4-'Summer Peak 2015-01-15'!IZ4","v":0},{"$f":"Summer!DN4-'Summer Peak 2015-01-15'!JA4","v":0},{"$f":"Summer!DO4-'Summer Peak 2015-01-15'!JB4","v":0},{"$f":"Summer!DP4-'Summer Peak 2015-01-15'!JC4","v":0},{"$f":"Summer!DQ4-'Summer Peak 2015-01-15'!JD4","v":0},{"$f":"Summer!DR4-'Summer Peak 2015-01-15'!JE4","v":0},{"$f":"Summer!DS4-'Summer Peak 2015-01-15'!JF4","v":0}]
[null,"PCC2",{"$f":"Summer!C5-'Summer Peak 2015-01-15'!EP5","v":0},{"$f":"Summer!D5-'Summer Peak 2015-01-15'!EQ5","v":0},{"$f":"Summer!E5-'Summer Peak 2015-01-15'!ER5","v":0},{"$f":"Summer!F5-'Summer Peak 2015-01-15'!ES5","v":0},{"$f":"Summer!G5-'Summer Peak 2015-01-15'!ET5","v":0},{"$f":"Summer!H5-'Summer Peak 2015-01-15'!EU5","v":0},{"$f":"Summer!I5-'Summer Peak 2015-01-15'!EV5","v":0},{"$f":"Summer!J5-'Summer Peak 2015-01-15'!EW5","v":0},{"$f":"Summer!K5-'Summer Peak 2015-01-15'!EX5","v":0},{"$f":"Summer!L5-'Summer Peak 2015-01-15'!EY5","v":0},{"$f":"Summer!M5-'Summer Peak 2015-01-15'!EZ5","v":0},{"$f":"Summer!N5-'Summer Peak 2015-01-15'!FA5","v":0},{"$f":"Summer!O5-'Summer Peak 2015-01-15'!FB5","v":0},{"$f":"Summer!P5-'Summer Peak 2015-01-15'!FC5","v":0},{"$f":"Summer!Q5-'Summer Peak 2015-01-15'!FD5","v":0},{"$f":"Summer!R5-'Summer Peak 2015-01-15'!FE5","v":0},{"$f":"Summer!S5-'Summer Peak 2015-01-15'!FF5","v":0},{"$f":"Summer!T5-'Summer Peak 2015-01-15'!FG5","v":0},{"$f":"Summer!U5-'Summer Peak 2015-01-15'!FH5","v":0},{"$f":"Summer!V5-'Summer Peak 2015-01-15'!FI5","v":0},{"$f":"Summer!W5-'Summer Peak 2015-01-15'!FJ5","v":0},{"$f":"Summer!X5-'Summer Peak 2015-01-15'!FK5","v":0},{"$f":"Summer!Y5-'Summer Peak 2015-01-15'!FL5","v":0},{"$f":"Summer!Z5-'Summer Peak 2015-01-15'!FM5","v":0},{"$f":"Summer!AA5-'Summer Peak 2015-01-15'!FN5","v":0},{"$f":"Summer!AB5-'Summer Peak 2015-01-15'!FO5","v":0},{"$f":"Summer!AC5-'Summer Peak 2015-01-15'!FP5","v":0},{"$f":"Summer!AD5-'Summer Peak 2015-01-15'!FQ5","v":0},{"$f":"Summer!AE5-'Summer Peak 2015-01-15'!FR5","v":0},{"$f":"Summer!AF5-'Summer Peak 2015-01-15'!FS5","v":0},{"$f":"Summer!AG5-'Summer Peak 2015-01-15'!FT5","v":0},{"$f":"Summer!AH5-'Summer Peak 2015-01-15'!FU5","v":0},{"$f":"Summer!AI5-'Summer Peak 2015-01-15'!FV5","v":0},{"$f":"Summer!AJ5-'Summer Peak 2015-01-15'!FW5","v":0},{"$f":"Summer!AK5-'Summer Peak 2015-01-15'!FX5","v":0},{"$f":"Summer!AL5-'Summer Peak 2015-01-15'!FY5","v":0},{"$f":"Summer!AM5-'Summer Peak 2015-01-15'!FZ5","v":0},{"$f":"Summer!AN5-'Summer Peak 2015-01-15'!GA5","v":0},{"$f":"Summer!AO5-'Summer Peak 2015-01-15'!GB5","v":0},{"$f":"Summer!AP5-'Summer Peak 2015-01-15'!GC5","v":0},{"$f":"Summer!AQ5-'Summer Peak 2015-01-15'!GD5","v":0},{"$f":"Summer!AR5-'Summer Peak 2015-01-15'!GE5","v":0},{"$f":"Summer!AS5-'Summer Peak 2015-01-15'!GF5","v":0},{"$f":"Summer!AT5-'Summer Peak 2015-01-15'!GG5","v":0},{"$f":"Summer!AU5-'Summer Peak 2015-01-15'!GH5","v":0},{"$f":"Summer!AV5-'Summer Peak 2015-01-15'!GI5","v":0},{"$f":"Summer!AW5-'Summer Peak 2015-01-15'!GJ5","v":0},{"$f":"Summer!AX5-'Summer Peak 2015-01-15'!GK5","v":0},{"$f":"Summer!AY5-'Summer Peak 2015-01-15'!GL5","v":0},{"$f":"Summer!AZ5-'Summer Peak 2015-01-15'!GM5","v":0},{"$f":"Summer!BA5-'Summer Peak 2015-01-15'!GN5","v":0},{"$f":"Summer!BB5-'Summer Peak 2015-01-15'!GO5","v":0},{"$f":"Summer!BC5-'Summer Peak 2015-01-15'!GP5","v":0},{"$f":"Summer!BD5-'Summer Peak 2015-01-15'!GQ5","v":0},{"$f":"Summer!BE5-'Summer Peak 2015-01-15'!GR5","v":0},{"$f":"Summer!BF5-'Summer Peak 2015-01-15'!GS5","v":0},{"$f":"Summer!BG5-'Summer Peak 2015-01-15'!GT5","v":0},{"$f":"Summer!BH5-'Summer Peak 2015-01-15'!GU5","v":0},{"$f":"Summer!BI5-'Summer Peak 2015-01-15'!GV5","v":0},{"$f":"Summer!BJ5-'Summer Peak 2015-01-15'!GW5","v":0},{"$f":"Summer!BK5-'Summer Peak 2015-01-15'!GX5","v":0},{"$f":"Summer!BL5-'Summer Peak 2015-01-15'!GY5","v":0},{"$f":"Summer!BM5-'Summer Peak 2015-01-15'!GZ5","v":0},{"$f":"Summer!BN5-'Summer Peak 2015-01-15'!HA5","v":0},{"$f":"Summer!BO5-'Summer Peak 2015-01-15'!HB5","v":0},{"$f":"Summer!BP5-'Summer Peak 2015-01-15'!HC5","v":0},{"$f":"Summer!BQ5-'Summer Peak 2015-01-15'!HD5","v":0},{"$f":"Summer!BR5-'Summer Peak 2015-01-15'!HE5","v":0},{"$f":"Summer!BS5-'Summer Peak 2015-01-15'!HF5","v":0},{"$f":"Summer!BT5-'Summer Peak 2015-01-15'!HG5","v":0},{"$f":"Summer!BU5-'Summer Peak 2015-01-15'!HH5","v":0},{"$f":"Summer!BV5-'Summer Peak 2015-01-15'!HI5","v":0},{"$f":"Summer!BW5-'Summer Peak 2015-01-15'!HJ5","v":0},{"$f":"Summer!BX5-'Summer Peak 2015-01-15'!HK5","v":0},{"$f":"Summer!BY5-'Summer Peak 2015-01-15'!HL5","v":0},{"$f":"Summer!BZ5-'Summer Peak 2015-01-15'!HM5","v":0},{"$f":"Summer!CA5-'Summer Peak 2015-01-15'!HN5","v":0},{"$f":"Summer!CB5-'Summer Peak 2015-01-15'!HO5","v":0},{"$f":"Summer!CC5-'Summer Peak 2015-01-15'!HP5","v":0},{"$f":"Summer!CD5-'Summer Peak 2015-01-15'!HQ5","v":0},{"$f":"Summer!CE5-'Summer Peak 2015-01-15'!HR5","v":0},{"$f":"Summer!CF5-'Summer Peak 2015-01-15'!HS5","v":0},{"$f":"Summer!CG5-'Summer Peak 2015-01-15'!HT5","v":0},{"$f":"Summer!CH5-'Summer Peak 2015-01-15'!HU5","v":0},{"$f":"Summer!CI5-'Summer Peak 2015-01-15'!HV5","v":0},{"$f":"Summer!CJ5-'Summer Peak 2015-01-15'!HW5","v":0},{"$f":"Summer!CK5-'Summer Peak 2015-01-15'!HX5","v":0},{"$f":"Summer!CL5-'Summer Peak 2015-01-15'!HY5","v":0},{"$f":"Summer!CM5-'Summer Peak 2015-01-15'!HZ5","v":0},{"$f":"Summer!CN5-'Summer Peak 2015-01-15'!IA5","v":0},{"$f":"Summer!CO5-'Summer Peak 2015-01-15'!IB5","v":0},{"$f":"Summer!CP5-'Summer Peak 2015-01-15'!IC5","v":0},{"$f":"Summer!CQ5-'Summer Peak 2015-01-15'!ID5","v":0},{"$f":"Summer!CR5-'Summer Peak 2015-01-15'!IE5","v":0},{"$f":"Summer!CS5-'Summer Peak 2015-01-15'!IF5","v":0},{"$f":"Summer!CT5-'Summer Peak 2015-01-15'!IG5","v":0},{"$f":"Summer!CU5-'Summer Peak 2015-01-15'!IH5","v":0},{"$f":"Summer!CV5-'Summer Peak 2015-01-15'!II5","v":0},{"$f":"Summer!CW5-'Summer Peak 2015-01-15'!IJ5","v":0},{"$f":"Summer!CX5-'Summer Peak 2015-01-15'!IK5","v":0},{"$f":"Summer!CY5-'Summer Peak 2015-01-15'!IL5","v":0},{"$f":"Summer!CZ5-'Summer Peak 2015-01-15'!IM5","v":0},{"$f":"Summer!DA5-'Summer Peak 2015-01-15'!IN5","v":0},{"$f":"Summer!DB5-'Summer Peak 2015-01-15'!IO5","v":0},{"$f":"Summer!DC5-'Summer Peak 2015-01-15'!IP5","v":0},{"$f":"Summer!DD5-'Summer Peak 2015-01-15'!IQ5","v":0},{"$f":"Summer!DE5-'Summer Peak 2015-01-15'!IR5","v":0},{"$f":"Summer!DF5-'Summer Peak 2015-01-15'!IS5","v":0},{"$f":"Summer!DG5-'Summer Peak 2015-01-15'!IT5","v":0},{"$f":"Summer!DH5-'Summer Peak 2015-01-15'!IU5","v":0},{"$f":"Summer!DI5-'Summer Peak 2015-01-15'!IV5","v":0},{"$f":"Summer!DJ5-'Summer Peak 2015-01-15'!IW5","v":0},{"$f":"Summer!DK5-'Summer Peak 2015-01-15'!IX5","v":0},{"$f":"Summer!DL5-'Summer Peak 2015-01-15'!IY5","v":0},{"$f":"Summer!DM5-'Summer Peak 2015-01-15'!IZ5","v":0},{"$f":"Summer!DN5-'Summer Peak 2015-01-15'!JA5","v":0},{"$f":"Summer!DO5-'Summer Peak 2015-01-15'!JB5","v":0},{"$f":"Summer!DP5-'Summer Peak 2015-01-15'!JC5","v":0},{"$f":"Summer!DQ5-'Summer Peak 2015-01-15'!JD5","v":0},{"$f":"Summer!DR5-'Summer Peak 2015-01-15'!JE5","v":0},{"$f":"Summer!DS5-'Summer Peak 2015-01-15'!JF5","v":0}]
[null,"PCC3",{"$f":"Summer!C6-'Summer Peak 2015-01-15'!EP6","v":0},{"$f":"Summer!D6-'Summer Peak 2015-01-15'!EQ6","v":0},{"$f":"Summer!E6-'Summer Peak 2015-01-15'!ER6","v":0},{"$f":"Summer!F6-'Summer Peak 2015-01-15'!ES6","v":0},{"$f":"Summer!G6-'Summer Peak 2015-01-15'!ET6","v":0},{"$f":"Summer!H6-'Summer Peak 2015-01-15'!EU6","v":0},{"$f":"Summer!I6-'Summer Peak 2015-01-15'!EV6","v":0},{"$f":"Summer!J6-'Summer Peak 2015-01-15'!EW6","v":0},{"$f":"Summer!K6-'Summer Peak 2015-01-15'!EX6","v":0},{"$f":"Summer!L6-'Summer Peak 2015-01-15'!EY6","v":0},{"$f":"Summer!M6-'Summer Peak 2015-01-15'!EZ6","v":0},{"$f":"Summer!N6-'Summer Peak 2015-01-15'!FA6","v":0},{"$f":"Summer!O6-'Summer Peak 2015-01-15'!FB6","v":0},{"$f":"Summer!P6-'Summer Peak 2015-01-15'!FC6","v":0},{"$f":"Summer!Q6-'Summer Peak 2015-01-15'!FD6","v":0},{"$f":"Summer!R6-'Summer Peak 2015-01-15'!FE6","v":0},{"$f":"Summer!S6-'Summer Peak 2015-01-15'!FF6","v":0},{"$f":"Summer!T6-'Summer Peak 2015-01-15'!FG6","v":0},{"$f":"Summer!U6-'Summer Peak 2015-01-15'!FH6","v":0},{"$f":"Summer!V6-'Summer Peak 2015-01-15'!FI6","v":0},{"$f":"Summer!W6-'Summer Peak 2015-01-15'!FJ6","v":0},{"$f":"Summer!X6-'Summer Peak 2015-01-15'!FK6","v":0},{"$f":"Summer!Y6-'Summer Peak 2015-01-15'!FL6","v":0},{"$f":"Summer!Z6-'Summer Peak 2015-01-15'!FM6","v":0},{"$f":"Summer!AA6-'Summer Peak 2015-01-15'!FN6","v":0},{"$f":"Summer!AB6-'Summer Peak 2015-01-15'!FO6","v":0},{"$f":"Summer!AC6-'Summer Peak 2015-01-15'!FP6","v":0},{"$f":"Summer!AD6-'Summer Peak 2015-01-15'!FQ6","v":0},{"$f":"Summer!AE6-'Summer Peak 2015-01-15'!FR6","v":0},{"$f":"Summer!AF6-'Summer Peak 2015-01-15'!FS6","v":0},{"$f":"Summer!AG6-'Summer Peak 2015-01-15'!FT6","v":0},{"$f":"Summer!AH6-'Summer Peak 2015-01-15'!FU6","v":0},{"$f":"Summer!AI6-'Summer Peak 2015-01-15'!FV6","v":0},{"$f":"Summer!AJ6-'Summer Peak 2015-01-15'!FW6","v":0},{"$f":"Summer!AK6-'Summer Peak 2015-01-15'!FX6","v":0},{"$f":"Summer!AL6-'Summer Peak 2015-01-15'!FY6","v":0},{"$f":"Summer!AM6-'Summer Peak 2015-01-15'!FZ6","v":0},{"$f":"Summer!AN6-'Summer Peak 2015-01-15'!GA6","v":0},{"$f":"Summer!AO6-'Summer Peak 2015-01-15'!GB6","v":0},{"$f":"Summer!AP6-'Summer Peak 2015-01-15'!GC6","v":0},{"$f":"Summer!AQ6-'Summer Peak 2015-01-15'!GD6","v":0},{"$f":"Summer!AR6-'Summer Peak 2015-01-15'!GE6","v":0},{"$f":"Summer!AS6-'Summer Peak 2015-01-15'!GF6","v":0},{"$f":"Summer!AT6-'Summer Peak 2015-01-15'!GG6","v":0},{"$f":"Summer!AU6-'Summer Peak 2015-01-15'!GH6","v":0},{"$f":"Summer!AV6-'Summer Peak 2015-01-15'!GI6","v":0},{"$f":"Summer!AW6-'Summer Peak 2015-01-15'!GJ6","v":0},{"$f":"Summer!AX6-'Summer Peak 2015-01-15'!GK6","v":0},{"$f":"Summer!AY6-'Summer Peak 2015-01-15'!GL6","v":0},{"$f":"Summer!AZ6-'Summer Peak 2015-01-15'!GM6","v":0},{"$f":"Summer!BA6-'Summer Peak 2015-01-15'!GN6","v":0},{"$f":"Summer!BB6-'Summer Peak 2015-01-15'!GO6","v":0},{"$f":"Summer!BC6-'Summer Peak 2015-01-15'!GP6","v":0},{"$f":"Summer!BD6-'Summer Peak 2015-01-15'!GQ6","v":0},{"$f":"Summer!BE6-'Summer Peak 2015-01-15'!GR6","v":0},{"$f":"Summer!BF6-'Summer Peak 2015-01-15'!GS6","v":0},{"$f":"Summer!BG6-'Summer Peak 2015-01-15'!GT6","v":0},{"$f":"Summer!BH6-'Summer Peak 2015-01-15'!GU6","v":0},{"$f":"Summer!BI6-'Summer Peak 2015-01-15'!GV6","v":0},{"$f":"Summer!BJ6-'Summer Peak 2015-01-15'!GW6","v":0},{"$f":"Summer!BK6-'Summer Peak 2015-01-15'!GX6","v":0},{"$f":"Summer!BL6-'Summer Peak 2015-01-15'!GY6","v":0},{"$f":"Summer!BM6-'Summer Peak 2015-01-15'!GZ6","v":0},{"$f":"Summer!BN6-'Summer Peak 2015-01-15'!HA6","v":0},{"$f":"Summer!BO6-'Summer Peak 2015-01-15'!HB6","v":0},{"$f":"Summer!BP6-'Summer Peak 2015-01-15'!HC6","v":0},{"$f":"Summer!BQ6-'Summer Peak 2015-01-15'!HD6","v":0},{"$f":"Summer!BR6-'Summer Peak 2015-01-15'!HE6","v":0},{"$f":"Summer!BS6-'Summer Peak 2015-01-15'!HF6","v":0},{"$f":"Summer!BT6-'Summer Peak 2015-01-15'!HG6","v":0},{"$f":"Summer!BU6-'Summer Peak 2015-01-15'!HH6","v":0},{"$f":"Summer!BV6-'Summer Peak 2015-01-15'!HI6","v":0},{"$f":"Summer!BW6-'Summer Peak 2015-01-15'!HJ6","v":0},{"$f":"Summer!BX6-'Summer Peak 2015-01-15'!HK6","v":0},{"$f":"Summer!BY6-'Summer Peak 2015-01-15'!HL6","v":0},{"$f":"Summer!BZ6-'Summer Peak 2015-01-15'!HM6","v":0},{"$f":"Summer!CA6-'Summer Peak 2015-01-15'!HN6","v":0},{"$f":"Summer!CB6-'Summer Peak 2015-01-15'!HO6","v":0},{"$f":"Summer!CC6-'Summer Peak 2015-01-15'!HP6","v":0},{"$f":"Summer!CD6-'Summer Peak 2015-01-15'!HQ6","v":0},{"$f":"Summer!CE6-'Summer Peak 2015-01-15'!HR6","v":0},{"$f":"Summer!CF6-'Summer Peak 2015-01-15'!HS6","v":0},{"$f":"Summer!CG6-'Summer Peak 2015-01-15'!HT6","v":0},{"$f":"Summer!CH6-'Summer Peak 2015-01-15'!HU6","v":0},{"$f":"Summer!CI6-'Summer Peak 2015-01-15'!HV6","v":0},{"$f":"Summer!CJ6-'Summer Peak 2015-01-15'!HW6","v":0},{"$f":"Summer!CK6-'Summer Peak 2015-01-15'!HX6","v":0},{"$f":"Summer!CL6-'Summer Peak 2015-01-15'!HY6","v":0},{"$f":"Summer!CM6-'Summer Peak 2015-01-15'!HZ6","v":0},{"$f":"Summer!CN6-'Summer Peak 2015-01-15'!IA6","v":0},{"$f":"Summer!CO6-'Summer Peak 2015-01-15'!IB6","v":0},{"$f":"Summer!CP6-'Summer Peak 2015-01-15'!IC6","v":0},{"$f":"Summer!CQ6-'Summer Peak 2015-01-15'!ID6","v":0},{"$f":"Summer!CR6-'Summer Peak 2015-01-15'!IE6","v":0},{"$f":"Summer!CS6-'Summer Peak 2015-01-15'!IF6","v":0},{"$f":"Summer!CT6-'Summer Peak 2015-01-15'!IG6","v":0},{"$f":"Summer!CU6-'Summer Peak 2015-01-15'!IH6","v":0},{"$f":"Summer!CV6-'Summer Peak 2015-01-15'!II6","v":0},{"$f":"Summer!CW6-'Summer Peak 2015-01-15'!IJ6","v":0},{"$f":"Summer!CX6-'Summer Peak 2015-01-15'!IK6","v":0},{"$f":"Summer!CY6-'Summer Peak 2015-01-15'!IL6","v":0},{"$f":"Summer!CZ6-'Summer Peak 2015-01-15'!IM6","v":0},{"$f":"Summer!DA6-'Summer Peak 2015-01-15'!IN6","v":0},{"$f":"Summer!DB6-'Summer Peak 2015-01-15'!IO6","v":0},{"$f":"Summer!DC6-'Summer Peak 2015-01-15'!IP6","v":0},{"$f":"Summer!DD6-'Summer Peak 2015-01-15'!IQ6","v":0},{"$f":"Summer!DE6-'Summer Peak 2015-01-15'!IR6","v":0},{"$f":"Summer!DF6-'Summer Peak 2015-01-15'!IS6","v":0},{"$f":"Summer!DG6-'Summer Peak 2015-01-15'!IT6","v":0},{"$f":"Summer!DH6-'Summer Peak 2015-01-15'!IU6","v":0},{"$f":"Summer!DI6-'Summer Peak 2015-01-15'!IV6","v":0},{"$f":"Summer!DJ6-'Summer Peak 2015-01-15'!IW6","v":0},{"$f":"Summer!DK6-'Summer Peak 2015-01-15'!IX6","v":0},{"$f":"Summer!DL6-'Summer Peak 2015-01-15'!IY6","v":0},{"$f":"Summer!DM6-'Summer Peak 2015-01-15'!IZ6","v":0},{"$f":"Summer!DN6-'Summer Peak 2015-01-15'!JA6","v":0},{"$f":"Summer!DO6-'Summer Peak 2015-01-15'!JB6","v":0},{"$f":"Summer!DP6-'Summer Peak 2015-01-15'!JC6","v":0},{"$f":"Summer!DQ6-'Summer Peak 2015-01-15'!JD6","v":0},{"$f":"Summer!DR6-'Summer Peak 2015-01-15'!JE6","v":0},{"$f":"Summer!DS6-'Summer Peak 2015-01-15'!JF6","v":0}]
[null,"PCU5",{"$f":"Summer!C7-'Summer Peak 2015-01-15'!EP7","v":0},{"$f":"Summer!D7-'Summer Peak 2015-01-15'!EQ7","v":0},{"$f":"Summer!E7-'Summer Peak 2015-01-15'!ER7","v":0},{"$f":"Summer!F7-'Summer Peak 2015-01-15'!ES7","v":0},{"$f":"Summer!G7-'Summer Peak 2015-01-15'!ET7","v":0},{"$f":"Summer!H7-'Summer Peak 2015-01-15'!EU7","v":0},{"$f":"Summer!I7-'Summer Peak 2015-01-15'!EV7","v":0},{"$f":"Summer!J7-'Summer Peak 2015-01-15'!EW7","v":0},{"$f":"Summer!K7-'Summer Peak 2015-01-15'!EX7","v":0},{"$f":"Summer!L7-'Summer Peak 2015-01-15'!EY7","v":0},{"$f":"Summer!M7-'Summer Peak 2015-01-15'!EZ7","v":0},{"$f":"Summer!N7-'Summer Peak 2015-01-15'!FA7","v":0},{"$f":"Summer!O7-'Summer Peak 2015-01-15'!FB7","v":0},{"$f":"Summer!P7-'Summer Peak 2015-01-15'!FC7","v":0},{"$f":"Summer!Q7-'Summer Peak 2015-01-15'!FD7","v":0},{"$f":"Summer!R7-'Summer Peak 2015-01-15'!FE7","v":0},{"$f":"Summer!S7-'Summer Peak 2015-01-15'!FF7","v":0},{"$f":"Summer!T7-'Summer Peak 2015-01-15'!FG7","v":0},{"$f":"Summer!U7-'Summer Peak 2015-01-15'!FH7","v":0},{"$f":"Summer!V7-'Summer Peak 2015-01-15'!FI7","v":0},{"$f":"Summer!W7-'Summer Peak 2015-01-15'!FJ7","v":0},{"$f":"Summer!X7-'Summer Peak 2015-01-15'!FK7","v":0},{"$f":"Summer!Y7-'Summer Peak 2015-01-15'!FL7","v":0},{"$f":"Summer!Z7-'Summer Peak 2015-01-15'!FM7","v":0},{"$f":"Summer!AA7-'Summer Peak 2015-01-15'!FN7","v":0},{"$f":"Summer!AB7-'Summer Peak 2015-01-15'!FO7","v":0},{"$f":"Summer!AC7-'Summer Peak 2015-01-15'!FP7","v":0},{"$f":"Summer!AD7-'Summer Peak 2015-01-15'!FQ7","v":0},{"$f":"Summer!AE7-'Summer Peak 2015-01-15'!FR7","v":0},{"$f":"Summer!AF7-'Summer Peak 2015-01-15'!FS7","v":0},{"$f":"Summer!AG7-'Summer Peak 2015-01-15'!FT7","v":0},{"$f":"Summer!AH7-'Summer Peak 2015-01-15'!FU7","v":0},{"$f":"Summer!AI7-'Summer Peak 2015-01-15'!FV7","v":0},{"$f":"Summer!AJ7-'Summer Peak 2015-01-15'!FW7","v":0},{"$f":"Summer!AK7-'Summer Peak 2015-01-15'!FX7","v":0},{"$f":"Summer!AL7-'Summer Peak 2015-01-15'!FY7","v":0},{"$f":"Summer!AM7-'Summer Peak 2015-01-15'!FZ7","v":0},{"$f":"Summer!AN7-'Summer Peak 2015-01-15'!GA7","v":0},{"$f":"Summer!AO7-'Summer Peak 2015-01-15'!GB7","v":0},{"$f":"Summer!AP7-'Summer Peak 2015-01-15'!GC7","v":0},{"$f":"Summer!AQ7-'Summer Peak 2015-01-15'!GD7","v":0},{"$f":"Summer!AR7-'Summer Peak 2015-01-15'!GE7","v":0},{"$f":"Summer!AS7-'Summer Peak 2015-01-15'!GF7","v":0},{"$f":"Summer!AT7-'Summer Peak 2015-01-15'!GG7","v":0},{"$f":"Summer!AU7-'Summer Peak 2015-01-15'!GH7","v":0},{"$f":"Summer!AV7-'Summer Peak 2015-01-15'!GI7","v":0},{"$f":"Summer!AW7-'Summer Peak 2015-01-15'!GJ7","v":0},{"$f":"Summer!AX7-'Summer Peak 2015-01-15'!GK7","v":0},{"$f":"Summer!AY7-'Summer Peak 2015-01-15'!GL7","v":0},{"$f":"Summer!AZ7-'Summer Peak 2015-01-15'!GM7","v":0},{"$f":"Summer!BA7-'Summer Peak 2015-01-15'!GN7","v":0},{"$f":"Summer!BB7-'Summer Peak 2015-01-15'!GO7","v":0},{"$f":"Summer!BC7-'Summer Peak 2015-01-15'!GP7","v":0},{"$f":"Summer!BD7-'Summer Peak 2015-01-15'!GQ7","v":0},{"$f":"Summer!BE7-'Summer Peak 2015-01-15'!GR7","v":0},{"$f":"Summer!BF7-'Summer Peak 2015-01-15'!GS7","v":0},{"$f":"Summer!BG7-'Summer Peak 2015-01-15'!GT7","v":0},{"$f":"Summer!BH7-'Summer Peak 2015-01-15'!GU7","v":0},{"$f":"Summer!BI7-'Summer Peak 2015-01-15'!GV7","v":0},{"$f":"Summer!BJ7-'Summer Peak 2015-01-15'!GW7","v":0},{"$f":"Summer!BK7-'Summer Peak 2015-01-15'!GX7","v":0},{"$f":"Summer!BL7-'Summer Peak 2015-01-15'!GY7","v":0},{"$f":"Summer!BM7-'Summer Peak 2015-01-15'!GZ7","v":0},{"$f":"Summer!BN7-'Summer Peak 2015-01-15'!HA7","v":0},{"$f":"Summer!BO7-'Summer Peak 2015-01-15'!HB7","v":0},{"$f":"Summer!BP7-'Summer Peak 2015-01-15'!HC7","v":0},{"$f":"Summer!BQ7-'Summer Peak 2015-01-15'!HD7","v":0},{"$f":"Summer!BR7-'Summer Peak 2015-01-15'!HE7","v":0},{"$f":"Summer!BS7-'Summer Peak 2015-01-15'!HF7","v":0},{"$f":"Summer!BT7-'Summer Peak 2015-01-15'!HG7","v":0},{"$f":"Summer!BU7-'Summer Peak 2015-01-15'!HH7","v":0},{"$f":"Summer!BV7-'Summer Peak 2015-01-15'!HI7","v":0},{"$f":"Summer!BW7-'Summer Peak 2015-01-15'!HJ7","v":0},{"$f":"Summer!BX7-'Summer Peak 2015-01-15'!HK7","v":0},{"$f":"Summer!BY7-'Summer Peak 2015-01-15'!HL7","v":0},{"$f":"Summer!BZ7-'Summer Peak 2015-01-15'!HM7","v":0},{"$f":"Summer!CA7-'Summer Peak 2015-01-15'!HN7","v":0},{"$f":"Summer!CB7-'Summer Peak 2015-01-15'!HO7","v":0},{"$f":"Summer!CC7-'Summer Peak 2015-01-15'!HP7","v":0},{"$f":"Summer!CD7-'Summer Peak 2015-01-15'!HQ7","v":0},{"$f":"Summer!CE7-'Summer Peak 2015-01-15'!HR7","v":0},{"$f":"Summer!CF7-'Summer Peak 2015-01-15'!HS7","v":0},{"$f":"Summer!CG7-'Summer Peak 2015-01-15'!HT7","v":0},{"$f":"Summer!CH7-'Summer Peak 2015-01-15'!HU7","v":0},{"$f":"Summer!CI7-'Summer Peak 2015-01-15'!HV7","v":0},{"$f":"Summer!CJ7-'Summer Peak 2015-01-15'!HW7","v":0},{"$f":"Summer!CK7-'Summer Peak 2015-01-15'!HX7","v":0},{"$f":"Summer!CL7-'Summer Peak 2015-01-15'!HY7","v":0},{"$f":"Summer!CM7-'Summer Peak 2015-01-15'!HZ7","v":0},{"$f":"Summer!CN7-'Summer Peak 2015-01-15'!IA7","v":0},{"$f":"Summer!CO7-'Summer Peak 2015-01-15'!IB7","v":0},{"$f":"Summer!CP7-'Summer Peak 2015-01-15'!IC7","v":0},{"$f":"Summer!CQ7-'Summer Peak 2015-01-15'!ID7","v":0},{"$f":"Summer!CR7-'Summer Peak 2015-01-15'!IE7","v":0},{"$f":"Summer!CS7-'Summer Peak 2015-01-15'!IF7","v":0},{"$f":"Summer!CT7-'Summer Peak 2015-01-15'!IG7","v":0},{"$f":"Summer!CU7-'Summer Peak 2015-01-15'!IH7","v":0},{"$f":"Summer!CV7-'Summer Peak 2015-01-15'!II7","v":0},{"$f":"Summer!CW7-'Summer Peak 2015-01-15'!IJ7","v":0},{"$f":"Summer!CX7-'Summer Peak 2015-01-15'!IK7","v":0},{"$f":"Summer!CY7-'Summer Peak 2015-01-15'!IL7","v":0},{"$f":"Summer!CZ7-'Summer Peak 2015-01-15'!IM7","v":0},{"$f":"Summer!DA7-'Summer Peak 2015-01-15'!IN7","v":0},{"$f":"Summer!DB7-'Summer Peak 2015-01-15'!IO7","v":0},{"$f":"Summer!DC7-'Summer Peak 2015-01-15'!IP7","v":0},{"$f":"Summer!DD7-'Summer Peak 2015-01-15'!IQ7","v":0},{"$f":"Summer!DE7-'Summer Peak 2015-01-15'!IR7","v":0},{"$f":"Summer!DF7-'Summer Peak 2015-01-15'!IS7","v":0},{"$f":"Summer!DG7-'Summer Peak 2015-01-15'!IT7","v":0},{"$f":"Summer!DH7-'Summer Peak 2015-01-15'!IU7","v":0},{"$f":"Summer!DI7-'Summer Peak 2015-01-15'!IV7","v":0},{"$f":"Summer!DJ7-'Summer Peak 2015-01-15'!IW7","v":0},{"$f":"Summer!DK7-'Summer Peak 2015-01-15'!IX7","v":0},{"$f":"Summer!DL7-'Summer Peak 2015-01-15'!IY7","v":0},{"$f":"Summer!DM7-'Summer Peak 2015-01-15'!IZ7","v":0},{"$f":"Summer!DN7-'Summer Peak 2015-01-15'!JA7","v":0},{"$f":"Summer!DO7-'Summer Peak 2015-01-15'!JB7","v":0},{"$f":"Summer!DP7-'Summer Peak 2015-01-15'!JC7","v":0},{"$f":"Summer!DQ7-'Summer Peak 2015-01-15'!JD7","v":0},{"$f":"Summer!DR7-'Summer Peak 2015-01-15'!JE7","v":0},{"$f":"Summer!DS7-'Summer Peak 2015-01-15'!JF7","v":0}]
[null,"PCU6",{"$f":"Summer!C8-'Summer Peak 2015-01-15'!EP8","v":0},{"$f":"Summer!D8-'Summer Peak 2015-01-15'!EQ8","v":0},{"$f":"Summer!E8-'Summer Peak 2015-01-15'!ER8","v":0},{"$f":"Summer!F8-'Summer Peak 2015-01-15'!ES8","v":0},{"$f":"Summer!G8-'Summer Peak 2015-01-15'!ET8","v":0},{"$f":"Summer!H8-'Summer Peak 2015-01-15'!EU8","v":0},{"$f":"Summer!I8-'Summer Peak 2015-01-15'!EV8","v":0},{"$f":"Summer!J8-'Summer Peak 2015-01-15'!EW8","v":0},{"$f":"Summer!K8-'Summer Peak 2015-01-15'!EX8","v":0},{"$f":"Summer!L8-'Summer Peak 2015-01-15'!EY8","v":0},{"$f":"Summer!M8-'Summer Peak 2015-01-15'!EZ8","v":0},{"$f":"Summer!N8-'Summer Peak 2015-01-15'!FA8","v":0},{"$f":"Summer!O8-'Summer Peak 2015-01-15'!FB8","v":0},{"$f":"Summer!P8-'Summer Peak 2015-01-15'!FC8","v":0},{"$f":"Summer!Q8-'Summer Peak 2015-01-15'!FD8","v":0},{"$f":"Summer!R8-'Summer Peak 2015-01-15'!FE8","v":0},{"$f":"Summer!S8-'Summer Peak 2015-01-15'!FF8","v":0},{"$f":"Summer!T8-'Summer Peak 2015-01-15'!FG8","v":0},{"$f":"Summer!U8-'Summer Peak 2015-01-15'!FH8","v":0},{"$f":"Summer!V8-'Summer Peak 2015-01-15'!FI8","v":0},{"$f":"Summer!W8-'Summer Peak 2015-01-15'!FJ8","v":0},{"$f":"Summer!X8-'Summer Peak 2015-01-15'!FK8","v":0},{"$f":"Summer!Y8-'Summer Peak 2015-01-15'!FL8","v":0},{"$f":"Summer!Z8-'Summer Peak 2015-01-15'!FM8","v":0},{"$f":"Summer!AA8-'Summer Peak 2015-01-15'!FN8","v":0},{"$f":"Summer!AB8-'Summer Peak 2015-01-15'!FO8","v":0},{"$f":"Summer!AC8-'Summer Peak 2015-01-15'!FP8","v":0},{"$f":"Summer!AD8-'Summer Peak 2015-01-15'!FQ8","v":0},{"$f":"Summer!AE8-'Summer Peak 2015-01-15'!FR8","v":0},{"$f":"Summer!AF8-'Summer Peak 2015-01-15'!FS8","v":0},{"$f":"Summer!AG8-'Summer Peak 2015-01-15'!FT8","v":0},{"$f":"Summer!AH8-'Summer Peak 2015-01-15'!FU8","v":0},{"$f":"Summer!AI8-'Summer Peak 2015-01-15'!FV8","v":0},{"$f":"Summer!AJ8-'Summer Peak 2015-01-15'!FW8","v":0},{"$f":"Summer!AK8-'Summer Peak 2015-01-15'!FX8","v":0},{"$f":"Summer!AL8-'Summer Peak 2015-01-15'!FY8","v":0},{"$f":"Summer!AM8-'Summer Peak 2015-01-15'!FZ8","v":0},{"$f":"Summer!AN8-'Summer Peak 2015-01-15'!GA8","v":0},{"$f":"Summer!AO8-'Summer Peak 2015-01-15'!GB8","v":0},{"$f":"Summer!AP8-'Summer Peak 2015-01-15'!GC8","v":0},{"$f":"Summer!AQ8-'Summer Peak 2015-01-15'!GD8","v":0},{"$f":"Summer!AR8-'Summer Peak 2015-01-15'!GE8","v":0},{"$f":"Summer!AS8-'Summer Peak 2015-01-15'!GF8","v":0},{"$f":"Summer!AT8-'Summer Peak 2015-01-15'!GG8","v":0},{"$f":"Summer!AU8-'Summer Peak 2015-01-15'!GH8","v":0},{"$f":"Summer!AV8-'Summer Peak 2015-01-15'!GI8","v":0},{"$f":"Summer!AW8-'Summer Peak 2015-01-15'!GJ8","v":0},{"$f":"Summer!AX8-'Summer Peak 2015-01-15'!GK8","v":0},{"$f":"Summer!AY8-'Summer Peak 2015-01-15'!GL8","v":0},{"$f":"Summer!AZ8-'Summer Peak 2015-01-15'!GM8","v":0},{"$f":"Summer!BA8-'Summer Peak 2015-01-15'!GN8","v":0},{"$f":"Summer!BB8-'Summer Peak 2015-01-15'!GO8","v":0},{"$f":"Summer!BC8-'Summer Peak 2015-01-15'!GP8","v":0},{"$f":"Summer!BD8-'Summer Peak 2015-01-15'!GQ8","v":0},{"$f":"Summer!BE8-'Summer Peak 2015-01-15'!GR8","v":0},{"$f":"Summer!BF8-'Summer Peak 2015-01-15'!GS8","v":0},{"$f":"Summer!BG8-'Summer Peak 2015-01-15'!GT8","v":0},{"$f":"Summer!BH8-'Summer Peak 2015-01-15'!GU8","v":0},{"$f":"Summer!BI8-'Summer Peak 2015-01-15'!GV8","v":0},{"$f":"Summer!BJ8-'Summer Peak 2015-01-15'!GW8","v":0},{"$f":"Summer!BK8-'Summer Peak 2015-01-15'!GX8","v":0},{"$f":"Summer!BL8-'Summer Peak 2015-01-15'!GY8","v":0},{"$f":"Summer!BM8-'Summer Peak 2015-01-15'!GZ8","v":0},{"$f":"Summer!BN8-'Summer Peak 2015-01-15'!HA8","v":0},{"$f":"Summer!BO8-'Summer Peak 2015-01-15'!HB8","v":0},{"$f":"Summer!BP8-'Summer Peak 2015-01-15'!HC8","v":0},{"$f":"Summer!BQ8-'Summer Peak 2015-01-15'!HD8","v":0},{"$f":"Summer!BR8-'Summer Peak 2015-01-15'!HE8","v":0},{"$f":"Summer!BS8-'Summer Peak 2015-01-15'!HF8","v":0},{"$f":"Summer!BT8-'Summer Peak 2015-01-15'!HG8","v":0},{"$f":"Summer!BU8-'Summer Peak 2015-01-15'!HH8","v":0},{"$f":"Summer!BV8-'Summer Peak 2015-01-15'!HI8","v":0},{"$f":"Summer!BW8-'Summer Peak 2015-01-15'!HJ8","v":0},{"$f":"Summer!BX8-'Summer Peak 2015-01-15'!HK8","v":0},{"$f":"Summer!BY8-'Summer Peak 2015-01-15'!HL8","v":0},{"$f":"Summer!BZ8-'Summer Peak 2015-01-15'!HM8","v":0},{"$f":"Summer!CA8-'Summer Peak 2015-01-15'!HN8","v":0},{"$f":"Summer!CB8-'Summer Peak 2015-01-15'!HO8","v":0},{"$f":"Summer!CC8-'Summer Peak 2015-01-15'!HP8","v":0},{"$f":"Summer!CD8-'Summer Peak 2015-01-15'!HQ8","v":0},{"$f":"Summer!CE8-'Summer Peak 2015-01-15'!HR8","v":0},{"$f":"Summer!CF8-'Summer Peak 2015-01-15'!HS8","v":0},{"$f":"Summer!CG8-'Summer Peak 2015-01-15'!HT8","v":0},{"$f":"Summer!CH8-'Summer Peak 2015-01-15'!HU8","v":0},{"$f":"Summer!CI8-'Summer Peak 2015-01-15'!HV8","v":0},{"$f":"Summer!CJ8-'Summer Peak 2015-01-15'!HW8","v":0},{"$f":"Summer!CK8-'Summer Peak 2015-01-15'!HX8","v":0},{"$f":"Summer!CL8-'Summer Peak 2015-01-15'!HY8","v":0},{"$f":"Summer!CM8-'Summer Peak 2015-01-15'!HZ8","v":0},{"$f":"Summer!CN8-'Summer Peak 2015-01-15'!IA8","v":0},{"$f":"Summer!CO8-'Summer Peak 2015-01-15'!IB8","v":0},{"$f":"Summer!CP8-'Summer Peak 2015-01-15'!IC8","v":0},{"$f":"Summer!CQ8-'Summer Peak 2015-01-15'!ID8","v":0},{"$f":"Summer!CR8-'Summer Peak 2015-01-15'!IE8","v":0},{"$f":"Summer!CS8-'Summer Peak 2015-01-15'!IF8","v":0},{"$f":"Summer!CT8-'Summer Peak 2015-01-15'!IG8","v":0},{"$f":"Summer!CU8-'Summer Peak 2015-01-15'!IH8","v":0},{"$f":"Summer!CV8-'Summer Peak 2015-01-15'!II8","v":0},{"$f":"Summer!CW8-'Summer Peak 2015-01-15'!IJ8","v":0},{"$f":"Summer!CX8-'Summer Peak 2015-01-15'!IK8","v":0},{"$f":"Summer!CY8-'Summer Peak 2015-01-15'!IL8","v":0},{"$f":"Summer!CZ8-'Summer Peak 2015-01-15'!IM8","v":0},{"$f":"Summer!DA8-'Summer Peak 2015-01-15'!IN8","v":0},{"$f":"Summer!DB8-'Summer Peak 2015-01-15'!IO8","v":0},{"$f":"Summer!DC8-'Summer Peak 2015-01-15'!IP8","v":0},{"$f":"Summer!DD8-'Summer Peak 2015-01-15'!IQ8","v":0},{"$f":"Summer!DE8-'Summer Peak 2015-01-15'!IR8","v":0},{"$f":"Summer!DF8-'Summer Peak 2015-01-15'!IS8","v":0},{"$f":"Summer!DG8-'Summer Peak 2015-01-15'!IT8","v":0},{"$f":"Summer!DH8-'Summer Peak 2015-01-15'!IU8","v":0},{"$f":"Summer!DI8-'Summer Peak 2015-01-15'!IV8","v":0},{"$f":"Summer!DJ8-'Summer Peak 2015-01-15'!IW8","v":0},{"$f":"Summer!DK8-'Summer Peak 2015-01-15'!IX8","v":0},{"$f":"Summer!DL8-'Summer Peak 2015-01-15'!IY8","v":0},{"$f":"Summer!DM8-'Summer Peak 2015-01-15'!IZ8","v":0},{"$f":"Summer!DN8-'Summer Peak 2015-01-15'!JA8","v":0},{"$f":"Summer!DO8-'Summer Peak 2015-01-15'!JB8","v":0},{"$f":"Summer!DP8-'Summer Peak 2015-01-15'!JC8","v":0},{"$f":"Summer!DQ8-'Summer Peak 2015-01-15'!JD8","v":0},{"$f":"Summer!DR8-'Summer Peak 2015-01-15'!JE8","v":0},{"$f":"Summer!DS8-'Summer Peak 2015-01-15'!JF8","v":0}]
[null,"PDO",{"$f":"Summer!C9-'Summer Peak 2015-01-15'!EP9","v":0},{"$f":"Summer!D9-'Summer Peak 2015-01-15'!EQ9","v":0},{"$f":"Summer!E9-'Summer Peak 2015-01-15'!ER9","v":0},{"$f":"Summer!F9-'Summer Peak 2015-01-15'!ES9","v":0},{"$f":"Summer!G9-'Summer Peak 2015-01-15'!ET9","v":0},{"$f":"Summer!H9-'Summer Peak 2015-01-15'!EU9","v":0},{"$f":"Summer!I9-'Summer Peak 2015-01-15'!EV9","v":0},{"$f":"Summer!J9-'Summer Peak 2015-01-15'!EW9","v":0},{"$f":"Summer!K9-'Summer Peak 2015-01-15'!EX9","v":0},{"$f":"Summer!L9-'Summer Peak 2015-01-15'!EY9","v":0},{"$f":"Summer!M9-'Summer Peak 2015-01-15'!EZ9","v":0},{"$f":"Summer!N9-'Summer Peak 2015-01-15'!FA9","v":0},{"$f":"Summer!O9-'Summer Peak 2015-01-15'!FB9","v":0},{"$f":"Summer!P9-'Summer Peak 2015-01-15'!FC9","v":0},{"$f":"Summer!Q9-'Summer Peak 2015-01-15'!FD9","v":0},{"$f":"Summer!R9-'Summer Peak 2015-01-15'!FE9","v":0},{"$f":"Summer!S9-'Summer Peak 2015-01-15'!FF9","v":0},{"$f":"Summer!T9-'Summer Peak 2015-01-15'!FG9","v":0},{"$f":"Summer!U9-'Summer Peak 2015-01-15'!FH9","v":0},{"$f":"Summer!V9-'Summer Peak 2015-01-15'!FI9","v":0},{"$f":"Summer!W9-'Summer Peak 2015-01-15'!FJ9","v":0},{"$f":"Summer!X9-'Summer Peak 2015-01-15'!FK9","v":0},{"$f":"Summer!Y9-'Summer Peak 2015-01-15'!FL9","v":0},{"$f":"Summer!Z9-'Summer Peak 2015-01-15'!FM9","v":0},{"$f":"Summer!AA9-'Summer Peak 2015-01-15'!FN9","v":0},{"$f":"Summer!AB9-'Summer Peak 2015-01-15'!FO9","v":0},{"$f":"Summer!AC9-'Summer Peak 2015-01-15'!FP9","v":0},{"$f":"Summer!AD9-'Summer Peak 2015-01-15'!FQ9","v":0},{"$f":"Summer!AE9-'Summer Peak 2015-01-15'!FR9","v":0},{"$f":"Summer!AF9-'Summer Peak 2015-01-15'!FS9","v":0},{"$f":"Summer!AG9-'Summer Peak 2015-01-15'!FT9","v":0},{"$f":"Summer!AH9-'Summer Peak 2015-01-15'!FU9","v":0},{"$f":"Summer!AI9-'Summer Peak 2015-01-15'!FV9","v":0},{"$f":"Summer!AJ9-'Summer Peak 2015-01-15'!FW9","v":0},{"$f":"Summer!AK9-'Summer Peak 2015-01-15'!FX9","v":0},{"$f":"Summer!AL9-'Summer Peak 2015-01-15'!FY9","v":0},{"$f":"Summer!AM9-'Summer Peak 2015-01-15'!FZ9","v":0},{"$f":"Summer!AN9-'Summer Peak 2015-01-15'!GA9","v":0},{"$f":"Summer!AO9-'Summer Peak 2015-01-15'!GB9","v":0},{"$f":"Summer!AP9-'Summer Peak 2015-01-15'!GC9","v":0},{"$f":"Summer!AQ9-'Summer Peak 2015-01-15'!GD9","v":0},{"$f":"Summer!AR9-'Summer Peak 2015-01-15'!GE9","v":0},{"$f":"Summer!AS9-'Summer Peak 2015-01-15'!GF9","v":0},{"$f":"Summer!AT9-'Summer Peak 2015-01-15'!GG9","v":0},{"$f":"Summer!AU9-'Summer Peak 2015-01-15'!GH9","v":0},{"$f":"Summer!AV9-'Summer Peak 2015-01-15'!GI9","v":0},{"$f":"Summer!AW9-'Summer Peak 2015-01-15'!GJ9","v":0},{"$f":"Summer!AX9-'Summer Peak 2015-01-15'!GK9","v":0},{"$f":"Summer!AY9-'Summer Peak 2015-01-15'!GL9","v":0},{"$f":"Summer!AZ9-'Summer Peak 2015-01-15'!GM9","v":0},{"$f":"Summer!BA9-'Summer Peak 2015-01-15'!GN9","v":0},{"$f":"Summer!BB9-'Summer Peak 2015-01-15'!GO9","v":0},{"$f":"Summer!BC9-'Summer Peak 2015-01-15'!GP9","v":0},{"$f":"Summer!BD9-'Summer Peak 2015-01-15'!GQ9","v":0},{"$f":"Summer!BE9-'Summer Peak 2015-01-15'!GR9","v":0},{"$f":"Summer!BF9-'Summer Peak 2015-01-15'!GS9","v":0},{"$f":"Summer!BG9-'Summer Peak 2015-01-15'!GT9","v":0},{"$f":"Summer!BH9-'Summer Peak 2015-01-15'!GU9","v":0},{"$f":"Summer!BI9-'Summer Peak 2015-01-15'!GV9","v":0},{"$f":"Summer!BJ9-'Summer Peak 2015-01-15'!GW9","v":0},{"$f":"Summer!BK9-'Summer Peak 2015-01-15'!GX9","v":0},{"$f":"Summer!BL9-'Summer Peak 2015-01-15'!GY9","v":0},{"$f":"Summer!BM9-'Summer Peak 2015-01-15'!GZ9","v":0},{"$f":"Summer!BN9-'Summer Peak 2015-01-15'!HA9","v":0},{"$f":"Summer!BO9-'Summer Peak 2015-01-15'!HB9","v":0},{"$f":"Summer!BP9-'Summer Peak 2015-01-15'!HC9","v":0},{"$f":"Summer!BQ9-'Summer Peak 2015-01-15'!HD9","v":0},{"$f":"Summer!BR9-'Summer Peak 2015-01-15'!HE9","v":0},{"$f":"Summer!BS9-'Summer Peak 2015-01-15'!HF9","v":0},{"$f":"Summer!BT9-'Summer Peak 2015-01-15'!HG9","v":0},{"$f":"Summer!BU9-'Summer Peak 2015-01-15'!HH9","v":0},{"$f":"Summer!BV9-'Summer Peak 2015-01-15'!HI9","v":0},{"$f":"Summer!BW9-'Summer Peak 2015-01-15'!HJ9","v":0},{"$f":"Summer!BX9-'Summer Peak 2015-01-15'!HK9","v":0},{"$f":"Summer!BY9-'Summer Peak 2015-01-15'!HL9","v":0},{"$f":"Summer!BZ9-'Summer Peak 2015-01-15'!HM9","v":0},{"$f":"Summer!CA9-'Summer Peak 2015-01-15'!HN9","v":0},{"$f":"Summer!CB9-'Summer Peak 2015-01-15'!HO9","v":0},{"$f":"Summer!CC9-'Summer Peak 2015-01-15'!HP9","v":0},{"$f":"Summer!CD9-'Summer Peak 2015-01-15'!HQ9","v":0},{"$f":"Summer!CE9-'Summer Peak 2015-01-15'!HR9","v":0},{"$f":"Summer!CF9-'Summer Peak 2015-01-15'!HS9","v":0},{"$f":"Summer!CG9-'Summer Peak 2015-01-15'!HT9","v":0},{"$f":"Summer!CH9-'Summer Peak 2015-01-15'!HU9","v":0},{"$f":"Summer!CI9-'Summer Peak 2015-01-15'!HV9","v":0},{"$f":"Summer!CJ9-'Summer Peak 2015-01-15'!HW9","v":0},{"$f":"Summer!CK9-'Summer Peak 2015-01-15'!HX9","v":0},{"$f":"Summer!CL9-'Summer Peak 2015-01-15'!HY9","v":0},{"$f":"Summer!CM9-'Summer Peak 2015-01-15'!HZ9","v":0},{"$f":"Summer!CN9-'Summer Peak 2015-01-15'!IA9","v":0},{"$f":"Summer!CO9-'Summer Peak 2015-01-15'!IB9","v":0},{"$f":"Summer!CP9-'Summer Peak 2015-01-15'!IC9","v":0},{"$f":"Summer!CQ9-'Summer Peak 2015-01-15'!ID9","v":0},{"$f":"Summer!CR9-'Summer Peak 2015-01-15'!IE9","v":0},{"$f":"Summer!CS9-'Summer Peak 2015-01-15'!IF9","v":0},{"$f":"Summer!CT9-'Summer Peak 2015-01-15'!IG9","v":0},{"$f":"Summer!CU9-'Summer Peak 2015-01-15'!IH9","v":0},{"$f":"Summer!CV9-'Summer Peak 2015-01-15'!II9","v":0},{"$f":"Summer!CW9-'Summer Peak 2015-01-15'!IJ9","v":0},{"$f":"Summer!CX9-'Summer Peak 2015-01-15'!IK9","v":0},{"$f":"Summer!CY9-'Summer Peak 2015-01-15'!IL9","v":0},{"$f":"Summer!CZ9-'Summer Peak 2015-01-15'!IM9","v":0},{"$f":"Summer!DA9-'Summer Peak 2015-01-15'!IN9","v":0},{"$f":"Summer!DB9-'Summer Peak 2015-01-15'!IO9","v":0},{"$f":"Summer!DC9-'Summer Peak 2015-01-15'!IP9","v":0},{"$f":"Summer!DD9-'Summer Peak 2015-01-15'!IQ9","v":0},{"$f":"Summer!DE9-'Summer Peak 2015-01-15'!IR9","v":0},{"$f":"Summer!DF9-'Summer Peak 2015-01-15'!IS9","v":0},{"$f":"Summer!DG9-'Summer Peak 2015-01-15'!IT9","v":0},{"$f":"Summer!DH9-'Summer Peak 2015-01-15'!IU9","v":0},{"$f":"Summer!DI9-'Summer Peak 2015-01-15'!IV9","v":0},{"$f":"Summer!DJ9-'Summer Peak 2015-01-15'!IW9","v":0},{"$f":"Summer!DK9-'Summer Peak 2015-01-15'!IX9","v":0},{"$f":"Summer!DL9-'Summer Peak 2015-01-15'!IY9","v":0},{"$f":"Summer!DM9-'Summer Peak 2015-01-15'!IZ9","v":0},{"$f":"Summer!DN9-'Summer Peak 2015-01-15'!JA9","v":0},{"$f":"Summer!DO9-'Summer Peak 2015-01-15'!JB9","v":0},{"$f":"Summer!DP9-'Summer Peak 2015-01-15'!JC9","v":0},{"$f":"Summer!DQ9-'Summer Peak 2015-01-15'!JD9","v":0},{"$f":"Summer!DR9-'Summer Peak 2015-01-15'!JE9","v":0},{"$f":"Summer!DS9-'Summer Peak 2015-01-15'!JF9","v":0}]
[null,"PFL4",{"$f":"Summer!C10-'Summer Peak 2015-01-15'!EP10","v":0},{"$f":"Summer!D10-'Summer Peak 2015-01-15'!EQ10","v":0},{"$f":"Summer!E10-'Summer Peak 2015-01-15'!ER10","v":0},{"$f":"Summer!F10-'Summer Peak 2015-01-15'!ES10","v":0},{"$f":"Summer!G10-'Summer Peak 2015-01-15'!ET10","v":0},{"$f":"Summer!H10-'Summer Peak 2015-01-15'!EU10","v":0},{"$f":"Summer!I10-'Summer Peak 2015-01-15'!EV10","v":0},{"$f":"Summer!J10-'Summer Peak 2015-01-15'!EW10","v":0},{"$f":"Summer!K10-'Summer Peak 2015-01-15'!EX10","v":0},{"$f":"Summer!L10-'Summer Peak 2015-01-15'!EY10","v":0},{"$f":"Summer!M10-'Summer Peak 2015-01-15'!EZ10","v":0},{"$f":"Summer!N10-'Summer Peak 2015-01-15'!FA10","v":0},{"$f":"Summer!O10-'Summer Peak 2015-01-15'!FB10","v":0},{"$f":"Summer!P10-'Summer Peak 2015-01-15'!FC10","v":0},{"$f":"Summer!Q10-'Summer Peak 2015-01-15'!FD10","v":0},{"$f":"Summer!R10-'Summer Peak 2015-01-15'!FE10","v":0},{"$f":"Summer!S10-'Summer Peak 2015-01-15'!FF10","v":0},{"$f":"Summer!T10-'Summer Peak 2015-01-15'!FG10","v":0},{"$f":"Summer!U10-'Summer Peak 2015-01-15'!FH10","v":0},{"$f":"Summer!V10-'Summer Peak 2015-01-15'!FI10","v":0},{"$f":"Summer!W10-'Summer Peak 2015-01-15'!FJ10","v":0},{"$f":"Summer!X10-'Summer Peak 2015-01-15'!FK10","v":0},{"$f":"Summer!Y10-'Summer Peak 2015-01-15'!FL10","v":0},{"$f":"Summer!Z10-'Summer Peak 2015-01-15'!FM10","v":0},{"$f":"Summer!AA10-'Summer Peak 2015-01-15'!FN10","v":0},{"$f":"Summer!AB10-'Summer Peak 2015-01-15'!FO10","v":0},{"$f":"Summer!AC10-'Summer Peak 2015-01-15'!FP10","v":0},{"$f":"Summer!AD10-'Summer Peak 2015-01-15'!FQ10","v":0},{"$f":"Summer!AE10-'Summer Peak 2015-01-15'!FR10","v":0},{"$f":"Summer!AF10-'Summer Peak 2015-01-15'!FS10","v":0},{"$f":"Summer!AG10-'Summer Peak 2015-01-15'!FT10","v":0},{"$f":"Summer!AH10-'Summer Peak 2015-01-15'!FU10","v":0},{"$f":"Summer!AI10-'Summer Peak 2015-01-15'!FV10","v":0},{"$f":"Summer!AJ10-'Summer Peak 2015-01-15'!FW10","v":0},{"$f":"Summer!AK10-'Summer Peak 2015-01-15'!FX10","v":0},{"$f":"Summer!AL10-'Summer Peak 2015-01-15'!FY10","v":0},{"$f":"Summer!AM10-'Summer Peak 2015-01-15'!FZ10","v":0},{"$f":"Summer!AN10-'Summer Peak 2015-01-15'!GA10","v":0},{"$f":"Summer!AO10-'Summer Peak 2015-01-15'!GB10","v":0},{"$f":"Summer!AP10-'Summer Peak 2015-01-15'!GC10","v":0},{"$f":"Summer!AQ10-'Summer Peak 2015-01-15'!GD10","v":0},{"$f":"Summer!AR10-'Summer Peak 2015-01-15'!GE10","v":0},{"$f":"Summer!AS10-'Summer Peak 2015-01-15'!GF10","v":0},{"$f":"Summer!AT10-'Summer Peak 2015-01-15'!GG10","v":0},{"$f":"Summer!AU10-'Summer Peak 2015-01-15'!GH10","v":0},{"$f":"Summer!AV10-'Summer Peak 2015-01-15'!GI10","v":0},{"$f":"Summer!AW10-'Summer Peak 2015-01-15'!GJ10","v":0},{"$f":"Summer!AX10-'Summer Peak 2015-01-15'!GK10","v":0},{"$f":"Summer!AY10-'Summer Peak 2015-01-15'!GL10","v":0},{"$f":"Summer!AZ10-'Summer Peak 2015-01-15'!GM10","v":0},{"$f":"Summer!BA10-'Summer Peak 2015-01-15'!GN10","v":0},{"$f":"Summer!BB10-'Summer Peak 2015-01-15'!GO10","v":0},{"$f":"Summer!BC10-'Summer Peak 2015-01-15'!GP10","v":0},{"$f":"Summer!BD10-'Summer Peak 2015-01-15'!GQ10","v":0},{"$f":"Summer!BE10-'Summer Peak 2015-01-15'!GR10","v":0},{"$f":"Summer!BF10-'Summer Peak 2015-01-15'!GS10","v":0},{"$f":"Summer!BG10-'Summer Peak 2015-01-15'!GT10","v":0},{"$f":"Summer!BH10-'Summer Peak 2015-01-15'!GU10","v":0},{"$f":"Summer!BI10-'Summer Peak 2015-01-15'!GV10","v":0},{"$f":"Summer!BJ10-'Summer Peak 2015-01-15'!GW10","v":0},{"$f":"Summer!BK10-'Summer Peak 2015-01-15'!GX10","v":0},{"$f":"Summer!BL10-'Summer Peak 2015-01-15'!GY10","v":0},{"$f":"Summer!BM10-'Summer Peak 2015-01-15'!GZ10","v":0},{"$f":"Summer!BN10-'Summer Peak 2015-01-15'!HA10","v":0},{"$f":"Summer!BO10-'Summer Peak 2015-01-15'!HB10","v":0},{"$f":"Summer!BP10-'Summer Peak 2015-01-15'!HC10","v":0},{"$f":"Summer!BQ10-'Summer Peak 2015-01-15'!HD10","v":0},{"$f":"Summer!BR10-'Summer Peak 2015-01-15'!HE10","v":0},{"$f":"Summer!BS10-'Summer Peak 2015-01-15'!HF10","v":0},{"$f":"Summer!BT10-'Summer Peak 2015-01-15'!HG10","v":0},{"$f":"Summer!BU10-'Summer Peak 2015-01-15'!HH10","v":0},{"$f":"Summer!BV10-'Summer Peak 2015-01-15'!HI10","v":0},{"$f":"Summer!BW10-'Summer Peak 2015-01-15'!HJ10","v":0},{"$f":"Summer!BX10-'Summer Peak 2015-01-15'!HK10","v":0},{"$f":"Summer!BY10-'Summer Peak 2015-01-15'!HL10","v":0},{"$f":"Summer!BZ10-'Summer Peak 2015-01-15'!HM10","v":0},{"$f":"Summer!CA10-'Summer Peak 2015-01-15'!HN10","v":0},{"$f":"Summer!CB10-'Summer Peak 2015-01-15'!HO10","v":0},{"$f":"Summer!CC10-'Summer Peak 2015-01-15'!HP10","v":0},{"$f":"Summer!CD10-'Summer Peak 2015-01-15'!HQ10","v":0},{"$f":"Summer!CE10-'Summer Peak 2015-01-15'!HR10","v":0},{"$f":"Summer!CF10-'Summer Peak 2015-01-15'!HS10","v":0},{"$f":"Summer!CG10-'Summer Peak 2015-01-15'!HT10","v":0},{"$f":"Summer!CH10-'Summer Peak 2015-01-15'!HU10","v":0},{"$f":"Summer!CI10-'Summer Peak 2015-01-15'!HV10","v":0},{"$f":"Summer!CJ10-'Summer Peak 2015-01-15'!HW10","v":0},{"$f":"Summer!CK10-'Summer Peak 2015-01-15'!HX10","v":0},{"$f":"Summer!CL10-'Summer Peak 2015-01-15'!HY10","v":0},{"$f":"Summer!CM10-'Summer Peak 2015-01-15'!HZ10","v":0},{"$f":"Summer!CN10-'Summer Peak 2015-01-15'!IA10","v":0},{"$f":"Summer!CO10-'Summer Peak 2015-01-15'!IB10","v":0},{"$f":"Summer!CP10-'Summer Peak 2015-01-15'!IC10","v":0},{"$f":"Summer!CQ10-'Summer Peak 2015-01-15'!ID10","v":0},{"$f":"Summer!CR10-'Summer Peak 2015-01-15'!IE10","v":0},{"$f":"Summer!CS10-'Summer Peak 2015-01-15'!IF10","v":0},{"$f":"Summer!CT10-'Summer Peak 2015-01-15'!IG10","v":0},{"$f":"Summer!CU10-'Summer Peak 2015-01-15'!IH10","v":0},{"$f":"Summer!CV10-'Summer Peak 2015-01-15'!II10","v":0},{"$f":"Summer!CW10-'Summer Peak 2015-01-15'!IJ10","v":0},{"$f":"Summer!CX10-'Summer Peak 2015-01-15'!IK10","v":0},{"$f":"Summer!CY10-'Summer Peak 2015-01-15'!IL10","v":0},{"$f":"Summer!CZ10-'Summer Peak 2015-01-15'!IM10","v":0},{"$f":"Summer!DA10-'Summer Peak 2015-01-15'!IN10","v":0},{"$f":"Summer!DB10-'Summer Peak 2015-01-15'!IO10","v":0},{"$f":"Summer!DC10-'Summer Peak 2015-01-15'!IP10","v":0},{"$f":"Summer!DD10-'Summer Peak 2015-01-15'!IQ10","v":0},{"$f":"Summer!DE10-'Summer Peak 2015-01-15'!IR10","v":0},{"$f":"Summer!DF10-'Summer Peak 2015-01-15'!IS10","v":0},{"$f":"Summer!DG10-'Summer Peak 2015-01-15'!IT10","v":0},{"$f":"Summer!DH10-'Summer Peak 2015-01-15'!IU10","v":0},{"$f":"Summer!DI10-'Summer Peak 2015-01-15'!IV10","v":0},{"$f":"Summer!DJ10-'Summer Peak 2015-01-15'!IW10","v":0},{"$f":"Summer!DK10-'Summer Peak 2015-01-15'!IX10","v":0},{"$f":"Summer!DL10-'Summer Peak 2015-01-15'!IY10","v":0},{"$f":"Summer!DM10-'Summer Peak 2015-01-15'!IZ10","v":0},{"$f":"Summer!DN10-'Summer Peak 2015-01-15'!JA10","v":0},{"$f":"Summer!DO10-'Summer Peak 2015-01-15'!JB10","v":0},{"$f":"Summer!DP10-'Summer Peak 2015-01-15'!JC10","v":0},{"$f":"Summer!DQ10-'Summer Peak 2015-01-15'!JD10","v":0},{"$f":"Summer!DR10-'Summer Peak 2015-01-15'!JE10","v":0},{"$f":"Summer!DS10-'Summer Peak 2015-01-15'!JF10","v":0}]
[null,"PFL5",{"$f":"Summer!C11-'Summer Peak 2015-01-15'!EP11","v":0},{"$f":"Summer!D11-'Summer Peak 2015-01-15'!EQ11","v":0},{"$f":"Summer!E11-'Summer Peak 2015-01-15'!ER11","v":0},{"$f":"Summer!F11-'Summer Peak 2015-01-15'!ES11","v":0},{"$f":"Summer!G11-'Summer Peak 2015-01-15'!ET11","v":0},{"$f":"Summer!H11-'Summer Peak 2015-01-15'!EU11","v":0},{"$f":"Summer!I11-'Summer Peak 2015-01-15'!EV11","v":0},{"$f":"Summer!J11-'Summer Peak 2015-01-15'!EW11","v":0},{"$f":"Summer!K11-'Summer Peak 2015-01-15'!EX11","v":0},{"$f":"Summer!L11-'Summer Peak 2015-01-15'!EY11","v":0},{"$f":"Summer!M11-'Summer Peak 2015-01-15'!EZ11","v":0},{"$f":"Summer!N11-'Summer Peak 2015-01-15'!FA11","v":0},{"$f":"Summer!O11-'Summer Peak 2015-01-15'!FB11","v":0},{"$f":"Summer!P11-'Summer Peak 2015-01-15'!FC11","v":0},{"$f":"Summer!Q11-'Summer Peak 2015-01-15'!FD11","v":0},{"$f":"Summer!R11-'Summer Peak 2015-01-15'!FE11","v":0},{"$f":"Summer!S11-'Summer Peak 2015-01-15'!FF11","v":0},{"$f":"Summer!T11-'Summer Peak 2015-01-15'!FG11","v":0},{"$f":"Summer!U11-'Summer Peak 2015-01-15'!FH11","v":0},{"$f":"Summer!V11-'Summer Peak 2015-01-15'!FI11","v":0},{"$f":"Summer!W11-'Summer Peak 2015-01-15'!FJ11","v":0},{"$f":"Summer!X11-'Summer Peak 2015-01-15'!FK11","v":0},{"$f":"Summer!Y11-'Summer Peak 2015-01-15'!FL11","v":0},{"$f":"Summer!Z11-'Summer Peak 2015-01-15'!FM11","v":0},{"$f":"Summer!AA11-'Summer Peak 2015-01-15'!FN11","v":0},{"$f":"Summer!AB11-'Summer Peak 2015-01-15'!FO11","v":0},{"$f":"Summer!AC11-'Summer Peak 2015-01-15'!FP11","v":0},{"$f":"Summer!AD11-'Summer Peak 2015-01-15'!FQ11","v":0},{"$f":"Summer!AE11-'Summer Peak 2015-01-15'!FR11","v":0},{"$f":"Summer!AF11-'Summer Peak 2015-01-15'!FS11","v":0},{"$f":"Summer!AG11-'Summer Peak 2015-01-15'!FT11","v":0},{"$f":"Summer!AH11-'Summer Peak 2015-01-15'!FU11","v":0},{"$f":"Summer!AI11-'Summer Peak 2015-01-15'!FV11","v":0},{"$f":"Summer!AJ11-'Summer Peak 2015-01-15'!FW11","v":0},{"$f":"Summer!AK11-'Summer Peak 2015-01-15'!FX11","v":0},{"$f":"Summer!AL11-'Summer Peak 2015-01-15'!FY11","v":0},{"$f":"Summer!AM11-'Summer Peak 2015-01-15'!FZ11","v":0},{"$f":"Summer!AN11-'Summer Peak 2015-01-15'!GA11","v":0},{"$f":"Summer!AO11-'Summer Peak 2015-01-15'!GB11","v":0},{"$f":"Summer!AP11-'Summer Peak 2015-01-15'!GC11","v":0},{"$f":"Summer!AQ11-'Summer Peak 2015-01-15'!GD11","v":0},{"$f":"Summer!AR11-'Summer Peak 2015-01-15'!GE11","v":0},{"$f":"Summer!AS11-'Summer Peak 2015-01-15'!GF11","v":0},{"$f":"Summer!AT11-'Summer Peak 2015-01-15'!GG11","v":0},{"$f":"Summer!AU11-'Summer Peak 2015-01-15'!GH11","v":0},{"$f":"Summer!AV11-'Summer Peak 2015-01-15'!GI11","v":0},{"$f":"Summer!AW11-'Summer Peak 2015-01-15'!GJ11","v":0},{"$f":"Summer!AX11-'Summer Peak 2015-01-15'!GK11","v":0},{"$f":"Summer!AY11-'Summer Peak 2015-01-15'!GL11","v":0},{"$f":"Summer!AZ11-'Summer Peak 2015-01-15'!GM11","v":0},{"$f":"Summer!BA11-'Summer Peak 2015-01-15'!GN11","v":0},{"$f":"Summer!BB11-'Summer Peak 2015-01-15'!GO11","v":0},{"$f":"Summer!BC11-'Summer Peak 2015-01-15'!GP11","v":0},{"$f":"Summer!BD11-'Summer Peak 2015-01-15'!GQ11","v":0},{"$f":"Summer!BE11-'Summer Peak 2015-01-15'!GR11","v":0},{"$f":"Summer!BF11-'Summer Peak 2015-01-15'!GS11","v":0},{"$f":"Summer!BG11-'Summer Peak 2015-01-15'!GT11","v":0},{"$f":"Summer!BH11-'Summer Peak 2015-01-15'!GU11","v":0},{"$f":"Summer!BI11-'Summer Peak 2015-01-15'!GV11","v":0},{"$f":"Summer!BJ11-'Summer Peak 2015-01-15'!GW11","v":0},{"$f":"Summer!BK11-'Summer Peak 2015-01-15'!GX11","v":0},{"$f":"Summer!BL11-'Summer Peak 2015-01-15'!GY11","v":0},{"$f":"Summer!BM11-'Summer Peak 2015-01-15'!GZ11","v":0},{"$f":"Summer!BN11-'Summer Peak 2015-01-15'!HA11","v":0},{"$f":"Summer!BO11-'Summer Peak 2015-01-15'!HB11","v":0},{"$f":"Summer!BP11-'Summer Peak 2015-01-15'!HC11","v":0},{"$f":"Summer!BQ11-'Summer Peak 2015-01-15'!HD11","v":0},{"$f":"Summer!BR11-'Summer Peak 2015-01-15'!HE11","v":0},{"$f":"Summer!BS11-'Summer Peak 2015-01-15'!HF11","v":0},{"$f":"Summer!BT11-'Summer Peak 2015-01-15'!HG11","v":0},{"$f":"Summer!BU11-'Summer Peak 2015-01-15'!HH11","v":0},{"$f":"Summer!BV11-'Summer Peak 2015-01-15'!HI11","v":0},{"$f":"Summer!BW11-'Summer Peak 2015-01-15'!HJ11","v":0},{"$f":"Summer!BX11-'Summer Peak 2015-01-15'!HK11","v":0},{"$f":"Summer!BY11-'Summer Peak 2015-01-15'!HL11","v":0},{"$f":"Summer!BZ11-'Summer Peak 2015-01-15'!HM11","v":0},{"$f":"Summer!CA11-'Summer Peak 2015-01-15'!HN11","v":0},{"$f":"Summer!CB11-'Summer Peak 2015-01-15'!HO11","v":0},{"$f":"Summer!CC11-'Summer Peak 2015-01-15'!HP11","v":0},{"$f":"Summer!CD11-'Summer Peak 2015-01-15'!HQ11","v":0},{"$f":"Summer!CE11-'Summer Peak 2015-01-15'!HR11","v":0},{"$f":"Summer!CF11-'Summer Peak 2015-01-15'!HS11","v":0},{"$f":"Summer!CG11-'Summer Peak 2015-01-15'!HT11","v":0},{"$f":"Summer!CH11-'Summer Peak 2015-01-15'!HU11","v":0},{"$f":"Summer!CI11-'Summer Peak 2015-01-15'!HV11","v":0},{"$f":"Summer!CJ11-'Summer Peak 2015-01-15'!HW11","v":0},{"$f":"Summer!CK11-'Summer Peak 2015-01-15'!HX11","v":0},{"$f":"Summer!CL11-'Summer Peak 2015-01-15'!HY11","v":0},{"$f":"Summer!CM11-'Summer Peak 2015-01-15'!HZ11","v":0},{"$f":"Summer!CN11-'Summer Peak 2015-01-15'!IA11","v":0},{"$f":"Summer!CO11-'Summer Peak 2015-01-15'!IB11","v":0},{"$f":"Summer!CP11-'Summer Peak 2015-01-15'!IC11","v":0},{"$f":"Summer!CQ11-'Summer Peak 2015-01-15'!ID11","v":0},{"$f":"Summer!CR11-'Summer Peak 2015-01-15'!IE11","v":0},{"$f":"Summer!CS11-'Summer Peak 2015-01-15'!IF11","v":0},{"$f":"Summer!CT11-'Summer Peak 2015-01-15'!IG11","v":0},{"$f":"Summer!CU11-'Summer Peak 2015-01-15'!IH11","v":0},{"$f":"Summer!CV11-'Summer Peak 2015-01-15'!II11","v":0},{"$f":"Summer!CW11-'Summer Peak 2015-01-15'!IJ11","v":0},{"$f":"Summer!CX11-'Summer Peak 2015-01-15'!IK11","v":0},{"$f":"Summer!CY11-'Summer Peak 2015-01-15'!IL11","v":0},{"$f":"Summer!CZ11-'Summer Peak 2015-01-15'!IM11","v":0},{"$f":"Summer!DA11-'Summer Peak 2015-01-15'!IN11","v":0},{"$f":"Summer!DB11-'Summer Peak 2015-01-15'!IO11","v":0},{"$f":"Summer!DC11-'Summer Peak 2015-01-15'!IP11","v":0},{"$f":"Summer!DD11-'Summer Peak 2015-01-15'!IQ11","v":0},{"$f":"Summer!DE11-'Summer Peak 2015-01-15'!IR11","v":0},{"$f":"Summer!DF11-'Summer Peak 2015-01-15'!IS11","v":0},{"$f":"Summer!DG11-'Summer Peak 2015-01-15'!IT11","v":0},{"$f":"Summer!DH11-'Summer Peak 2015-01-15'!IU11","v":0},{"$f":"Summer!DI11-'Summer Peak 2015-01-15'!IV11","v":0},{"$f":"Summer!DJ11-'Summer Peak 2015-01-15'!IW11","v":0},{"$f":"Summer!DK11-'Summer Peak 2015-01-15'!IX11","v":0},{"$f":"Summer!DL11-'Summer Peak 2015-01-15'!IY11","v":0},{"$f":"Summer!DM11-'Summer Peak 2015-01-15'!IZ11","v":0},{"$f":"Summer!DN11-'Summer Peak 2015-01-15'!JA11","v":0},{"$f":"Summer!DO11-'Summer Peak 2015-01-15'!JB11","v":0},{"$f":"Summer!DP11-'Summer Peak 2015-01-15'!JC11","v":0},{"$f":"Summer!DQ11-'Summer Peak 2015-01-15'!JD11","v":0},{"$f":"Summer!DR11-'Summer Peak 2015-01-15'!JE11","v":0},{"$f":"Summer!DS11-'Summer Peak 2015-01-15'!JF11","v":0}]
[null,"PFL GT1",{"$f":"Summer!C12-'Summer Peak 2015-01-15'!EP12","v":0},{"$f":"Summer!D12-'Summer Peak 2015-01-15'!EQ12","v":0},{"$f":"Summer!E12-'Summer Peak 2015-01-15'!ER12","v":0},{"$f":"Summer!F12-'Summer Peak 2015-01-15'!ES12","v":0},{"$f":"Summer!G12-'Summer Peak 2015-01-15'!ET12","v":0},{"$f":"Summer!H12-'Summer Peak 2015-01-15'!EU12","v":0},{"$f":"Summer!I12-'Summer Peak 2015-01-15'!EV12","v":0},{"$f":"Summer!J12-'Summer Peak 2015-01-15'!EW12","v":0},{"$f":"Summer!K12-'Summer Peak 2015-01-15'!EX12","v":0},{"$f":"Summer!L12-'Summer Peak 2015-01-15'!EY12","v":0},{"$f":"Summer!M12-'Summer Peak 2015-01-15'!EZ12","v":0},{"$f":"Summer!N12-'Summer Peak 2015-01-15'!FA12","v":0},{"$f":"Summer!O12-'Summer Peak 2015-01-15'!FB12","v":0},{"$f":"Summer!P12-'Summer Peak 2015-01-15'!FC12","v":0},{"$f":"Summer!Q12-'Summer Peak 2015-01-15'!FD12","v":0},{"$f":"Summer!R12-'Summer Peak 2015-01-15'!FE12","v":0},{"$f":"Summer!S12-'Summer Peak 2015-01-15'!FF12","v":0},{"$f":"Summer!T12-'Summer Peak 2015-01-15'!FG12","v":0},{"$f":"Summer!U12-'Summer Peak 2015-01-15'!FH12","v":0},{"$f":"Summer!V12-'Summer Peak 2015-01-15'!FI12","v":0},{"$f":"Summer!W12-'Summer Peak 2015-01-15'!FJ12","v":0},{"$f":"Summer!X12-'Summer Peak 2015-01-15'!FK12","v":0},{"$f":"Summer!Y12-'Summer Peak 2015-01-15'!FL12","v":0},{"$f":"Summer!Z12-'Summer Peak 2015-01-15'!FM12","v":0},{"$f":"Summer!AA12-'Summer Peak 2015-01-15'!FN12","v":0},{"$f":"Summer!AB12-'Summer Peak 2015-01-15'!FO12","v":0},{"$f":"Summer!AC12-'Summer Peak 2015-01-15'!FP12","v":0},{"$f":"Summer!AD12-'Summer Peak 2015-01-15'!FQ12","v":0},{"$f":"Summer!AE12-'Summer Peak 2015-01-15'!FR12","v":0},{"$f":"Summer!AF12-'Summer Peak 2015-01-15'!FS12","v":0},{"$f":"Summer!AG12-'Summer Peak 2015-01-15'!FT12","v":0},{"$f":"Summer!AH12-'Summer Peak 2015-01-15'!FU12","v":0},{"$f":"Summer!AI12-'Summer Peak 2015-01-15'!FV12","v":0},{"$f":"Summer!AJ12-'Summer Peak 2015-01-15'!FW12","v":0},{"$f":"Summer!AK12-'Summer Peak 2015-01-15'!FX12","v":0},{"$f":"Summer!AL12-'Summer Peak 2015-01-15'!FY12","v":0},{"$f":"Summer!AM12-'Summer Peak 2015-01-15'!FZ12","v":0},{"$f":"Summer!AN12-'Summer Peak 2015-01-15'!GA12","v":0},{"$f":"Summer!AO12-'Summer Peak 2015-01-15'!GB12","v":0},{"$f":"Summer!AP12-'Summer Peak 2015-01-15'!GC12","v":0},{"$f":"Summer!AQ12-'Summer Peak 2015-01-15'!GD12","v":0},{"$f":"Summer!AR12-'Summer Peak 2015-01-15'!GE12","v":0},{"$f":"Summer!AS12-'Summer Peak 2015-01-15'!GF12","v":0},{"$f":"Summer!AT12-'Summer Peak 2015-01-15'!GG12","v":0},{"$f":"Summer!AU12-'Summer Peak 2015-01-15'!GH12","v":0},{"$f":"Summer!AV12-'Summer Peak 2015-01-15'!GI12","v":0},{"$f":"Summer!AW12-'Summer Peak 2015-01-15'!GJ12","v":0},{"$f":"Summer!AX12-'Summer Peak 2015-01-15'!GK12","v":0},{"$f":"Summer!AY12-'Summer Peak 2015-01-15'!GL12","v":0},{"$f":"Summer!AZ12-'Summer Peak 2015-01-15'!GM12","v":0},{"$f":"Summer!BA12-'Summer Peak 2015-01-15'!GN12","v":0},{"$f":"Summer!BB12-'Summer Peak 2015-01-15'!GO12","v":0},{"$f":"Summer!BC12-'Summer Peak 2015-01-15'!GP12","v":0},{"$f":"Summer!BD12-'Summer Peak 2015-01-15'!GQ12","v":0},{"$f":"Summer!BE12-'Summer Peak 2015-01-15'!GR12","v":0},{"$f":"Summer!BF12-'Summer Peak 2015-01-15'!GS12","v":0},{"$f":"Summer!BG12-'Summer Peak 2015-01-15'!GT12","v":0},{"$f":"Summer!BH12-'Summer Peak 2015-01-15'!GU12","v":0},{"$f":"Summer!BI12-'Summer Peak 2015-01-15'!GV12","v":0},{"$f":"Summer!BJ12-'Summer Peak 2015-01-15'!GW12","v":0},{"$f":"Summer!BK12-'Summer Peak 2015-01-15'!GX12","v":0},{"$f":"Summer!BL12-'Summer Peak 2015-01-15'!GY12","v":0},{"$f":"Summer!BM12-'Summer Peak 2015-01-15'!GZ12","v":0},{"$f":"Summer!BN12-'Summer Peak 2015-01-15'!HA12","v":0},{"$f":"Summer!BO12-'Summer Peak 2015-01-15'!HB12","v":0},{"$f":"Summer!BP12-'Summer Peak 2015-01-15'!HC12","v":0},{"$f":"Summer!BQ12-'Summer Peak 2015-01-15'!HD12","v":0},{"$f":"Summer!BR12-'Summer Peak 2015-01-15'!HE12","v":0},{"$f":"Summer!BS12-'Summer Peak 2015-01-15'!HF12","v":0},{"$f":"Summer!BT12-'Summer Peak 2015-01-15'!HG12","v":0},{"$f":"Summer!BU12-'Summer Peak 2015-01-15'!HH12","v":0},{"$f":"Summer!BV12-'Summer Peak 2015-01-15'!HI12","v":0},{"$f":"Summer!BW12-'Summer Peak 2015-01-15'!HJ12","v":0},{"$f":"Summer!BX12-'Summer Peak 2015-01-15'!HK12","v":0},{"$f":"Summer!BY12-'Summer Peak 2015-01-15'!HL12","v":0},{"$f":"Summer!BZ12-'Summer Peak 2015-01-15'!HM12","v":0},{"$f":"Summer!CA12-'Summer Peak 2015-01-15'!HN12","v":0},{"$f":"Summer!CB12-'Summer Peak 2015-01-15'!HO12","v":0},{"$f":"Summer!CC12-'Summer Peak 2015-01-15'!HP12","v":0},{"$f":"Summer!CD12-'Summer Peak 2015-01-15'!HQ12","v":0},{"$f":"Summer!CE12-'Summer Peak 2015-01-15'!HR12","v":0},{"$f":"Summer!CF12-'Summer Peak 2015-01-15'!HS12","v":0},{"$f":"Summer!CG12-'Summer Peak 2015-01-15'!HT12","v":0},{"$f":"Summer!CH12-'Summer Peak 2015-01-15'!HU12","v":0},{"$f":"Summer!CI12-'Summer Peak 2015-01-15'!HV12","v":0},{"$f":"Summer!CJ12-'Summer Peak 2015-01-15'!HW12","v":0},{"$f":"Summer!CK12-'Summer Peak 2015-01-15'!HX12","v":0},{"$f":"Summer!CL12-'Summer Peak 2015-01-15'!HY12","v":0},{"$f":"Summer!CM12-'Summer Peak 2015-01-15'!HZ12","v":0},{"$f":"Summer!CN12-'Summer Peak 2015-01-15'!IA12","v":0},{"$f":"Summer!CO12-'Summer Peak 2015-01-15'!IB12","v":0},{"$f":"Summer!CP12-'Summer Peak 2015-01-15'!IC12","v":0},{"$f":"Summer!CQ12-'Summer Peak 2015-01-15'!ID12","v":0},{"$f":"Summer!CR12-'Summer Peak 2015-01-15'!IE12","v":0},{"$f":"Summer!CS12-'Summer Peak 2015-01-15'!IF12","v":0},{"$f":"Summer!CT12-'Summer Peak 2015-01-15'!IG12","v":0},{"$f":"Summer!CU12-'Summer Peak 2015-01-15'!IH12","v":0},{"$f":"Summer!CV12-'Summer Peak 2015-01-15'!II12","v":0},{"$f":"Summer!CW12-'Summer Peak 2015-01-15'!IJ12","v":0},{"$f":"Summer!CX12-'Summer Peak 2015-01-15'!IK12","v":0},{"$f":"Summer!CY12-'Summer Peak 2015-01-15'!IL12","v":0},{"$f":"Summer!CZ12-'Summer Peak 2015-01-15'!IM12","v":0},{"$f":"Summer!DA12-'Summer Peak 2015-01-15'!IN12","v":0},{"$f":"Summer!DB12-'Summer Peak 2015-01-15'!IO12","v":0},{"$f":"Summer!DC12-'Summer Peak 2015-01-15'!IP12","v":0},{"$f":"Summer!DD12-'Summer Peak 2015-01-15'!IQ12","v":0},{"$f":"Summer!DE12-'Summer Peak 2015-01-15'!IR12","v":0},{"$f":"Summer!DF12-'Summer Peak 2015-01-15'!IS12","v":0},{"$f":"Summer!DG12-'Summer Peak 2015-01-15'!IT12","v":0},{"$f":"Summer!DH12-'Summer Peak 2015-01-15'!IU12","v":0},{"$f":"Summer!DI12-'Summer Peak 2015-01-15'!IV12","v":0},{"$f":"Summer!DJ12-'Summer Peak 2015-01-15'!IW12","v":0},{"$f":"Summer!DK12-'Summer Peak 2015-01-15'!IX12","v":0},{"$f":"Summer!DL12-'Summer Peak 2015-01-15'!IY12","v":0},{"$f":"Summer!DM12-'Summer Peak 2015-01-15'!IZ12","v":0},{"$f":"Summer!DN12-'Summer Peak 2015-01-15'!JA12","v":0},{"$f":"Summer!DO12-'Summer Peak 2015-01-15'!JB12","v":0},{"$f":"Summer!DP12-'Summer Peak 2015-01-15'!JC12","v":0},{"$f":"Summer!DQ12-'Summer Peak 2015-01-15'!JD12","v":0},{"$f":"Summer!DR12-'Summer Peak 2015-01-15'!JE12","v":0},{"$f":"Summer!DS12-'Summer Peak 2015-01-15'!JF12","v":0}]
[null,"PFL GT2",{"$f":"Summer!C13-'Summer Peak 2015-01-15'!EP13","v":0},{"$f":"Summer!D13-'Summer Peak 2015-01-15'!EQ13","v":0},{"$f":"Summer!E13-'Summer Peak 2015-01-15'!ER13","v":0},{"$f":"Summer!F13-'Summer Peak 2015-01-15'!ES13","v":0},{"$f":"Summer!G13-'Summer Peak 2015-01-15'!ET13","v":0},{"$f":"Summer!H13-'Summer Peak 2015-01-15'!EU13","v":0},{"$f":"Summer!I13-'Summer Peak 2015-01-15'!EV13","v":0},{"$f":"Summer!J13-'Summer Peak 2015-01-15'!EW13","v":0},{"$f":"Summer!K13-'Summer Peak 2015-01-15'!EX13","v":0},{"$f":"Summer!L13-'Summer Peak 2015-01-15'!EY13","v":0},{"$f":"Summer!M13-'Summer Peak 2015-01-15'!EZ13","v":0},{"$f":"Summer!N13-'Summer Peak 2015-01-15'!FA13","v":0},{"$f":"Summer!O13-'Summer Peak 2015-01-15'!FB13","v":0},{"$f":"Summer!P13-'Summer Peak 2015-01-15'!FC13","v":0},{"$f":"Summer!Q13-'Summer Peak 2015-01-15'!FD13","v":0},{"$f":"Summer!R13-'Summer Peak 2015-01-15'!FE13","v":0},{"$f":"Summer!S13-'Summer Peak 2015-01-15'!FF13","v":0},{"$f":"Summer!T13-'Summer Peak 2015-01-15'!FG13","v":0},{"$f":"Summer!U13-'Summer Peak 2015-01-15'!FH13","v":0},{"$f":"Summer!V13-'Summer Peak 2015-01-15'!FI13","v":0},{"$f":"Summer!W13-'Summer Peak 2015-01-15'!FJ13","v":0},{"$f":"Summer!X13-'Summer Peak 2015-01-15'!FK13","v":0},{"$f":"Summer!Y13-'Summer Peak 2015-01-15'!FL13","v":0},{"$f":"Summer!Z13-'Summer Peak 2015-01-15'!FM13","v":0},{"$f":"Summer!AA13-'Summer Peak 2015-01-15'!FN13","v":0},{"$f":"Summer!AB13-'Summer Peak 2015-01-15'!FO13","v":0},{"$f":"Summer!AC13-'Summer Peak 2015-01-15'!FP13","v":0},{"$f":"Summer!AD13-'Summer Peak 2015-01-15'!FQ13","v":0},{"$f":"Summer!AE13-'Summer Peak 2015-01-15'!FR13","v":0},{"$f":"Summer!AF13-'Summer Peak 2015-01-15'!FS13","v":0},{"$f":"Summer!AG13-'Summer Peak 2015-01-15'!FT13","v":0},{"$f":"Summer!AH13-'Summer Peak 2015-01-15'!FU13","v":0},{"$f":"Summer!AI13-'Summer Peak 2015-01-15'!FV13","v":0},{"$f":"Summer!AJ13-'Summer Peak 2015-01-15'!FW13","v":0},{"$f":"Summer!AK13-'Summer Peak 2015-01-15'!FX13","v":0},{"$f":"Summer!AL13-'Summer Peak 2015-01-15'!FY13","v":0},{"$f":"Summer!AM13-'Summer Peak 2015-01-15'!FZ13","v":0},{"$f":"Summer!AN13-'Summer Peak 2015-01-15'!GA13","v":0},{"$f":"Summer!AO13-'Summer Peak 2015-01-15'!GB13","v":0},{"$f":"Summer!AP13-'Summer Peak 2015-01-15'!GC13","v":0},{"$f":"Summer!AQ13-'Summer Peak 2015-01-15'!GD13","v":0},{"$f":"Summer!AR13-'Summer Peak 2015-01-15'!GE13","v":0},{"$f":"Summer!AS13-'Summer Peak 2015-01-15'!GF13","v":0},{"$f":"Summer!AT13-'Summer Peak 2015-01-15'!GG13","v":0},{"$f":"Summer!AU13-'Summer Peak 2015-01-15'!GH13","v":0},{"$f":"Summer!AV13-'Summer Peak 2015-01-15'!GI13","v":0},{"$f":"Summer!AW13-'Summer Peak 2015-01-15'!GJ13","v":0},{"$f":"Summer!AX13-'Summer Peak 2015-01-15'!GK13","v":0},{"$f":"Summer!AY13-'Summer Peak 2015-01-15'!GL13","v":0},{"$f":"Summer!AZ13-'Summer Peak 2015-01-15'!GM13","v":0},{"$f":"Summer!BA13-'Summer Peak 2015-01-15'!GN13","v":0},{"$f":"Summer!BB13-'Summer Peak 2015-01-15'!GO13","v":0},{"$f":"Summer!BC13-'Summer Peak 2015-01-15'!GP13","v":0},{"$f":"Summer!BD13-'Summer Peak 2015-01-15'!GQ13","v":0},{"$f":"Summer!BE13-'Summer Peak 2015-01-15'!GR13","v":0},{"$f":"Summer!BF13-'Summer Peak 2015-01-15'!GS13","v":0},{"$f":"Summer!BG13-'Summer Peak 2015-01-15'!GT13","v":0},{"$f":"Summer!BH13-'Summer Peak 2015-01-15'!GU13","v":0},{"$f":"Summer!BI13-'Summer Peak 2015-01-15'!GV13","v":0},{"$f":"Summer!BJ13-'Summer Peak 2015-01-15'!GW13","v":0},{"$f":"Summer!BK13-'Summer Peak 2015-01-15'!GX13","v":0},{"$f":"Summer!BL13-'Summer Peak 2015-01-15'!GY13","v":0},{"$f":"Summer!BM13-'Summer Peak 2015-01-15'!GZ13","v":0},{"$f":"Summer!BN13-'Summer Peak 2015-01-15'!HA13","v":0},{"$f":"Summer!BO13-'Summer Peak 2015-01-15'!HB13","v":0},{"$f":"Summer!BP13-'Summer Peak 2015-01-15'!HC13","v":0},{"$f":"Summer!BQ13-'Summer Peak 2015-01-15'!HD13","v":0},{"$f":"Summer!BR13-'Summer Peak 2015-01-15'!HE13","v":0},{"$f":"Summer!BS13-'Summer Peak 2015-01-15'!HF13","v":0},{"$f":"Summer!BT13-'Summer Peak 2015-01-15'!HG13","v":0},{"$f":"Summer!BU13-'Summer Peak 2015-01-15'!HH13","v":0},{"$f":"Summer!BV13-'Summer Peak 2015-01-15'!HI13","v":0},{"$f":"Summer!BW13-'Summer Peak 2015-01-15'!HJ13","v":0},{"$f":"Summer!BX13-'Summer Peak 2015-01-15'!HK13","v":0},{"$f":"Summer!BY13-'Summer Peak 2015-01-15'!HL13","v":0},{"$f":"Summer!BZ13-'Summer Peak 2015-01-15'!HM13","v":0},{"$f":"Summer!CA13-'Summer Peak 2015-01-15'!HN13","v":0},{"$f":"Summer!CB13-'Summer Peak 2015-01-15'!HO13","v":0},{"$f":"Summer!CC13-'Summer Peak 2015-01-15'!HP13","v":0},{"$f":"Summer!CD13-'Summer Peak 2015-01-15'!HQ13","v":0},{"$f":"Summer!CE13-'Summer Peak 2015-01-15'!HR13","v":0},{"$f":"Summer!CF13-'Summer Peak 2015-01-15'!HS13","v":0},{"$f":"Summer!CG13-'Summer Peak 2015-01-15'!HT13","v":0},{"$f":"Summer!CH13-'Summer Peak 2015-01-15'!HU13","v":0},{"$f":"Summer!CI13-'Summer Peak 2015-01-15'!HV13","v":0},{"$f":"Summer!CJ13-'Summer Peak 2015-01-15'!HW13","v":0},{"$f":"Summer!CK13-'Summer Peak 2015-01-15'!HX13","v":0},{"$f":"Summer!CL13-'Summer Peak 2015-01-15'!HY13","v":0},{"$f":"Summer!CM13-'Summer Peak 2015-01-15'!HZ13","v":0},{"$f":"Summer!CN13-'Summer Peak 2015-01-15'!IA13","v":0},{"$f":"Summer!CO13-'Summer Peak 2015-01-15'!IB13","v":0},{"$f":"Summer!CP13-'Summer Peak 2015-01-15'!IC13","v":0},{"$f":"Summer!CQ13-'Summer Peak 2015-01-15'!ID13","v":0},{"$f":"Summer!CR13-'Summer Peak 2015-01-15'!IE13","v":0},{"$f":"Summer!CS13-'Summer Peak 2015-01-15'!IF13","v":0},{"$f":"Summer!CT13-'Summer Peak 2015-01-15'!IG13","v":0},{"$f":"Summer!CU13-'Summer Peak 2015-01-15'!IH13","v":0},{"$f":"Summer!CV13-'Summer Peak 2015-01-15'!II13","v":0},{"$f":"Summer!CW13-'Summer Peak 2015-01-15'!IJ13","v":0},{"$f":"Summer!CX13-'Summer Peak 2015-01-15'!IK13","v":0},{"$f":"Summer!CY13-'Summer Peak 2015-01-15'!IL13","v":0},{"$f":"Summer!CZ13-'Summer Peak 2015-01-15'!IM13","v":0},{"$f":"Summer!DA13-'Summer Peak 2015-01-15'!IN13","v":0},{"$f":"Summer!DB13-'Summer Peak 2015-01-15'!IO13","v":0},{"$f":"Summer!DC13-'Summer Peak 2015-01-15'!IP13","v":0},{"$f":"Summer!DD13-'Summer Peak 2015-01-15'!IQ13","v":0},{"$f":"Summer!DE13-'Summer Peak 2015-01-15'!IR13","v":0},{"$f":"Summer!DF13-'Summer Peak 2015-01-15'!IS13","v":0},{"$f":"Summer!DG13-'Summer Peak 2015-01-15'!IT13","v":0},{"$f":"Summer!DH13-'Summer Peak 2015-01-15'!IU13","v":0},{"$f":"Summer!DI13-'Summer Peak 2015-01-15'!IV13","v":0},{"$f":"Summer!DJ13-'Summer Peak 2015-01-15'!IW13","v":0},{"$f":"Summer!DK13-'Summer Peak 2015-01-15'!IX13","v":0},{"$f":"Summer!DL13-'Summer Peak 2015-01-15'!IY13","v":0},{"$f":"Summer!DM13-'Summer Peak 2015-01-15'!IZ13","v":0},{"$f":"Summer!DN13-'Summer Peak 2015-01-15'!JA13","v":0},{"$f":"Summer!DO13-'Summer Peak 2015-01-15'!JB13","v":0},{"$f":"Summer!DP13-'Summer Peak 2015-01-15'!JC13","v":0},{"$f":"Summer!DQ13-'Summer Peak 2015-01-15'!JD13","v":0},{"$f":"Summer!DR13-'Summer Peak 2015-01-15'!JE13","v":0},{"$f":"Summer!DS13-'Summer Peak 2015-01-15'!JF13","v":0}]
[null,"PFL CT",{"$f":"Summer!C14-'Summer Peak 2015-01-15'!EP14","v":0},{"$f":"Summer!D14-'Summer Peak 2015-01-15'!EQ14","v":0},{"$f":"Summer!E14-'Summer Peak 2015-01-15'!ER14","v":0},{"$f":"Summer!F14-'Summer Peak 2015-01-15'!ES14","v":0},{"$f":"Summer!G14-'Summer Peak 2015-01-15'!ET14","v":0},{"$f":"Summer!H14-'Summer Peak 2015-01-15'!EU14","v":0},{"$f":"Summer!I14-'Summer Peak 2015-01-15'!EV14","v":0},{"$f":"Summer!J14-'Summer Peak 2015-01-15'!EW14","v":0},{"$f":"Summer!K14-'Summer Peak 2015-01-15'!EX14","v":0},{"$f":"Summer!L14-'Summer Peak 2015-01-15'!EY14","v":0},{"$f":"Summer!M14-'Summer Peak 2015-01-15'!EZ14","v":0},{"$f":"Summer!N14-'Summer Peak 2015-01-15'!FA14","v":0},{"$f":"Summer!O14-'Summer Peak 2015-01-15'!FB14","v":0},{"$f":"Summer!P14-'Summer Peak 2015-01-15'!FC14","v":0},{"$f":"Summer!Q14-'Summer Peak 2015-01-15'!FD14","v":0},{"$f":"Summer!R14-'Summer Peak 2015-01-15'!FE14","v":0},{"$f":"Summer!S14-'Summer Peak 2015-01-15'!FF14","v":0},{"$f":"Summer!T14-'Summer Peak 2015-01-15'!FG14","v":0},{"$f":"Summer!U14-'Summer Peak 2015-01-15'!FH14","v":0},{"$f":"Summer!V14-'Summer Peak 2015-01-15'!FI14","v":0},{"$f":"Summer!W14-'Summer Peak 2015-01-15'!FJ14","v":0},{"$f":"Summer!X14-'Summer Peak 2015-01-15'!FK14","v":0},{"$f":"Summer!Y14-'Summer Peak 2015-01-15'!FL14","v":0},{"$f":"Summer!Z14-'Summer Peak 2015-01-15'!FM14","v":0},{"$f":"Summer!AA14-'Summer Peak 2015-01-15'!FN14","v":0},{"$f":"Summer!AB14-'Summer Peak 2015-01-15'!FO14","v":0},{"$f":"Summer!AC14-'Summer Peak 2015-01-15'!FP14","v":0},{"$f":"Summer!AD14-'Summer Peak 2015-01-15'!FQ14","v":0},{"$f":"Summer!AE14-'Summer Peak 2015-01-15'!FR14","v":0},{"$f":"Summer!AF14-'Summer Peak 2015-01-15'!FS14","v":0},{"$f":"Summer!AG14-'Summer Peak 2015-01-15'!FT14","v":0},{"$f":"Summer!AH14-'Summer Peak 2015-01-15'!FU14","v":0},{"$f":"Summer!AI14-'Summer Peak 2015-01-15'!FV14","v":0},{"$f":"Summer!AJ14-'Summer Peak 2015-01-15'!FW14","v":0},{"$f":"Summer!AK14-'Summer Peak 2015-01-15'!FX14","v":0},{"$f":"Summer!AL14-'Summer Peak 2015-01-15'!FY14","v":0},{"$f":"Summer!AM14-'Summer Peak 2015-01-15'!FZ14","v":0},{"$f":"Summer!AN14-'Summer Peak 2015-01-15'!GA14","v":0},{"$f":"Summer!AO14-'Summer Peak 2015-01-15'!GB14","v":0},{"$f":"Summer!AP14-'Summer Peak 2015-01-15'!GC14","v":0},{"$f":"Summer!AQ14-'Summer Peak 2015-01-15'!GD14","v":0},{"$f":"Summer!AR14-'Summer Peak 2015-01-15'!GE14","v":0},{"$f":"Summer!AS14-'Summer Peak 2015-01-15'!GF14","v":0},{"$f":"Summer!AT14-'Summer Peak 2015-01-15'!GG14","v":0},{"$f":"Summer!AU14-'Summer Peak 2015-01-15'!GH14","v":0},{"$f":"Summer!AV14-'Summer Peak 2015-01-15'!GI14","v":0},{"$f":"Summer!AW14-'Summer Peak 2015-01-15'!GJ14","v":0},{"$f":"Summer!AX14-'Summer Peak 2015-01-15'!GK14","v":0},{"$f":"Summer!AY14-'Summer Peak 2015-01-15'!GL14","v":0},{"$f":"Summer!AZ14-'Summer Peak 2015-01-15'!GM14","v":0},{"$f":"Summer!BA14-'Summer Peak 2015-01-15'!GN14","v":0},{"$f":"Summer!BB14-'Summer Peak 2015-01-15'!GO14","v":0},{"$f":"Summer!BC14-'Summer Peak 2015-01-15'!GP14","v":0},{"$f":"Summer!BD14-'Summer Peak 2015-01-15'!GQ14","v":0},{"$f":"Summer!BE14-'Summer Peak 2015-01-15'!GR14","v":0},{"$f":"Summer!BF14-'Summer Peak 2015-01-15'!GS14","v":0},{"$f":"Summer!BG14-'Summer Peak 2015-01-15'!GT14","v":0},{"$f":"Summer!BH14-'Summer Peak 2015-01-15'!GU14","v":0},{"$f":"Summer!BI14-'Summer Peak 2015-01-15'!GV14","v":0},{"$f":"Summer!BJ14-'Summer Peak 2015-01-15'!GW14","v":0},{"$f":"Summer!BK14-'Summer Peak 2015-01-15'!GX14","v":0},{"$f":"Summer!BL14-'Summer Peak 2015-01-15'!GY14","v":0},{"$f":"Summer!BM14-'Summer Peak 2015-01-15'!GZ14","v":0},{"$f":"Summer!BN14-'Summer Peak 2015-01-15'!HA14","v":0},{"$f":"Summer!BO14-'Summer Peak 2015-01-15'!HB14","v":0},{"$f":"Summer!BP14-'Summer Peak 2015-01-15'!HC14","v":0},{"$f":"Summer!BQ14-'Summer Peak 2015-01-15'!HD14","v":0},{"$f":"Summer!BR14-'Summer Peak 2015-01-15'!HE14","v":0},{"$f":"Summer!BS14-'Summer Peak 2015-01-15'!HF14","v":0},{"$f":"Summer!BT14-'Summer Peak 2015-01-15'!HG14","v":0},{"$f":"Summer!BU14-'Summer Peak 2015-01-15'!HH14","v":0},{"$f":"Summer!BV14-'Summer Peak 2015-01-15'!HI14","v":0},{"$f":"Summer!BW14-'Summer Peak 2015-01-15'!HJ14","v":0},{"$f":"Summer!BX14-'Summer Peak 2015-01-15'!HK14","v":0},{"$f":"Summer!BY14-'Summer Peak 2015-01-15'!HL14","v":0},{"$f":"Summer!BZ14-'Summer Peak 2015-01-15'!HM14","v":0},{"$f":"Summer!CA14-'Summer Peak 2015-01-15'!HN14","v":0},{"$f":"Summer!CB14-'Summer Peak 2015-01-15'!HO14","v":0},{"$f":"Summer!CC14-'Summer Peak 2015-01-15'!HP14","v":0},{"$f":"Summer!CD14-'Summer Peak 2015-01-15'!HQ14","v":0},{"$f":"Summer!CE14-'Summer Peak 2015-01-15'!HR14","v":0},{"$f":"Summer!CF14-'Summer Peak 2015-01-15'!HS14","v":0},{"$f":"Summer!CG14-'Summer Peak 2015-01-15'!HT14","v":0},{"$f":"Summer!CH14-'Summer Peak 2015-01-15'!HU14","v":0},{"$f":"Summer!CI14-'Summer Peak 2015-01-15'!HV14","v":0},{"$f":"Summer!CJ14-'Summer Peak 2015-01-15'!HW14","v":0},{"$f":"Summer!CK14-'Summer Peak 2015-01-15'!HX14","v":0},{"$f":"Summer!CL14-'Summer Peak 2015-01-15'!HY14","v":0},{"$f":"Summer!CM14-'Summer Peak 2015-01-15'!HZ14","v":0},{"$f":"Summer!CN14-'Summer Peak 2015-01-15'!IA14","v":0},{"$f":"Summer!CO14-'Summer Peak 2015-01-15'!IB14","v":0},{"$f":"Summer!CP14-'Summer Peak 2015-01-15'!IC14","v":0},{"$f":"Summer!CQ14-'Summer Peak 2015-01-15'!ID14","v":0},{"$f":"Summer!CR14-'Summer Peak 2015-01-15'!IE14","v":0},{"$f":"Summer!CS14-'Summer Peak 2015-01-15'!IF14","v":0},{"$f":"Summer!CT14-'Summer Peak 2015-01-15'!IG14","v":0},{"$f":"Summer!CU14-'Summer Peak 2015-01-15'!IH14","v":0},{"$f":"Summer!CV14-'Summer Peak 2015-01-15'!II14","v":0},{"$f":"Summer!CW14-'Summer Peak 2015-01-15'!IJ14","v":0},{"$f":"Summer!CX14-'Summer Peak 2015-01-15'!IK14","v":0},{"$f":"Summer!CY14-'Summer Peak 2015-01-15'!IL14","v":0},{"$f":"Summer!CZ14-'Summer Peak 2015-01-15'!IM14","v":0},{"$f":"Summer!DA14-'Summer Peak 2015-01-15'!IN14","v":0},{"$f":"Summer!DB14-'Summer Peak 2015-01-15'!IO14","v":0},{"$f":"Summer!DC14-'Summer Peak 2015-01-15'!IP14","v":0},{"$f":"Summer!DD14-'Summer Peak 2015-01-15'!IQ14","v":0},{"$f":"Summer!DE14-'Summer Peak 2015-01-15'!IR14","v":0},{"$f":"Summer!DF14-'Summer Peak 2015-01-15'!IS14","v":0},{"$f":"Summer!DG14-'Summer Peak 2015-01-15'!IT14","v":0},{"$f":"Summer!DH14-'Summer Peak 2015-01-15'!IU14","v":0},{"$f":"Summer!DI14-'Summer Peak 2015-01-15'!IV14","v":0},{"$f":"Summer!DJ14-'Summer Peak 2015-01-15'!IW14","v":0},{"$f":"Summer!DK14-'Summer Peak 2015-01-15'!IX14","v":0},{"$f":"Summer!DL14-'Summer Peak 2015-01-15'!IY14","v":0},{"$f":"Summer!DM14-'Summer Peak 2015-01-15'!IZ14","v":0},{"$f":"Summer!DN14-'Summer Peak 2015-01-15'!JA14","v":0},{"$f":"Summer!DO14-'Summer Peak 2015-01-15'!JB14","v":0},{"$f":"Summer!DP14-'Summer Peak 2015-01-15'!JC14","v":0},{"$f":"Summer!DQ14-'Summer Peak 2015-01-15'!JD14","v":0},{"$f":"Summer!DR14-'Summer Peak 2015-01-15'!JE14","v":0},{"$f":"Summer!DS14-'Summer Peak 2015-01-15'!JF14","v":0}]
[null,"PFM2",{"$f":"Summer!C15-'Summer Peak 2015-01-15'!EP15","v":0},{"$f":"Summer!D15-'Summer Peak 2015-01-15'!EQ15","v":0},{"$f":"Summer!E15-'Summer Peak 2015-01-15'!ER15","v":0},{"$f":"Summer!F15-'Summer Peak 2015-01-15'!ES15","v":0},{"$f":"Summer!G15-'Summer Peak 2015-01-15'!ET15","v":0},{"$f":"Summer!H15-'Summer Peak 2015-01-15'!EU15","v":0},{"$f":"Summer!I15-'Summer Peak 2015-01-15'!EV15","v":0},{"$f":"Summer!J15-'Summer Peak 2015-01-15'!EW15","v":0},{"$f":"Summer!K15-'Summer Peak 2015-01-15'!EX15","v":0},{"$f":"Summer!L15-'Summer Peak 2015-01-15'!EY15","v":0},{"$f":"Summer!M15-'Summer Peak 2015-01-15'!EZ15","v":0},{"$f":"Summer!N15-'Summer Peak 2015-01-15'!FA15","v":0},{"$f":"Summer!O15-'Summer Peak 2015-01-15'!FB15","v":0},{"$f":"Summer!P15-'Summer Peak 2015-01-15'!FC15","v":0},{"$f":"Summer!Q15-'Summer Peak 2015-01-15'!FD15","v":0},{"$f":"Summer!R15-'Summer Peak 2015-01-15'!FE15","v":0},{"$f":"Summer!S15-'Summer Peak 2015-01-15'!FF15","v":0},{"$f":"Summer!T15-'Summer Peak 2015-01-15'!FG15","v":4},{"$f":"Summer!U15-'Summer Peak 2015-01-15'!FH15","v":8},{"$f":"Summer!V15-'Summer Peak 2015-01-15'!FI15","v":12},{"$f":"Summer!W15-'Summer Peak 2015-01-15'!FJ15","v":16},{"$f":"Summer!X15-'Summer Peak 2015-01-15'!FK15","v":15},{"$f":"Summer!Y15-'Summer Peak 2015-01-15'!FL15","v":15},{"$f":"Summer!Z15-'Summer Peak 2015-01-15'!FM15","v":15},{"$f":"Summer!AA15-'Summer Peak 2015-01-15'!FN15","v":15},{"$f":"Summer!AB15-'Summer Peak 2015-01-15'!FO15","v":23},{"$f":"Summer!AC15-'Summer Peak 2015-01-15'!FP15","v":23},{"$f":"Summer!AD15-'Summer Peak 2015-01-15'!FQ15","v":23},{"$f":"Summer!AE15-'Summer Peak 2015-01-15'!FR15","v":23},{"$f":"Summer!AF15-'Summer Peak 2015-01-15'!FS15","v":23},{"$f":"Summer!AG15-'Summer Peak 2015-01-15'!FT15","v":23},{"$f":"Summer!AH15-'Summer Peak 2015-01-15'!FU15","v":23},{"$f":"Summer!AI15-'Summer Peak 2015-01-15'!FV15","v":23},{"$f":"Summer!AJ15-'Summer Peak 2015-01-15'!FW15","v":23},{"$f":"Summer!AK15-'Summer Peak 2015-01-15'!FX15","v":23},{"$f":"Summer!AL15-'Summer Peak 2015-01-15'!FY15","v":23},{"$f":"Summer!AM15-'Summer Peak 2015-01-15'!FZ15","v":23},{"$f":"Summer!AN15-'Summer Peak 2015-01-15'!GA15","v":23},{"$f":"Summer!AO15-'Summer Peak 2015-01-15'!GB15","v":23},{"$f":"Summer!AP15-'Summer Peak 2015-01-15'!GC15","v":23},{"$f":"Summer!AQ15-'Summer Peak 2015-01-15'!GD15","v":23},{"$f":"Summer!AR15-'Summer Peak 2015-01-15'!GE15","v":23},{"$f":"Summer!AS15-'Summer Peak 2015-01-15'!GF15","v":23},{"$f":"Summer!AT15-'Summer Peak 2015-01-15'!GG15","v":23},{"$f":"Summer!AU15-'Summer Peak 2015-01-15'!GH15","v":23},{"$f":"Summer!AV15-'Summer Peak 2015-01-15'!GI15","v":23},{"$f":"Summer!AW15-'Summer Peak 2015-01-15'!GJ15","v":23},{"$f":"Summer!AX15-'Summer Peak 2015-01-15'!GK15","v":23},{"$f":"Summer!AY15-'Summer Peak 2015-01-15'!GL15","v":23},{"$f":"Summer!AZ15-'Summer Peak 2015-01-15'!GM15","v":23},{"$f":"Summer!BA15-'Summer Peak 2015-01-15'!GN15","v":23},{"$f":"Summer!BB15-'Summer Peak 2015-01-15'!GO15","v":23},{"$f":"Summer!BC15-'Summer Peak 2015-01-15'!GP15","v":23},{"$f":"Summer!BD15-'Summer Peak 2015-01-15'!GQ15","v":23},{"$f":"Summer!BE15-'Summer Peak 2015-01-15'!GR15","v":23},{"$f":"Summer!BF15-'Summer Peak 2015-01-15'!GS15","v":23},{"$f":"Summer!BG15-'Summer Peak 2015-01-15'!GT15","v":23},{"$f":"Summer!BH15-'Summer Peak 2015-01-15'!GU15","v":23},{"$f":"Summer!BI15-'Summer Peak 2015-01-15'!GV15","v":23},{"$f":"Summer!BJ15-'Summer Peak 2015-01-15'!GW15","v":23},{"$f":"Summer!BK15-'Summer Peak 2015-01-15'!GX15","v":23},{"$f":"Summer!BL15-'Summer Peak 2015-01-15'!GY15","v":23},{"$f":"Summer!BM15-'Summer Peak 2015-01-15'!GZ15","v":23},{"$f":"Summer!BN15-'Summer Peak 2015-01-15'!HA15","v":23},{"$f":"Summer!BO15-'Summer Peak 2015-01-15'!HB15","v":23},{"$f":"Summer!BP15-'Summer Peak 2015-01-15'!HC15","v":23},{"$f":"Summer!BQ15-'Summer Peak 2015-01-15'!HD15","v":23},{"$f":"Summer!BR15-'Summer Peak 2015-01-15'!HE15","v":23},{"$f":"Summer!BS15-'Summer Peak 2015-01-15'!HF15","v":23},{"$f":"Summer!BT15-'Summer Peak 2015-01-15'!HG15","v":23},{"$f":"Summer!BU15-'Summer Peak 2015-01-15'!HH15","v":23},{"$f":"Summer!BV15-'Summer Peak 2015-01-15'!HI15","v":23},{"$f":"Summer!BW15-'Summer Peak 2015-01-15'!HJ15","v":23},{"$f":"Summer!BX15-'Summer Peak 2015-01-15'!HK15","v":23},{"$f":"Summer!BY15-'Summer Peak 2015-01-15'!HL15","v":23},{"$f":"Summer!BZ15-'Summer Peak 2015-01-15'!HM15","v":23},{"$f":"Summer!CA15-'Summer Peak 2015-01-15'!HN15","v":23},{"$f":"Summer!CB15-'Summer Peak 2015-01-15'!HO15","v":23},{"$f":"Summer!CC15-'Summer Peak 2015-01-15'!HP15","v":23},{"$f":"Summer!CD15-'Summer Peak 2015-01-15'!HQ15","v":23},{"$f":"Summer!CE15-'Summer Peak 2015-01-15'!HR15","v":23},{"$f":"Summer!CF15-'Summer Peak 2015-01-15'!HS15","v":23},{"$f":"Summer!CG15-'Summer Peak 2015-01-15'!HT15","v":23},{"$f":"Summer!CH15-'Summer Peak 2015-01-15'!HU15","v":23},{"$f":"Summer!CI15-'Summer Peak 2015-01-15'!HV15","v":23},{"$f":"Summer!CJ15-'Summer Peak 2015-01-15'!HW15","v":23},{"$f":"Summer!CK15-'Summer Peak 2015-01-15'!HX15","v":23},{"$f":"Summer!CL15-'Summer Peak 2015-01-15'!HY15","v":23},{"$f":"Summer!CM15-'Summer Peak 2015-01-15'!HZ15","v":23},{"$f":"Summer!CN15-'Summer Peak 2015-01-15'!IA15","v":23},{"$f":"Summer!CO15-'Summer Peak 2015-01-15'!IB15","v":23},{"$f":"Summer!CP15-'Summer Peak 2015-01-15'!IC15","v":23},{"$f":"Summer!CQ15-'Summer Peak 2015-01-15'!ID15","v":23},{"$f":"Summer!CR15-'Summer Peak 2015-01-15'!IE15","v":23},{"$f":"Summer!CS15-'Summer Peak 2015-01-15'!IF15","v":23},{"$f":"Summer!CT15-'Summer Peak 2015-01-15'!IG15","v":23},{"$f":"Summer!CU15-'Summer Peak 2015-01-15'!IH15","v":23},{"$f":"Summer!CV15-'Summer Peak 2015-01-15'!II15","v":23},{"$f":"Summer!CW15-'Summer Peak 2015-01-15'!IJ15","v":23},{"$f":"Summer!CX15-'Summer Peak 2015-01-15'!IK15","v":23},{"$f":"Summer!CY15-'Summer Peak 2015-01-15'!IL15","v":23},{"$f":"Summer!CZ15-'Summer Peak 2015-01-15'!IM15","v":23},{"$f":"Summer!DA15-'Summer Peak 2015-01-15'!IN15","v":23},{"$f":"Summer!DB15-'Summer Peak 2015-01-15'!IO15","v":23},{"$f":"Summer!DC15-'Summer Peak 2015-01-15'!IP15","v":23},{"$f":"Summer!DD15-'Summer Peak 2015-01-15'!IQ15","v":23},{"$f":"Summer!DE15-'Summer Peak 2015-01-15'!IR15","v":23},{"$f":"Summer!DF15-'Summer Peak 2015-01-15'!IS15","v":23},{"$f":"Summer!DG15-'Summer Peak 2015-01-15'!IT15","v":23},{"$f":"Summer!DH15-'Summer Peak 2015-01-15'!IU15","v":23},{"$f":"Summer!DI15-'Summer Peak 2015-01-15'!IV15","v":23},{"$f":"Summer!DJ15-'Summer Peak 2015-01-15'!IW15","v":23},{"$f":"Summer!DK15-'Summer Peak 2015-01-15'!IX15","v":23},{"$f":"Summer!DL15-'Summer Peak 2015-01-15'!IY15","v":23},{"$f":"Summer!DM15-'Summer Peak 2015-01-15'!IZ15","v":23},{"$f":"Summer!DN15-'Summer Peak 2015-01-15'!JA15","v":23},{"$f":"Summer!DO15-'Summer Peak 2015-01-15'!JB15","v":23},{"$f":"Summer!DP15-'Summer Peak 2015-01-15'!JC15","v":23},{"$f":"Summer!DQ15-'Summer Peak 2015-01-15'!JD15","v":23},{"$f":"Summer!DR15-'Summer Peak 2015-01-15'!JE15","v":23},{"$f":"Summer!DS15-'Summer Peak 2015-01-15'!JF15","v":23}]
[null,"PFM3",{"$f":"Summer!C16-'Summer Peak 2015-01-15'!EP16","v":0},{"$f":"Summer!D16-'Summer Peak 2015-01-15'!EQ16","v":0},{"$f":"Summer!E16-'Summer Peak 2015-01-15'!ER16","v":0},{"$f":"Summer!F16-'Summer Peak 2015-01-15'!ES16","v":0},{"$f":"Summer!G16-'Summer Peak 2015-01-15'!ET16","v":0},{"$f":"Summer!H16-'Summer Peak 2015-01-15'!EU16","v":0},{"$f":"Summer!I16-'Summer Peak 2015-01-15'!EV16","v":0},{"$f":"Summer!J16-'Summer Peak 2015-01-15'!EW16","v":0},{"$f":"Summer!K16-'Summer Peak 2015-01-15'!EX16","v":0},{"$f":"Summer!L16-'Summer Peak 2015-01-15'!EY16","v":0},{"$f":"Summer!M16-'Summer Peak 2015-01-15'!EZ16","v":0},{"$f":"Summer!N16-'Summer Peak 2015-01-15'!FA16","v":0},{"$f":"Summer!O16-'Summer Peak 2015-01-15'!FB16","v":0},{"$f":"Summer!P16-'Summer Peak 2015-01-15'!FC16","v":0},{"$f":"Summer!Q16-'Summer Peak 2015-01-15'!FD16","v":0},{"$f":"Summer!R16-'Summer Peak 2015-01-15'!FE16","v":0},{"$f":"Summer!S16-'Summer Peak 2015-01-15'!FF16","v":0},{"$f":"Summer!T16-'Summer Peak 2015-01-15'!FG16","v":0},{"$f":"Summer!U16-'Summer Peak 2015-01-15'!FH16","v":0},{"$f":"Summer!V16-'Summer Peak 2015-01-15'!FI16","v":0},{"$f":"Summer!W16-'Summer Peak 2015-01-15'!FJ16","v":0},{"$f":"Summer!X16-'Summer Peak 2015-01-15'!FK16","v":0},{"$f":"Summer!Y16-'Summer Peak 2015-01-15'!FL16","v":0},{"$f":"Summer!Z16-'Summer Peak 2015-01-15'!FM16","v":0},{"$f":"Summer!AA16-'Summer Peak 2015-01-15'!FN16","v":0},{"$f":"Summer!AB16-'Summer Peak 2015-01-15'!FO16","v":0},{"$f":"Summer!AC16-'Summer Peak 2015-01-15'!FP16","v":0},{"$f":"Summer!AD16-'Summer Peak 2015-01-15'!FQ16","v":0},{"$f":"Summer!AE16-'Summer Peak 2015-01-15'!FR16","v":0},{"$f":"Summer!AF16-'Summer Peak 2015-01-15'!FS16","v":0},{"$f":"Summer!AG16-'Summer Peak 2015-01-15'!FT16","v":0},{"$f":"Summer!AH16-'Summer Peak 2015-01-15'!FU16","v":0},{"$f":"Summer!AI16-'Summer Peak 2015-01-15'!FV16","v":0},{"$f":"Summer!AJ16-'Summer Peak 2015-01-15'!FW16","v":0},{"$f":"Summer!AK16-'Summer Peak 2015-01-15'!FX16","v":0},{"$f":"Summer!AL16-'Summer Peak 2015-01-15'!FY16","v":0},{"$f":"Summer!AM16-'Summer Peak 2015-01-15'!FZ16","v":0},{"$f":"Summer!AN16-'Summer Peak 2015-01-15'!GA16","v":0},{"$f":"Summer!AO16-'Summer Peak 2015-01-15'!GB16","v":0},{"$f":"Summer!AP16-'Summer Peak 2015-01-15'!GC16","v":0},{"$f":"Summer!AQ16-'Summer Peak 2015-01-15'!GD16","v":0},{"$f":"Summer!AR16-'Summer Peak 2015-01-15'!GE16","v":0},{"$f":"Summer!AS16-'Summer Peak 2015-01-15'!GF16","v":0},{"$f":"Summer!AT16-'Summer Peak 2015-01-15'!GG16","v":0},{"$f":"Summer!AU16-'Summer Peak 2015-01-15'!GH16","v":0},{"$f":"Summer!AV16-'Summer Peak 2015-01-15'!GI16","v":0},{"$f":"Summer!AW16-'Summer Peak 2015-01-15'!GJ16","v":0},{"$f":"Summer!AX16-'Summer Peak 2015-01-15'!GK16","v":0},{"$f":"Summer!AY16-'Summer Peak 2015-01-15'!GL16","v":0},{"$f":"Summer!AZ16-'Summer Peak 2015-01-15'!GM16","v":0},{"$f":"Summer!BA16-'Summer Peak 2015-01-15'!GN16","v":0},{"$f":"Summer!BB16-'Summer Peak 2015-01-15'!GO16","v":0},{"$f":"Summer!BC16-'Summer Peak 2015-01-15'!GP16","v":0},{"$f":"Summer!BD16-'Summer Peak 2015-01-15'!GQ16","v":0},{"$f":"Summer!BE16-'Summer Peak 2015-01-15'!GR16","v":0},{"$f":"Summer!BF16-'Summer Peak 2015-01-15'!GS16","v":0},{"$f":"Summer!BG16-'Summer Peak 2015-01-15'!GT16","v":0},{"$f":"Summer!BH16-'Summer Peak 2015-01-15'!GU16","v":0},{"$f":"Summer!BI16-'Summer Peak 2015-01-15'!GV16","v":0},{"$f":"Summer!BJ16-'Summer Peak 2015-01-15'!GW16","v":0},{"$f":"Summer!BK16-'Summer Peak 2015-01-15'!GX16","v":0},{"$f":"Summer!BL16-'Summer Peak 2015-01-15'!GY16","v":0},{"$f":"Summer!BM16-'Summer Peak 2015-01-15'!GZ16","v":0},{"$f":"Summer!BN16-'Summer Peak 2015-01-15'!HA16","v":0},{"$f":"Summer!BO16-'Summer Peak 2015-01-15'!HB16","v":0},{"$f":"Summer!BP16-'Summer Peak 2015-01-15'!HC16","v":0},{"$f":"Summer!BQ16-'Summer Peak 2015-01-15'!HD16","v":0},{"$f":"Summer!BR16-'Summer Peak 2015-01-15'!HE16","v":0},{"$f":"Summer!BS16-'Summer Peak 2015-01-15'!HF16","v":0},{"$f":"Summer!BT16-'Summer Peak 2015-01-15'!HG16","v":0},{"$f":"Summer!BU16-'Summer Peak 2015-01-15'!HH16","v":0},{"$f":"Summer!BV16-'Summer Peak 2015-01-15'!HI16","v":0},{"$f":"Summer!BW16-'Summer Peak 2015-01-15'!HJ16","v":0},{"$f":"Summer!BX16-'Summer Peak 2015-01-15'!HK16","v":0},{"$f":"Summer!BY16-'Summer Peak 2015-01-15'!HL16","v":0},{"$f":"Summer!BZ16-'Summer Peak 2015-01-15'!HM16","v":0},{"$f":"Summer!CA16-'Summer Peak 2015-01-15'!HN16","v":0},{"$f":"Summer!CB16-'Summer Peak 2015-01-15'!HO16","v":0},{"$f":"Summer!CC16-'Summer Peak 2015-01-15'!HP16","v":0},{"$f":"Summer!CD16-'Summer Peak 2015-01-15'!HQ16","v":0},{"$f":"Summer!CE16-'Summer Peak 2015-01-15'!HR16","v":0},{"$f":"Summer!CF16-'Summer Peak 2015-01-15'!HS16","v":0},{"$f":"Summer!CG16-'Summer Peak 2015-01-15'!HT16","v":0},{"$f":"Summer!CH16-'Summer Peak 2015-01-15'!HU16","v":0},{"$f":"Summer!CI16-'Summer Peak 2015-01-15'!HV16","v":0},{"$f":"Summer!CJ16-'Summer Peak 2015-01-15'!HW16","v":0},{"$f":"Summer!CK16-'Summer Peak 2015-01-15'!HX16","v":0},{"$f":"Summer!CL16-'Summer Peak 2015-01-15'!HY16","v":0},{"$f":"Summer!CM16-'Summer Peak 2015-01-15'!HZ16","v":0},{"$f":"Summer!CN16-'Summer Peak 2015-01-15'!IA16","v":0},{"$f":"Summer!CO16-'Summer Peak 2015-01-15'!IB16","v":0},{"$f":"Summer!CP16-'Summer Peak 2015-01-15'!IC16","v":0},{"$f":"Summer!CQ16-'Summer Peak 2015-01-15'!ID16","v":0},{"$f":"Summer!CR16-'Summer Peak 2015-01-15'!IE16","v":0},{"$f":"Summer!CS16-'Summer Peak 2015-01-15'!IF16","v":0},{"$f":"Summer!CT16-'Summer Peak 2015-01-15'!IG16","v":0},{"$f":"Summer!CU16-'Summer Peak 2015-01-15'!IH16","v":0},{"$f":"Summer!CV16-'Summer Peak 2015-01-15'!II16","v":0},{"$f":"Summer!CW16-'Summer Peak 2015-01-15'!IJ16","v":0},{"$f":"Summer!CX16-'Summer Peak 2015-01-15'!IK16","v":0},{"$f":"Summer!CY16-'Summer Peak 2015-01-15'!IL16","v":0},{"$f":"Summer!CZ16-'Summer Peak 2015-01-15'!IM16","v":0},{"$f":"Summer!DA16-'Summer Peak 2015-01-15'!IN16","v":0},{"$f":"Summer!DB16-'Summer Peak 2015-01-15'!IO16","v":0},{"$f":"Summer!DC16-'Summer Peak 2015-01-15'!IP16","v":0},{"$f":"Summer!DD16-'Summer Peak 2015-01-15'!IQ16","v":0},{"$f":"Summer!DE16-'Summer Peak 2015-01-15'!IR16","v":0},{"$f":"Summer!DF16-'Summer Peak 2015-01-15'!IS16","v":0},{"$f":"Summer!DG16-'Summer Peak 2015-01-15'!IT16","v":0},{"$f":"Summer!DH16-'Summer Peak 2015-01-15'!IU16","v":0},{"$f":"Summer!DI16-'Summer Peak 2015-01-15'!IV16","v":0},{"$f":"Summer!DJ16-'Summer Peak 2015-01-15'!IW16","v":0},{"$f":"Summer!DK16-'Summer Peak 2015-01-15'!IX16","v":0},{"$f":"Summer!DL16-'Summer Peak 2015-01-15'!IY16","v":0},{"$f":"Summer!DM16-'Summer Peak 2015-01-15'!IZ16","v":0},{"$f":"Summer!DN16-'Summer Peak 2015-01-15'!JA16","v":0},{"$f":"Summer!DO16-'Summer Peak 2015-01-15'!JB16","v":0},{"$f":"Summer!DP16-'Summer Peak 2015-01-15'!JC16","v":0},{"$f":"Summer!DQ16-'Summer Peak 2015-01-15'!JD16","v":0},{"$f":"Summer!DR16-'Summer Peak 2015-01-15'!JE16","v":0},{"$f":"Summer!DS16-'Summer Peak 2015-01-15'!JF16","v":0}]
[null,"PFM GT",{"$f":"Summer!C17-'Summer Peak 2015-01-15'!EP17","v":0},{"$f":"Summer!D17-'Summer Peak 2015-01-15'!EQ17","v":0},{"$f":"Summer!E17-'Summer Peak 2015-01-15'!ER17","v":0},{"$f":"Summer!F17-'Summer Peak 2015-01-15'!ES17","v":0},{"$f":"Summer!G17-'Summer Peak 2015-01-15'!ET17","v":0},{"$f":"Summer!H17-'Summer Peak 2015-01-15'!EU17","v":0},{"$f":"Summer!I17-'Summer Peak 2015-01-15'!EV17","v":0},{"$f":"Summer!J17-'Summer Peak 2015-01-15'!EW17","v":0},{"$f":"Summer!K17-'Summer Peak 2015-01-15'!EX17","v":0},{"$f":"Summer!L17-'Summer Peak 2015-01-15'!EY17","v":0},{"$f":"Summer!M17-'Summer Peak 2015-01-15'!EZ17","v":0},{"$f":"Summer!N17-'Summer Peak 2015-01-15'!FA17","v":0},{"$f":"Summer!O17-'Summer Peak 2015-01-15'!FB17","v":0},{"$f":"Summer!P17-'Summer Peak 2015-01-15'!FC17","v":0},{"$f":"Summer!Q17-'Summer Peak 2015-01-15'!FD17","v":0},{"$f":"Summer!R17-'Summer Peak 2015-01-15'!FE17","v":0},{"$f":"Summer!S17-'Summer Peak 2015-01-15'!FF17","v":0},{"$f":"Summer!T17-'Summer Peak 2015-01-15'!FG17","v":0},{"$f":"Summer!U17-'Summer Peak 2015-01-15'!FH17","v":0},{"$f":"Summer!V17-'Summer Peak 2015-01-15'!FI17","v":0},{"$f":"Summer!W17-'Summer Peak 2015-01-15'!FJ17","v":0},{"$f":"Summer!X17-'Summer Peak 2015-01-15'!FK17","v":0},{"$f":"Summer!Y17-'Summer Peak 2015-01-15'!FL17","v":0},{"$f":"Summer!Z17-'Summer Peak 2015-01-15'!FM17","v":0},{"$f":"Summer!AA17-'Summer Peak 2015-01-15'!FN17","v":0},{"$f":"Summer!AB17-'Summer Peak 2015-01-15'!FO17","v":0},{"$f":"Summer!AC17-'Summer Peak 2015-01-15'!FP17","v":0},{"$f":"Summer!AD17-'Summer Peak 2015-01-15'!FQ17","v":0},{"$f":"Summer!AE17-'Summer Peak 2015-01-15'!FR17","v":0},{"$f":"Summer!AF17-'Summer Peak 2015-01-15'!FS17","v":0},{"$f":"Summer!AG17-'Summer Peak 2015-01-15'!FT17","v":0},{"$f":"Summer!AH17-'Summer Peak 2015-01-15'!FU17","v":0},{"$f":"Summer!AI17-'Summer Peak 2015-01-15'!FV17","v":0},{"$f":"Summer!AJ17-'Summer Peak 2015-01-15'!FW17","v":0},{"$f":"Summer!AK17-'Summer Peak 2015-01-15'!FX17","v":0},{"$f":"Summer!AL17-'Summer Peak 2015-01-15'!FY17","v":0},{"$f":"Summer!AM17-'Summer Peak 2015-01-15'!FZ17","v":0},{"$f":"Summer!AN17-'Summer Peak 2015-01-15'!GA17","v":0},{"$f":"Summer!AO17-'Summer Peak 2015-01-15'!GB17","v":0},{"$f":"Summer!AP17-'Summer Peak 2015-01-15'!GC17","v":0},{"$f":"Summer!AQ17-'Summer Peak 2015-01-15'!GD17","v":0},{"$f":"Summer!AR17-'Summer Peak 2015-01-15'!GE17","v":0},{"$f":"Summer!AS17-'Summer Peak 2015-01-15'!GF17","v":0},{"$f":"Summer!AT17-'Summer Peak 2015-01-15'!GG17","v":0},{"$f":"Summer!AU17-'Summer Peak 2015-01-15'!GH17","v":0},{"$f":"Summer!AV17-'Summer Peak 2015-01-15'!GI17","v":0},{"$f":"Summer!AW17-'Summer Peak 2015-01-15'!GJ17","v":0},{"$f":"Summer!AX17-'Summer Peak 2015-01-15'!GK17","v":0},{"$f":"Summer!AY17-'Summer Peak 2015-01-15'!GL17","v":0},{"$f":"Summer!AZ17-'Summer Peak 2015-01-15'!GM17","v":0},{"$f":"Summer!BA17-'Summer Peak 2015-01-15'!GN17","v":0},{"$f":"Summer!BB17-'Summer Peak 2015-01-15'!GO17","v":0},{"$f":"Summer!BC17-'Summer Peak 2015-01-15'!GP17","v":0},{"$f":"Summer!BD17-'Summer Peak 2015-01-15'!GQ17","v":0},{"$f":"Summer!BE17-'Summer Peak 2015-01-15'!GR17","v":0},{"$f":"Summer!BF17-'Summer Peak 2015-01-15'!GS17","v":0},{"$f":"Summer!BG17-'Summer Peak 2015-01-15'!GT17","v":0},{"$f":"Summer!BH17-'Summer Peak 2015-01-15'!GU17","v":0},{"$f":"Summer!BI17-'Summer Peak 2015-01-15'!GV17","v":0},{"$f":"Summer!BJ17-'Summer Peak 2015-01-15'!GW17","v":0},{"$f":"Summer!BK17-'Summer Peak 2015-01-15'!GX17","v":0},{"$f":"Summer!BL17-'Summer Peak 2015-01-15'!GY17","v":0},{"$f":"Summer!BM17-'Summer Peak 2015-01-15'!GZ17","v":0},{"$f":"Summer!BN17-'Summer Peak 2015-01-15'!HA17","v":0},{"$f":"Summer!BO17-'Summer Peak 2015-01-15'!HB17","v":0},{"$f":"Summer!BP17-'Summer Peak 2015-01-15'!HC17","v":0},{"$f":"Summer!BQ17-'Summer Peak 2015-01-15'!HD17","v":0},{"$f":"Summer!BR17-'Summer Peak 2015-01-15'!HE17","v":0},{"$f":"Summer!BS17-'Summer Peak 2015-01-15'!HF17","v":0},{"$f":"Summer!BT17-'Summer Peak 2015-01-15'!HG17","v":0},{"$f":"Summer!BU17-'Summer Peak 2015-01-15'!HH17","v":0},{"$f":"Summer!BV17-'Summer Peak 2015-01-15'!HI17","v":0},{"$f":"Summer!BW17-'Summer Peak 2015-01-15'!HJ17","v":0},{"$f":"Summer!BX17-'Summer Peak 2015-01-15'!HK17","v":0},{"$f":"Summer!BY17-'Summer Peak 2015-01-15'!HL17","v":0},{"$f":"Summer!BZ17-'Summer Peak 2015-01-15'!HM17","v":0},{"$f":"Summer!CA17-'Summer Peak 2015-01-15'!HN17","v":0},{"$f":"Summer!CB17-'Summer Peak 2015-01-15'!HO17","v":0},{"$f":"Summer!CC17-'Summer Peak 2015-01-15'!HP17","v":0},{"$f":"Summer!CD17-'Summer Peak 2015-01-15'!HQ17","v":0},{"$f":"Summer!CE17-'Summer Peak 2015-01-15'!HR17","v":0},{"$f":"Summer!CF17-'Summer Peak 2015-01-15'!HS17","v":0},{"$f":"Summer!CG17-'Summer Peak 2015-01-15'!HT17","v":0},{"$f":"Summer!CH17-'Summer Peak 2015-01-15'!HU17","v":0},{"$f":"Summer!CI17-'Summer Peak 2015-01-15'!HV17","v":0},{"$f":"Summer!CJ17-'Summer Peak 2015-01-15'!HW17","v":0},{"$f":"Summer!CK17-'Summer Peak 2015-01-15'!HX17","v":0},{"$f":"Summer!CL17-'Summer Peak 2015-01-15'!HY17","v":0},{"$f":"Summer!CM17-'Summer Peak 2015-01-15'!HZ17","v":0},{"$f":"Summer!CN17-'Summer Peak 2015-01-15'!IA17","v":0},{"$f":"Summer!CO17-'Summer Peak 2015-01-15'!IB17","v":0},{"$f":"Summer!CP17-'Summer Peak 2015-01-15'!IC17","v":0},{"$f":"Summer!CQ17-'Summer Peak 2015-01-15'!ID17","v":0},{"$f":"Summer!CR17-'Summer Peak 2015-01-15'!IE17","v":0},{"$f":"Summer!CS17-'Summer Peak 2015-01-15'!IF17","v":0},{"$f":"Summer!CT17-'Summer Peak 2015-01-15'!IG17","v":0},{"$f":"Summer!CU17-'Summer Peak 2015-01-15'!IH17","v":0},{"$f":"Summer!CV17-'Summer Peak 2015-01-15'!II17","v":0},{"$f":"Summer!CW17-'Summer Peak 2015-01-15'!IJ17","v":0},{"$f":"Summer!CX17-'Summer Peak 2015-01-15'!IK17","v":0},{"$f":"Summer!CY17-'Summer Peak 2015-01-15'!IL17","v":0},{"$f":"Summer!CZ17-'Summer Peak 2015-01-15'!IM17","v":0},{"$f":"Summer!DA17-'Summer Peak 2015-01-15'!IN17","v":0},{"$f":"Summer!DB17-'Summer Peak 2015-01-15'!IO17","v":0},{"$f":"Summer!DC17-'Summer Peak 2015-01-15'!IP17","v":0},{"$f":"Summer!DD17-'Summer Peak 2015-01-15'!IQ17","v":0},{"$f":"Summer!DE17-'Summer Peak 2015-01-15'!IR17","v":0},{"$f":"Summer!DF17-'Summer Peak 2015-01-15'!IS17","v":0},{"$f":"Summer!DG17-'Summer Peak 2015-01-15'!IT17","v":0},{"$f":"Summer!DH17-'Summer Peak 2015-01-15'!IU17","v":0},{"$f":"Summer!DI17-'Summer Peak 2015-01-15'!IV17","v":0},{"$f":"Summer!DJ17-'Summer Peak 2015-01-15'!IW17","v":0},{"$f":"Summer!DK17-'Summer Peak 2015-01-15'!IX17","v":0},{"$f":"Summer!DL17-'Summer Peak 2015-01-15'!IY17","v":0},{"$f":"Summer!DM17-'Summer Peak 2015-01-15'!IZ17","v":0},{"$f":"Summer!DN17-'Summer Peak 2015-01-15'!JA17","v":0},{"$f":"Summer!DO17-'Summer Peak 2015-01-15'!JB17","v":0},{"$f":"Summer!DP17-'Summer Peak 2015-01-15'!JC17","v":0},{"$f":"Summer!DQ17-'Summer Peak 2015-01-15'!JD17","v":0},{"$f":"Summer!DR17-'Summer Peak 2015-01-15'!JE17","v":0},{"$f":"Summer!DS17-'Summer Peak 2015-01-15'!JF17","v":0}]
[null,"PJK1",{"$f":"Summer!C18-'Summer Peak 2015-01-15'!EP18","v":0},{"$f":"Summer!D18-'Summer Peak 2015-01-15'!EQ18","v":0},{"$f":"Summer!E18-'Summer Peak 2015-01-15'!ER18","v":0},{"$f":"Summer!F18-'Summer Peak 2015-01-15'!ES18","v":0},{"$f":"Summer!G18-'Summer Peak 2015-01-15'!ET18","v":0},{"$f":"Summer!H18-'Summer Peak 2015-01-15'!EU18","v":0},{"$f":"Summer!I18-'Summer Peak 2015-01-15'!EV18","v":0},{"$f":"Summer!J18-'Summer Peak 2015-01-15'!EW18","v":0},{"$f":"Summer!K18-'Summer Peak 2015-01-15'!EX18","v":0},{"$f":"Summer!L18-'Summer Peak 2015-01-15'!EY18","v":0},{"$f":"Summer!M18-'Summer Peak 2015-01-15'!EZ18","v":0},{"$f":"Summer!N18-'Summer Peak 2015-01-15'!FA18","v":0},{"$f":"Summer!O18-'Summer Peak 2015-01-15'!FB18","v":0},{"$f":"Summer!P18-'Summer Peak 2015-01-15'!FC18","v":0},{"$f":"Summer!Q18-'Summer Peak 2015-01-15'!FD18","v":0},{"$f":"Summer!R18-'Summer Peak 2015-01-15'!FE18","v":0},{"$f":"Summer!S18-'Summer Peak 2015-01-15'!FF18","v":0},{"$f":"Summer!T18-'Summer Peak 2015-01-15'!FG18","v":0},{"$f":"Summer!U18-'Summer Peak 2015-01-15'!FH18","v":0},{"$f":"Summer!V18-'Summer Peak 2015-01-15'!FI18","v":0},{"$f":"Summer!W18-'Summer Peak 2015-01-15'!FJ18","v":0},{"$f":"Summer!X18-'Summer Peak 2015-01-15'!FK18","v":0},{"$f":"Summer!Y18-'Summer Peak 2015-01-15'!FL18","v":0},{"$f":"Summer!Z18-'Summer Peak 2015-01-15'!FM18","v":0},{"$f":"Summer!AA18-'Summer Peak 2015-01-15'!FN18","v":0},{"$f":"Summer!AB18-'Summer Peak 2015-01-15'!FO18","v":0},{"$f":"Summer!AC18-'Summer Peak 2015-01-15'!FP18","v":0},{"$f":"Summer!AD18-'Summer Peak 2015-01-15'!FQ18","v":0},{"$f":"Summer!AE18-'Summer Peak 2015-01-15'!FR18","v":0},{"$f":"Summer!AF18-'Summer Peak 2015-01-15'!FS18","v":0},{"$f":"Summer!AG18-'Summer Peak 2015-01-15'!FT18","v":0},{"$f":"Summer!AH18-'Summer Peak 2015-01-15'!FU18","v":0},{"$f":"Summer!AI18-'Summer Peak 2015-01-15'!FV18","v":0},{"$f":"Summer!AJ18-'Summer Peak 2015-01-15'!FW18","v":0},{"$f":"Summer!AK18-'Summer Peak 2015-01-15'!FX18","v":0},{"$f":"Summer!AL18-'Summer Peak 2015-01-15'!FY18","v":0},{"$f":"Summer!AM18-'Summer Peak 2015-01-15'!FZ18","v":0},{"$f":"Summer!AN18-'Summer Peak 2015-01-15'!GA18","v":0},{"$f":"Summer!AO18-'Summer Peak 2015-01-15'!GB18","v":0},{"$f":"Summer!AP18-'Summer Peak 2015-01-15'!GC18","v":0},{"$f":"Summer!AQ18-'Summer Peak 2015-01-15'!GD18","v":0},{"$f":"Summer!AR18-'Summer Peak 2015-01-15'!GE18","v":0},{"$f":"Summer!AS18-'Summer Peak 2015-01-15'!GF18","v":0},{"$f":"Summer!AT18-'Summer Peak 2015-01-15'!GG18","v":0},{"$f":"Summer!AU18-'Summer Peak 2015-01-15'!GH18","v":0},{"$f":"Summer!AV18-'Summer Peak 2015-01-15'!GI18","v":0},{"$f":"Summer!AW18-'Summer Peak 2015-01-15'!GJ18","v":0},{"$f":"Summer!AX18-'Summer Peak 2015-01-15'!GK18","v":0},{"$f":"Summer!AY18-'Summer Peak 2015-01-15'!GL18","v":0},{"$f":"Summer!AZ18-'Summer Peak 2015-01-15'!GM18","v":0},{"$f":"Summer!BA18-'Summer Peak 2015-01-15'!GN18","v":0},{"$f":"Summer!BB18-'Summer Peak 2015-01-15'!GO18","v":0},{"$f":"Summer!BC18-'Summer Peak 2015-01-15'!GP18","v":0},{"$f":"Summer!BD18-'Summer Peak 2015-01-15'!GQ18","v":0},{"$f":"Summer!BE18-'Summer Peak 2015-01-15'!GR18","v":0},{"$f":"Summer!BF18-'Summer Peak 2015-01-15'!GS18","v":0},{"$f":"Summer!BG18-'Summer Peak 2015-01-15'!GT18","v":0},{"$f":"Summer!BH18-'Summer Peak 2015-01-15'!GU18","v":0},{"$f":"Summer!BI18-'Summer Peak 2015-01-15'!GV18","v":0},{"$f":"Summer!BJ18-'Summer Peak 2015-01-15'!GW18","v":0},{"$f":"Summer!BK18-'Summer Peak 2015-01-15'!GX18","v":0},{"$f":"Summer!BL18-'Summer Peak 2015-01-15'!GY18","v":0},{"$f":"Summer!BM18-'Summer Peak 2015-01-15'!GZ18","v":0},{"$f":"Summer!BN18-'Summer Peak 2015-01-15'!HA18","v":0},{"$f":"Summer!BO18-'Summer Peak 2015-01-15'!HB18","v":0},{"$f":"Summer!BP18-'Summer Peak 2015-01-15'!HC18","v":0},{"$f":"Summer!BQ18-'Summer Peak 2015-01-15'!HD18","v":0},{"$f":"Summer!BR18-'Summer Peak 2015-01-15'!HE18","v":0},{"$f":"Summer!BS18-'Summer Peak 2015-01-15'!HF18","v":0},{"$f":"Summer!BT18-'Summer Peak 2015-01-15'!HG18","v":0},{"$f":"Summer!BU18-'Summer Peak 2015-01-15'!HH18","v":0},{"$f":"Summer!BV18-'Summer Peak 2015-01-15'!HI18","v":0},{"$f":"Summer!BW18-'Summer Peak 2015-01-15'!HJ18","v":0},{"$f":"Summer!BX18-'Summer Peak 2015-01-15'!HK18","v":0},{"$f":"Summer!BY18-'Summer Peak 2015-01-15'!HL18","v":0},{"$f":"Summer!BZ18-'Summer Peak 2015-01-15'!HM18","v":0},{"$f":"Summer!CA18-'Summer Peak 2015-01-15'!HN18","v":0},{"$f":"Summer!CB18-'Summer Peak 2015-01-15'!HO18","v":0},{"$f":"Summer!CC18-'Summer Peak 2015-01-15'!HP18","v":0},{"$f":"Summer!CD18-'Summer Peak 2015-01-15'!HQ18","v":0},{"$f":"Summer!CE18-'Summer Peak 2015-01-15'!HR18","v":0},{"$f":"Summer!CF18-'Summer Peak 2015-01-15'!HS18","v":0},{"$f":"Summer!CG18-'Summer Peak 2015-01-15'!HT18","v":0},{"$f":"Summer!CH18-'Summer Peak 2015-01-15'!HU18","v":0},{"$f":"Summer!CI18-'Summer Peak 2015-01-15'!HV18","v":0},{"$f":"Summer!CJ18-'Summer Peak 2015-01-15'!HW18","v":0},{"$f":"Summer!CK18-'Summer Peak 2015-01-15'!HX18","v":0},{"$f":"Summer!CL18-'Summer Peak 2015-01-15'!HY18","v":0},{"$f":"Summer!CM18-'Summer Peak 2015-01-15'!HZ18","v":0},{"$f":"Summer!CN18-'Summer Peak 2015-01-15'!IA18","v":0},{"$f":"Summer!CO18-'Summer Peak 2015-01-15'!IB18","v":0},{"$f":"Summer!CP18-'Summer Peak 2015-01-15'!IC18","v":0},{"$f":"Summer!CQ18-'Summer Peak 2015-01-15'!ID18","v":0},{"$f":"Summer!CR18-'Summer Peak 2015-01-15'!IE18","v":0},{"$f":"Summer!CS18-'Summer Peak 2015-01-15'!IF18","v":0},{"$f":"Summer!CT18-'Summer Peak 2015-01-15'!IG18","v":0},{"$f":"Summer!CU18-'Summer Peak 2015-01-15'!IH18","v":0},{"$f":"Summer!CV18-'Summer Peak 2015-01-15'!II18","v":0},{"$f":"Summer!CW18-'Summer Peak 2015-01-15'!IJ18","v":0},{"$f":"Summer!CX18-'Summer Peak 2015-01-15'!IK18","v":0},{"$f":"Summer!CY18-'Summer Peak 2015-01-15'!IL18","v":0},{"$f":"Summer!CZ18-'Summer Peak 2015-01-15'!IM18","v":0},{"$f":"Summer!DA18-'Summer Peak 2015-01-15'!IN18","v":0},{"$f":"Summer!DB18-'Summer Peak 2015-01-15'!IO18","v":0},{"$f":"Summer!DC18-'Summer Peak 2015-01-15'!IP18","v":0},{"$f":"Summer!DD18-'Summer Peak 2015-01-15'!IQ18","v":0},{"$f":"Summer!DE18-'Summer Peak 2015-01-15'!IR18","v":0},{"$f":"Summer!DF18-'Summer Peak 2015-01-15'!IS18","v":0},{"$f":"Summer!DG18-'Summer Peak 2015-01-15'!IT18","v":0},{"$f":"Summer!DH18-'Summer Peak 2015-01-15'!IU18","v":0},{"$f":"Summer!DI18-'Summer Peak 2015-01-15'!IV18","v":0},{"$f":"Summer!DJ18-'Summer Peak 2015-01-15'!IW18","v":0},{"$f":"Summer!DK18-'Summer Peak 2015-01-15'!IX18","v":0},{"$f":"Summer!DL18-'Summer Peak 2015-01-15'!IY18","v":0},{"$f":"Summer!DM18-'Summer Peak 2015-01-15'!IZ18","v":0},{"$f":"Summer!DN18-'Summer Peak 2015-01-15'!JA18","v":0},{"$f":"Summer!DO18-'Summer Peak 2015-01-15'!JB18","v":0},{"$f":"Summer!DP18-'Summer Peak 2015-01-15'!JC18","v":0},{"$f":"Summer!DQ18-'Summer Peak 2015-01-15'!JD18","v":0},{"$f":"Summer!DR18-'Summer Peak 2015-01-15'!JE18","v":0},{"$f":"Summer!DS18-'Summer Peak 2015-01-15'!JF18","v":0}]
[null,"PJK2",{"$f":"Summer!C19-'Summer Peak 2015-01-15'!EP19","v":0},{"$f":"Summer!D19-'Summer Peak 2015-01-15'!EQ19","v":0},{"$f":"Summer!E19-'Summer Peak 2015-01-15'!ER19","v":0},{"$f":"Summer!F19-'Summer Peak 2015-01-15'!ES19","v":0},{"$f":"Summer!G19-'Summer Peak 2015-01-15'!ET19","v":0},{"$f":"Summer!H19-'Summer Peak 2015-01-15'!EU19","v":0},{"$f":"Summer!I19-'Summer Peak 2015-01-15'!EV19","v":0},{"$f":"Summer!J19-'Summer Peak 2015-01-15'!EW19","v":0},{"$f":"Summer!K19-'Summer Peak 2015-01-15'!EX19","v":0},{"$f":"Summer!L19-'Summer Peak 2015-01-15'!EY19","v":0},{"$f":"Summer!M19-'Summer Peak 2015-01-15'!EZ19","v":0},{"$f":"Summer!N19-'Summer Peak 2015-01-15'!FA19","v":0},{"$f":"Summer!O19-'Summer Peak 2015-01-15'!FB19","v":0},{"$f":"Summer!P19-'Summer Peak 2015-01-15'!FC19","v":0},{"$f":"Summer!Q19-'Summer Peak 2015-01-15'!FD19","v":0},{"$f":"Summer!R19-'Summer Peak 2015-01-15'!FE19","v":0},{"$f":"Summer!S19-'Summer Peak 2015-01-15'!FF19","v":0},{"$f":"Summer!T19-'Summer Peak 2015-01-15'!FG19","v":0},{"$f":"Summer!U19-'Summer Peak 2015-01-15'!FH19","v":0},{"$f":"Summer!V19-'Summer Peak 2015-01-15'!FI19","v":0},{"$f":"Summer!W19-'Summer Peak 2015-01-15'!FJ19","v":0},{"$f":"Summer!X19-'Summer Peak 2015-01-15'!FK19","v":0},{"$f":"Summer!Y19-'Summer Peak 2015-01-15'!FL19","v":0},{"$f":"Summer!Z19-'Summer Peak 2015-01-15'!FM19","v":0},{"$f":"Summer!AA19-'Summer Peak 2015-01-15'!FN19","v":0},{"$f":"Summer!AB19-'Summer Peak 2015-01-15'!FO19","v":0},{"$f":"Summer!AC19-'Summer Peak 2015-01-15'!FP19","v":0},{"$f":"Summer!AD19-'Summer Peak 2015-01-15'!FQ19","v":0},{"$f":"Summer!AE19-'Summer Peak 2015-01-15'!FR19","v":0},{"$f":"Summer!AF19-'Summer Peak 2015-01-15'!FS19","v":0},{"$f":"Summer!AG19-'Summer Peak 2015-01-15'!FT19","v":0},{"$f":"Summer!AH19-'Summer Peak 2015-01-15'!FU19","v":0},{"$f":"Summer!AI19-'Summer Peak 2015-01-15'!FV19","v":0},{"$f":"Summer!AJ19-'Summer Peak 2015-01-15'!FW19","v":0},{"$f":"Summer!AK19-'Summer Peak 2015-01-15'!FX19","v":0},{"$f":"Summer!AL19-'Summer Peak 2015-01-15'!FY19","v":0},{"$f":"Summer!AM19-'Summer Peak 2015-01-15'!FZ19","v":0},{"$f":"Summer!AN19-'Summer Peak 2015-01-15'!GA19","v":0},{"$f":"Summer!AO19-'Summer Peak 2015-01-15'!GB19","v":0},{"$f":"Summer!AP19-'Summer Peak 2015-01-15'!GC19","v":0},{"$f":"Summer!AQ19-'Summer Peak 2015-01-15'!GD19","v":0},{"$f":"Summer!AR19-'Summer Peak 2015-01-15'!GE19","v":0},{"$f":"Summer!AS19-'Summer Peak 2015-01-15'!GF19","v":0},{"$f":"Summer!AT19-'Summer Peak 2015-01-15'!GG19","v":0},{"$f":"Summer!AU19-'Summer Peak 2015-01-15'!GH19","v":0},{"$f":"Summer!AV19-'Summer Peak 2015-01-15'!GI19","v":0},{"$f":"Summer!AW19-'Summer Peak 2015-01-15'!GJ19","v":0},{"$f":"Summer!AX19-'Summer Peak 2015-01-15'!GK19","v":0},{"$f":"Summer!AY19-'Summer Peak 2015-01-15'!GL19","v":0},{"$f":"Summer!AZ19-'Summer Peak 2015-01-15'!GM19","v":0},{"$f":"Summer!BA19-'Summer Peak 2015-01-15'!GN19","v":0},{"$f":"Summer!BB19-'Summer Peak 2015-01-15'!GO19","v":0},{"$f":"Summer!BC19-'Summer Peak 2015-01-15'!GP19","v":0},{"$f":"Summer!BD19-'Summer Peak 2015-01-15'!GQ19","v":0},{"$f":"Summer!BE19-'Summer Peak 2015-01-15'!GR19","v":0},{"$f":"Summer!BF19-'Summer Peak 2015-01-15'!GS19","v":0},{"$f":"Summer!BG19-'Summer Peak 2015-01-15'!GT19","v":0},{"$f":"Summer!BH19-'Summer Peak 2015-01-15'!GU19","v":0},{"$f":"Summer!BI19-'Summer Peak 2015-01-15'!GV19","v":0},{"$f":"Summer!BJ19-'Summer Peak 2015-01-15'!GW19","v":0},{"$f":"Summer!BK19-'Summer Peak 2015-01-15'!GX19","v":0},{"$f":"Summer!BL19-'Summer Peak 2015-01-15'!GY19","v":0},{"$f":"Summer!BM19-'Summer Peak 2015-01-15'!GZ19","v":0},{"$f":"Summer!BN19-'Summer Peak 2015-01-15'!HA19","v":0},{"$f":"Summer!BO19-'Summer Peak 2015-01-15'!HB19","v":0},{"$f":"Summer!BP19-'Summer Peak 2015-01-15'!HC19","v":0},{"$f":"Summer!BQ19-'Summer Peak 2015-01-15'!HD19","v":0},{"$f":"Summer!BR19-'Summer Peak 2015-01-15'!HE19","v":0},{"$f":"Summer!BS19-'Summer Peak 2015-01-15'!HF19","v":0},{"$f":"Summer!BT19-'Summer Peak 2015-01-15'!HG19","v":0},{"$f":"Summer!BU19-'Summer Peak 2015-01-15'!HH19","v":0},{"$f":"Summer!BV19-'Summer Peak 2015-01-15'!HI19","v":0},{"$f":"Summer!BW19-'Summer Peak 2015-01-15'!HJ19","v":0},{"$f":"Summer!BX19-'Summer Peak 2015-01-15'!HK19","v":0},{"$f":"Summer!BY19-'Summer Peak 2015-01-15'!HL19","v":0},{"$f":"Summer!BZ19-'Summer Peak 2015-01-15'!HM19","v":0},{"$f":"Summer!CA19-'Summer Peak 2015-01-15'!HN19","v":0},{"$f":"Summer!CB19-'Summer Peak 2015-01-15'!HO19","v":0},{"$f":"Summer!CC19-'Summer Peak 2015-01-15'!HP19","v":0},{"$f":"Summer!CD19-'Summer Peak 2015-01-15'!HQ19","v":0},{"$f":"Summer!CE19-'Summer Peak 2015-01-15'!HR19","v":0},{"$f":"Summer!CF19-'Summer Peak 2015-01-15'!HS19","v":0},{"$f":"Summer!CG19-'Summer Peak 2015-01-15'!HT19","v":0},{"$f":"Summer!CH19-'Summer Peak 2015-01-15'!HU19","v":0},{"$f":"Summer!CI19-'Summer Peak 2015-01-15'!HV19","v":0},{"$f":"Summer!CJ19-'Summer Peak 2015-01-15'!HW19","v":0},{"$f":"Summer!CK19-'Summer Peak 2015-01-15'!HX19","v":0},{"$f":"Summer!CL19-'Summer Peak 2015-01-15'!HY19","v":0},{"$f":"Summer!CM19-'Summer Peak 2015-01-15'!HZ19","v":0},{"$f":"Summer!CN19-'Summer Peak 2015-01-15'!IA19","v":0},{"$f":"Summer!CO19-'Summer Peak 2015-01-15'!IB19","v":0},{"$f":"Summer!CP19-'Summer Peak 2015-01-15'!IC19","v":0},{"$f":"Summer!CQ19-'Summer Peak 2015-01-15'!ID19","v":0},{"$f":"Summer!CR19-'Summer Peak 2015-01-15'!IE19","v":0},{"$f":"Summer!CS19-'Summer Peak 2015-01-15'!IF19","v":0},{"$f":"Summer!CT19-'Summer Peak 2015-01-15'!IG19","v":0},{"$f":"Summer!CU19-'Summer Peak 2015-01-15'!IH19","v":0},{"$f":"Summer!CV19-'Summer Peak 2015-01-15'!II19","v":0},{"$f":"Summer!CW19-'Summer Peak 2015-01-15'!IJ19","v":0},{"$f":"Summer!CX19-'Summer Peak 2015-01-15'!IK19","v":0},{"$f":"Summer!CY19-'Summer Peak 2015-01-15'!IL19","v":0},{"$f":"Summer!CZ19-'Summer Peak 2015-01-15'!IM19","v":0},{"$f":"Summer!DA19-'Summer Peak 2015-01-15'!IN19","v":0},{"$f":"Summer!DB19-'Summer Peak 2015-01-15'!IO19","v":0},{"$f":"Summer!DC19-'Summer Peak 2015-01-15'!IP19","v":0},{"$f":"Summer!DD19-'Summer Peak 2015-01-15'!IQ19","v":0},{"$f":"Summer!DE19-'Summer Peak 2015-01-15'!IR19","v":0},{"$f":"Summer!DF19-'Summer Peak 2015-01-15'!IS19","v":0},{"$f":"Summer!DG19-'Summer Peak 2015-01-15'!IT19","v":0},{"$f":"Summer!DH19-'Summer Peak 2015-01-15'!IU19","v":0},{"$f":"Summer!DI19-'Summer Peak 2015-01-15'!IV19","v":0},{"$f":"Summer!DJ19-'Summer Peak 2015-01-15'!IW19","v":0},{"$f":"Summer!DK19-'Summer Peak 2015-01-15'!IX19","v":0},{"$f":"Summer!DL19-'Summer Peak 2015-01-15'!IY19","v":0},{"$f":"Summer!DM19-'Summer Peak 2015-01-15'!IZ19","v":0},{"$f":"Summer!DN19-'Summer Peak 2015-01-15'!JA19","v":0},{"$f":"Summer!DO19-'Summer Peak 2015-01-15'!JB19","v":0},{"$f":"Summer!DP19-'Summer Peak 2015-01-15'!JC19","v":0},{"$f":"Summer!DQ19-'Summer Peak 2015-01-15'!JD19","v":0},{"$f":"Summer!DR19-'Summer Peak 2015-01-15'!JE19","v":0},{"$f":"Summer!DS19-'Summer Peak 2015-01-15'!JF19","v":0}]
[null,"PMR1",{"$f":"Summer!C20-'Summer Peak 2015-01-15'!EP20","v":0},{"$f":"Summer!D20-'Summer Peak 2015-01-15'!EQ20","v":0},{"$f":"Summer!E20-'Summer Peak 2015-01-15'!ER20","v":0},{"$f":"Summer!F20-'Summer Peak 2015-01-15'!ES20","v":0},{"$f":"Summer!G20-'Summer Peak 2015-01-15'!ET20","v":0},{"$f":"Summer!H20-'Summer Peak 2015-01-15'!EU20","v":0},{"$f":"Summer!I20-'Summer Peak 2015-01-15'!EV20","v":0},{"$f":"Summer!J20-'Summer Peak 2015-01-15'!EW20","v":0},{"$f":"Summer!K20-'Summer Peak 2015-01-15'!EX20","v":0},{"$f":"Summer!L20-'Summer Peak 2015-01-15'!EY20","v":0},{"$f":"Summer!M20-'Summer Peak 2015-01-15'!EZ20","v":0},{"$f":"Summer!N20-'Summer Peak 2015-01-15'!FA20","v":0},{"$f":"Summer!O20-'Summer Peak 2015-01-15'!FB20","v":0},{"$f":"Summer!P20-'Summer Peak 2015-01-15'!FC20","v":0},{"$f":"Summer!Q20-'Summer Peak 2015-01-15'!FD20","v":0},{"$f":"Summer!R20-'Summer Peak 2015-01-15'!FE20","v":0},{"$f":"Summer!S20-'Summer Peak 2015-01-15'!FF20","v":0},{"$f":"Summer!T20-'Summer Peak 2015-01-15'!FG20","v":0},{"$f":"Summer!U20-'Summer Peak 2015-01-15'!FH20","v":0},{"$f":"Summer!V20-'Summer Peak 2015-01-15'!FI20","v":0},{"$f":"Summer!W20-'Summer Peak 2015-01-15'!FJ20","v":0},{"$f":"Summer!X20-'Summer Peak 2015-01-15'!FK20","v":0},{"$f":"Summer!Y20-'Summer Peak 2015-01-15'!FL20","v":0},{"$f":"Summer!Z20-'Summer Peak 2015-01-15'!FM20","v":0},{"$f":"Summer!AA20-'Summer Peak 2015-01-15'!FN20","v":0},{"$f":"Summer!AB20-'Summer Peak 2015-01-15'!FO20","v":0},{"$f":"Summer!AC20-'Summer Peak 2015-01-15'!FP20","v":0},{"$f":"Summer!AD20-'Summer Peak 2015-01-15'!FQ20","v":0},{"$f":"Summer!AE20-'Summer Peak 2015-01-15'!FR20","v":0},{"$f":"Summer!AF20-'Summer Peak 2015-01-15'!FS20","v":0},{"$f":"Summer!AG20-'Summer Peak 2015-01-15'!FT20","v":0},{"$f":"Summer!AH20-'Summer Peak 2015-01-15'!FU20","v":0},{"$f":"Summer!AI20-'Summer Peak 2015-01-15'!FV20","v":0},{"$f":"Summer!AJ20-'Summer Peak 2015-01-15'!FW20","v":0},{"$f":"Summer!AK20-'Summer Peak 2015-01-15'!FX20","v":0},{"$f":"Summer!AL20-'Summer Peak 2015-01-15'!FY20","v":0},{"$f":"Summer!AM20-'Summer Peak 2015-01-15'!FZ20","v":0},{"$f":"Summer!AN20-'Summer Peak 2015-01-15'!GA20","v":0},{"$f":"Summer!AO20-'Summer Peak 2015-01-15'!GB20","v":0},{"$f":"Summer!AP20-'Summer Peak 2015-01-15'!GC20","v":0},{"$f":"Summer!AQ20-'Summer Peak 2015-01-15'!GD20","v":0},{"$f":"Summer!AR20-'Summer Peak 2015-01-15'!GE20","v":0},{"$f":"Summer!AS20-'Summer Peak 2015-01-15'!GF20","v":0},{"$f":"Summer!AT20-'Summer Peak 2015-01-15'!GG20","v":0},{"$f":"Summer!AU20-'Summer Peak 2015-01-15'!GH20","v":0},{"$f":"Summer!AV20-'Summer Peak 2015-01-15'!GI20","v":0},{"$f":"Summer!AW20-'Summer Peak 2015-01-15'!GJ20","v":0},{"$f":"Summer!AX20-'Summer Peak 2015-01-15'!GK20","v":0},{"$f":"Summer!AY20-'Summer Peak 2015-01-15'!GL20","v":0},{"$f":"Summer!AZ20-'Summer Peak 2015-01-15'!GM20","v":0},{"$f":"Summer!BA20-'Summer Peak 2015-01-15'!GN20","v":0},{"$f":"Summer!BB20-'Summer Peak 2015-01-15'!GO20","v":0},{"$f":"Summer!BC20-'Summer Peak 2015-01-15'!GP20","v":0},{"$f":"Summer!BD20-'Summer Peak 2015-01-15'!GQ20","v":0},{"$f":"Summer!BE20-'Summer Peak 2015-01-15'!GR20","v":0},{"$f":"Summer!BF20-'Summer Peak 2015-01-15'!GS20","v":0},{"$f":"Summer!BG20-'Summer Peak 2015-01-15'!GT20","v":0},{"$f":"Summer!BH20-'Summer Peak 2015-01-15'!GU20","v":0},{"$f":"Summer!BI20-'Summer Peak 2015-01-15'!GV20","v":0},{"$f":"Summer!BJ20-'Summer Peak 2015-01-15'!GW20","v":0},{"$f":"Summer!BK20-'Summer Peak 2015-01-15'!GX20","v":0},{"$f":"Summer!BL20-'Summer Peak 2015-01-15'!GY20","v":0},{"$f":"Summer!BM20-'Summer Peak 2015-01-15'!GZ20","v":0},{"$f":"Summer!BN20-'Summer Peak 2015-01-15'!HA20","v":0},{"$f":"Summer!BO20-'Summer Peak 2015-01-15'!HB20","v":0},{"$f":"Summer!BP20-'Summer Peak 2015-01-15'!HC20","v":0},{"$f":"Summer!BQ20-'Summer Peak 2015-01-15'!HD20","v":0},{"$f":"Summer!BR20-'Summer Peak 2015-01-15'!HE20","v":0},{"$f":"Summer!BS20-'Summer Peak 2015-01-15'!HF20","v":0},{"$f":"Summer!BT20-'Summer Peak 2015-01-15'!HG20","v":0},{"$f":"Summer!BU20-'Summer Peak 2015-01-15'!HH20","v":0},{"$f":"Summer!BV20-'Summer Peak 2015-01-15'!HI20","v":0},{"$f":"Summer!BW20-'Summer Peak 2015-01-15'!HJ20","v":0},{"$f":"Summer!BX20-'Summer Peak 2015-01-15'!HK20","v":0},{"$f":"Summer!BY20-'Summer Peak 2015-01-15'!HL20","v":0},{"$f":"Summer!BZ20-'Summer Peak 2015-01-15'!HM20","v":0},{"$f":"Summer!CA20-'Summer Peak 2015-01-15'!HN20","v":0},{"$f":"Summer!CB20-'Summer Peak 2015-01-15'!HO20","v":0},{"$f":"Summer!CC20-'Summer Peak 2015-01-15'!HP20","v":0},{"$f":"Summer!CD20-'Summer Peak 2015-01-15'!HQ20","v":0},{"$f":"Summer!CE20-'Summer Peak 2015-01-15'!HR20","v":0},{"$f":"Summer!CF20-'Summer Peak 2015-01-15'!HS20","v":0},{"$f":"Summer!CG20-'Summer Peak 2015-01-15'!HT20","v":0},{"$f":"Summer!CH20-'Summer Peak 2015-01-15'!HU20","v":0},{"$f":"Summer!CI20-'Summer Peak 2015-01-15'!HV20","v":0},{"$f":"Summer!CJ20-'Summer Peak 2015-01-15'!HW20","v":0},{"$f":"Summer!CK20-'Summer Peak 2015-01-15'!HX20","v":0},{"$f":"Summer!CL20-'Summer Peak 2015-01-15'!HY20","v":0},{"$f":"Summer!CM20-'Summer Peak 2015-01-15'!HZ20","v":0},{"$f":"Summer!CN20-'Summer Peak 2015-01-15'!IA20","v":0},{"$f":"Summer!CO20-'Summer Peak 2015-01-15'!IB20","v":0},{"$f":"Summer!CP20-'Summer Peak 2015-01-15'!IC20","v":0},{"$f":"Summer!CQ20-'Summer Peak 2015-01-15'!ID20","v":0},{"$f":"Summer!CR20-'Summer Peak 2015-01-15'!IE20","v":0},{"$f":"Summer!CS20-'Summer Peak 2015-01-15'!IF20","v":0},{"$f":"Summer!CT20-'Summer Peak 2015-01-15'!IG20","v":0},{"$f":"Summer!CU20-'Summer Peak 2015-01-15'!IH20","v":0},{"$f":"Summer!CV20-'Summer Peak 2015-01-15'!II20","v":0},{"$f":"Summer!CW20-'Summer Peak 2015-01-15'!IJ20","v":0},{"$f":"Summer!CX20-'Summer Peak 2015-01-15'!IK20","v":0},{"$f":"Summer!CY20-'Summer Peak 2015-01-15'!IL20","v":0},{"$f":"Summer!CZ20-'Summer Peak 2015-01-15'!IM20","v":0},{"$f":"Summer!DA20-'Summer Peak 2015-01-15'!IN20","v":0},{"$f":"Summer!DB20-'Summer Peak 2015-01-15'!IO20","v":0},{"$f":"Summer!DC20-'Summer Peak 2015-01-15'!IP20","v":0},{"$f":"Summer!DD20-'Summer Peak 2015-01-15'!IQ20","v":0},{"$f":"Summer!DE20-'Summer Peak 2015-01-15'!IR20","v":0},{"$f":"Summer!DF20-'Summer Peak 2015-01-15'!IS20","v":0},{"$f":"Summer!DG20-'Summer Peak 2015-01-15'!IT20","v":0},{"$f":"Summer!DH20-'Summer Peak 2015-01-15'!IU20","v":0},{"$f":"Summer!DI20-'Summer Peak 2015-01-15'!IV20","v":0},{"$f":"Summer!DJ20-'Summer Peak 2015-01-15'!IW20","v":0},{"$f":"Summer!DK20-'Summer Peak 2015-01-15'!IX20","v":0},{"$f":"Summer!DL20-'Summer Peak 2015-01-15'!IY20","v":0},{"$f":"Summer!DM20-'Summer Peak 2015-01-15'!IZ20","v":0},{"$f":"Summer!DN20-'Summer Peak 2015-01-15'!JA20","v":0},{"$f":"Summer!DO20-'Summer Peak 2015-01-15'!JB20","v":0},{"$f":"Summer!DP20-'Summer Peak 2015-01-15'!JC20","v":0},{"$f":"Summer!DQ20-'Summer Peak 2015-01-15'!JD20","v":0},{"$f":"Summer!DR20-'Summer Peak 2015-01-15'!JE20","v":0},{"$f":"Summer!DS20-'Summer Peak 2015-01-15'!JF20","v":0}]
[null,"PMR2",{"$f":"Summer!C21-'Summer Peak 2015-01-15'!EP21","v":0},{"$f":"Summer!D21-'Summer Peak 2015-01-15'!EQ21","v":0},{"$f":"Summer!E21-'Summer Peak 2015-01-15'!ER21","v":0},{"$f":"Summer!F21-'Summer Peak 2015-01-15'!ES21","v":0},{"$f":"Summer!G21-'Summer Peak 2015-01-15'!ET21","v":0},{"$f":"Summer!H21-'Summer Peak 2015-01-15'!EU21","v":0},{"$f":"Summer!I21-'Summer Peak 2015-01-15'!EV21","v":0},{"$f":"Summer!J21-'Summer Peak 2015-01-15'!EW21","v":0},{"$f":"Summer!K21-'Summer Peak 2015-01-15'!EX21","v":0},{"$f":"Summer!L21-'Summer Peak 2015-01-15'!EY21","v":0},{"$f":"Summer!M21-'Summer Peak 2015-01-15'!EZ21","v":0},{"$f":"Summer!N21-'Summer Peak 2015-01-15'!FA21","v":0},{"$f":"Summer!O21-'Summer Peak 2015-01-15'!FB21","v":0},{"$f":"Summer!P21-'Summer Peak 2015-01-15'!FC21","v":0},{"$f":"Summer!Q21-'Summer Peak 2015-01-15'!FD21","v":0},{"$f":"Summer!R21-'Summer Peak 2015-01-15'!FE21","v":0},{"$f":"Summer!S21-'Summer Peak 2015-01-15'!FF21","v":0},{"$f":"Summer!T21-'Summer Peak 2015-01-15'!FG21","v":0},{"$f":"Summer!U21-'Summer Peak 2015-01-15'!FH21","v":0},{"$f":"Summer!V21-'Summer Peak 2015-01-15'!FI21","v":0},{"$f":"Summer!W21-'Summer Peak 2015-01-15'!FJ21","v":0},{"$f":"Summer!X21-'Summer Peak 2015-01-15'!FK21","v":0},{"$f":"Summer!Y21-'Summer Peak 2015-01-15'!FL21","v":0},{"$f":"Summer!Z21-'Summer Peak 2015-01-15'!FM21","v":0},{"$f":"Summer!AA21-'Summer Peak 2015-01-15'!FN21","v":0},{"$f":"Summer!AB21-'Summer Peak 2015-01-15'!FO21","v":0},{"$f":"Summer!AC21-'Summer Peak 2015-01-15'!FP21","v":0},{"$f":"Summer!AD21-'Summer Peak 2015-01-15'!FQ21","v":0},{"$f":"Summer!AE21-'Summer Peak 2015-01-15'!FR21","v":0},{"$f":"Summer!AF21-'Summer Peak 2015-01-15'!FS21","v":0},{"$f":"Summer!AG21-'Summer Peak 2015-01-15'!FT21","v":0},{"$f":"Summer!AH21-'Summer Peak 2015-01-15'!FU21","v":0},{"$f":"Summer!AI21-'Summer Peak 2015-01-15'!FV21","v":0},{"$f":"Summer!AJ21-'Summer Peak 2015-01-15'!FW21","v":0},{"$f":"Summer!AK21-'Summer Peak 2015-01-15'!FX21","v":0},{"$f":"Summer!AL21-'Summer Peak 2015-01-15'!FY21","v":0},{"$f":"Summer!AM21-'Summer Peak 2015-01-15'!FZ21","v":0},{"$f":"Summer!AN21-'Summer Peak 2015-01-15'!GA21","v":0},{"$f":"Summer!AO21-'Summer Peak 2015-01-15'!GB21","v":0},{"$f":"Summer!AP21-'Summer Peak 2015-01-15'!GC21","v":0},{"$f":"Summer!AQ21-'Summer Peak 2015-01-15'!GD21","v":0},{"$f":"Summer!AR21-'Summer Peak 2015-01-15'!GE21","v":0},{"$f":"Summer!AS21-'Summer Peak 2015-01-15'!GF21","v":0},{"$f":"Summer!AT21-'Summer Peak 2015-01-15'!GG21","v":0},{"$f":"Summer!AU21-'Summer Peak 2015-01-15'!GH21","v":0},{"$f":"Summer!AV21-'Summer Peak 2015-01-15'!GI21","v":0},{"$f":"Summer!AW21-'Summer Peak 2015-01-15'!GJ21","v":0},{"$f":"Summer!AX21-'Summer Peak 2015-01-15'!GK21","v":0},{"$f":"Summer!AY21-'Summer Peak 2015-01-15'!GL21","v":0},{"$f":"Summer!AZ21-'Summer Peak 2015-01-15'!GM21","v":0},{"$f":"Summer!BA21-'Summer Peak 2015-01-15'!GN21","v":0},{"$f":"Summer!BB21-'Summer Peak 2015-01-15'!GO21","v":0},{"$f":"Summer!BC21-'Summer Peak 2015-01-15'!GP21","v":0},{"$f":"Summer!BD21-'Summer Peak 2015-01-15'!GQ21","v":0},{"$f":"Summer!BE21-'Summer Peak 2015-01-15'!GR21","v":0},{"$f":"Summer!BF21-'Summer Peak 2015-01-15'!GS21","v":0},{"$f":"Summer!BG21-'Summer Peak 2015-01-15'!GT21","v":0},{"$f":"Summer!BH21-'Summer Peak 2015-01-15'!GU21","v":0},{"$f":"Summer!BI21-'Summer Peak 2015-01-15'!GV21","v":0},{"$f":"Summer!BJ21-'Summer Peak 2015-01-15'!GW21","v":0},{"$f":"Summer!BK21-'Summer Peak 2015-01-15'!GX21","v":0},{"$f":"Summer!BL21-'Summer Peak 2015-01-15'!GY21","v":0},{"$f":"Summer!BM21-'Summer Peak 2015-01-15'!GZ21","v":0},{"$f":"Summer!BN21-'Summer Peak 2015-01-15'!HA21","v":0},{"$f":"Summer!BO21-'Summer Peak 2015-01-15'!HB21","v":0},{"$f":"Summer!BP21-'Summer Peak 2015-01-15'!HC21","v":0},{"$f":"Summer!BQ21-'Summer Peak 2015-01-15'!HD21","v":0},{"$f":"Summer!BR21-'Summer Peak 2015-01-15'!HE21","v":0},{"$f":"Summer!BS21-'Summer Peak 2015-01-15'!HF21","v":0},{"$f":"Summer!BT21-'Summer Peak 2015-01-15'!HG21","v":0},{"$f":"Summer!BU21-'Summer Peak 2015-01-15'!HH21","v":0},{"$f":"Summer!BV21-'Summer Peak 2015-01-15'!HI21","v":0},{"$f":"Summer!BW21-'Summer Peak 2015-01-15'!HJ21","v":0},{"$f":"Summer!BX21-'Summer Peak 2015-01-15'!HK21","v":0},{"$f":"Summer!BY21-'Summer Peak 2015-01-15'!HL21","v":0},{"$f":"Summer!BZ21-'Summer Peak 2015-01-15'!HM21","v":0},{"$f":"Summer!CA21-'Summer Peak 2015-01-15'!HN21","v":0},{"$f":"Summer!CB21-'Summer Peak 2015-01-15'!HO21","v":0},{"$f":"Summer!CC21-'Summer Peak 2015-01-15'!HP21","v":0},{"$f":"Summer!CD21-'Summer Peak 2015-01-15'!HQ21","v":0},{"$f":"Summer!CE21-'Summer Peak 2015-01-15'!HR21","v":0},{"$f":"Summer!CF21-'Summer Peak 2015-01-15'!HS21","v":0},{"$f":"Summer!CG21-'Summer Peak 2015-01-15'!HT21","v":0},{"$f":"Summer!CH21-'Summer Peak 2015-01-15'!HU21","v":0},{"$f":"Summer!CI21-'Summer Peak 2015-01-15'!HV21","v":0},{"$f":"Summer!CJ21-'Summer Peak 2015-01-15'!HW21","v":0},{"$f":"Summer!CK21-'Summer Peak 2015-01-15'!HX21","v":0},{"$f":"Summer!CL21-'Summer Peak 2015-01-15'!HY21","v":0},{"$f":"Summer!CM21-'Summer Peak 2015-01-15'!HZ21","v":0},{"$f":"Summer!CN21-'Summer Peak 2015-01-15'!IA21","v":0},{"$f":"Summer!CO21-'Summer Peak 2015-01-15'!IB21","v":0},{"$f":"Summer!CP21-'Summer Peak 2015-01-15'!IC21","v":0},{"$f":"Summer!CQ21-'Summer Peak 2015-01-15'!ID21","v":0},{"$f":"Summer!CR21-'Summer Peak 2015-01-15'!IE21","v":0},{"$f":"Summer!CS21-'Summer Peak 2015-01-15'!IF21","v":0},{"$f":"Summer!CT21-'Summer Peak 2015-01-15'!IG21","v":0},{"$f":"Summer!CU21-'Summer Peak 2015-01-15'!IH21","v":0},{"$f":"Summer!CV21-'Summer Peak 2015-01-15'!II21","v":0},{"$f":"Summer!CW21-'Summer Peak 2015-01-15'!IJ21","v":0},{"$f":"Summer!CX21-'Summer Peak 2015-01-15'!IK21","v":0},{"$f":"Summer!CY21-'Summer Peak 2015-01-15'!IL21","v":0},{"$f":"Summer!CZ21-'Summer Peak 2015-01-15'!IM21","v":0},{"$f":"Summer!DA21-'Summer Peak 2015-01-15'!IN21","v":0},{"$f":"Summer!DB21-'Summer Peak 2015-01-15'!IO21","v":0},{"$f":"Summer!DC21-'Summer Peak 2015-01-15'!IP21","v":0},{"$f":"Summer!DD21-'Summer Peak 2015-01-15'!IQ21","v":0},{"$f":"Summer!DE21-'Summer Peak 2015-01-15'!IR21","v":0},{"$f":"Summer!DF21-'Summer Peak 2015-01-15'!IS21","v":0},{"$f":"Summer!DG21-'Summer Peak 2015-01-15'!IT21","v":0},{"$f":"Summer!DH21-'Summer Peak 2015-01-15'!IU21","v":0},{"$f":"Summer!DI21-'Summer Peak 2015-01-15'!IV21","v":0},{"$f":"Summer!DJ21-'Summer Peak 2015-01-15'!IW21","v":0},{"$f":"Summer!DK21-'Summer Peak 2015-01-15'!IX21","v":0},{"$f":"Summer!DL21-'Summer Peak 2015-01-15'!IY21","v":0},{"$f":"Summer!DM21-'Summer Peak 2015-01-15'!IZ21","v":0},{"$f":"Summer!DN21-'Summer Peak 2015-01-15'!JA21","v":0},{"$f":"Summer!DO21-'Summer Peak 2015-01-15'!JB21","v":0},{"$f":"Summer!DP21-'Summer Peak 2015-01-15'!JC21","v":0},{"$f":"Summer!DQ21-'Summer Peak 2015-01-15'!JD21","v":0},{"$f":"Summer!DR21-'Summer Peak 2015-01-15'!JE21","v":0},{"$f":"Summer!DS21-'Summer Peak 2015-01-15'!JF21","v":0}]
[null,"PMG3",{"$f":"Summer!C22-'Summer Peak 2015-01-15'!EP22","v":0},{"$f":"Summer!D22-'Summer Peak 2015-01-15'!EQ22","v":0},{"$f":"Summer!E22-'Summer Peak 2015-01-15'!ER22","v":0},{"$f":"Summer!F22-'Summer Peak 2015-01-15'!ES22","v":0},{"$f":"Summer!G22-'Summer Peak 2015-01-15'!ET22","v":0},{"$f":"Summer!H22-'Summer Peak 2015-01-15'!EU22","v":0},{"$f":"Summer!I22-'Summer Peak 2015-01-15'!EV22","v":0},{"$f":"Summer!J22-'Summer Peak 2015-01-15'!EW22","v":0},{"$f":"Summer!K22-'Summer Peak 2015-01-15'!EX22","v":0},{"$f":"Summer!L22-'Summer Peak 2015-01-15'!EY22","v":0},{"$f":"Summer!M22-'Summer Peak 2015-01-15'!EZ22","v":0},{"$f":"Summer!N22-'Summer Peak 2015-01-15'!FA22","v":0},{"$f":"Summer!O22-'Summer Peak 2015-01-15'!FB22","v":0},{"$f":"Summer!P22-'Summer Peak 2015-01-15'!FC22","v":0},{"$f":"Summer!Q22-'Summer Peak 2015-01-15'!FD22","v":0},{"$f":"Summer!R22-'Summer Peak 2015-01-15'!FE22","v":0},{"$f":"Summer!S22-'Summer Peak 2015-01-15'!FF22","v":0},{"$f":"Summer!T22-'Summer Peak 2015-01-15'!FG22","v":0},{"$f":"Summer!U22-'Summer Peak 2015-01-15'!FH22","v":0},{"$f":"Summer!V22-'Summer Peak 2015-01-15'!FI22","v":0},{"$f":"Summer!W22-'Summer Peak 2015-01-15'!FJ22","v":0},{"$f":"Summer!X22-'Summer Peak 2015-01-15'!FK22","v":0},{"$f":"Summer!Y22-'Summer Peak 2015-01-15'!FL22","v":0},{"$f":"Summer!Z22-'Summer Peak 2015-01-15'!FM22","v":0},{"$f":"Summer!AA22-'Summer Peak 2015-01-15'!FN22","v":0},{"$f":"Summer!AB22-'Summer Peak 2015-01-15'!FO22","v":0},{"$f":"Summer!AC22-'Summer Peak 2015-01-15'!FP22","v":0},{"$f":"Summer!AD22-'Summer Peak 2015-01-15'!FQ22","v":0},{"$f":"Summer!AE22-'Summer Peak 2015-01-15'!FR22","v":0},{"$f":"Summer!AF22-'Summer Peak 2015-01-15'!FS22","v":0},{"$f":"Summer!AG22-'Summer Peak 2015-01-15'!FT22","v":0},{"$f":"Summer!AH22-'Summer Peak 2015-01-15'!FU22","v":0},{"$f":"Summer!AI22-'Summer Peak 2015-01-15'!FV22","v":0},{"$f":"Summer!AJ22-'Summer Peak 2015-01-15'!FW22","v":0},{"$f":"Summer!AK22-'Summer Peak 2015-01-15'!FX22","v":0},{"$f":"Summer!AL22-'Summer Peak 2015-01-15'!FY22","v":0},{"$f":"Summer!AM22-'Summer Peak 2015-01-15'!FZ22","v":0},{"$f":"Summer!AN22-'Summer Peak 2015-01-15'!GA22","v":0},{"$f":"Summer!AO22-'Summer Peak 2015-01-15'!GB22","v":0},{"$f":"Summer!AP22-'Summer Peak 2015-01-15'!GC22","v":0},{"$f":"Summer!AQ22-'Summer Peak 2015-01-15'!GD22","v":0},{"$f":"Summer!AR22-'Summer Peak 2015-01-15'!GE22","v":0},{"$f":"Summer!AS22-'Summer Peak 2015-01-15'!GF22","v":0},{"$f":"Summer!AT22-'Summer Peak 2015-01-15'!GG22","v":0},{"$f":"Summer!AU22-'Summer Peak 2015-01-15'!GH22","v":0},{"$f":"Summer!AV22-'Summer Peak 2015-01-15'!GI22","v":0},{"$f":"Summer!AW22-'Summer Peak 2015-01-15'!GJ22","v":0},{"$f":"Summer!AX22-'Summer Peak 2015-01-15'!GK22","v":0},{"$f":"Summer!AY22-'Summer Peak 2015-01-15'!GL22","v":0},{"$f":"Summer!AZ22-'Summer Peak 2015-01-15'!GM22","v":0},{"$f":"Summer!BA22-'Summer Peak 2015-01-15'!GN22","v":0},{"$f":"Summer!BB22-'Summer Peak 2015-01-15'!GO22","v":0},{"$f":"Summer!BC22-'Summer Peak 2015-01-15'!GP22","v":0},{"$f":"Summer!BD22-'Summer Peak 2015-01-15'!GQ22","v":0},{"$f":"Summer!BE22-'Summer Peak 2015-01-15'!GR22","v":0},{"$f":"Summer!BF22-'Summer Peak 2015-01-15'!GS22","v":0},{"$f":"Summer!BG22-'Summer Peak 2015-01-15'!GT22","v":0},{"$f":"Summer!BH22-'Summer Peak 2015-01-15'!GU22","v":0},{"$f":"Summer!BI22-'Summer Peak 2015-01-15'!GV22","v":0},{"$f":"Summer!BJ22-'Summer Peak 2015-01-15'!GW22","v":0},{"$f":"Summer!BK22-'Summer Peak 2015-01-15'!GX22","v":0},{"$f":"Summer!BL22-'Summer Peak 2015-01-15'!GY22","v":0},{"$f":"Summer!BM22-'Summer Peak 2015-01-15'!GZ22","v":0},{"$f":"Summer!BN22-'Summer Peak 2015-01-15'!HA22","v":0},{"$f":"Summer!BO22-'Summer Peak 2015-01-15'!HB22","v":0},{"$f":"Summer!BP22-'Summer Peak 2015-01-15'!HC22","v":0},{"$f":"Summer!BQ22-'Summer Peak 2015-01-15'!HD22","v":0},{"$f":"Summer!BR22-'Summer Peak 2015-01-15'!HE22","v":0},{"$f":"Summer!BS22-'Summer Peak 2015-01-15'!HF22","v":0},{"$f":"Summer!BT22-'Summer Peak 2015-01-15'!HG22","v":0},{"$f":"Summer!BU22-'Summer Peak 2015-01-15'!HH22","v":0},{"$f":"Summer!BV22-'Summer Peak 2015-01-15'!HI22","v":0},{"$f":"Summer!BW22-'Summer Peak 2015-01-15'!HJ22","v":0},{"$f":"Summer!BX22-'Summer Peak 2015-01-15'!HK22","v":0},{"$f":"Summer!BY22-'Summer Peak 2015-01-15'!HL22","v":0},{"$f":"Summer!BZ22-'Summer Peak 2015-01-15'!HM22","v":0},{"$f":"Summer!CA22-'Summer Peak 2015-01-15'!HN22","v":0},{"$f":"Summer!CB22-'Summer Peak 2015-01-15'!HO22","v":0},{"$f":"Summer!CC22-'Summer Peak 2015-01-15'!HP22","v":0},{"$f":"Summer!CD22-'Summer Peak 2015-01-15'!HQ22","v":0},{"$f":"Summer!CE22-'Summer Peak 2015-01-15'!HR22","v":0},{"$f":"Summer!CF22-'Summer Peak 2015-01-15'!HS22","v":0},{"$f":"Summer!CG22-'Summer Peak 2015-01-15'!HT22","v":0},{"$f":"Summer!CH22-'Summer Peak 2015-01-15'!HU22","v":0},{"$f":"Summer!CI22-'Summer Peak 2015-01-15'!HV22","v":0},{"$f":"Summer!CJ22-'Summer Peak 2015-01-15'!HW22","v":0},{"$f":"Summer!CK22-'Summer Peak 2015-01-15'!HX22","v":0},{"$f":"Summer!CL22-'Summer Peak 2015-01-15'!HY22","v":0},{"$f":"Summer!CM22-'Summer Peak 2015-01-15'!HZ22","v":0},{"$f":"Summer!CN22-'Summer Peak 2015-01-15'!IA22","v":0},{"$f":"Summer!CO22-'Summer Peak 2015-01-15'!IB22","v":0},{"$f":"Summer!CP22-'Summer Peak 2015-01-15'!IC22","v":0},{"$f":"Summer!CQ22-'Summer Peak 2015-01-15'!ID22","v":0},{"$f":"Summer!CR22-'Summer Peak 2015-01-15'!IE22","v":0},{"$f":"Summer!CS22-'Summer Peak 2015-01-15'!IF22","v":0},{"$f":"Summer!CT22-'Summer Peak 2015-01-15'!IG22","v":0},{"$f":"Summer!CU22-'Summer Peak 2015-01-15'!IH22","v":0},{"$f":"Summer!CV22-'Summer Peak 2015-01-15'!II22","v":0},{"$f":"Summer!CW22-'Summer Peak 2015-01-15'!IJ22","v":0},{"$f":"Summer!CX22-'Summer Peak 2015-01-15'!IK22","v":0},{"$f":"Summer!CY22-'Summer Peak 2015-01-15'!IL22","v":0},{"$f":"Summer!CZ22-'Summer Peak 2015-01-15'!IM22","v":0},{"$f":"Summer!DA22-'Summer Peak 2015-01-15'!IN22","v":0},{"$f":"Summer!DB22-'Summer Peak 2015-01-15'!IO22","v":0},{"$f":"Summer!DC22-'Summer Peak 2015-01-15'!IP22","v":0},{"$f":"Summer!DD22-'Summer Peak 2015-01-15'!IQ22","v":0},{"$f":"Summer!DE22-'Summer Peak 2015-01-15'!IR22","v":0},{"$f":"Summer!DF22-'Summer Peak 2015-01-15'!IS22","v":0},{"$f":"Summer!DG22-'Summer Peak 2015-01-15'!IT22","v":0},{"$f":"Summer!DH22-'Summer Peak 2015-01-15'!IU22","v":0},{"$f":"Summer!DI22-'Summer Peak 2015-01-15'!IV22","v":0},{"$f":"Summer!DJ22-'Summer Peak 2015-01-15'!IW22","v":0},{"$f":"Summer!DK22-'Summer Peak 2015-01-15'!IX22","v":0},{"$f":"Summer!DL22-'Summer Peak 2015-01-15'!IY22","v":0},{"$f":"Summer!DM22-'Summer Peak 2015-01-15'!IZ22","v":0},{"$f":"Summer!DN22-'Summer Peak 2015-01-15'!JA22","v":0},{"$f":"Summer!DO22-'Summer Peak 2015-01-15'!JB22","v":0},{"$f":"Summer!DP22-'Summer Peak 2015-01-15'!JC22","v":0},{"$f":"Summer!DQ22-'Summer Peak 2015-01-15'!JD22","v":0},{"$f":"Summer!DR22-'Summer Peak 2015-01-15'!JE22","v":0},{"$f":"Summer!DS22-'Summer Peak 2015-01-15'!JF22","v":0}]
[null,"PMG4",{"$f":"Summer!C23-'Summer Peak 2015-01-15'!EP23","v":0},{"$f":"Summer!D23-'Summer Peak 2015-01-15'!EQ23","v":0},{"$f":"Summer!E23-'Summer Peak 2015-01-15'!ER23","v":0},{"$f":"Summer!F23-'Summer Peak 2015-01-15'!ES23","v":0},{"$f":"Summer!G23-'Summer Peak 2015-01-15'!ET23","v":0},{"$f":"Summer!H23-'Summer Peak 2015-01-15'!EU23","v":0},{"$f":"Summer!I23-'Summer Peak 2015-01-15'!EV23","v":0},{"$f":"Summer!J23-'Summer Peak 2015-01-15'!EW23","v":0},{"$f":"Summer!K23-'Summer Peak 2015-01-15'!EX23","v":0},{"$f":"Summer!L23-'Summer Peak 2015-01-15'!EY23","v":0},{"$f":"Summer!M23-'Summer Peak 2015-01-15'!EZ23","v":0},{"$f":"Summer!N23-'Summer Peak 2015-01-15'!FA23","v":0},{"$f":"Summer!O23-'Summer Peak 2015-01-15'!FB23","v":0},{"$f":"Summer!P23-'Summer Peak 2015-01-15'!FC23","v":0},{"$f":"Summer!Q23-'Summer Peak 2015-01-15'!FD23","v":0},{"$f":"Summer!R23-'Summer Peak 2015-01-15'!FE23","v":0},{"$f":"Summer!S23-'Summer Peak 2015-01-15'!FF23","v":0},{"$f":"Summer!T23-'Summer Peak 2015-01-15'!FG23","v":0},{"$f":"Summer!U23-'Summer Peak 2015-01-15'!FH23","v":0},{"$f":"Summer!V23-'Summer Peak 2015-01-15'!FI23","v":0},{"$f":"Summer!W23-'Summer Peak 2015-01-15'!FJ23","v":0},{"$f":"Summer!X23-'Summer Peak 2015-01-15'!FK23","v":0},{"$f":"Summer!Y23-'Summer Peak 2015-01-15'!FL23","v":0},{"$f":"Summer!Z23-'Summer Peak 2015-01-15'!FM23","v":0},{"$f":"Summer!AA23-'Summer Peak 2015-01-15'!FN23","v":0},{"$f":"Summer!AB23-'Summer Peak 2015-01-15'!FO23","v":0},{"$f":"Summer!AC23-'Summer Peak 2015-01-15'!FP23","v":0},{"$f":"Summer!AD23-'Summer Peak 2015-01-15'!FQ23","v":0},{"$f":"Summer!AE23-'Summer Peak 2015-01-15'!FR23","v":0},{"$f":"Summer!AF23-'Summer Peak 2015-01-15'!FS23","v":0},{"$f":"Summer!AG23-'Summer Peak 2015-01-15'!FT23","v":0},{"$f":"Summer!AH23-'Summer Peak 2015-01-15'!FU23","v":0},{"$f":"Summer!AI23-'Summer Peak 2015-01-15'!FV23","v":0},{"$f":"Summer!AJ23-'Summer Peak 2015-01-15'!FW23","v":0},{"$f":"Summer!AK23-'Summer Peak 2015-01-15'!FX23","v":0},{"$f":"Summer!AL23-'Summer Peak 2015-01-15'!FY23","v":0},{"$f":"Summer!AM23-'Summer Peak 2015-01-15'!FZ23","v":0},{"$f":"Summer!AN23-'Summer Peak 2015-01-15'!GA23","v":0},{"$f":"Summer!AO23-'Summer Peak 2015-01-15'!GB23","v":0},{"$f":"Summer!AP23-'Summer Peak 2015-01-15'!GC23","v":0},{"$f":"Summer!AQ23-'Summer Peak 2015-01-15'!GD23","v":0},{"$f":"Summer!AR23-'Summer Peak 2015-01-15'!GE23","v":0},{"$f":"Summer!AS23-'Summer Peak 2015-01-15'!GF23","v":0},{"$f":"Summer!AT23-'Summer Peak 2015-01-15'!GG23","v":0},{"$f":"Summer!AU23-'Summer Peak 2015-01-15'!GH23","v":0},{"$f":"Summer!AV23-'Summer Peak 2015-01-15'!GI23","v":0},{"$f":"Summer!AW23-'Summer Peak 2015-01-15'!GJ23","v":0},{"$f":"Summer!AX23-'Summer Peak 2015-01-15'!GK23","v":0},{"$f":"Summer!AY23-'Summer Peak 2015-01-15'!GL23","v":0},{"$f":"Summer!AZ23-'Summer Peak 2015-01-15'!GM23","v":0},{"$f":"Summer!BA23-'Summer Peak 2015-01-15'!GN23","v":0},{"$f":"Summer!BB23-'Summer Peak 2015-01-15'!GO23","v":0},{"$f":"Summer!BC23-'Summer Peak 2015-01-15'!GP23","v":0},{"$f":"Summer!BD23-'Summer Peak 2015-01-15'!GQ23","v":0},{"$f":"Summer!BE23-'Summer Peak 2015-01-15'!GR23","v":0},{"$f":"Summer!BF23-'Summer Peak 2015-01-15'!GS23","v":0},{"$f":"Summer!BG23-'Summer Peak 2015-01-15'!GT23","v":0},{"$f":"Summer!BH23-'Summer Peak 2015-01-15'!GU23","v":0},{"$f":"Summer!BI23-'Summer Peak 2015-01-15'!GV23","v":0},{"$f":"Summer!BJ23-'Summer Peak 2015-01-15'!GW23","v":0},{"$f":"Summer!BK23-'Summer Peak 2015-01-15'!GX23","v":0},{"$f":"Summer!BL23-'Summer Peak 2015-01-15'!GY23","v":0},{"$f":"Summer!BM23-'Summer Peak 2015-01-15'!GZ23","v":0},{"$f":"Summer!BN23-'Summer Peak 2015-01-15'!HA23","v":0},{"$f":"Summer!BO23-'Summer Peak 2015-01-15'!HB23","v":0},{"$f":"Summer!BP23-'Summer Peak 2015-01-15'!HC23","v":0},{"$f":"Summer!BQ23-'Summer Peak 2015-01-15'!HD23","v":0},{"$f":"Summer!BR23-'Summer Peak 2015-01-15'!HE23","v":0},{"$f":"Summer!BS23-'Summer Peak 2015-01-15'!HF23","v":0},{"$f":"Summer!BT23-'Summer Peak 2015-01-15'!HG23","v":0},{"$f":"Summer!BU23-'Summer Peak 2015-01-15'!HH23","v":0},{"$f":"Summer!BV23-'Summer Peak 2015-01-15'!HI23","v":0},{"$f":"Summer!BW23-'Summer Peak 2015-01-15'!HJ23","v":0},{"$f":"Summer!BX23-'Summer Peak 2015-01-15'!HK23","v":0},{"$f":"Summer!BY23-'Summer Peak 2015-01-15'!HL23","v":0},{"$f":"Summer!BZ23-'Summer Peak 2015-01-15'!HM23","v":0},{"$f":"Summer!CA23-'Summer Peak 2015-01-15'!HN23","v":0},{"$f":"Summer!CB23-'Summer Peak 2015-01-15'!HO23","v":0},{"$f":"Summer!CC23-'Summer Peak 2015-01-15'!HP23","v":0},{"$f":"Summer!CD23-'Summer Peak 2015-01-15'!HQ23","v":0},{"$f":"Summer!CE23-'Summer Peak 2015-01-15'!HR23","v":0},{"$f":"Summer!CF23-'Summer Peak 2015-01-15'!HS23","v":0},{"$f":"Summer!CG23-'Summer Peak 2015-01-15'!HT23","v":0},{"$f":"Summer!CH23-'Summer Peak 2015-01-15'!HU23","v":0},{"$f":"Summer!CI23-'Summer Peak 2015-01-15'!HV23","v":0},{"$f":"Summer!CJ23-'Summer Peak 2015-01-15'!HW23","v":0},{"$f":"Summer!CK23-'Summer Peak 2015-01-15'!HX23","v":0},{"$f":"Summer!CL23-'Summer Peak 2015-01-15'!HY23","v":0},{"$f":"Summer!CM23-'Summer Peak 2015-01-15'!HZ23","v":0},{"$f":"Summer!CN23-'Summer Peak 2015-01-15'!IA23","v":0},{"$f":"Summer!CO23-'Summer Peak 2015-01-15'!IB23","v":0},{"$f":"Summer!CP23-'Summer Peak 2015-01-15'!IC23","v":0},{"$f":"Summer!CQ23-'Summer Peak 2015-01-15'!ID23","v":0},{"$f":"Summer!CR23-'Summer Peak 2015-01-15'!IE23","v":0},{"$f":"Summer!CS23-'Summer Peak 2015-01-15'!IF23","v":0},{"$f":"Summer!CT23-'Summer Peak 2015-01-15'!IG23","v":0},{"$f":"Summer!CU23-'Summer Peak 2015-01-15'!IH23","v":0},{"$f":"Summer!CV23-'Summer Peak 2015-01-15'!II23","v":0},{"$f":"Summer!CW23-'Summer Peak 2015-01-15'!IJ23","v":0},{"$f":"Summer!CX23-'Summer Peak 2015-01-15'!IK23","v":0},{"$f":"Summer!CY23-'Summer Peak 2015-01-15'!IL23","v":0},{"$f":"Summer!CZ23-'Summer Peak 2015-01-15'!IM23","v":0},{"$f":"Summer!DA23-'Summer Peak 2015-01-15'!IN23","v":0},{"$f":"Summer!DB23-'Summer Peak 2015-01-15'!IO23","v":0},{"$f":"Summer!DC23-'Summer Peak 2015-01-15'!IP23","v":0},{"$f":"Summer!DD23-'Summer Peak 2015-01-15'!IQ23","v":0},{"$f":"Summer!DE23-'Summer Peak 2015-01-15'!IR23","v":0},{"$f":"Summer!DF23-'Summer Peak 2015-01-15'!IS23","v":0},{"$f":"Summer!DG23-'Summer Peak 2015-01-15'!IT23","v":0},{"$f":"Summer!DH23-'Summer Peak 2015-01-15'!IU23","v":0},{"$f":"Summer!DI23-'Summer Peak 2015-01-15'!IV23","v":0},{"$f":"Summer!DJ23-'Summer Peak 2015-01-15'!IW23","v":0},{"$f":"Summer!DK23-'Summer Peak 2015-01-15'!IX23","v":0},{"$f":"Summer!DL23-'Summer Peak 2015-01-15'!IY23","v":0},{"$f":"Summer!DM23-'Summer Peak 2015-01-15'!IZ23","v":0},{"$f":"Summer!DN23-'Summer Peak 2015-01-15'!JA23","v":0},{"$f":"Summer!DO23-'Summer Peak 2015-01-15'!JB23","v":0},{"$f":"Summer!DP23-'Summer Peak 2015-01-15'!JC23","v":0},{"$f":"Summer!DQ23-'Summer Peak 2015-01-15'!JD23","v":0},{"$f":"Summer!DR23-'Summer Peak 2015-01-15'!JE23","v":0},{"$f":"Summer!DS23-'Summer Peak 2015-01-15'!JF23","v":0}]
[null,"PMG8",{"$f":"Summer!C24-'Summer Peak 2015-01-15'!EP24","v":0},{"$f":"Summer!D24-'Summer Peak 2015-01-15'!EQ24","v":0},{"$f":"Summer!E24-'Summer Peak 2015-01-15'!ER24","v":0},{"$f":"Summer!F24-'Summer Peak 2015-01-15'!ES24","v":0},{"$f":"Summer!G24-'Summer Peak 2015-01-15'!ET24","v":0},{"$f":"Summer!H24-'Summer Peak 2015-01-15'!EU24","v":0},{"$f":"Summer!I24-'Summer Peak 2015-01-15'!EV24","v":0},{"$f":"Summer!J24-'Summer Peak 2015-01-15'!EW24","v":0},{"$f":"Summer!K24-'Summer Peak 2015-01-15'!EX24","v":0},{"$f":"Summer!L24-'Summer Peak 2015-01-15'!EY24","v":0},{"$f":"Summer!M24-'Summer Peak 2015-01-15'!EZ24","v":0},{"$f":"Summer!N24-'Summer Peak 2015-01-15'!FA24","v":0},{"$f":"Summer!O24-'Summer Peak 2015-01-15'!FB24","v":0},{"$f":"Summer!P24-'Summer Peak 2015-01-15'!FC24","v":0},{"$f":"Summer!Q24-'Summer Peak 2015-01-15'!FD24","v":0},{"$f":"Summer!R24-'Summer Peak 2015-01-15'!FE24","v":0},{"$f":"Summer!S24-'Summer Peak 2015-01-15'!FF24","v":0},{"$f":"Summer!T24-'Summer Peak 2015-01-15'!FG24","v":0},{"$f":"Summer!U24-'Summer Peak 2015-01-15'!FH24","v":0},{"$f":"Summer!V24-'Summer Peak 2015-01-15'!FI24","v":0},{"$f":"Summer!W24-'Summer Peak 2015-01-15'!FJ24","v":0},{"$f":"Summer!X24-'Summer Peak 2015-01-15'!FK24","v":0},{"$f":"Summer!Y24-'Summer Peak 2015-01-15'!FL24","v":0},{"$f":"Summer!Z24-'Summer Peak 2015-01-15'!FM24","v":0},{"$f":"Summer!AA24-'Summer Peak 2015-01-15'!FN24","v":0},{"$f":"Summer!AB24-'Summer Peak 2015-01-15'!FO24","v":0},{"$f":"Summer!AC24-'Summer Peak 2015-01-15'!FP24","v":0},{"$f":"Summer!AD24-'Summer Peak 2015-01-15'!FQ24","v":0},{"$f":"Summer!AE24-'Summer Peak 2015-01-15'!FR24","v":0},{"$f":"Summer!AF24-'Summer Peak 2015-01-15'!FS24","v":0},{"$f":"Summer!AG24-'Summer Peak 2015-01-15'!FT24","v":-2},{"$f":"Summer!AH24-'Summer Peak 2015-01-15'!FU24","v":-3},{"$f":"Summer!AI24-'Summer Peak 2015-01-15'!FV24","v":-3},{"$f":"Summer!AJ24-'Summer Peak 2015-01-15'!FW24","v":-3},{"$f":"Summer!AK24-'Summer Peak 2015-01-15'!FX24","v":-3},{"$f":"Summer!AL24-'Summer Peak 2015-01-15'!FY24","v":-3},{"$f":"Summer!AM24-'Summer Peak 2015-01-15'!FZ24","v":-3},{"$f":"Summer!AN24-'Summer Peak 2015-01-15'!GA24","v":-3},{"$f":"Summer!AO24-'Summer Peak 2015-01-15'!GB24","v":-3},{"$f":"Summer!AP24-'Summer Peak 2015-01-15'!GC24","v":-3},{"$f":"Summer!AQ24-'Summer Peak 2015-01-15'!GD24","v":-3},{"$f":"Summer!AR24-'Summer Peak 2015-01-15'!GE24","v":-3},{"$f":"Summer!AS24-'Summer Peak 2015-01-15'!GF24","v":-3},{"$f":"Summer!AT24-'Summer Peak 2015-01-15'!GG24","v":-4},{"$f":"Summer!AU24-'Summer Peak 2015-01-15'!GH24","v":-4},{"$f":"Summer!AV24-'Summer Peak 2015-01-15'!GI24","v":-4},{"$f":"Summer!AW24-'Summer Peak 2015-01-15'!GJ24","v":-4},{"$f":"Summer!AX24-'Summer Peak 2015-01-15'!GK24","v":-4},{"$f":"Summer!AY24-'Summer Peak 2015-01-15'!GL24","v":-4},{"$f":"Summer!AZ24-'Summer Peak 2015-01-15'!GM24","v":-4},{"$f":"Summer!BA24-'Summer Peak 2015-01-15'!GN24","v":-4},{"$f":"Summer!BB24-'Summer Peak 2015-01-15'!GO24","v":-4},{"$f":"Summer!BC24-'Summer Peak 2015-01-15'!GP24","v":-4},{"$f":"Summer!BD24-'Summer Peak 2015-01-15'!GQ24","v":-4},{"$f":"Summer!BE24-'Summer Peak 2015-01-15'!GR24","v":-4},{"$f":"Summer!BF24-'Summer Peak 2015-01-15'!GS24","v":-4},{"$f":"Summer!BG24-'Summer Peak 2015-01-15'!GT24","v":-4},{"$f":"Summer!BH24-'Summer Peak 2015-01-15'!GU24","v":-4},{"$f":"Summer!BI24-'Summer Peak 2015-01-15'!GV24","v":-4},{"$f":"Summer!BJ24-'Summer Peak 2015-01-15'!GW24","v":-4},{"$f":"Summer!BK24-'Summer Peak 2015-01-15'!GX24","v":-4},{"$f":"Summer!BL24-'Summer Peak 2015-01-15'!GY24","v":-4},{"$f":"Summer!BM24-'Summer Peak 2015-01-15'!GZ24","v":-4},{"$f":"Summer!BN24-'Summer Peak 2015-01-15'!HA24","v":-4},{"$f":"Summer!BO24-'Summer Peak 2015-01-15'!HB24","v":-4},{"$f":"Summer!BP24-'Summer Peak 2015-01-15'!HC24","v":-4},{"$f":"Summer!BQ24-'Summer Peak 2015-01-15'!HD24","v":-4},{"$f":"Summer!BR24-'Summer Peak 2015-01-15'!HE24","v":-4},{"$f":"Summer!BS24-'Summer Peak 2015-01-15'!HF24","v":-4},{"$f":"Summer!BT24-'Summer Peak 2015-01-15'!HG24","v":-4},{"$f":"Summer!BU24-'Summer Peak 2015-01-15'!HH24","v":-4},{"$f":"Summer!BV24-'Summer Peak 2015-01-15'!HI24","v":-4},{"$f":"Summer!BW24-'Summer Peak 2015-01-15'!HJ24","v":-4},{"$f":"Summer!BX24-'Summer Peak 2015-01-15'!HK24","v":-4},{"$f":"Summer!BY24-'Summer Peak 2015-01-15'!HL24","v":-4},{"$f":"Summer!BZ24-'Summer Peak 2015-01-15'!HM24","v":-4},{"$f":"Summer!CA24-'Summer Peak 2015-01-15'!HN24","v":-4},{"$f":"Summer!CB24-'Summer Peak 2015-01-15'!HO24","v":-4},{"$f":"Summer!CC24-'Summer Peak 2015-01-15'!HP24","v":-4},{"$f":"Summer!CD24-'Summer Peak 2015-01-15'!HQ24","v":-4},{"$f":"Summer!CE24-'Summer Peak 2015-01-15'!HR24","v":-4},{"$f":"Summer!CF24-'Summer Peak 2015-01-15'!HS24","v":-4},{"$f":"Summer!CG24-'Summer Peak 2015-01-15'!HT24","v":-4},{"$f":"Summer!CH24-'Summer Peak 2015-01-15'!HU24","v":-4},{"$f":"Summer!CI24-'Summer Peak 2015-01-15'!HV24","v":-4},{"$f":"Summer!CJ24-'Summer Peak 2015-01-15'!HW24","v":-4},{"$f":"Summer!CK24-'Summer Peak 2015-01-15'!HX24","v":-4},{"$f":"Summer!CL24-'Summer Peak 2015-01-15'!HY24","v":-4},{"$f":"Summer!CM24-'Summer Peak 2015-01-15'!HZ24","v":-4},{"$f":"Summer!CN24-'Summer Peak 2015-01-15'!IA24","v":-4},{"$f":"Summer!CO24-'Summer Peak 2015-01-15'!IB24","v":-4},{"$f":"Summer!CP24-'Summer Peak 2015-01-15'!IC24","v":-4},{"$f":"Summer!CQ24-'Summer Peak 2015-01-15'!ID24","v":-4},{"$f":"Summer!CR24-'Summer Peak 2015-01-15'!IE24","v":-4},{"$f":"Summer!CS24-'Summer Peak 2015-01-15'!IF24","v":-4},{"$f":"Summer!CT24-'Summer Peak 2015-01-15'!IG24","v":-4},{"$f":"Summer!CU24-'Summer Peak 2015-01-15'!IH24","v":-4},{"$f":"Summer!CV24-'Summer Peak 2015-01-15'!II24","v":-4},{"$f":"Summer!CW24-'Summer Peak 2015-01-15'!IJ24","v":-4},{"$f":"Summer!CX24-'Summer Peak 2015-01-15'!IK24","v":-4},{"$f":"Summer!CY24-'Summer Peak 2015-01-15'!IL24","v":-4},{"$f":"Summer!CZ24-'Summer Peak 2015-01-15'!IM24","v":-4},{"$f":"Summer!DA24-'Summer Peak 2015-01-15'!IN24","v":-4},{"$f":"Summer!DB24-'Summer Peak 2015-01-15'!IO24","v":-4},{"$f":"Summer!DC24-'Summer Peak 2015-01-15'!IP24","v":-4},{"$f":"Summer!DD24-'Summer Peak 2015-01-15'!IQ24","v":-4},{"$f":"Summer!DE24-'Summer Peak 2015-01-15'!IR24","v":-4},{"$f":"Summer!DF24-'Summer Peak 2015-01-15'!IS24","v":-4},{"$f":"Summer!DG24-'Summer Peak 2015-01-15'!IT24","v":-4},{"$f":"Summer!DH24-'Summer Peak 2015-01-15'!IU24","v":-4},{"$f":"Summer!DI24-'Summer Peak 2015-01-15'!IV24","v":-4},{"$f":"Summer!DJ24-'Summer Peak 2015-01-15'!IW24","v":-4},{"$f":"Summer!DK24-'Summer Peak 2015-01-15'!IX24","v":-4},{"$f":"Summer!DL24-'Summer Peak 2015-01-15'!IY24","v":-4},{"$f":"Summer!DM24-'Summer Peak 2015-01-15'!IZ24","v":-4},{"$f":"Summer!DN24-'Summer Peak 2015-01-15'!JA24","v":-4},{"$f":"Summer!DO24-'Summer Peak 2015-01-15'!JB24","v":-4},{"$f":"Summer!DP24-'Summer Peak 2015-01-15'!JC24","v":-4},{"$f":"Summer!DQ24-'Summer Peak 2015-01-15'!JD24","v":-4},{"$f":"Summer!DR24-'Summer Peak 2015-01-15'!JE24","v":-4},{"$f":"Summer!DS24-'Summer Peak 2015-01-15'!JF24","v":-4}]
[null,"PMT1",{"$f":"Summer!C25-'Summer Peak 2015-01-15'!EP25","v":0},{"$f":"Summer!D25-'Summer Peak 2015-01-15'!EQ25","v":0},{"$f":"Summer!E25-'Summer Peak 2015-01-15'!ER25","v":0},{"$f":"Summer!F25-'Summer Peak 2015-01-15'!ES25","v":0},{"$f":"Summer!G25-'Summer Peak 2015-01-15'!ET25","v":0},{"$f":"Summer!H25-'Summer Peak 2015-01-15'!EU25","v":0},{"$f":"Summer!I25-'Summer Peak 2015-01-15'!EV25","v":0},{"$f":"Summer!J25-'Summer Peak 2015-01-15'!EW25","v":0},{"$f":"Summer!K25-'Summer Peak 2015-01-15'!EX25","v":0},{"$f":"Summer!L25-'Summer Peak 2015-01-15'!EY25","v":0},{"$f":"Summer!M25-'Summer Peak 2015-01-15'!EZ25","v":0},{"$f":"Summer!N25-'Summer Peak 2015-01-15'!FA25","v":0},{"$f":"Summer!O25-'Summer Peak 2015-01-15'!FB25","v":0},{"$f":"Summer!P25-'Summer Peak 2015-01-15'!FC25","v":0},{"$f":"Summer!Q25-'Summer Peak 2015-01-15'!FD25","v":0},{"$f":"Summer!R25-'Summer Peak 2015-01-15'!FE25","v":0},{"$f":"Summer!S25-'Summer Peak 2015-01-15'!FF25","v":0},{"$f":"Summer!T25-'Summer Peak 2015-01-15'!FG25","v":0},{"$f":"Summer!U25-'Summer Peak 2015-01-15'!FH25","v":0},{"$f":"Summer!V25-'Summer Peak 2015-01-15'!FI25","v":0},{"$f":"Summer!W25-'Summer Peak 2015-01-15'!FJ25","v":0},{"$f":"Summer!X25-'Summer Peak 2015-01-15'!FK25","v":0},{"$f":"Summer!Y25-'Summer Peak 2015-01-15'!FL25","v":0},{"$f":"Summer!Z25-'Summer Peak 2015-01-15'!FM25","v":0},{"$f":"Summer!AA25-'Summer Peak 2015-01-15'!FN25","v":0},{"$f":"Summer!AB25-'Summer Peak 2015-01-15'!FO25","v":0},{"$f":"Summer!AC25-'Summer Peak 2015-01-15'!FP25","v":0},{"$f":"Summer!AD25-'Summer Peak 2015-01-15'!FQ25","v":0},{"$f":"Summer!AE25-'Summer Peak 2015-01-15'!FR25","v":0},{"$f":"Summer!AF25-'Summer Peak 2015-01-15'!FS25","v":0},{"$f":"Summer!AG25-'Summer Peak 2015-01-15'!FT25","v":0},{"$f":"Summer!AH25-'Summer Peak 2015-01-15'!FU25","v":0},{"$f":"Summer!AI25-'Summer Peak 2015-01-15'!FV25","v":0},{"$f":"Summer!AJ25-'Summer Peak 2015-01-15'!FW25","v":0},{"$f":"Summer!AK25-'Summer Peak 2015-01-15'!FX25","v":0},{"$f":"Summer!AL25-'Summer Peak 2015-01-15'!FY25","v":0},{"$f":"Summer!AM25-'Summer Peak 2015-01-15'!FZ25","v":0},{"$f":"Summer!AN25-'Summer Peak 2015-01-15'!GA25","v":0},{"$f":"Summer!AO25-'Summer Peak 2015-01-15'!GB25","v":0},{"$f":"Summer!AP25-'Summer Peak 2015-01-15'!GC25","v":0},{"$f":"Summer!AQ25-'Summer Peak 2015-01-15'!GD25","v":0},{"$f":"Summer!AR25-'Summer Peak 2015-01-15'!GE25","v":0},{"$f":"Summer!AS25-'Summer Peak 2015-01-15'!GF25","v":0},{"$f":"Summer!AT25-'Summer Peak 2015-01-15'!GG25","v":0},{"$f":"Summer!AU25-'Summer Peak 2015-01-15'!GH25","v":0},{"$f":"Summer!AV25-'Summer Peak 2015-01-15'!GI25","v":0},{"$f":"Summer!AW25-'Summer Peak 2015-01-15'!GJ25","v":0},{"$f":"Summer!AX25-'Summer Peak 2015-01-15'!GK25","v":0},{"$f":"Summer!AY25-'Summer Peak 2015-01-15'!GL25","v":0},{"$f":"Summer!AZ25-'Summer Peak 2015-01-15'!GM25","v":0},{"$f":"Summer!BA25-'Summer Peak 2015-01-15'!GN25","v":0},{"$f":"Summer!BB25-'Summer Peak 2015-01-15'!GO25","v":0},{"$f":"Summer!BC25-'Summer Peak 2015-01-15'!GP25","v":0},{"$f":"Summer!BD25-'Summer Peak 2015-01-15'!GQ25","v":0},{"$f":"Summer!BE25-'Summer Peak 2015-01-15'!GR25","v":0},{"$f":"Summer!BF25-'Summer Peak 2015-01-15'!GS25","v":0},{"$f":"Summer!BG25-'Summer Peak 2015-01-15'!GT25","v":0},{"$f":"Summer!BH25-'Summer Peak 2015-01-15'!GU25","v":0},{"$f":"Summer!BI25-'Summer Peak 2015-01-15'!GV25","v":0},{"$f":"Summer!BJ25-'Summer Peak 2015-01-15'!GW25","v":0},{"$f":"Summer!BK25-'Summer Peak 2015-01-15'!GX25","v":0},{"$f":"Summer!BL25-'Summer Peak 2015-01-15'!GY25","v":0},{"$f":"Summer!BM25-'Summer Peak 2015-01-15'!GZ25","v":0},{"$f":"Summer!BN25-'Summer Peak 2015-01-15'!HA25","v":0},{"$f":"Summer!BO25-'Summer Peak 2015-01-15'!HB25","v":0},{"$f":"Summer!BP25-'Summer Peak 2015-01-15'!HC25","v":0},{"$f":"Summer!BQ25-'Summer Peak 2015-01-15'!HD25","v":0},{"$f":"Summer!BR25-'Summer Peak 2015-01-15'!HE25","v":0},{"$f":"Summer!BS25-'Summer Peak 2015-01-15'!HF25","v":0},{"$f":"Summer!BT25-'Summer Peak 2015-01-15'!HG25","v":0},{"$f":"Summer!BU25-'Summer Peak 2015-01-15'!HH25","v":0},{"$f":"Summer!BV25-'Summer Peak 2015-01-15'!HI25","v":0},{"$f":"Summer!BW25-'Summer Peak 2015-01-15'!HJ25","v":0},{"$f":"Summer!BX25-'Summer Peak 2015-01-15'!HK25","v":0},{"$f":"Summer!BY25-'Summer Peak 2015-01-15'!HL25","v":0},{"$f":"Summer!BZ25-'Summer Peak 2015-01-15'!HM25","v":0},{"$f":"Summer!CA25-'Summer Peak 2015-01-15'!HN25","v":0},{"$f":"Summer!CB25-'Summer Peak 2015-01-15'!HO25","v":0},{"$f":"Summer!CC25-'Summer Peak 2015-01-15'!HP25","v":0},{"$f":"Summer!CD25-'Summer Peak 2015-01-15'!HQ25","v":0},{"$f":"Summer!CE25-'Summer Peak 2015-01-15'!HR25","v":0},{"$f":"Summer!CF25-'Summer Peak 2015-01-15'!HS25","v":0},{"$f":"Summer!CG25-'Summer Peak 2015-01-15'!HT25","v":0},{"$f":"Summer!CH25-'Summer Peak 2015-01-15'!HU25","v":0},{"$f":"Summer!CI25-'Summer Peak 2015-01-15'!HV25","v":0},{"$f":"Summer!CJ25-'Summer Peak 2015-01-15'!HW25","v":0},{"$f":"Summer!CK25-'Summer Peak 2015-01-15'!HX25","v":0},{"$f":"Summer!CL25-'Summer Peak 2015-01-15'!HY25","v":0},{"$f":"Summer!CM25-'Summer Peak 2015-01-15'!HZ25","v":0},{"$f":"Summer!CN25-'Summer Peak 2015-01-15'!IA25","v":0},{"$f":"Summer!CO25-'Summer Peak 2015-01-15'!IB25","v":0},{"$f":"Summer!CP25-'Summer Peak 2015-01-15'!IC25","v":0},{"$f":"Summer!CQ25-'Summer Peak 2015-01-15'!ID25","v":0},{"$f":"Summer!CR25-'Summer Peak 2015-01-15'!IE25","v":0},{"$f":"Summer!CS25-'Summer Peak 2015-01-15'!IF25","v":0},{"$f":"Summer!CT25-'Summer Peak 2015-01-15'!IG25","v":0},{"$f":"Summer!CU25-'Summer Peak 2015-01-15'!IH25","v":0},{"$f":"Summer!CV25-'Summer Peak 2015-01-15'!II25","v":0},{"$f":"Summer!CW25-'Summer Peak 2015-01-15'!IJ25","v":0},{"$f":"Summer!CX25-'Summer Peak 2015-01-15'!IK25","v":0},{"$f":"Summer!CY25-'Summer Peak 2015-01-15'!IL25","v":0},{"$f":"Summer!CZ25-'Summer Peak 2015-01-15'!IM25","v":0},{"$f":"Summer!DA25-'Summer Peak 2015-01-15'!IN25","v":0},{"$f":"Summer!DB25-'Summer Peak 2015-01-15'!IO25","v":0},{"$f":"Summer!DC25-'Summer Peak 2015-01-15'!IP25","v":0},{"$f":"Summer!DD25-'Summer Peak 2015-01-15'!IQ25","v":0},{"$f":"Summer!DE25-'Summer Peak 2015-01-15'!IR25","v":0},{"$f":"Summer!DF25-'Summer Peak 2015-01-15'!IS25","v":0},{"$f":"Summer!DG25-'Summer Peak 2015-01-15'!IT25","v":0},{"$f":"Summer!DH25-'Summer Peak 2015-01-15'!IU25","v":0},{"$f":"Summer!DI25-'Summer Peak 2015-01-15'!IV25","v":0},{"$f":"Summer!DJ25-'Summer Peak 2015-01-15'!IW25","v":0},{"$f":"Summer!DK25-'Summer Peak 2015-01-15'!IX25","v":0},{"$f":"Summer!DL25-'Summer Peak 2015-01-15'!IY25","v":0},{"$f":"Summer!DM25-'Summer Peak 2015-01-15'!IZ25","v":0},{"$f":"Summer!DN25-'Summer Peak 2015-01-15'!JA25","v":0},{"$f":"Summer!DO25-'Summer Peak 2015-01-15'!JB25","v":0},{"$f":"Summer!DP25-'Summer Peak 2015-01-15'!JC25","v":0},{"$f":"Summer!DQ25-'Summer Peak 2015-01-15'!JD25","v":0},{"$f":"Summer!DR25-'Summer Peak 2015-01-15'!JE25","v":0},{"$f":"Summer!DS25-'Summer Peak 2015-01-15'!JF25","v":0}]
[null,"PMT2",{"$f":"Summer!C26-'Summer Peak 2015-01-15'!EP26","v":0},{"$f":"Summer!D26-'Summer Peak 2015-01-15'!EQ26","v":0},{"$f":"Summer!E26-'Summer Peak 2015-01-15'!ER26","v":0},{"$f":"Summer!F26-'Summer Peak 2015-01-15'!ES26","v":0},{"$f":"Summer!G26-'Summer Peak 2015-01-15'!ET26","v":0},{"$f":"Summer!H26-'Summer Peak 2015-01-15'!EU26","v":0},{"$f":"Summer!I26-'Summer Peak 2015-01-15'!EV26","v":0},{"$f":"Summer!J26-'Summer Peak 2015-01-15'!EW26","v":0},{"$f":"Summer!K26-'Summer Peak 2015-01-15'!EX26","v":0},{"$f":"Summer!L26-'Summer Peak 2015-01-15'!EY26","v":0},{"$f":"Summer!M26-'Summer Peak 2015-01-15'!EZ26","v":0},{"$f":"Summer!N26-'Summer Peak 2015-01-15'!FA26","v":0},{"$f":"Summer!O26-'Summer Peak 2015-01-15'!FB26","v":0},{"$f":"Summer!P26-'Summer Peak 2015-01-15'!FC26","v":0},{"$f":"Summer!Q26-'Summer Peak 2015-01-15'!FD26","v":0},{"$f":"Summer!R26-'Summer Peak 2015-01-15'!FE26","v":0},{"$f":"Summer!S26-'Summer Peak 2015-01-15'!FF26","v":0},{"$f":"Summer!T26-'Summer Peak 2015-01-15'!FG26","v":0},{"$f":"Summer!U26-'Summer Peak 2015-01-15'!FH26","v":0},{"$f":"Summer!V26-'Summer Peak 2015-01-15'!FI26","v":0},{"$f":"Summer!W26-'Summer Peak 2015-01-15'!FJ26","v":0},{"$f":"Summer!X26-'Summer Peak 2015-01-15'!FK26","v":0},{"$f":"Summer!Y26-'Summer Peak 2015-01-15'!FL26","v":0},{"$f":"Summer!Z26-'Summer Peak 2015-01-15'!FM26","v":0},{"$f":"Summer!AA26-'Summer Peak 2015-01-15'!FN26","v":0},{"$f":"Summer!AB26-'Summer Peak 2015-01-15'!FO26","v":0},{"$f":"Summer!AC26-'Summer Peak 2015-01-15'!FP26","v":0},{"$f":"Summer!AD26-'Summer Peak 2015-01-15'!FQ26","v":0},{"$f":"Summer!AE26-'Summer Peak 2015-01-15'!FR26","v":0},{"$f":"Summer!AF26-'Summer Peak 2015-01-15'!FS26","v":0},{"$f":"Summer!AG26-'Summer Peak 2015-01-15'!FT26","v":0},{"$f":"Summer!AH26-'Summer Peak 2015-01-15'!FU26","v":0},{"$f":"Summer!AI26-'Summer Peak 2015-01-15'!FV26","v":0},{"$f":"Summer!AJ26-'Summer Peak 2015-01-15'!FW26","v":0},{"$f":"Summer!AK26-'Summer Peak 2015-01-15'!FX26","v":0},{"$f":"Summer!AL26-'Summer Peak 2015-01-15'!FY26","v":0},{"$f":"Summer!AM26-'Summer Peak 2015-01-15'!FZ26","v":0},{"$f":"Summer!AN26-'Summer Peak 2015-01-15'!GA26","v":0},{"$f":"Summer!AO26-'Summer Peak 2015-01-15'!GB26","v":0},{"$f":"Summer!AP26-'Summer Peak 2015-01-15'!GC26","v":0},{"$f":"Summer!AQ26-'Summer Peak 2015-01-15'!GD26","v":0},{"$f":"Summer!AR26-'Summer Peak 2015-01-15'!GE26","v":0},{"$f":"Summer!AS26-'Summer Peak 2015-01-15'!GF26","v":0},{"$f":"Summer!AT26-'Summer Peak 2015-01-15'!GG26","v":0},{"$f":"Summer!AU26-'Summer Peak 2015-01-15'!GH26","v":0},{"$f":"Summer!AV26-'Summer Peak 2015-01-15'!GI26","v":0},{"$f":"Summer!AW26-'Summer Peak 2015-01-15'!GJ26","v":0},{"$f":"Summer!AX26-'Summer Peak 2015-01-15'!GK26","v":0},{"$f":"Summer!AY26-'Summer Peak 2015-01-15'!GL26","v":0},{"$f":"Summer!AZ26-'Summer Peak 2015-01-15'!GM26","v":0},{"$f":"Summer!BA26-'Summer Peak 2015-01-15'!GN26","v":0},{"$f":"Summer!BB26-'Summer Peak 2015-01-15'!GO26","v":0},{"$f":"Summer!BC26-'Summer Peak 2015-01-15'!GP26","v":0},{"$f":"Summer!BD26-'Summer Peak 2015-01-15'!GQ26","v":0},{"$f":"Summer!BE26-'Summer Peak 2015-01-15'!GR26","v":0},{"$f":"Summer!BF26-'Summer Peak 2015-01-15'!GS26","v":0},{"$f":"Summer!BG26-'Summer Peak 2015-01-15'!GT26","v":0},{"$f":"Summer!BH26-'Summer Peak 2015-01-15'!GU26","v":0},{"$f":"Summer!BI26-'Summer Peak 2015-01-15'!GV26","v":0},{"$f":"Summer!BJ26-'Summer Peak 2015-01-15'!GW26","v":0},{"$f":"Summer!BK26-'Summer Peak 2015-01-15'!GX26","v":0},{"$f":"Summer!BL26-'Summer Peak 2015-01-15'!GY26","v":0},{"$f":"Summer!BM26-'Summer Peak 2015-01-15'!GZ26","v":0},{"$f":"Summer!BN26-'Summer Peak 2015-01-15'!HA26","v":0},{"$f":"Summer!BO26-'Summer Peak 2015-01-15'!HB26","v":0},{"$f":"Summer!BP26-'Summer Peak 2015-01-15'!HC26","v":0},{"$f":"Summer!BQ26-'Summer Peak 2015-01-15'!HD26","v":0},{"$f":"Summer!BR26-'Summer Peak 2015-01-15'!HE26","v":0},{"$f":"Summer!BS26-'Summer Peak 2015-01-15'!HF26","v":0},{"$f":"Summer!BT26-'Summer Peak 2015-01-15'!HG26","v":0},{"$f":"Summer!BU26-'Summer Peak 2015-01-15'!HH26","v":0},{"$f":"Summer!BV26-'Summer Peak 2015-01-15'!HI26","v":0},{"$f":"Summer!BW26-'Summer Peak 2015-01-15'!HJ26","v":0},{"$f":"Summer!BX26-'Summer Peak 2015-01-15'!HK26","v":0},{"$f":"Summer!BY26-'Summer Peak 2015-01-15'!HL26","v":0},{"$f":"Summer!BZ26-'Summer Peak 2015-01-15'!HM26","v":0},{"$f":"Summer!CA26-'Summer Peak 2015-01-15'!HN26","v":0},{"$f":"Summer!CB26-'Summer Peak 2015-01-15'!HO26","v":0},{"$f":"Summer!CC26-'Summer Peak 2015-01-15'!HP26","v":0},{"$f":"Summer!CD26-'Summer Peak 2015-01-15'!HQ26","v":0},{"$f":"Summer!CE26-'Summer Peak 2015-01-15'!HR26","v":0},{"$f":"Summer!CF26-'Summer Peak 2015-01-15'!HS26","v":0},{"$f":"Summer!CG26-'Summer Peak 2015-01-15'!HT26","v":0},{"$f":"Summer!CH26-'Summer Peak 2015-01-15'!HU26","v":0},{"$f":"Summer!CI26-'Summer Peak 2015-01-15'!HV26","v":0},{"$f":"Summer!CJ26-'Summer Peak 2015-01-15'!HW26","v":0},{"$f":"Summer!CK26-'Summer Peak 2015-01-15'!HX26","v":0},{"$f":"Summer!CL26-'Summer Peak 2015-01-15'!HY26","v":0},{"$f":"Summer!CM26-'Summer Peak 2015-01-15'!HZ26","v":0},{"$f":"Summer!CN26-'Summer Peak 2015-01-15'!IA26","v":0},{"$f":"Summer!CO26-'Summer Peak 2015-01-15'!IB26","v":0},{"$f":"Summer!CP26-'Summer Peak 2015-01-15'!IC26","v":0},{"$f":"Summer!CQ26-'Summer Peak 2015-01-15'!ID26","v":0},{"$f":"Summer!CR26-'Summer Peak 2015-01-15'!IE26","v":0},{"$f":"Summer!CS26-'Summer Peak 2015-01-15'!IF26","v":0},{"$f":"Summer!CT26-'Summer Peak 2015-01-15'!IG26","v":0},{"$f":"Summer!CU26-'Summer Peak 2015-01-15'!IH26","v":0},{"$f":"Summer!CV26-'Summer Peak 2015-01-15'!II26","v":0},{"$f":"Summer!CW26-'Summer Peak 2015-01-15'!IJ26","v":0},{"$f":"Summer!CX26-'Summer Peak 2015-01-15'!IK26","v":0},{"$f":"Summer!CY26-'Summer Peak 2015-01-15'!IL26","v":0},{"$f":"Summer!CZ26-'Summer Peak 2015-01-15'!IM26","v":0},{"$f":"Summer!DA26-'Summer Peak 2015-01-15'!IN26","v":0},{"$f":"Summer!DB26-'Summer Peak 2015-01-15'!IO26","v":0},{"$f":"Summer!DC26-'Summer Peak 2015-01-15'!IP26","v":0},{"$f":"Summer!DD26-'Summer Peak 2015-01-15'!IQ26","v":0},{"$f":"Summer!DE26-'Summer Peak 2015-01-15'!IR26","v":0},{"$f":"Summer!DF26-'Summer Peak 2015-01-15'!IS26","v":0},{"$f":"Summer!DG26-'Summer Peak 2015-01-15'!IT26","v":0},{"$f":"Summer!DH26-'Summer Peak 2015-01-15'!IU26","v":0},{"$f":"Summer!DI26-'Summer Peak 2015-01-15'!IV26","v":0},{"$f":"Summer!DJ26-'Summer Peak 2015-01-15'!IW26","v":0},{"$f":"Summer!DK26-'Summer Peak 2015-01-15'!IX26","v":0},{"$f":"Summer!DL26-'Summer Peak 2015-01-15'!IY26","v":0},{"$f":"Summer!DM26-'Summer Peak 2015-01-15'!IZ26","v":0},{"$f":"Summer!DN26-'Summer Peak 2015-01-15'!JA26","v":0},{"$f":"Summer!DO26-'Summer Peak 2015-01-15'!JB26","v":0},{"$f":"Summer!DP26-'Summer Peak 2015-01-15'!JC26","v":0},{"$f":"Summer!DQ26-'Summer Peak 2015-01-15'!JD26","v":0},{"$f":"Summer!DR26-'Summer Peak 2015-01-15'!JE26","v":0},{"$f":"Summer!DS26-'Summer Peak 2015-01-15'!JF26","v":0}]
[null,"PMT3",{"$f":"Summer!C27-'Summer Peak 2015-01-15'!EP27","v":0},{"$f":"Summer!D27-'Summer Peak 2015-01-15'!EQ27","v":0},{"$f":"Summer!E27-'Summer Peak 2015-01-15'!ER27","v":0},{"$f":"Summer!F27-'Summer Peak 2015-01-15'!ES27","v":0},{"$f":"Summer!G27-'Summer Peak 2015-01-15'!ET27","v":0},{"$f":"Summer!H27-'Summer Peak 2015-01-15'!EU27","v":0},{"$f":"Summer!I27-'Summer Peak 2015-01-15'!EV27","v":0},{"$f":"Summer!J27-'Summer Peak 2015-01-15'!EW27","v":0},{"$f":"Summer!K27-'Summer Peak 2015-01-15'!EX27","v":0},{"$f":"Summer!L27-'Summer Peak 2015-01-15'!EY27","v":0},{"$f":"Summer!M27-'Summer Peak 2015-01-15'!EZ27","v":0},{"$f":"Summer!N27-'Summer Peak 2015-01-15'!FA27","v":0},{"$f":"Summer!O27-'Summer Peak 2015-01-15'!FB27","v":0},{"$f":"Summer!P27-'Summer Peak 2015-01-15'!FC27","v":0},{"$f":"Summer!Q27-'Summer Peak 2015-01-15'!FD27","v":0},{"$f":"Summer!R27-'Summer Peak 2015-01-15'!FE27","v":0},{"$f":"Summer!S27-'Summer Peak 2015-01-15'!FF27","v":0},{"$f":"Summer!T27-'Summer Peak 2015-01-15'!FG27","v":0},{"$f":"Summer!U27-'Summer Peak 2015-01-15'!FH27","v":0},{"$f":"Summer!V27-'Summer Peak 2015-01-15'!FI27","v":0},{"$f":"Summer!W27-'Summer Peak 2015-01-15'!FJ27","v":0},{"$f":"Summer!X27-'Summer Peak 2015-01-15'!FK27","v":0},{"$f":"Summer!Y27-'Summer Peak 2015-01-15'!FL27","v":0},{"$f":"Summer!Z27-'Summer Peak 2015-01-15'!FM27","v":0},{"$f":"Summer!AA27-'Summer Peak 2015-01-15'!FN27","v":0},{"$f":"Summer!AB27-'Summer Peak 2015-01-15'!FO27","v":0},{"$f":"Summer!AC27-'Summer Peak 2015-01-15'!FP27","v":0},{"$f":"Summer!AD27-'Summer Peak 2015-01-15'!FQ27","v":0},{"$f":"Summer!AE27-'Summer Peak 2015-01-15'!FR27","v":0},{"$f":"Summer!AF27-'Summer Peak 2015-01-15'!FS27","v":0},{"$f":"Summer!AG27-'Summer Peak 2015-01-15'!FT27","v":0},{"$f":"Summer!AH27-'Summer Peak 2015-01-15'!FU27","v":0},{"$f":"Summer!AI27-'Summer Peak 2015-01-15'!FV27","v":0},{"$f":"Summer!AJ27-'Summer Peak 2015-01-15'!FW27","v":-2},{"$f":"Summer!AK27-'Summer Peak 2015-01-15'!FX27","v":-3},{"$f":"Summer!AL27-'Summer Peak 2015-01-15'!FY27","v":-3},{"$f":"Summer!AM27-'Summer Peak 2015-01-15'!FZ27","v":-3},{"$f":"Summer!AN27-'Summer Peak 2015-01-15'!GA27","v":-3},{"$f":"Summer!AO27-'Summer Peak 2015-01-15'!GB27","v":-3},{"$f":"Summer!AP27-'Summer Peak 2015-01-15'!GC27","v":-3},{"$f":"Summer!AQ27-'Summer Peak 2015-01-15'!GD27","v":-3},{"$f":"Summer!AR27-'Summer Peak 2015-01-15'!GE27","v":-5},{"$f":"Summer!AS27-'Summer Peak 2015-01-15'!GF27","v":-5},{"$f":"Summer!AT27-'Summer Peak 2015-01-15'!GG27","v":-5},{"$f":"Summer!AU27-'Summer Peak 2015-01-15'!GH27","v":-5},{"$f":"Summer!AV27-'Summer Peak 2015-01-15'!GI27","v":-5},{"$f":"Summer!AW27-'Summer Peak 2015-01-15'!GJ27","v":-5},{"$f":"Summer!AX27-'Summer Peak 2015-01-15'!GK27","v":-5},{"$f":"Summer!AY27-'Summer Peak 2015-01-15'!GL27","v":-5},{"$f":"Summer!AZ27-'Summer Peak 2015-01-15'!GM27","v":-5},{"$f":"Summer!BA27-'Summer Peak 2015-01-15'!GN27","v":-5},{"$f":"Summer!BB27-'Summer Peak 2015-01-15'!GO27","v":-5},{"$f":"Summer!BC27-'Summer Peak 2015-01-15'!GP27","v":-5},{"$f":"Summer!BD27-'Summer Peak 2015-01-15'!GQ27","v":-5},{"$f":"Summer!BE27-'Summer Peak 2015-01-15'!GR27","v":-5},{"$f":"Summer!BF27-'Summer Peak 2015-01-15'!GS27","v":-5},{"$f":"Summer!BG27-'Summer Peak 2015-01-15'!GT27","v":-5},{"$f":"Summer!BH27-'Summer Peak 2015-01-15'!GU27","v":-5},{"$f":"Summer!BI27-'Summer Peak 2015-01-15'!GV27","v":-5},{"$f":"Summer!BJ27-'Summer Peak 2015-01-15'!GW27","v":-5},{"$f":"Summer!BK27-'Summer Peak 2015-01-15'!GX27","v":-5},{"$f":"Summer!BL27-'Summer Peak 2015-01-15'!GY27","v":-5},{"$f":"Summer!BM27-'Summer Peak 2015-01-15'!GZ27","v":-5},{"$f":"Summer!BN27-'Summer Peak 2015-01-15'!HA27","v":-5},{"$f":"Summer!BO27-'Summer Peak 2015-01-15'!HB27","v":-5},{"$f":"Summer!BP27-'Summer Peak 2015-01-15'!HC27","v":-5},{"$f":"Summer!BQ27-'Summer Peak 2015-01-15'!HD27","v":-5},{"$f":"Summer!BR27-'Summer Peak 2015-01-15'!HE27","v":-5},{"$f":"Summer!BS27-'Summer Peak 2015-01-15'!HF27","v":-5},{"$f":"Summer!BT27-'Summer Peak 2015-01-15'!HG27","v":-5},{"$f":"Summer!BU27-'Summer Peak 2015-01-15'!HH27","v":-5},{"$f":"Summer!BV27-'Summer Peak 2015-01-15'!HI27","v":-5},{"$f":"Summer!BW27-'Summer Peak 2015-01-15'!HJ27","v":-5},{"$f":"Summer!BX27-'Summer Peak 2015-01-15'!HK27","v":-5},{"$f":"Summer!BY27-'Summer Peak 2015-01-15'!HL27","v":-5},{"$f":"Summer!BZ27-'Summer Peak 2015-01-15'!HM27","v":-5},{"$f":"Summer!CA27-'Summer Peak 2015-01-15'!HN27","v":-5},{"$f":"Summer!CB27-'Summer Peak 2015-01-15'!HO27","v":-5},{"$f":"Summer!CC27-'Summer Peak 2015-01-15'!HP27","v":-5},{"$f":"Summer!CD27-'Summer Peak 2015-01-15'!HQ27","v":-5},{"$f":"Summer!CE27-'Summer Peak 2015-01-15'!HR27","v":-5},{"$f":"Summer!CF27-'Summer Peak 2015-01-15'!HS27","v":-5},{"$f":"Summer!CG27-'Summer Peak 2015-01-15'!HT27","v":-5},{"$f":"Summer!CH27-'Summer Peak 2015-01-15'!HU27","v":-5},{"$f":"Summer!CI27-'Summer Peak 2015-01-15'!HV27","v":-5},{"$f":"Summer!CJ27-'Summer Peak 2015-01-15'!HW27","v":-5},{"$f":"Summer!CK27-'Summer Peak 2015-01-15'!HX27","v":-5},{"$f":"Summer!CL27-'Summer Peak 2015-01-15'!HY27","v":-5},{"$f":"Summer!CM27-'Summer Peak 2015-01-15'!HZ27","v":-5},{"$f":"Summer!CN27-'Summer Peak 2015-01-15'!IA27","v":-5},{"$f":"Summer!CO27-'Summer Peak 2015-01-15'!IB27","v":-5},{"$f":"Summer!CP27-'Summer Peak 2015-01-15'!IC27","v":-5},{"$f":"Summer!CQ27-'Summer Peak 2015-01-15'!ID27","v":-5},{"$f":"Summer!CR27-'Summer Peak 2015-01-15'!IE27","v":-5},{"$f":"Summer!CS27-'Summer Peak 2015-01-15'!IF27","v":-5},{"$f":"Summer!CT27-'Summer Peak 2015-01-15'!IG27","v":-5},{"$f":"Summer!CU27-'Summer Peak 2015-01-15'!IH27","v":-5},{"$f":"Summer!CV27-'Summer Peak 2015-01-15'!II27","v":-5},{"$f":"Summer!CW27-'Summer Peak 2015-01-15'!IJ27","v":-5},{"$f":"Summer!CX27-'Summer Peak 2015-01-15'!IK27","v":-5},{"$f":"Summer!CY27-'Summer Peak 2015-01-15'!IL27","v":-5},{"$f":"Summer!CZ27-'Summer Peak 2015-01-15'!IM27","v":-5},{"$f":"Summer!DA27-'Summer Peak 2015-01-15'!IN27","v":-5},{"$f":"Summer!DB27-'Summer Peak 2015-01-15'!IO27","v":-5},{"$f":"Summer!DC27-'Summer Peak 2015-01-15'!IP27","v":-5},{"$f":"Summer!DD27-'Summer Peak 2015-01-15'!IQ27","v":-5},{"$f":"Summer!DE27-'Summer Peak 2015-01-15'!IR27","v":-5},{"$f":"Summer!DF27-'Summer Peak 2015-01-15'!IS27","v":-5},{"$f":"Summer!DG27-'Summer Peak 2015-01-15'!IT27","v":-5},{"$f":"Summer!DH27-'Summer Peak 2015-01-15'!IU27","v":-5},{"$f":"Summer!DI27-'Summer Peak 2015-01-15'!IV27","v":-5},{"$f":"Summer!DJ27-'Summer Peak 2015-01-15'!IW27","v":-5},{"$f":"Summer!DK27-'Summer Peak 2015-01-15'!IX27","v":-5},{"$f":"Summer!DL27-'Summer Peak 2015-01-15'!IY27","v":-5},{"$f":"Summer!DM27-'Summer Peak 2015-01-15'!IZ27","v":-5},{"$f":"Summer!DN27-'Summer Peak 2015-01-15'!JA27","v":-5},{"$f":"Summer!DO27-'Summer Peak 2015-01-15'!JB27","v":-5},{"$f":"Summer!DP27-'Summer Peak 2015-01-15'!JC27","v":-5},{"$f":"Summer!DQ27-'Summer Peak 2015-01-15'!JD27","v":-5},{"$f":"Summer!DR27-'Summer Peak 2015-01-15'!JE27","v":-5},{"$f":"Summer!DS27-'Summer Peak 2015-01-15'!JF27","v":-5}]
[null,"PPE1",{"$f":"Summer!C28-'Summer Peak 2015-01-15'!EP28","v":0},{"$f":"Summer!D28-'Summer Peak 2015-01-15'!EQ28","v":0},{"$f":"Summer!E28-'Summer Peak 2015-01-15'!ER28","v":0},{"$f":"Summer!F28-'Summer Peak 2015-01-15'!ES28","v":0},{"$f":"Summer!G28-'Summer Peak 2015-01-15'!ET28","v":0},{"$f":"Summer!H28-'Summer Peak 2015-01-15'!EU28","v":0},{"$f":"Summer!I28-'Summer Peak 2015-01-15'!EV28","v":0},{"$f":"Summer!J28-'Summer Peak 2015-01-15'!EW28","v":0},{"$f":"Summer!K28-'Summer Peak 2015-01-15'!EX28","v":0},{"$f":"Summer!L28-'Summer Peak 2015-01-15'!EY28","v":0},{"$f":"Summer!M28-'Summer Peak 2015-01-15'!EZ28","v":0},{"$f":"Summer!N28-'Summer Peak 2015-01-15'!FA28","v":0},{"$f":"Summer!O28-'Summer Peak 2015-01-15'!FB28","v":0},{"$f":"Summer!P28-'Summer Peak 2015-01-15'!FC28","v":0},{"$f":"Summer!Q28-'Summer Peak 2015-01-15'!FD28","v":0},{"$f":"Summer!R28-'Summer Peak 2015-01-15'!FE28","v":0},{"$f":"Summer!S28-'Summer Peak 2015-01-15'!FF28","v":0},{"$f":"Summer!T28-'Summer Peak 2015-01-15'!FG28","v":0},{"$f":"Summer!U28-'Summer Peak 2015-01-15'!FH28","v":0},{"$f":"Summer!V28-'Summer Peak 2015-01-15'!FI28","v":0},{"$f":"Summer!W28-'Summer Peak 2015-01-15'!FJ28","v":0},{"$f":"Summer!X28-'Summer Peak 2015-01-15'!FK28","v":0},{"$f":"Summer!Y28-'Summer Peak 2015-01-15'!FL28","v":0},{"$f":"Summer!Z28-'Summer Peak 2015-01-15'!FM28","v":0},{"$f":"Summer!AA28-'Summer Peak 2015-01-15'!FN28","v":0},{"$f":"Summer!AB28-'Summer Peak 2015-01-15'!FO28","v":0},{"$f":"Summer!AC28-'Summer Peak 2015-01-15'!FP28","v":0},{"$f":"Summer!AD28-'Summer Peak 2015-01-15'!FQ28","v":0},{"$f":"Summer!AE28-'Summer Peak 2015-01-15'!FR28","v":0},{"$f":"Summer!AF28-'Summer Peak 2015-01-15'!FS28","v":0},{"$f":"Summer!AG28-'Summer Peak 2015-01-15'!FT28","v":0},{"$f":"Summer!AH28-'Summer Peak 2015-01-15'!FU28","v":0},{"$f":"Summer!AI28-'Summer Peak 2015-01-15'!FV28","v":0},{"$f":"Summer!AJ28-'Summer Peak 2015-01-15'!FW28","v":0},{"$f":"Summer!AK28-'Summer Peak 2015-01-15'!FX28","v":0},{"$f":"Summer!AL28-'Summer Peak 2015-01-15'!FY28","v":0},{"$f":"Summer!AM28-'Summer Peak 2015-01-15'!FZ28","v":0},{"$f":"Summer!AN28-'Summer Peak 2015-01-15'!GA28","v":0},{"$f":"Summer!AO28-'Summer Peak 2015-01-15'!GB28","v":0},{"$f":"Summer!AP28-'Summer Peak 2015-01-15'!GC28","v":0},{"$f":"Summer!AQ28-'Summer Peak 2015-01-15'!GD28","v":0},{"$f":"Summer!AR28-'Summer Peak 2015-01-15'!GE28","v":0},{"$f":"Summer!AS28-'Summer Peak 2015-01-15'!GF28","v":0},{"$f":"Summer!AT28-'Summer Peak 2015-01-15'!GG28","v":0},{"$f":"Summer!AU28-'Summer Peak 2015-01-15'!GH28","v":0},{"$f":"Summer!AV28-'Summer Peak 2015-01-15'!GI28","v":0},{"$f":"Summer!AW28-'Summer Peak 2015-01-15'!GJ28","v":0},{"$f":"Summer!AX28-'Summer Peak 2015-01-15'!GK28","v":0},{"$f":"Summer!AY28-'Summer Peak 2015-01-15'!GL28","v":0},{"$f":"Summer!AZ28-'Summer Peak 2015-01-15'!GM28","v":0},{"$f":"Summer!BA28-'Summer Peak 2015-01-15'!GN28","v":0},{"$f":"Summer!BB28-'Summer Peak 2015-01-15'!GO28","v":0},{"$f":"Summer!BC28-'Summer Peak 2015-01-15'!GP28","v":0},{"$f":"Summer!BD28-'Summer Peak 2015-01-15'!GQ28","v":0},{"$f":"Summer!BE28-'Summer Peak 2015-01-15'!GR28","v":0},{"$f":"Summer!BF28-'Summer Peak 2015-01-15'!GS28","v":0},{"$f":"Summer!BG28-'Summer Peak 2015-01-15'!GT28","v":0},{"$f":"Summer!BH28-'Summer Peak 2015-01-15'!GU28","v":0},{"$f":"Summer!BI28-'Summer Peak 2015-01-15'!GV28","v":0},{"$f":"Summer!BJ28-'Summer Peak 2015-01-15'!GW28","v":0},{"$f":"Summer!BK28-'Summer Peak 2015-01-15'!GX28","v":0},{"$f":"Summer!BL28-'Summer Peak 2015-01-15'!GY28","v":0},{"$f":"Summer!BM28-'Summer Peak 2015-01-15'!GZ28","v":0},{"$f":"Summer!BN28-'Summer Peak 2015-01-15'!HA28","v":0},{"$f":"Summer!BO28-'Summer Peak 2015-01-15'!HB28","v":0},{"$f":"Summer!BP28-'Summer Peak 2015-01-15'!HC28","v":0},{"$f":"Summer!BQ28-'Summer Peak 2015-01-15'!HD28","v":0},{"$f":"Summer!BR28-'Summer Peak 2015-01-15'!HE28","v":0},{"$f":"Summer!BS28-'Summer Peak 2015-01-15'!HF28","v":0},{"$f":"Summer!BT28-'Summer Peak 2015-01-15'!HG28","v":0},{"$f":"Summer!BU28-'Summer Peak 2015-01-15'!HH28","v":0},{"$f":"Summer!BV28-'Summer Peak 2015-01-15'!HI28","v":0},{"$f":"Summer!BW28-'Summer Peak 2015-01-15'!HJ28","v":0},{"$f":"Summer!BX28-'Summer Peak 2015-01-15'!HK28","v":0},{"$f":"Summer!BY28-'Summer Peak 2015-01-15'!HL28","v":0},{"$f":"Summer!BZ28-'Summer Peak 2015-01-15'!HM28","v":0},{"$f":"Summer!CA28-'Summer Peak 2015-01-15'!HN28","v":0},{"$f":"Summer!CB28-'Summer Peak 2015-01-15'!HO28","v":0},{"$f":"Summer!CC28-'Summer Peak 2015-01-15'!HP28","v":0},{"$f":"Summer!CD28-'Summer Peak 2015-01-15'!HQ28","v":0},{"$f":"Summer!CE28-'Summer Peak 2015-01-15'!HR28","v":0},{"$f":"Summer!CF28-'Summer Peak 2015-01-15'!HS28","v":0},{"$f":"Summer!CG28-'Summer Peak 2015-01-15'!HT28","v":0},{"$f":"Summer!CH28-'Summer Peak 2015-01-15'!HU28","v":0},{"$f":"Summer!CI28-'Summer Peak 2015-01-15'!HV28","v":0},{"$f":"Summer!CJ28-'Summer Peak 2015-01-15'!HW28","v":0},{"$f":"Summer!CK28-'Summer Peak 2015-01-15'!HX28","v":0},{"$f":"Summer!CL28-'Summer Peak 2015-01-15'!HY28","v":0},{"$f":"Summer!CM28-'Summer Peak 2015-01-15'!HZ28","v":0},{"$f":"Summer!CN28-'Summer Peak 2015-01-15'!IA28","v":0},{"$f":"Summer!CO28-'Summer Peak 2015-01-15'!IB28","v":0},{"$f":"Summer!CP28-'Summer Peak 2015-01-15'!IC28","v":0},{"$f":"Summer!CQ28-'Summer Peak 2015-01-15'!ID28","v":0},{"$f":"Summer!CR28-'Summer Peak 2015-01-15'!IE28","v":0},{"$f":"Summer!CS28-'Summer Peak 2015-01-15'!IF28","v":0},{"$f":"Summer!CT28-'Summer Peak 2015-01-15'!IG28","v":0},{"$f":"Summer!CU28-'Summer Peak 2015-01-15'!IH28","v":0},{"$f":"Summer!CV28-'Summer Peak 2015-01-15'!II28","v":0},{"$f":"Summer!CW28-'Summer Peak 2015-01-15'!IJ28","v":0},{"$f":"Summer!CX28-'Summer Peak 2015-01-15'!IK28","v":0},{"$f":"Summer!CY28-'Summer Peak 2015-01-15'!IL28","v":0},{"$f":"Summer!CZ28-'Summer Peak 2015-01-15'!IM28","v":0},{"$f":"Summer!DA28-'Summer Peak 2015-01-15'!IN28","v":0},{"$f":"Summer!DB28-'Summer Peak 2015-01-15'!IO28","v":0},{"$f":"Summer!DC28-'Summer Peak 2015-01-15'!IP28","v":0},{"$f":"Summer!DD28-'Summer Peak 2015-01-15'!IQ28","v":0},{"$f":"Summer!DE28-'Summer Peak 2015-01-15'!IR28","v":0},{"$f":"Summer!DF28-'Summer Peak 2015-01-15'!IS28","v":0},{"$f":"Summer!DG28-'Summer Peak 2015-01-15'!IT28","v":0},{"$f":"Summer!DH28-'Summer Peak 2015-01-15'!IU28","v":0},{"$f":"Summer!DI28-'Summer Peak 2015-01-15'!IV28","v":0},{"$f":"Summer!DJ28-'Summer Peak 2015-01-15'!IW28","v":0},{"$f":"Summer!DK28-'Summer Peak 2015-01-15'!IX28","v":0},{"$f":"Summer!DL28-'Summer Peak 2015-01-15'!IY28","v":0},{"$f":"Summer!DM28-'Summer Peak 2015-01-15'!IZ28","v":0},{"$f":"Summer!DN28-'Summer Peak 2015-01-15'!JA28","v":0},{"$f":"Summer!DO28-'Summer Peak 2015-01-15'!JB28","v":0},{"$f":"Summer!DP28-'Summer Peak 2015-01-15'!JC28","v":0},{"$f":"Summer!DQ28-'Summer Peak 2015-01-15'!JD28","v":0},{"$f":"Summer!DR28-'Summer Peak 2015-01-15'!JE28","v":0},{"$f":"Summer!DS28-'Summer Peak 2015-01-15'!JF28","v":0}]
[null,"PPE2",{"$f":"Summer!C29-'Summer Peak 2015-01-15'!EP29","v":0},{"$f":"Summer!D29-'Summer Peak 2015-01-15'!EQ29","v":0},{"$f":"Summer!E29-'Summer Peak 2015-01-15'!ER29","v":0},{"$f":"Summer!F29-'Summer Peak 2015-01-15'!ES29","v":0},{"$f":"Summer!G29-'Summer Peak 2015-01-15'!ET29","v":0},{"$f":"Summer!H29-'Summer Peak 2015-01-15'!EU29","v":0},{"$f":"Summer!I29-'Summer Peak 2015-01-15'!EV29","v":0},{"$f":"Summer!J29-'Summer Peak 2015-01-15'!EW29","v":0},{"$f":"Summer!K29-'Summer Peak 2015-01-15'!EX29","v":0},{"$f":"Summer!L29-'Summer Peak 2015-01-15'!EY29","v":0},{"$f":"Summer!M29-'Summer Peak 2015-01-15'!EZ29","v":0},{"$f":"Summer!N29-'Summer Peak 2015-01-15'!FA29","v":0},{"$f":"Summer!O29-'Summer Peak 2015-01-15'!FB29","v":0},{"$f":"Summer!P29-'Summer Peak 2015-01-15'!FC29","v":0},{"$f":"Summer!Q29-'Summer Peak 2015-01-15'!FD29","v":0},{"$f":"Summer!R29-'Summer Peak 2015-01-15'!FE29","v":0},{"$f":"Summer!S29-'Summer Peak 2015-01-15'!FF29","v":0},{"$f":"Summer!T29-'Summer Peak 2015-01-15'!FG29","v":0},{"$f":"Summer!U29-'Summer Peak 2015-01-15'!FH29","v":0},{"$f":"Summer!V29-'Summer Peak 2015-01-15'!FI29","v":0},{"$f":"Summer!W29-'Summer Peak 2015-01-15'!FJ29","v":0},{"$f":"Summer!X29-'Summer Peak 2015-01-15'!FK29","v":0},{"$f":"Summer!Y29-'Summer Peak 2015-01-15'!FL29","v":0},{"$f":"Summer!Z29-'Summer Peak 2015-01-15'!FM29","v":0},{"$f":"Summer!AA29-'Summer Peak 2015-01-15'!FN29","v":0},{"$f":"Summer!AB29-'Summer Peak 2015-01-15'!FO29","v":0},{"$f":"Summer!AC29-'Summer Peak 2015-01-15'!FP29","v":0},{"$f":"Summer!AD29-'Summer Peak 2015-01-15'!FQ29","v":0},{"$f":"Summer!AE29-'Summer Peak 2015-01-15'!FR29","v":0},{"$f":"Summer!AF29-'Summer Peak 2015-01-15'!FS29","v":0},{"$f":"Summer!AG29-'Summer Peak 2015-01-15'!FT29","v":0},{"$f":"Summer!AH29-'Summer Peak 2015-01-15'!FU29","v":0},{"$f":"Summer!AI29-'Summer Peak 2015-01-15'!FV29","v":0},{"$f":"Summer!AJ29-'Summer Peak 2015-01-15'!FW29","v":0},{"$f":"Summer!AK29-'Summer Peak 2015-01-15'!FX29","v":0},{"$f":"Summer!AL29-'Summer Peak 2015-01-15'!FY29","v":0},{"$f":"Summer!AM29-'Summer Peak 2015-01-15'!FZ29","v":0},{"$f":"Summer!AN29-'Summer Peak 2015-01-15'!GA29","v":0},{"$f":"Summer!AO29-'Summer Peak 2015-01-15'!GB29","v":0},{"$f":"Summer!AP29-'Summer Peak 2015-01-15'!GC29","v":0},{"$f":"Summer!AQ29-'Summer Peak 2015-01-15'!GD29","v":0},{"$f":"Summer!AR29-'Summer Peak 2015-01-15'!GE29","v":0},{"$f":"Summer!AS29-'Summer Peak 2015-01-15'!GF29","v":0},{"$f":"Summer!AT29-'Summer Peak 2015-01-15'!GG29","v":0},{"$f":"Summer!AU29-'Summer Peak 2015-01-15'!GH29","v":0},{"$f":"Summer!AV29-'Summer Peak 2015-01-15'!GI29","v":0},{"$f":"Summer!AW29-'Summer Peak 2015-01-15'!GJ29","v":0},{"$f":"Summer!AX29-'Summer Peak 2015-01-15'!GK29","v":0},{"$f":"Summer!AY29-'Summer Peak 2015-01-15'!GL29","v":0},{"$f":"Summer!AZ29-'Summer Peak 2015-01-15'!GM29","v":0},{"$f":"Summer!BA29-'Summer Peak 2015-01-15'!GN29","v":0},{"$f":"Summer!BB29-'Summer Peak 2015-01-15'!GO29","v":0},{"$f":"Summer!BC29-'Summer Peak 2015-01-15'!GP29","v":0},{"$f":"Summer!BD29-'Summer Peak 2015-01-15'!GQ29","v":0},{"$f":"Summer!BE29-'Summer Peak 2015-01-15'!GR29","v":0},{"$f":"Summer!BF29-'Summer Peak 2015-01-15'!GS29","v":0},{"$f":"Summer!BG29-'Summer Peak 2015-01-15'!GT29","v":0},{"$f":"Summer!BH29-'Summer Peak 2015-01-15'!GU29","v":0},{"$f":"Summer!BI29-'Summer Peak 2015-01-15'!GV29","v":0},{"$f":"Summer!BJ29-'Summer Peak 2015-01-15'!GW29","v":0},{"$f":"Summer!BK29-'Summer Peak 2015-01-15'!GX29","v":0},{"$f":"Summer!BL29-'Summer Peak 2015-01-15'!GY29","v":0},{"$f":"Summer!BM29-'Summer Peak 2015-01-15'!GZ29","v":0},{"$f":"Summer!BN29-'Summer Peak 2015-01-15'!HA29","v":0},{"$f":"Summer!BO29-'Summer Peak 2015-01-15'!HB29","v":0},{"$f":"Summer!BP29-'Summer Peak 2015-01-15'!HC29","v":0},{"$f":"Summer!BQ29-'Summer Peak 2015-01-15'!HD29","v":0},{"$f":"Summer!BR29-'Summer Peak 2015-01-15'!HE29","v":0},{"$f":"Summer!BS29-'Summer Peak 2015-01-15'!HF29","v":0},{"$f":"Summer!BT29-'Summer Peak 2015-01-15'!HG29","v":0},{"$f":"Summer!BU29-'Summer Peak 2015-01-15'!HH29","v":0},{"$f":"Summer!BV29-'Summer Peak 2015-01-15'!HI29","v":0},{"$f":"Summer!BW29-'Summer Peak 2015-01-15'!HJ29","v":0},{"$f":"Summer!BX29-'Summer Peak 2015-01-15'!HK29","v":0},{"$f":"Summer!BY29-'Summer Peak 2015-01-15'!HL29","v":0},{"$f":"Summer!BZ29-'Summer Peak 2015-01-15'!HM29","v":0},{"$f":"Summer!CA29-'Summer Peak 2015-01-15'!HN29","v":0},{"$f":"Summer!CB29-'Summer Peak 2015-01-15'!HO29","v":0},{"$f":"Summer!CC29-'Summer Peak 2015-01-15'!HP29","v":0},{"$f":"Summer!CD29-'Summer Peak 2015-01-15'!HQ29","v":0},{"$f":"Summer!CE29-'Summer Peak 2015-01-15'!HR29","v":0},{"$f":"Summer!CF29-'Summer Peak 2015-01-15'!HS29","v":0},{"$f":"Summer!CG29-'Summer Peak 2015-01-15'!HT29","v":0},{"$f":"Summer!CH29-'Summer Peak 2015-01-15'!HU29","v":0},{"$f":"Summer!CI29-'Summer Peak 2015-01-15'!HV29","v":0},{"$f":"Summer!CJ29-'Summer Peak 2015-01-15'!HW29","v":0},{"$f":"Summer!CK29-'Summer Peak 2015-01-15'!HX29","v":0},{"$f":"Summer!CL29-'Summer Peak 2015-01-15'!HY29","v":0},{"$f":"Summer!CM29-'Summer Peak 2015-01-15'!HZ29","v":0},{"$f":"Summer!CN29-'Summer Peak 2015-01-15'!IA29","v":0},{"$f":"Summer!CO29-'Summer Peak 2015-01-15'!IB29","v":0},{"$f":"Summer!CP29-'Summer Peak 2015-01-15'!IC29","v":0},{"$f":"Summer!CQ29-'Summer Peak 2015-01-15'!ID29","v":0},{"$f":"Summer!CR29-'Summer Peak 2015-01-15'!IE29","v":0},{"$f":"Summer!CS29-'Summer Peak 2015-01-15'!IF29","v":0},{"$f":"Summer!CT29-'Summer Peak 2015-01-15'!IG29","v":0},{"$f":"Summer!CU29-'Summer Peak 2015-01-15'!IH29","v":0},{"$f":"Summer!CV29-'Summer Peak 2015-01-15'!II29","v":0},{"$f":"Summer!CW29-'Summer Peak 2015-01-15'!IJ29","v":0},{"$f":"Summer!CX29-'Summer Peak 2015-01-15'!IK29","v":0},{"$f":"Summer!CY29-'Summer Peak 2015-01-15'!IL29","v":0},{"$f":"Summer!CZ29-'Summer Peak 2015-01-15'!IM29","v":0},{"$f":"Summer!DA29-'Summer Peak 2015-01-15'!IN29","v":0},{"$f":"Summer!DB29-'Summer Peak 2015-01-15'!IO29","v":0},{"$f":"Summer!DC29-'Summer Peak 2015-01-15'!IP29","v":0},{"$f":"Summer!DD29-'Summer Peak 2015-01-15'!IQ29","v":0},{"$f":"Summer!DE29-'Summer Peak 2015-01-15'!IR29","v":0},{"$f":"Summer!DF29-'Summer Peak 2015-01-15'!IS29","v":0},{"$f":"Summer!DG29-'Summer Peak 2015-01-15'!IT29","v":0},{"$f":"Summer!DH29-'Summer Peak 2015-01-15'!IU29","v":0},{"$f":"Summer!DI29-'Summer Peak 2015-01-15'!IV29","v":0},{"$f":"Summer!DJ29-'Summer Peak 2015-01-15'!IW29","v":0},{"$f":"Summer!DK29-'Summer Peak 2015-01-15'!IX29","v":0},{"$f":"Summer!DL29-'Summer Peak 2015-01-15'!IY29","v":0},{"$f":"Summer!DM29-'Summer Peak 2015-01-15'!IZ29","v":0},{"$f":"Summer!DN29-'Summer Peak 2015-01-15'!JA29","v":0},{"$f":"Summer!DO29-'Summer Peak 2015-01-15'!JB29","v":0},{"$f":"Summer!DP29-'Summer Peak 2015-01-15'!JC29","v":0},{"$f":"Summer!DQ29-'Summer Peak 2015-01-15'!JD29","v":0},{"$f":"Summer!DR29-'Summer Peak 2015-01-15'!JE29","v":0},{"$f":"Summer!DS29-'Summer Peak 2015-01-15'!JF29","v":0}]
[null,"PPE3",{"$f":"Summer!C30-'Summer Peak 2015-01-15'!EP30","v":0},{"$f":"Summer!D30-'Summer Peak 2015-01-15'!EQ30","v":0},{"$f":"Summer!E30-'Summer Peak 2015-01-15'!ER30","v":0},{"$f":"Summer!F30-'Summer Peak 2015-01-15'!ES30","v":0},{"$f":"Summer!G30-'Summer Peak 2015-01-15'!ET30","v":0},{"$f":"Summer!H30-'Summer Peak 2015-01-15'!EU30","v":0},{"$f":"Summer!I30-'Summer Peak 2015-01-15'!EV30","v":0},{"$f":"Summer!J30-'Summer Peak 2015-01-15'!EW30","v":0},{"$f":"Summer!K30-'Summer Peak 2015-01-15'!EX30","v":0},{"$f":"Summer!L30-'Summer Peak 2015-01-15'!EY30","v":0},{"$f":"Summer!M30-'Summer Peak 2015-01-15'!EZ30","v":0},{"$f":"Summer!N30-'Summer Peak 2015-01-15'!FA30","v":0},{"$f":"Summer!O30-'Summer Peak 2015-01-15'!FB30","v":0},{"$f":"Summer!P30-'Summer Peak 2015-01-15'!FC30","v":0},{"$f":"Summer!Q30-'Summer Peak 2015-01-15'!FD30","v":0},{"$f":"Summer!R30-'Summer Peak 2015-01-15'!FE30","v":0},{"$f":"Summer!S30-'Summer Peak 2015-01-15'!FF30","v":0},{"$f":"Summer!T30-'Summer Peak 2015-01-15'!FG30","v":0},{"$f":"Summer!U30-'Summer Peak 2015-01-15'!FH30","v":0},{"$f":"Summer!V30-'Summer Peak 2015-01-15'!FI30","v":0},{"$f":"Summer!W30-'Summer Peak 2015-01-15'!FJ30","v":0},{"$f":"Summer!X30-'Summer Peak 2015-01-15'!FK30","v":0},{"$f":"Summer!Y30-'Summer Peak 2015-01-15'!FL30","v":0},{"$f":"Summer!Z30-'Summer Peak 2015-01-15'!FM30","v":0},{"$f":"Summer!AA30-'Summer Peak 2015-01-15'!FN30","v":0},{"$f":"Summer!AB30-'Summer Peak 2015-01-15'!FO30","v":0},{"$f":"Summer!AC30-'Summer Peak 2015-01-15'!FP30","v":0},{"$f":"Summer!AD30-'Summer Peak 2015-01-15'!FQ30","v":0},{"$f":"Summer!AE30-'Summer Peak 2015-01-15'!FR30","v":0},{"$f":"Summer!AF30-'Summer Peak 2015-01-15'!FS30","v":0},{"$f":"Summer!AG30-'Summer Peak 2015-01-15'!FT30","v":0},{"$f":"Summer!AH30-'Summer Peak 2015-01-15'!FU30","v":0},{"$f":"Summer!AI30-'Summer Peak 2015-01-15'!FV30","v":0},{"$f":"Summer!AJ30-'Summer Peak 2015-01-15'!FW30","v":0},{"$f":"Summer!AK30-'Summer Peak 2015-01-15'!FX30","v":0},{"$f":"Summer!AL30-'Summer Peak 2015-01-15'!FY30","v":0},{"$f":"Summer!AM30-'Summer Peak 2015-01-15'!FZ30","v":0},{"$f":"Summer!AN30-'Summer Peak 2015-01-15'!GA30","v":0},{"$f":"Summer!AO30-'Summer Peak 2015-01-15'!GB30","v":0},{"$f":"Summer!AP30-'Summer Peak 2015-01-15'!GC30","v":0},{"$f":"Summer!AQ30-'Summer Peak 2015-01-15'!GD30","v":0},{"$f":"Summer!AR30-'Summer Peak 2015-01-15'!GE30","v":0},{"$f":"Summer!AS30-'Summer Peak 2015-01-15'!GF30","v":0},{"$f":"Summer!AT30-'Summer Peak 2015-01-15'!GG30","v":0},{"$f":"Summer!AU30-'Summer Peak 2015-01-15'!GH30","v":0},{"$f":"Summer!AV30-'Summer Peak 2015-01-15'!GI30","v":0},{"$f":"Summer!AW30-'Summer Peak 2015-01-15'!GJ30","v":0},{"$f":"Summer!AX30-'Summer Peak 2015-01-15'!GK30","v":0},{"$f":"Summer!AY30-'Summer Peak 2015-01-15'!GL30","v":0},{"$f":"Summer!AZ30-'Summer Peak 2015-01-15'!GM30","v":0},{"$f":"Summer!BA30-'Summer Peak 2015-01-15'!GN30","v":0},{"$f":"Summer!BB30-'Summer Peak 2015-01-15'!GO30","v":0},{"$f":"Summer!BC30-'Summer Peak 2015-01-15'!GP30","v":0},{"$f":"Summer!BD30-'Summer Peak 2015-01-15'!GQ30","v":0},{"$f":"Summer!BE30-'Summer Peak 2015-01-15'!GR30","v":0},{"$f":"Summer!BF30-'Summer Peak 2015-01-15'!GS30","v":0},{"$f":"Summer!BG30-'Summer Peak 2015-01-15'!GT30","v":0},{"$f":"Summer!BH30-'Summer Peak 2015-01-15'!GU30","v":0},{"$f":"Summer!BI30-'Summer Peak 2015-01-15'!GV30","v":0},{"$f":"Summer!BJ30-'Summer Peak 2015-01-15'!GW30","v":0},{"$f":"Summer!BK30-'Summer Peak 2015-01-15'!GX30","v":0},{"$f":"Summer!BL30-'Summer Peak 2015-01-15'!GY30","v":0},{"$f":"Summer!BM30-'Summer Peak 2015-01-15'!GZ30","v":0},{"$f":"Summer!BN30-'Summer Peak 2015-01-15'!HA30","v":0},{"$f":"Summer!BO30-'Summer Peak 2015-01-15'!HB30","v":0},{"$f":"Summer!BP30-'Summer Peak 2015-01-15'!HC30","v":0},{"$f":"Summer!BQ30-'Summer Peak 2015-01-15'!HD30","v":0},{"$f":"Summer!BR30-'Summer Peak 2015-01-15'!HE30","v":0},{"$f":"Summer!BS30-'Summer Peak 2015-01-15'!HF30","v":0},{"$f":"Summer!BT30-'Summer Peak 2015-01-15'!HG30","v":0},{"$f":"Summer!BU30-'Summer Peak 2015-01-15'!HH30","v":0},{"$f":"Summer!BV30-'Summer Peak 2015-01-15'!HI30","v":0},{"$f":"Summer!BW30-'Summer Peak 2015-01-15'!HJ30","v":0},{"$f":"Summer!BX30-'Summer Peak 2015-01-15'!HK30","v":0},{"$f":"Summer!BY30-'Summer Peak 2015-01-15'!HL30","v":0},{"$f":"Summer!BZ30-'Summer Peak 2015-01-15'!HM30","v":0},{"$f":"Summer!CA30-'Summer Peak 2015-01-15'!HN30","v":0},{"$f":"Summer!CB30-'Summer Peak 2015-01-15'!HO30","v":0},{"$f":"Summer!CC30-'Summer Peak 2015-01-15'!HP30","v":0},{"$f":"Summer!CD30-'Summer Peak 2015-01-15'!HQ30","v":0},{"$f":"Summer!CE30-'Summer Peak 2015-01-15'!HR30","v":0},{"$f":"Summer!CF30-'Summer Peak 2015-01-15'!HS30","v":0},{"$f":"Summer!CG30-'Summer Peak 2015-01-15'!HT30","v":0},{"$f":"Summer!CH30-'Summer Peak 2015-01-15'!HU30","v":0},{"$f":"Summer!CI30-'Summer Peak 2015-01-15'!HV30","v":0},{"$f":"Summer!CJ30-'Summer Peak 2015-01-15'!HW30","v":0},{"$f":"Summer!CK30-'Summer Peak 2015-01-15'!HX30","v":0},{"$f":"Summer!CL30-'Summer Peak 2015-01-15'!HY30","v":0},{"$f":"Summer!CM30-'Summer Peak 2015-01-15'!HZ30","v":0},{"$f":"Summer!CN30-'Summer Peak 2015-01-15'!IA30","v":0},{"$f":"Summer!CO30-'Summer Peak 2015-01-15'!IB30","v":0},{"$f":"Summer!CP30-'Summer Peak 2015-01-15'!IC30","v":0},{"$f":"Summer!CQ30-'Summer Peak 2015-01-15'!ID30","v":0},{"$f":"Summer!CR30-'Summer Peak 2015-01-15'!IE30","v":0},{"$f":"Summer!CS30-'Summer Peak 2015-01-15'!IF30","v":0},{"$f":"Summer!CT30-'Summer Peak 2015-01-15'!IG30","v":0},{"$f":"Summer!CU30-'Summer Peak 2015-01-15'!IH30","v":0},{"$f":"Summer!CV30-'Summer Peak 2015-01-15'!II30","v":0},{"$f":"Summer!CW30-'Summer Peak 2015-01-15'!IJ30","v":0},{"$f":"Summer!CX30-'Summer Peak 2015-01-15'!IK30","v":0},{"$f":"Summer!CY30-'Summer Peak 2015-01-15'!IL30","v":0},{"$f":"Summer!CZ30-'Summer Peak 2015-01-15'!IM30","v":0},{"$f":"Summer!DA30-'Summer Peak 2015-01-15'!IN30","v":0},{"$f":"Summer!DB30-'Summer Peak 2015-01-15'!IO30","v":0},{"$f":"Summer!DC30-'Summer Peak 2015-01-15'!IP30","v":0},{"$f":"Summer!DD30-'Summer Peak 2015-01-15'!IQ30","v":0},{"$f":"Summer!DE30-'Summer Peak 2015-01-15'!IR30","v":0},{"$f":"Summer!DF30-'Summer Peak 2015-01-15'!IS30","v":0},{"$f":"Summer!DG30-'Summer Peak 2015-01-15'!IT30","v":0},{"$f":"Summer!DH30-'Summer Peak 2015-01-15'!IU30","v":0},{"$f":"Summer!DI30-'Summer Peak 2015-01-15'!IV30","v":0},{"$f":"Summer!DJ30-'Summer Peak 2015-01-15'!IW30","v":0},{"$f":"Summer!DK30-'Summer Peak 2015-01-15'!IX30","v":0},{"$f":"Summer!DL30-'Summer Peak 2015-01-15'!IY30","v":0},{"$f":"Summer!DM30-'Summer Peak 2015-01-15'!IZ30","v":0},{"$f":"Summer!DN30-'Summer Peak 2015-01-15'!JA30","v":0},{"$f":"Summer!DO30-'Summer Peak 2015-01-15'!JB30","v":0},{"$f":"Summer!DP30-'Summer Peak 2015-01-15'!JC30","v":0},{"$f":"Summer!DQ30-'Summer Peak 2015-01-15'!JD30","v":0},{"$f":"Summer!DR30-'Summer Peak 2015-01-15'!JE30","v":0},{"$f":"Summer!DS30-'Summer Peak 2015-01-15'!JF30","v":0}]
[null,"PPE4",{"$f":"Summer!C31-'Summer Peak 2015-01-15'!EP31","v":0},{"$f":"Summer!D31-'Summer Peak 2015-01-15'!EQ31","v":0},{"$f":"Summer!E31-'Summer Peak 2015-01-15'!ER31","v":0},{"$f":"Summer!F31-'Summer Peak 2015-01-15'!ES31","v":0},{"$f":"Summer!G31-'Summer Peak 2015-01-15'!ET31","v":0},{"$f":"Summer!H31-'Summer Peak 2015-01-15'!EU31","v":0},{"$f":"Summer!I31-'Summer Peak 2015-01-15'!EV31","v":0},{"$f":"Summer!J31-'Summer Peak 2015-01-15'!EW31","v":0},{"$f":"Summer!K31-'Summer Peak 2015-01-15'!EX31","v":0},{"$f":"Summer!L31-'Summer Peak 2015-01-15'!EY31","v":0},{"$f":"Summer!M31-'Summer Peak 2015-01-15'!EZ31","v":0},{"$f":"Summer!N31-'Summer Peak 2015-01-15'!FA31","v":0},{"$f":"Summer!O31-'Summer Peak 2015-01-15'!FB31","v":0},{"$f":"Summer!P31-'Summer Peak 2015-01-15'!FC31","v":0},{"$f":"Summer!Q31-'Summer Peak 2015-01-15'!FD31","v":0},{"$f":"Summer!R31-'Summer Peak 2015-01-15'!FE31","v":0},{"$f":"Summer!S31-'Summer Peak 2015-01-15'!FF31","v":0},{"$f":"Summer!T31-'Summer Peak 2015-01-15'!FG31","v":0},{"$f":"Summer!U31-'Summer Peak 2015-01-15'!FH31","v":0},{"$f":"Summer!V31-'Summer Peak 2015-01-15'!FI31","v":0},{"$f":"Summer!W31-'Summer Peak 2015-01-15'!FJ31","v":0},{"$f":"Summer!X31-'Summer Peak 2015-01-15'!FK31","v":0},{"$f":"Summer!Y31-'Summer Peak 2015-01-15'!FL31","v":0},{"$f":"Summer!Z31-'Summer Peak 2015-01-15'!FM31","v":0},{"$f":"Summer!AA31-'Summer Peak 2015-01-15'!FN31","v":0},{"$f":"Summer!AB31-'Summer Peak 2015-01-15'!FO31","v":0},{"$f":"Summer!AC31-'Summer Peak 2015-01-15'!FP31","v":0},{"$f":"Summer!AD31-'Summer Peak 2015-01-15'!FQ31","v":0},{"$f":"Summer!AE31-'Summer Peak 2015-01-15'!FR31","v":0},{"$f":"Summer!AF31-'Summer Peak 2015-01-15'!FS31","v":0},{"$f":"Summer!AG31-'Summer Peak 2015-01-15'!FT31","v":0},{"$f":"Summer!AH31-'Summer Peak 2015-01-15'!FU31","v":0},{"$f":"Summer!AI31-'Summer Peak 2015-01-15'!FV31","v":0},{"$f":"Summer!AJ31-'Summer Peak 2015-01-15'!FW31","v":0},{"$f":"Summer!AK31-'Summer Peak 2015-01-15'!FX31","v":0},{"$f":"Summer!AL31-'Summer Peak 2015-01-15'!FY31","v":0},{"$f":"Summer!AM31-'Summer Peak 2015-01-15'!FZ31","v":0},{"$f":"Summer!AN31-'Summer Peak 2015-01-15'!GA31","v":0},{"$f":"Summer!AO31-'Summer Peak 2015-01-15'!GB31","v":0},{"$f":"Summer!AP31-'Summer Peak 2015-01-15'!GC31","v":0},{"$f":"Summer!AQ31-'Summer Peak 2015-01-15'!GD31","v":0},{"$f":"Summer!AR31-'Summer Peak 2015-01-15'!GE31","v":0},{"$f":"Summer!AS31-'Summer Peak 2015-01-15'!GF31","v":0},{"$f":"Summer!AT31-'Summer Peak 2015-01-15'!GG31","v":0},{"$f":"Summer!AU31-'Summer Peak 2015-01-15'!GH31","v":0},{"$f":"Summer!AV31-'Summer Peak 2015-01-15'!GI31","v":0},{"$f":"Summer!AW31-'Summer Peak 2015-01-15'!GJ31","v":0},{"$f":"Summer!AX31-'Summer Peak 2015-01-15'!GK31","v":0},{"$f":"Summer!AY31-'Summer Peak 2015-01-15'!GL31","v":0},{"$f":"Summer!AZ31-'Summer Peak 2015-01-15'!GM31","v":0},{"$f":"Summer!BA31-'Summer Peak 2015-01-15'!GN31","v":0},{"$f":"Summer!BB31-'Summer Peak 2015-01-15'!GO31","v":0},{"$f":"Summer!BC31-'Summer Peak 2015-01-15'!GP31","v":0},{"$f":"Summer!BD31-'Summer Peak 2015-01-15'!GQ31","v":0},{"$f":"Summer!BE31-'Summer Peak 2015-01-15'!GR31","v":0},{"$f":"Summer!BF31-'Summer Peak 2015-01-15'!GS31","v":0},{"$f":"Summer!BG31-'Summer Peak 2015-01-15'!GT31","v":0},{"$f":"Summer!BH31-'Summer Peak 2015-01-15'!GU31","v":0},{"$f":"Summer!BI31-'Summer Peak 2015-01-15'!GV31","v":0},{"$f":"Summer!BJ31-'Summer Peak 2015-01-15'!GW31","v":0},{"$f":"Summer!BK31-'Summer Peak 2015-01-15'!GX31","v":0},{"$f":"Summer!BL31-'Summer Peak 2015-01-15'!GY31","v":0},{"$f":"Summer!BM31-'Summer Peak 2015-01-15'!GZ31","v":0},{"$f":"Summer!BN31-'Summer Peak 2015-01-15'!HA31","v":0},{"$f":"Summer!BO31-'Summer Peak 2015-01-15'!HB31","v":0},{"$f":"Summer!BP31-'Summer Peak 2015-01-15'!HC31","v":0},{"$f":"Summer!BQ31-'Summer Peak 2015-01-15'!HD31","v":0},{"$f":"Summer!BR31-'Summer Peak 2015-01-15'!HE31","v":0},{"$f":"Summer!BS31-'Summer Peak 2015-01-15'!HF31","v":0},{"$f":"Summer!BT31-'Summer Peak 2015-01-15'!HG31","v":0},{"$f":"Summer!BU31-'Summer Peak 2015-01-15'!HH31","v":0},{"$f":"Summer!BV31-'Summer Peak 2015-01-15'!HI31","v":0},{"$f":"Summer!BW31-'Summer Peak 2015-01-15'!HJ31","v":0},{"$f":"Summer!BX31-'Summer Peak 2015-01-15'!HK31","v":0},{"$f":"Summer!BY31-'Summer Peak 2015-01-15'!HL31","v":0},{"$f":"Summer!BZ31-'Summer Peak 2015-01-15'!HM31","v":0},{"$f":"Summer!CA31-'Summer Peak 2015-01-15'!HN31","v":0},{"$f":"Summer!CB31-'Summer Peak 2015-01-15'!HO31","v":0},{"$f":"Summer!CC31-'Summer Peak 2015-01-15'!HP31","v":0},{"$f":"Summer!CD31-'Summer Peak 2015-01-15'!HQ31","v":0},{"$f":"Summer!CE31-'Summer Peak 2015-01-15'!HR31","v":0},{"$f":"Summer!CF31-'Summer Peak 2015-01-15'!HS31","v":0},{"$f":"Summer!CG31-'Summer Peak 2015-01-15'!HT31","v":0},{"$f":"Summer!CH31-'Summer Peak 2015-01-15'!HU31","v":0},{"$f":"Summer!CI31-'Summer Peak 2015-01-15'!HV31","v":0},{"$f":"Summer!CJ31-'Summer Peak 2015-01-15'!HW31","v":0},{"$f":"Summer!CK31-'Summer Peak 2015-01-15'!HX31","v":0},{"$f":"Summer!CL31-'Summer Peak 2015-01-15'!HY31","v":0},{"$f":"Summer!CM31-'Summer Peak 2015-01-15'!HZ31","v":0},{"$f":"Summer!CN31-'Summer Peak 2015-01-15'!IA31","v":0},{"$f":"Summer!CO31-'Summer Peak 2015-01-15'!IB31","v":0},{"$f":"Summer!CP31-'Summer Peak 2015-01-15'!IC31","v":0},{"$f":"Summer!CQ31-'Summer Peak 2015-01-15'!ID31","v":0},{"$f":"Summer!CR31-'Summer Peak 2015-01-15'!IE31","v":0},{"$f":"Summer!CS31-'Summer Peak 2015-01-15'!IF31","v":0},{"$f":"Summer!CT31-'Summer Peak 2015-01-15'!IG31","v":0},{"$f":"Summer!CU31-'Summer Peak 2015-01-15'!IH31","v":0},{"$f":"Summer!CV31-'Summer Peak 2015-01-15'!II31","v":0},{"$f":"Summer!CW31-'Summer Peak 2015-01-15'!IJ31","v":0},{"$f":"Summer!CX31-'Summer Peak 2015-01-15'!IK31","v":0},{"$f":"Summer!CY31-'Summer Peak 2015-01-15'!IL31","v":0},{"$f":"Summer!CZ31-'Summer Peak 2015-01-15'!IM31","v":0},{"$f":"Summer!DA31-'Summer Peak 2015-01-15'!IN31","v":0},{"$f":"Summer!DB31-'Summer Peak 2015-01-15'!IO31","v":0},{"$f":"Summer!DC31-'Summer Peak 2015-01-15'!IP31","v":0},{"$f":"Summer!DD31-'Summer Peak 2015-01-15'!IQ31","v":0},{"$f":"Summer!DE31-'Summer Peak 2015-01-15'!IR31","v":0},{"$f":"Summer!DF31-'Summer Peak 2015-01-15'!IS31","v":0},{"$f":"Summer!DG31-'Summer Peak 2015-01-15'!IT31","v":0},{"$f":"Summer!DH31-'Summer Peak 2015-01-15'!IU31","v":0},{"$f":"Summer!DI31-'Summer Peak 2015-01-15'!IV31","v":0},{"$f":"Summer!DJ31-'Summer Peak 2015-01-15'!IW31","v":0},{"$f":"Summer!DK31-'Summer Peak 2015-01-15'!IX31","v":0},{"$f":"Summer!DL31-'Summer Peak 2015-01-15'!IY31","v":0},{"$f":"Summer!DM31-'Summer Peak 2015-01-15'!IZ31","v":0},{"$f":"Summer!DN31-'Summer Peak 2015-01-15'!JA31","v":0},{"$f":"Summer!DO31-'Summer Peak 2015-01-15'!JB31","v":0},{"$f":"Summer!DP31-'Summer Peak 2015-01-15'!JC31","v":0},{"$f":"Summer!DQ31-'Summer Peak 2015-01-15'!JD31","v":0},{"$f":"Summer!DR31-'Summer Peak 2015-01-15'!JE31","v":0},{"$f":"Summer!DS31-'Summer Peak 2015-01-15'!JF31","v":0}]
[null,"PPE5",{"$f":"Summer!C32-'Summer Peak 2015-01-15'!EP32","v":0},{"$f":"Summer!D32-'Summer Peak 2015-01-15'!EQ32","v":0},{"$f":"Summer!E32-'Summer Peak 2015-01-15'!ER32","v":0},{"$f":"Summer!F32-'Summer Peak 2015-01-15'!ES32","v":0},{"$f":"Summer!G32-'Summer Peak 2015-01-15'!ET32","v":0},{"$f":"Summer!H32-'Summer Peak 2015-01-15'!EU32","v":0},{"$f":"Summer!I32-'Summer Peak 2015-01-15'!EV32","v":0},{"$f":"Summer!J32-'Summer Peak 2015-01-15'!EW32","v":0},{"$f":"Summer!K32-'Summer Peak 2015-01-15'!EX32","v":0},{"$f":"Summer!L32-'Summer Peak 2015-01-15'!EY32","v":0},{"$f":"Summer!M32-'Summer Peak 2015-01-15'!EZ32","v":0},{"$f":"Summer!N32-'Summer Peak 2015-01-15'!FA32","v":0},{"$f":"Summer!O32-'Summer Peak 2015-01-15'!FB32","v":0},{"$f":"Summer!P32-'Summer Peak 2015-01-15'!FC32","v":0},{"$f":"Summer!Q32-'Summer Peak 2015-01-15'!FD32","v":0},{"$f":"Summer!R32-'Summer Peak 2015-01-15'!FE32","v":0},{"$f":"Summer!S32-'Summer Peak 2015-01-15'!FF32","v":0},{"$f":"Summer!T32-'Summer Peak 2015-01-15'!FG32","v":0},{"$f":"Summer!U32-'Summer Peak 2015-01-15'!FH32","v":0},{"$f":"Summer!V32-'Summer Peak 2015-01-15'!FI32","v":0},{"$f":"Summer!W32-'Summer Peak 2015-01-15'!FJ32","v":0},{"$f":"Summer!X32-'Summer Peak 2015-01-15'!FK32","v":0},{"$f":"Summer!Y32-'Summer Peak 2015-01-15'!FL32","v":0},{"$f":"Summer!Z32-'Summer Peak 2015-01-15'!FM32","v":0},{"$f":"Summer!AA32-'Summer Peak 2015-01-15'!FN32","v":0},{"$f":"Summer!AB32-'Summer Peak 2015-01-15'!FO32","v":0},{"$f":"Summer!AC32-'Summer Peak 2015-01-15'!FP32","v":0},{"$f":"Summer!AD32-'Summer Peak 2015-01-15'!FQ32","v":0},{"$f":"Summer!AE32-'Summer Peak 2015-01-15'!FR32","v":0},{"$f":"Summer!AF32-'Summer Peak 2015-01-15'!FS32","v":0},{"$f":"Summer!AG32-'Summer Peak 2015-01-15'!FT32","v":0},{"$f":"Summer!AH32-'Summer Peak 2015-01-15'!FU32","v":0},{"$f":"Summer!AI32-'Summer Peak 2015-01-15'!FV32","v":0},{"$f":"Summer!AJ32-'Summer Peak 2015-01-15'!FW32","v":0},{"$f":"Summer!AK32-'Summer Peak 2015-01-15'!FX32","v":0},{"$f":"Summer!AL32-'Summer Peak 2015-01-15'!FY32","v":0},{"$f":"Summer!AM32-'Summer Peak 2015-01-15'!FZ32","v":0},{"$f":"Summer!AN32-'Summer Peak 2015-01-15'!GA32","v":0},{"$f":"Summer!AO32-'Summer Peak 2015-01-15'!GB32","v":0},{"$f":"Summer!AP32-'Summer Peak 2015-01-15'!GC32","v":0},{"$f":"Summer!AQ32-'Summer Peak 2015-01-15'!GD32","v":0},{"$f":"Summer!AR32-'Summer Peak 2015-01-15'!GE32","v":0},{"$f":"Summer!AS32-'Summer Peak 2015-01-15'!GF32","v":0},{"$f":"Summer!AT32-'Summer Peak 2015-01-15'!GG32","v":0},{"$f":"Summer!AU32-'Summer Peak 2015-01-15'!GH32","v":0},{"$f":"Summer!AV32-'Summer Peak 2015-01-15'!GI32","v":0},{"$f":"Summer!AW32-'Summer Peak 2015-01-15'!GJ32","v":0},{"$f":"Summer!AX32-'Summer Peak 2015-01-15'!GK32","v":0},{"$f":"Summer!AY32-'Summer Peak 2015-01-15'!GL32","v":0},{"$f":"Summer!AZ32-'Summer Peak 2015-01-15'!GM32","v":0},{"$f":"Summer!BA32-'Summer Peak 2015-01-15'!GN32","v":0},{"$f":"Summer!BB32-'Summer Peak 2015-01-15'!GO32","v":0},{"$f":"Summer!BC32-'Summer Peak 2015-01-15'!GP32","v":0},{"$f":"Summer!BD32-'Summer Peak 2015-01-15'!GQ32","v":0},{"$f":"Summer!BE32-'Summer Peak 2015-01-15'!GR32","v":0},{"$f":"Summer!BF32-'Summer Peak 2015-01-15'!GS32","v":0},{"$f":"Summer!BG32-'Summer Peak 2015-01-15'!GT32","v":0},{"$f":"Summer!BH32-'Summer Peak 2015-01-15'!GU32","v":0},{"$f":"Summer!BI32-'Summer Peak 2015-01-15'!GV32","v":0},{"$f":"Summer!BJ32-'Summer Peak 2015-01-15'!GW32","v":0},{"$f":"Summer!BK32-'Summer Peak 2015-01-15'!GX32","v":0},{"$f":"Summer!BL32-'Summer Peak 2015-01-15'!GY32","v":0},{"$f":"Summer!BM32-'Summer Peak 2015-01-15'!GZ32","v":0},{"$f":"Summer!BN32-'Summer Peak 2015-01-15'!HA32","v":0},{"$f":"Summer!BO32-'Summer Peak 2015-01-15'!HB32","v":0},{"$f":"Summer!BP32-'Summer Peak 2015-01-15'!HC32","v":0},{"$f":"Summer!BQ32-'Summer Peak 2015-01-15'!HD32","v":0},{"$f":"Summer!BR32-'Summer Peak 2015-01-15'!HE32","v":0},{"$f":"Summer!BS32-'Summer Peak 2015-01-15'!HF32","v":0},{"$f":"Summer!BT32-'Summer Peak 2015-01-15'!HG32","v":0},{"$f":"Summer!BU32-'Summer Peak 2015-01-15'!HH32","v":0},{"$f":"Summer!BV32-'Summer Peak 2015-01-15'!HI32","v":0},{"$f":"Summer!BW32-'Summer Peak 2015-01-15'!HJ32","v":0},{"$f":"Summer!BX32-'Summer Peak 2015-01-15'!HK32","v":0},{"$f":"Summer!BY32-'Summer Peak 2015-01-15'!HL32","v":0},{"$f":"Summer!BZ32-'Summer Peak 2015-01-15'!HM32","v":0},{"$f":"Summer!CA32-'Summer Peak 2015-01-15'!HN32","v":0},{"$f":"Summer!CB32-'Summer Peak 2015-01-15'!HO32","v":0},{"$f":"Summer!CC32-'Summer Peak 2015-01-15'!HP32","v":0},{"$f":"Summer!CD32-'Summer Peak 2015-01-15'!HQ32","v":0},{"$f":"Summer!CE32-'Summer Peak 2015-01-15'!HR32","v":0},{"$f":"Summer!CF32-'Summer Peak 2015-01-15'!HS32","v":0},{"$f":"Summer!CG32-'Summer Peak 2015-01-15'!HT32","v":0},{"$f":"Summer!CH32-'Summer Peak 2015-01-15'!HU32","v":0},{"$f":"Summer!CI32-'Summer Peak 2015-01-15'!HV32","v":0},{"$f":"Summer!CJ32-'Summer Peak 2015-01-15'!HW32","v":0},{"$f":"Summer!CK32-'Summer Peak 2015-01-15'!HX32","v":0},{"$f":"Summer!CL32-'Summer Peak 2015-01-15'!HY32","v":0},{"$f":"Summer!CM32-'Summer Peak 2015-01-15'!HZ32","v":0},{"$f":"Summer!CN32-'Summer Peak 2015-01-15'!IA32","v":0},{"$f":"Summer!CO32-'Summer Peak 2015-01-15'!IB32","v":0},{"$f":"Summer!CP32-'Summer Peak 2015-01-15'!IC32","v":0},{"$f":"Summer!CQ32-'Summer Peak 2015-01-15'!ID32","v":0},{"$f":"Summer!CR32-'Summer Peak 2015-01-15'!IE32","v":0},{"$f":"Summer!CS32-'Summer Peak 2015-01-15'!IF32","v":0},{"$f":"Summer!CT32-'Summer Peak 2015-01-15'!IG32","v":0},{"$f":"Summer!CU32-'Summer Peak 2015-01-15'!IH32","v":0},{"$f":"Summer!CV32-'Summer Peak 2015-01-15'!II32","v":0},{"$f":"Summer!CW32-'Summer Peak 2015-01-15'!IJ32","v":0},{"$f":"Summer!CX32-'Summer Peak 2015-01-15'!IK32","v":0},{"$f":"Summer!CY32-'Summer Peak 2015-01-15'!IL32","v":0},{"$f":"Summer!CZ32-'Summer Peak 2015-01-15'!IM32","v":0},{"$f":"Summer!DA32-'Summer Peak 2015-01-15'!IN32","v":0},{"$f":"Summer!DB32-'Summer Peak 2015-01-15'!IO32","v":0},{"$f":"Summer!DC32-'Summer Peak 2015-01-15'!IP32","v":0},{"$f":"Summer!DD32-'Summer Peak 2015-01-15'!IQ32","v":0},{"$f":"Summer!DE32-'Summer Peak 2015-01-15'!IR32","v":0},{"$f":"Summer!DF32-'Summer Peak 2015-01-15'!IS32","v":0},{"$f":"Summer!DG32-'Summer Peak 2015-01-15'!IT32","v":0},{"$f":"Summer!DH32-'Summer Peak 2015-01-15'!IU32","v":0},{"$f":"Summer!DI32-'Summer Peak 2015-01-15'!IV32","v":0},{"$f":"Summer!DJ32-'Summer Peak 2015-01-15'!IW32","v":0},{"$f":"Summer!DK32-'Summer Peak 2015-01-15'!IX32","v":0},{"$f":"Summer!DL32-'Summer Peak 2015-01-15'!IY32","v":0},{"$f":"Summer!DM32-'Summer Peak 2015-01-15'!IZ32","v":0},{"$f":"Summer!DN32-'Summer Peak 2015-01-15'!JA32","v":0},{"$f":"Summer!DO32-'Summer Peak 2015-01-15'!JB32","v":0},{"$f":"Summer!DP32-'Summer Peak 2015-01-15'!JC32","v":0},{"$f":"Summer!DQ32-'Summer Peak 2015-01-15'!JD32","v":0},{"$f":"Summer!DR32-'Summer Peak 2015-01-15'!JE32","v":0},{"$f":"Summer!DS32-'Summer Peak 2015-01-15'!JF32","v":0}]
[null,"PPE GT",{"$f":"Summer!C33-'Summer Peak 2015-01-15'!EP33","v":0},{"$f":"Summer!D33-'Summer Peak 2015-01-15'!EQ33","v":0},{"$f":"Summer!E33-'Summer Peak 2015-01-15'!ER33","v":0},{"$f":"Summer!F33-'Summer Peak 2015-01-15'!ES33","v":0},{"$f":"Summer!G33-'Summer Peak 2015-01-15'!ET33","v":0},{"$f":"Summer!H33-'Summer Peak 2015-01-15'!EU33","v":0},{"$f":"Summer!I33-'Summer Peak 2015-01-15'!EV33","v":0},{"$f":"Summer!J33-'Summer Peak 2015-01-15'!EW33","v":0},{"$f":"Summer!K33-'Summer Peak 2015-01-15'!EX33","v":0},{"$f":"Summer!L33-'Summer Peak 2015-01-15'!EY33","v":0},{"$f":"Summer!M33-'Summer Peak 2015-01-15'!EZ33","v":0},{"$f":"Summer!N33-'Summer Peak 2015-01-15'!FA33","v":0},{"$f":"Summer!O33-'Summer Peak 2015-01-15'!FB33","v":0},{"$f":"Summer!P33-'Summer Peak 2015-01-15'!FC33","v":0},{"$f":"Summer!Q33-'Summer Peak 2015-01-15'!FD33","v":0},{"$f":"Summer!R33-'Summer Peak 2015-01-15'!FE33","v":0},{"$f":"Summer!S33-'Summer Peak 2015-01-15'!FF33","v":0},{"$f":"Summer!T33-'Summer Peak 2015-01-15'!FG33","v":0},{"$f":"Summer!U33-'Summer Peak 2015-01-15'!FH33","v":0},{"$f":"Summer!V33-'Summer Peak 2015-01-15'!FI33","v":0},{"$f":"Summer!W33-'Summer Peak 2015-01-15'!FJ33","v":0},{"$f":"Summer!X33-'Summer Peak 2015-01-15'!FK33","v":0},{"$f":"Summer!Y33-'Summer Peak 2015-01-15'!FL33","v":0},{"$f":"Summer!Z33-'Summer Peak 2015-01-15'!FM33","v":0},{"$f":"Summer!AA33-'Summer Peak 2015-01-15'!FN33","v":0},{"$f":"Summer!AB33-'Summer Peak 2015-01-15'!FO33","v":0},{"$f":"Summer!AC33-'Summer Peak 2015-01-15'!FP33","v":0},{"$f":"Summer!AD33-'Summer Peak 2015-01-15'!FQ33","v":0},{"$f":"Summer!AE33-'Summer Peak 2015-01-15'!FR33","v":0},{"$f":"Summer!AF33-'Summer Peak 2015-01-15'!FS33","v":0},{"$f":"Summer!AG33-'Summer Peak 2015-01-15'!FT33","v":0},{"$f":"Summer!AH33-'Summer Peak 2015-01-15'!FU33","v":0},{"$f":"Summer!AI33-'Summer Peak 2015-01-15'!FV33","v":0},{"$f":"Summer!AJ33-'Summer Peak 2015-01-15'!FW33","v":0},{"$f":"Summer!AK33-'Summer Peak 2015-01-15'!FX33","v":0},{"$f":"Summer!AL33-'Summer Peak 2015-01-15'!FY33","v":0},{"$f":"Summer!AM33-'Summer Peak 2015-01-15'!FZ33","v":0},{"$f":"Summer!AN33-'Summer Peak 2015-01-15'!GA33","v":0},{"$f":"Summer!AO33-'Summer Peak 2015-01-15'!GB33","v":0},{"$f":"Summer!AP33-'Summer Peak 2015-01-15'!GC33","v":0},{"$f":"Summer!AQ33-'Summer Peak 2015-01-15'!GD33","v":0},{"$f":"Summer!AR33-'Summer Peak 2015-01-15'!GE33","v":0},{"$f":"Summer!AS33-'Summer Peak 2015-01-15'!GF33","v":0},{"$f":"Summer!AT33-'Summer Peak 2015-01-15'!GG33","v":0},{"$f":"Summer!AU33-'Summer Peak 2015-01-15'!GH33","v":0},{"$f":"Summer!AV33-'Summer Peak 2015-01-15'!GI33","v":0},{"$f":"Summer!AW33-'Summer Peak 2015-01-15'!GJ33","v":0},{"$f":"Summer!AX33-'Summer Peak 2015-01-15'!GK33","v":0},{"$f":"Summer!AY33-'Summer Peak 2015-01-15'!GL33","v":0},{"$f":"Summer!AZ33-'Summer Peak 2015-01-15'!GM33","v":0},{"$f":"Summer!BA33-'Summer Peak 2015-01-15'!GN33","v":0},{"$f":"Summer!BB33-'Summer Peak 2015-01-15'!GO33","v":0},{"$f":"Summer!BC33-'Summer Peak 2015-01-15'!GP33","v":0},{"$f":"Summer!BD33-'Summer Peak 2015-01-15'!GQ33","v":0},{"$f":"Summer!BE33-'Summer Peak 2015-01-15'!GR33","v":0},{"$f":"Summer!BF33-'Summer Peak 2015-01-15'!GS33","v":0},{"$f":"Summer!BG33-'Summer Peak 2015-01-15'!GT33","v":0},{"$f":"Summer!BH33-'Summer Peak 2015-01-15'!GU33","v":0},{"$f":"Summer!BI33-'Summer Peak 2015-01-15'!GV33","v":0},{"$f":"Summer!BJ33-'Summer Peak 2015-01-15'!GW33","v":0},{"$f":"Summer!BK33-'Summer Peak 2015-01-15'!GX33","v":0},{"$f":"Summer!BL33-'Summer Peak 2015-01-15'!GY33","v":0},{"$f":"Summer!BM33-'Summer Peak 2015-01-15'!GZ33","v":0},{"$f":"Summer!BN33-'Summer Peak 2015-01-15'!HA33","v":0},{"$f":"Summer!BO33-'Summer Peak 2015-01-15'!HB33","v":0},{"$f":"Summer!BP33-'Summer Peak 2015-01-15'!HC33","v":0},{"$f":"Summer!BQ33-'Summer Peak 2015-01-15'!HD33","v":0},{"$f":"Summer!BR33-'Summer Peak 2015-01-15'!HE33","v":0},{"$f":"Summer!BS33-'Summer Peak 2015-01-15'!HF33","v":0},{"$f":"Summer!BT33-'Summer Peak 2015-01-15'!HG33","v":0},{"$f":"Summer!BU33-'Summer Peak 2015-01-15'!HH33","v":0},{"$f":"Summer!BV33-'Summer Peak 2015-01-15'!HI33","v":0},{"$f":"Summer!BW33-'Summer Peak 2015-01-15'!HJ33","v":0},{"$f":"Summer!BX33-'Summer Peak 2015-01-15'!HK33","v":0},{"$f":"Summer!BY33-'Summer Peak 2015-01-15'!HL33","v":0},{"$f":"Summer!BZ33-'Summer Peak 2015-01-15'!HM33","v":0},{"$f":"Summer!CA33-'Summer Peak 2015-01-15'!HN33","v":0},{"$f":"Summer!CB33-'Summer Peak 2015-01-15'!HO33","v":0},{"$f":"Summer!CC33-'Summer Peak 2015-01-15'!HP33","v":0},{"$f":"Summer!CD33-'Summer Peak 2015-01-15'!HQ33","v":0},{"$f":"Summer!CE33-'Summer Peak 2015-01-15'!HR33","v":0},{"$f":"Summer!CF33-'Summer Peak 2015-01-15'!HS33","v":0},{"$f":"Summer!CG33-'Summer Peak 2015-01-15'!HT33","v":0},{"$f":"Summer!CH33-'Summer Peak 2015-01-15'!HU33","v":0},{"$f":"Summer!CI33-'Summer Peak 2015-01-15'!HV33","v":0},{"$f":"Summer!CJ33-'Summer Peak 2015-01-15'!HW33","v":0},{"$f":"Summer!CK33-'Summer Peak 2015-01-15'!HX33","v":0},{"$f":"Summer!CL33-'Summer Peak 2015-01-15'!HY33","v":0},{"$f":"Summer!CM33-'Summer Peak 2015-01-15'!HZ33","v":0},{"$f":"Summer!CN33-'Summer Peak 2015-01-15'!IA33","v":0},{"$f":"Summer!CO33-'Summer Peak 2015-01-15'!IB33","v":0},{"$f":"Summer!CP33-'Summer Peak 2015-01-15'!IC33","v":0},{"$f":"Summer!CQ33-'Summer Peak 2015-01-15'!ID33","v":0},{"$f":"Summer!CR33-'Summer Peak 2015-01-15'!IE33","v":0},{"$f":"Summer!CS33-'Summer Peak 2015-01-15'!IF33","v":0},{"$f":"Summer!CT33-'Summer Peak 2015-01-15'!IG33","v":0},{"$f":"Summer!CU33-'Summer Peak 2015-01-15'!IH33","v":0},{"$f":"Summer!CV33-'Summer Peak 2015-01-15'!II33","v":0},{"$f":"Summer!CW33-'Summer Peak 2015-01-15'!IJ33","v":0},{"$f":"Summer!CX33-'Summer Peak 2015-01-15'!IK33","v":0},{"$f":"Summer!CY33-'Summer Peak 2015-01-15'!IL33","v":0},{"$f":"Summer!CZ33-'Summer Peak 2015-01-15'!IM33","v":0},{"$f":"Summer!DA33-'Summer Peak 2015-01-15'!IN33","v":0},{"$f":"Summer!DB33-'Summer Peak 2015-01-15'!IO33","v":0},{"$f":"Summer!DC33-'Summer Peak 2015-01-15'!IP33","v":0},{"$f":"Summer!DD33-'Summer Peak 2015-01-15'!IQ33","v":0},{"$f":"Summer!DE33-'Summer Peak 2015-01-15'!IR33","v":0},{"$f":"Summer!DF33-'Summer Peak 2015-01-15'!IS33","v":0},{"$f":"Summer!DG33-'Summer Peak 2015-01-15'!IT33","v":0},{"$f":"Summer!DH33-'Summer Peak 2015-01-15'!IU33","v":0},{"$f":"Summer!DI33-'Summer Peak 2015-01-15'!IV33","v":0},{"$f":"Summer!DJ33-'Summer Peak 2015-01-15'!IW33","v":0},{"$f":"Summer!DK33-'Summer Peak 2015-01-15'!IX33","v":0},{"$f":"Summer!DL33-'Summer Peak 2015-01-15'!IY33","v":0},{"$f":"Summer!DM33-'Summer Peak 2015-01-15'!IZ33","v":0},{"$f":"Summer!DN33-'Summer Peak 2015-01-15'!JA33","v":0},{"$f":"Summer!DO33-'Summer Peak 2015-01-15'!JB33","v":0},{"$f":"Summer!DP33-'Summer Peak 2015-01-15'!JC33","v":0},{"$f":"Summer!DQ33-'Summer Peak 2015-01-15'!JD33","v":0},{"$f":"Summer!DR33-'Summer Peak 2015-01-15'!JE33","v":0},{"$f":"Summer!DS33-'Summer Peak 2015-01-15'!JF33","v":0}]
[null,"PPN1",{"$f":"Summer!C34-'Summer Peak 2015-01-15'!EP34","v":0},{"$f":"Summer!D34-'Summer Peak 2015-01-15'!EQ34","v":0},{"$f":"Summer!E34-'Summer Peak 2015-01-15'!ER34","v":0},{"$f":"Summer!F34-'Summer Peak 2015-01-15'!ES34","v":0},{"$f":"Summer!G34-'Summer Peak 2015-01-15'!ET34","v":0},{"$f":"Summer!H34-'Summer Peak 2015-01-15'!EU34","v":0},{"$f":"Summer!I34-'Summer Peak 2015-01-15'!EV34","v":0},{"$f":"Summer!J34-'Summer Peak 2015-01-15'!EW34","v":0},{"$f":"Summer!K34-'Summer Peak 2015-01-15'!EX34","v":0},{"$f":"Summer!L34-'Summer Peak 2015-01-15'!EY34","v":0},{"$f":"Summer!M34-'Summer Peak 2015-01-15'!EZ34","v":0},{"$f":"Summer!N34-'Summer Peak 2015-01-15'!FA34","v":0},{"$f":"Summer!O34-'Summer Peak 2015-01-15'!FB34","v":0},{"$f":"Summer!P34-'Summer Peak 2015-01-15'!FC34","v":0},{"$f":"Summer!Q34-'Summer Peak 2015-01-15'!FD34","v":0},{"$f":"Summer!R34-'Summer Peak 2015-01-15'!FE34","v":0},{"$f":"Summer!S34-'Summer Peak 2015-01-15'!FF34","v":0},{"$f":"Summer!T34-'Summer Peak 2015-01-15'!FG34","v":0},{"$f":"Summer!U34-'Summer Peak 2015-01-15'!FH34","v":0},{"$f":"Summer!V34-'Summer Peak 2015-01-15'!FI34","v":0},{"$f":"Summer!W34-'Summer Peak 2015-01-15'!FJ34","v":0},{"$f":"Summer!X34-'Summer Peak 2015-01-15'!FK34","v":0},{"$f":"Summer!Y34-'Summer Peak 2015-01-15'!FL34","v":0},{"$f":"Summer!Z34-'Summer Peak 2015-01-15'!FM34","v":0},{"$f":"Summer!AA34-'Summer Peak 2015-01-15'!FN34","v":0},{"$f":"Summer!AB34-'Summer Peak 2015-01-15'!FO34","v":0},{"$f":"Summer!AC34-'Summer Peak 2015-01-15'!FP34","v":0},{"$f":"Summer!AD34-'Summer Peak 2015-01-15'!FQ34","v":0},{"$f":"Summer!AE34-'Summer Peak 2015-01-15'!FR34","v":0},{"$f":"Summer!AF34-'Summer Peak 2015-01-15'!FS34","v":0},{"$f":"Summer!AG34-'Summer Peak 2015-01-15'!FT34","v":0},{"$f":"Summer!AH34-'Summer Peak 2015-01-15'!FU34","v":0},{"$f":"Summer!AI34-'Summer Peak 2015-01-15'!FV34","v":0},{"$f":"Summer!AJ34-'Summer Peak 2015-01-15'!FW34","v":0},{"$f":"Summer!AK34-'Summer Peak 2015-01-15'!FX34","v":0},{"$f":"Summer!AL34-'Summer Peak 2015-01-15'!FY34","v":0},{"$f":"Summer!AM34-'Summer Peak 2015-01-15'!FZ34","v":0},{"$f":"Summer!AN34-'Summer Peak 2015-01-15'!GA34","v":0},{"$f":"Summer!AO34-'Summer Peak 2015-01-15'!GB34","v":0},{"$f":"Summer!AP34-'Summer Peak 2015-01-15'!GC34","v":0},{"$f":"Summer!AQ34-'Summer Peak 2015-01-15'!GD34","v":0},{"$f":"Summer!AR34-'Summer Peak 2015-01-15'!GE34","v":0},{"$f":"Summer!AS34-'Summer Peak 2015-01-15'!GF34","v":0},{"$f":"Summer!AT34-'Summer Peak 2015-01-15'!GG34","v":0},{"$f":"Summer!AU34-'Summer Peak 2015-01-15'!GH34","v":0},{"$f":"Summer!AV34-'Summer Peak 2015-01-15'!GI34","v":0},{"$f":"Summer!AW34-'Summer Peak 2015-01-15'!GJ34","v":0},{"$f":"Summer!AX34-'Summer Peak 2015-01-15'!GK34","v":0},{"$f":"Summer!AY34-'Summer Peak 2015-01-15'!GL34","v":0},{"$f":"Summer!AZ34-'Summer Peak 2015-01-15'!GM34","v":0},{"$f":"Summer!BA34-'Summer Peak 2015-01-15'!GN34","v":0},{"$f":"Summer!BB34-'Summer Peak 2015-01-15'!GO34","v":0},{"$f":"Summer!BC34-'Summer Peak 2015-01-15'!GP34","v":0},{"$f":"Summer!BD34-'Summer Peak 2015-01-15'!GQ34","v":0},{"$f":"Summer!BE34-'Summer Peak 2015-01-15'!GR34","v":0},{"$f":"Summer!BF34-'Summer Peak 2015-01-15'!GS34","v":0},{"$f":"Summer!BG34-'Summer Peak 2015-01-15'!GT34","v":0},{"$f":"Summer!BH34-'Summer Peak 2015-01-15'!GU34","v":0},{"$f":"Summer!BI34-'Summer Peak 2015-01-15'!GV34","v":0},{"$f":"Summer!BJ34-'Summer Peak 2015-01-15'!GW34","v":0},{"$f":"Summer!BK34-'Summer Peak 2015-01-15'!GX34","v":0},{"$f":"Summer!BL34-'Summer Peak 2015-01-15'!GY34","v":0},{"$f":"Summer!BM34-'Summer Peak 2015-01-15'!GZ34","v":0},{"$f":"Summer!BN34-'Summer Peak 2015-01-15'!HA34","v":0},{"$f":"Summer!BO34-'Summer Peak 2015-01-15'!HB34","v":0},{"$f":"Summer!BP34-'Summer Peak 2015-01-15'!HC34","v":0},{"$f":"Summer!BQ34-'Summer Peak 2015-01-15'!HD34","v":0},{"$f":"Summer!BR34-'Summer Peak 2015-01-15'!HE34","v":0},{"$f":"Summer!BS34-'Summer Peak 2015-01-15'!HF34","v":0},{"$f":"Summer!BT34-'Summer Peak 2015-01-15'!HG34","v":0},{"$f":"Summer!BU34-'Summer Peak 2015-01-15'!HH34","v":0},{"$f":"Summer!BV34-'Summer Peak 2015-01-15'!HI34","v":0},{"$f":"Summer!BW34-'Summer Peak 2015-01-15'!HJ34","v":0},{"$f":"Summer!BX34-'Summer Peak 2015-01-15'!HK34","v":0},{"$f":"Summer!BY34-'Summer Peak 2015-01-15'!HL34","v":0},{"$f":"Summer!BZ34-'Summer Peak 2015-01-15'!HM34","v":0},{"$f":"Summer!CA34-'Summer Peak 2015-01-15'!HN34","v":0},{"$f":"Summer!CB34-'Summer Peak 2015-01-15'!HO34","v":0},{"$f":"Summer!CC34-'Summer Peak 2015-01-15'!HP34","v":0},{"$f":"Summer!CD34-'Summer Peak 2015-01-15'!HQ34","v":0},{"$f":"Summer!CE34-'Summer Peak 2015-01-15'!HR34","v":0},{"$f":"Summer!CF34-'Summer Peak 2015-01-15'!HS34","v":0},{"$f":"Summer!CG34-'Summer Peak 2015-01-15'!HT34","v":0},{"$f":"Summer!CH34-'Summer Peak 2015-01-15'!HU34","v":0},{"$f":"Summer!CI34-'Summer Peak 2015-01-15'!HV34","v":0},{"$f":"Summer!CJ34-'Summer Peak 2015-01-15'!HW34","v":0},{"$f":"Summer!CK34-'Summer Peak 2015-01-15'!HX34","v":0},{"$f":"Summer!CL34-'Summer Peak 2015-01-15'!HY34","v":0},{"$f":"Summer!CM34-'Summer Peak 2015-01-15'!HZ34","v":0},{"$f":"Summer!CN34-'Summer Peak 2015-01-15'!IA34","v":0},{"$f":"Summer!CO34-'Summer Peak 2015-01-15'!IB34","v":0},{"$f":"Summer!CP34-'Summer Peak 2015-01-15'!IC34","v":0},{"$f":"Summer!CQ34-'Summer Peak 2015-01-15'!ID34","v":0},{"$f":"Summer!CR34-'Summer Peak 2015-01-15'!IE34","v":0},{"$f":"Summer!CS34-'Summer Peak 2015-01-15'!IF34","v":0},{"$f":"Summer!CT34-'Summer Peak 2015-01-15'!IG34","v":0},{"$f":"Summer!CU34-'Summer Peak 2015-01-15'!IH34","v":0},{"$f":"Summer!CV34-'Summer Peak 2015-01-15'!II34","v":0},{"$f":"Summer!CW34-'Summer Peak 2015-01-15'!IJ34","v":0},{"$f":"Summer!CX34-'Summer Peak 2015-01-15'!IK34","v":0},{"$f":"Summer!CY34-'Summer Peak 2015-01-15'!IL34","v":0},{"$f":"Summer!CZ34-'Summer Peak 2015-01-15'!IM34","v":0},{"$f":"Summer!DA34-'Summer Peak 2015-01-15'!IN34","v":0},{"$f":"Summer!DB34-'Summer Peak 2015-01-15'!IO34","v":0},{"$f":"Summer!DC34-'Summer Peak 2015-01-15'!IP34","v":0},{"$f":"Summer!DD34-'Summer Peak 2015-01-15'!IQ34","v":0},{"$f":"Summer!DE34-'Summer Peak 2015-01-15'!IR34","v":0},{"$f":"Summer!DF34-'Summer Peak 2015-01-15'!IS34","v":0},{"$f":"Summer!DG34-'Summer Peak 2015-01-15'!IT34","v":0},{"$f":"Summer!DH34-'Summer Peak 2015-01-15'!IU34","v":0},{"$f":"Summer!DI34-'Summer Peak 2015-01-15'!IV34","v":0},{"$f":"Summer!DJ34-'Summer Peak 2015-01-15'!IW34","v":0},{"$f":"Summer!DK34-'Summer Peak 2015-01-15'!IX34","v":0},{"$f":"Summer!DL34-'Summer Peak 2015-01-15'!IY34","v":0},{"$f":"Summer!DM34-'Summer Peak 2015-01-15'!IZ34","v":0},{"$f":"Summer!DN34-'Summer Peak 2015-01-15'!JA34","v":0},{"$f":"Summer!DO34-'Summer Peak 2015-01-15'!JB34","v":0},{"$f":"Summer!DP34-'Summer Peak 2015-01-15'!JC34","v":0},{"$f":"Summer!DQ34-'Summer Peak 2015-01-15'!JD34","v":0},{"$f":"Summer!DR34-'Summer Peak 2015-01-15'!JE34","v":0},{"$f":"Summer!DS34-'Summer Peak 2015-01-15'!JF34","v":0}]
[null,"PPN2",{"$f":"Summer!C35-'Summer Peak 2015-01-15'!EP35","v":0},{"$f":"Summer!D35-'Summer Peak 2015-01-15'!EQ35","v":0},{"$f":"Summer!E35-'Summer Peak 2015-01-15'!ER35","v":0},{"$f":"Summer!F35-'Summer Peak 2015-01-15'!ES35","v":0},{"$f":"Summer!G35-'Summer Peak 2015-01-15'!ET35","v":0},{"$f":"Summer!H35-'Summer Peak 2015-01-15'!EU35","v":0},{"$f":"Summer!I35-'Summer Peak 2015-01-15'!EV35","v":0},{"$f":"Summer!J35-'Summer Peak 2015-01-15'!EW35","v":0},{"$f":"Summer!K35-'Summer Peak 2015-01-15'!EX35","v":0},{"$f":"Summer!L35-'Summer Peak 2015-01-15'!EY35","v":0},{"$f":"Summer!M35-'Summer Peak 2015-01-15'!EZ35","v":0},{"$f":"Summer!N35-'Summer Peak 2015-01-15'!FA35","v":0},{"$f":"Summer!O35-'Summer Peak 2015-01-15'!FB35","v":0},{"$f":"Summer!P35-'Summer Peak 2015-01-15'!FC35","v":0},{"$f":"Summer!Q35-'Summer Peak 2015-01-15'!FD35","v":0},{"$f":"Summer!R35-'Summer Peak 2015-01-15'!FE35","v":0},{"$f":"Summer!S35-'Summer Peak 2015-01-15'!FF35","v":0},{"$f":"Summer!T35-'Summer Peak 2015-01-15'!FG35","v":0},{"$f":"Summer!U35-'Summer Peak 2015-01-15'!FH35","v":0},{"$f":"Summer!V35-'Summer Peak 2015-01-15'!FI35","v":0},{"$f":"Summer!W35-'Summer Peak 2015-01-15'!FJ35","v":0},{"$f":"Summer!X35-'Summer Peak 2015-01-15'!FK35","v":0},{"$f":"Summer!Y35-'Summer Peak 2015-01-15'!FL35","v":0},{"$f":"Summer!Z35-'Summer Peak 2015-01-15'!FM35","v":0},{"$f":"Summer!AA35-'Summer Peak 2015-01-15'!FN35","v":0},{"$f":"Summer!AB35-'Summer Peak 2015-01-15'!FO35","v":0},{"$f":"Summer!AC35-'Summer Peak 2015-01-15'!FP35","v":0},{"$f":"Summer!AD35-'Summer Peak 2015-01-15'!FQ35","v":0},{"$f":"Summer!AE35-'Summer Peak 2015-01-15'!FR35","v":0},{"$f":"Summer!AF35-'Summer Peak 2015-01-15'!FS35","v":0},{"$f":"Summer!AG35-'Summer Peak 2015-01-15'!FT35","v":0},{"$f":"Summer!AH35-'Summer Peak 2015-01-15'!FU35","v":0},{"$f":"Summer!AI35-'Summer Peak 2015-01-15'!FV35","v":0},{"$f":"Summer!AJ35-'Summer Peak 2015-01-15'!FW35","v":0},{"$f":"Summer!AK35-'Summer Peak 2015-01-15'!FX35","v":0},{"$f":"Summer!AL35-'Summer Peak 2015-01-15'!FY35","v":0},{"$f":"Summer!AM35-'Summer Peak 2015-01-15'!FZ35","v":0},{"$f":"Summer!AN35-'Summer Peak 2015-01-15'!GA35","v":0},{"$f":"Summer!AO35-'Summer Peak 2015-01-15'!GB35","v":0},{"$f":"Summer!AP35-'Summer Peak 2015-01-15'!GC35","v":0},{"$f":"Summer!AQ35-'Summer Peak 2015-01-15'!GD35","v":0},{"$f":"Summer!AR35-'Summer Peak 2015-01-15'!GE35","v":0},{"$f":"Summer!AS35-'Summer Peak 2015-01-15'!GF35","v":0},{"$f":"Summer!AT35-'Summer Peak 2015-01-15'!GG35","v":0},{"$f":"Summer!AU35-'Summer Peak 2015-01-15'!GH35","v":0},{"$f":"Summer!AV35-'Summer Peak 2015-01-15'!GI35","v":0},{"$f":"Summer!AW35-'Summer Peak 2015-01-15'!GJ35","v":0},{"$f":"Summer!AX35-'Summer Peak 2015-01-15'!GK35","v":0},{"$f":"Summer!AY35-'Summer Peak 2015-01-15'!GL35","v":0},{"$f":"Summer!AZ35-'Summer Peak 2015-01-15'!GM35","v":0},{"$f":"Summer!BA35-'Summer Peak 2015-01-15'!GN35","v":0},{"$f":"Summer!BB35-'Summer Peak 2015-01-15'!GO35","v":0},{"$f":"Summer!BC35-'Summer Peak 2015-01-15'!GP35","v":0},{"$f":"Summer!BD35-'Summer Peak 2015-01-15'!GQ35","v":0},{"$f":"Summer!BE35-'Summer Peak 2015-01-15'!GR35","v":0},{"$f":"Summer!BF35-'Summer Peak 2015-01-15'!GS35","v":0},{"$f":"Summer!BG35-'Summer Peak 2015-01-15'!GT35","v":0},{"$f":"Summer!BH35-'Summer Peak 2015-01-15'!GU35","v":0},{"$f":"Summer!BI35-'Summer Peak 2015-01-15'!GV35","v":0},{"$f":"Summer!BJ35-'Summer Peak 2015-01-15'!GW35","v":0},{"$f":"Summer!BK35-'Summer Peak 2015-01-15'!GX35","v":0},{"$f":"Summer!BL35-'Summer Peak 2015-01-15'!GY35","v":0},{"$f":"Summer!BM35-'Summer Peak 2015-01-15'!GZ35","v":0},{"$f":"Summer!BN35-'Summer Peak 2015-01-15'!HA35","v":0},{"$f":"Summer!BO35-'Summer Peak 2015-01-15'!HB35","v":0},{"$f":"Summer!BP35-'Summer Peak 2015-01-15'!HC35","v":0},{"$f":"Summer!BQ35-'Summer Peak 2015-01-15'!HD35","v":0},{"$f":"Summer!BR35-'Summer Peak 2015-01-15'!HE35","v":0},{"$f":"Summer!BS35-'Summer Peak 2015-01-15'!HF35","v":0},{"$f":"Summer!BT35-'Summer Peak 2015-01-15'!HG35","v":0},{"$f":"Summer!BU35-'Summer Peak 2015-01-15'!HH35","v":0},{"$f":"Summer!BV35-'Summer Peak 2015-01-15'!HI35","v":0},{"$f":"Summer!BW35-'Summer Peak 2015-01-15'!HJ35","v":0},{"$f":"Summer!BX35-'Summer Peak 2015-01-15'!HK35","v":0},{"$f":"Summer!BY35-'Summer Peak 2015-01-15'!HL35","v":0},{"$f":"Summer!BZ35-'Summer Peak 2015-01-15'!HM35","v":0},{"$f":"Summer!CA35-'Summer Peak 2015-01-15'!HN35","v":0},{"$f":"Summer!CB35-'Summer Peak 2015-01-15'!HO35","v":0},{"$f":"Summer!CC35-'Summer Peak 2015-01-15'!HP35","v":0},{"$f":"Summer!CD35-'Summer Peak 2015-01-15'!HQ35","v":0},{"$f":"Summer!CE35-'Summer Peak 2015-01-15'!HR35","v":0},{"$f":"Summer!CF35-'Summer Peak 2015-01-15'!HS35","v":0},{"$f":"Summer!CG35-'Summer Peak 2015-01-15'!HT35","v":0},{"$f":"Summer!CH35-'Summer Peak 2015-01-15'!HU35","v":0},{"$f":"Summer!CI35-'Summer Peak 2015-01-15'!HV35","v":0},{"$f":"Summer!CJ35-'Summer Peak 2015-01-15'!HW35","v":0},{"$f":"Summer!CK35-'Summer Peak 2015-01-15'!HX35","v":0},{"$f":"Summer!CL35-'Summer Peak 2015-01-15'!HY35","v":0},{"$f":"Summer!CM35-'Summer Peak 2015-01-15'!HZ35","v":0},{"$f":"Summer!CN35-'Summer Peak 2015-01-15'!IA35","v":0},{"$f":"Summer!CO35-'Summer Peak 2015-01-15'!IB35","v":0},{"$f":"Summer!CP35-'Summer Peak 2015-01-15'!IC35","v":0},{"$f":"Summer!CQ35-'Summer Peak 2015-01-15'!ID35","v":0},{"$f":"Summer!CR35-'Summer Peak 2015-01-15'!IE35","v":0},{"$f":"Summer!CS35-'Summer Peak 2015-01-15'!IF35","v":0},{"$f":"Summer!CT35-'Summer Peak 2015-01-15'!IG35","v":0},{"$f":"Summer!CU35-'Summer Peak 2015-01-15'!IH35","v":0},{"$f":"Summer!CV35-'Summer Peak 2015-01-15'!II35","v":0},{"$f":"Summer!CW35-'Summer Peak 2015-01-15'!IJ35","v":0},{"$f":"Summer!CX35-'Summer Peak 2015-01-15'!IK35","v":0},{"$f":"Summer!CY35-'Summer Peak 2015-01-15'!IL35","v":0},{"$f":"Summer!CZ35-'Summer Peak 2015-01-15'!IM35","v":0},{"$f":"Summer!DA35-'Summer Peak 2015-01-15'!IN35","v":0},{"$f":"Summer!DB35-'Summer Peak 2015-01-15'!IO35","v":0},{"$f":"Summer!DC35-'Summer Peak 2015-01-15'!IP35","v":0},{"$f":"Summer!DD35-'Summer Peak 2015-01-15'!IQ35","v":0},{"$f":"Summer!DE35-'Summer Peak 2015-01-15'!IR35","v":0},{"$f":"Summer!DF35-'Summer Peak 2015-01-15'!IS35","v":0},{"$f":"Summer!DG35-'Summer Peak 2015-01-15'!IT35","v":0},{"$f":"Summer!DH35-'Summer Peak 2015-01-15'!IU35","v":0},{"$f":"Summer!DI35-'Summer Peak 2015-01-15'!IV35","v":0},{"$f":"Summer!DJ35-'Summer Peak 2015-01-15'!IW35","v":0},{"$f":"Summer!DK35-'Summer Peak 2015-01-15'!IX35","v":0},{"$f":"Summer!DL35-'Summer Peak 2015-01-15'!IY35","v":0},{"$f":"Summer!DM35-'Summer Peak 2015-01-15'!IZ35","v":0},{"$f":"Summer!DN35-'Summer Peak 2015-01-15'!JA35","v":0},{"$f":"Summer!DO35-'Summer Peak 2015-01-15'!JB35","v":0},{"$f":"Summer!DP35-'Summer Peak 2015-01-15'!JC35","v":0},{"$f":"Summer!DQ35-'Summer Peak 2015-01-15'!JD35","v":0},{"$f":"Summer!DR35-'Summer Peak 2015-01-15'!JE35","v":0},{"$f":"Summer!DS35-'Summer Peak 2015-01-15'!JF35","v":0}]
[null,"PRV3",{"$f":"Summer!C36-'Summer Peak 2015-01-15'!EP36","v":0},{"$f":"Summer!D36-'Summer Peak 2015-01-15'!EQ36","v":0},{"$f":"Summer!E36-'Summer Peak 2015-01-15'!ER36","v":0},{"$f":"Summer!F36-'Summer Peak 2015-01-15'!ES36","v":0},{"$f":"Summer!G36-'Summer Peak 2015-01-15'!ET36","v":0},{"$f":"Summer!H36-'Summer Peak 2015-01-15'!EU36","v":0},{"$f":"Summer!I36-'Summer Peak 2015-01-15'!EV36","v":0},{"$f":"Summer!J36-'Summer Peak 2015-01-15'!EW36","v":0},{"$f":"Summer!K36-'Summer Peak 2015-01-15'!EX36","v":0},{"$f":"Summer!L36-'Summer Peak 2015-01-15'!EY36","v":0},{"$f":"Summer!M36-'Summer Peak 2015-01-15'!EZ36","v":0},{"$f":"Summer!N36-'Summer Peak 2015-01-15'!FA36","v":0},{"$f":"Summer!O36-'Summer Peak 2015-01-15'!FB36","v":0},{"$f":"Summer!P36-'Summer Peak 2015-01-15'!FC36","v":0},{"$f":"Summer!Q36-'Summer Peak 2015-01-15'!FD36","v":0},{"$f":"Summer!R36-'Summer Peak 2015-01-15'!FE36","v":0},{"$f":"Summer!S36-'Summer Peak 2015-01-15'!FF36","v":0},{"$f":"Summer!T36-'Summer Peak 2015-01-15'!FG36","v":0},{"$f":"Summer!U36-'Summer Peak 2015-01-15'!FH36","v":0},{"$f":"Summer!V36-'Summer Peak 2015-01-15'!FI36","v":0},{"$f":"Summer!W36-'Summer Peak 2015-01-15'!FJ36","v":0},{"$f":"Summer!X36-'Summer Peak 2015-01-15'!FK36","v":0},{"$f":"Summer!Y36-'Summer Peak 2015-01-15'!FL36","v":0},{"$f":"Summer!Z36-'Summer Peak 2015-01-15'!FM36","v":0},{"$f":"Summer!AA36-'Summer Peak 2015-01-15'!FN36","v":0},{"$f":"Summer!AB36-'Summer Peak 2015-01-15'!FO36","v":0},{"$f":"Summer!AC36-'Summer Peak 2015-01-15'!FP36","v":0},{"$f":"Summer!AD36-'Summer Peak 2015-01-15'!FQ36","v":0},{"$f":"Summer!AE36-'Summer Peak 2015-01-15'!FR36","v":0},{"$f":"Summer!AF36-'Summer Peak 2015-01-15'!FS36","v":0},{"$f":"Summer!AG36-'Summer Peak 2015-01-15'!FT36","v":0},{"$f":"Summer!AH36-'Summer Peak 2015-01-15'!FU36","v":0},{"$f":"Summer!AI36-'Summer Peak 2015-01-15'!FV36","v":0},{"$f":"Summer!AJ36-'Summer Peak 2015-01-15'!FW36","v":0},{"$f":"Summer!AK36-'Summer Peak 2015-01-15'!FX36","v":0},{"$f":"Summer!AL36-'Summer Peak 2015-01-15'!FY36","v":0},{"$f":"Summer!AM36-'Summer Peak 2015-01-15'!FZ36","v":0},{"$f":"Summer!AN36-'Summer Peak 2015-01-15'!GA36","v":0},{"$f":"Summer!AO36-'Summer Peak 2015-01-15'!GB36","v":0},{"$f":"Summer!AP36-'Summer Peak 2015-01-15'!GC36","v":0},{"$f":"Summer!AQ36-'Summer Peak 2015-01-15'!GD36","v":0},{"$f":"Summer!AR36-'Summer Peak 2015-01-15'!GE36","v":0},{"$f":"Summer!AS36-'Summer Peak 2015-01-15'!GF36","v":0},{"$f":"Summer!AT36-'Summer Peak 2015-01-15'!GG36","v":0},{"$f":"Summer!AU36-'Summer Peak 2015-01-15'!GH36","v":0},{"$f":"Summer!AV36-'Summer Peak 2015-01-15'!GI36","v":0},{"$f":"Summer!AW36-'Summer Peak 2015-01-15'!GJ36","v":0},{"$f":"Summer!AX36-'Summer Peak 2015-01-15'!GK36","v":0},{"$f":"Summer!AY36-'Summer Peak 2015-01-15'!GL36","v":0},{"$f":"Summer!AZ36-'Summer Peak 2015-01-15'!GM36","v":0},{"$f":"Summer!BA36-'Summer Peak 2015-01-15'!GN36","v":0},{"$f":"Summer!BB36-'Summer Peak 2015-01-15'!GO36","v":0},{"$f":"Summer!BC36-'Summer Peak 2015-01-15'!GP36","v":0},{"$f":"Summer!BD36-'Summer Peak 2015-01-15'!GQ36","v":0},{"$f":"Summer!BE36-'Summer Peak 2015-01-15'!GR36","v":0},{"$f":"Summer!BF36-'Summer Peak 2015-01-15'!GS36","v":0},{"$f":"Summer!BG36-'Summer Peak 2015-01-15'!GT36","v":0},{"$f":"Summer!BH36-'Summer Peak 2015-01-15'!GU36","v":0},{"$f":"Summer!BI36-'Summer Peak 2015-01-15'!GV36","v":0},{"$f":"Summer!BJ36-'Summer Peak 2015-01-15'!GW36","v":0},{"$f":"Summer!BK36-'Summer Peak 2015-01-15'!GX36","v":0},{"$f":"Summer!BL36-'Summer Peak 2015-01-15'!GY36","v":0},{"$f":"Summer!BM36-'Summer Peak 2015-01-15'!GZ36","v":0},{"$f":"Summer!BN36-'Summer Peak 2015-01-15'!HA36","v":0},{"$f":"Summer!BO36-'Summer Peak 2015-01-15'!HB36","v":0},{"$f":"Summer!BP36-'Summer Peak 2015-01-15'!HC36","v":0},{"$f":"Summer!BQ36-'Summer Peak 2015-01-15'!HD36","v":0},{"$f":"Summer!BR36-'Summer Peak 2015-01-15'!HE36","v":0},{"$f":"Summer!BS36-'Summer Peak 2015-01-15'!HF36","v":0},{"$f":"Summer!BT36-'Summer Peak 2015-01-15'!HG36","v":0},{"$f":"Summer!BU36-'Summer Peak 2015-01-15'!HH36","v":0},{"$f":"Summer!BV36-'Summer Peak 2015-01-15'!HI36","v":0},{"$f":"Summer!BW36-'Summer Peak 2015-01-15'!HJ36","v":0},{"$f":"Summer!BX36-'Summer Peak 2015-01-15'!HK36","v":0},{"$f":"Summer!BY36-'Summer Peak 2015-01-15'!HL36","v":0},{"$f":"Summer!BZ36-'Summer Peak 2015-01-15'!HM36","v":0},{"$f":"Summer!CA36-'Summer Peak 2015-01-15'!HN36","v":0},{"$f":"Summer!CB36-'Summer Peak 2015-01-15'!HO36","v":0},{"$f":"Summer!CC36-'Summer Peak 2015-01-15'!HP36","v":0},{"$f":"Summer!CD36-'Summer Peak 2015-01-15'!HQ36","v":0},{"$f":"Summer!CE36-'Summer Peak 2015-01-15'!HR36","v":0},{"$f":"Summer!CF36-'Summer Peak 2015-01-15'!HS36","v":0},{"$f":"Summer!CG36-'Summer Peak 2015-01-15'!HT36","v":0},{"$f":"Summer!CH36-'Summer Peak 2015-01-15'!HU36","v":0},{"$f":"Summer!CI36-'Summer Peak 2015-01-15'!HV36","v":0},{"$f":"Summer!CJ36-'Summer Peak 2015-01-15'!HW36","v":0},{"$f":"Summer!CK36-'Summer Peak 2015-01-15'!HX36","v":0},{"$f":"Summer!CL36-'Summer Peak 2015-01-15'!HY36","v":0},{"$f":"Summer!CM36-'Summer Peak 2015-01-15'!HZ36","v":0},{"$f":"Summer!CN36-'Summer Peak 2015-01-15'!IA36","v":0},{"$f":"Summer!CO36-'Summer Peak 2015-01-15'!IB36","v":0},{"$f":"Summer!CP36-'Summer Peak 2015-01-15'!IC36","v":0},{"$f":"Summer!CQ36-'Summer Peak 2015-01-15'!ID36","v":0},{"$f":"Summer!CR36-'Summer Peak 2015-01-15'!IE36","v":0},{"$f":"Summer!CS36-'Summer Peak 2015-01-15'!IF36","v":0},{"$f":"Summer!CT36-'Summer Peak 2015-01-15'!IG36","v":0},{"$f":"Summer!CU36-'Summer Peak 2015-01-15'!IH36","v":0},{"$f":"Summer!CV36-'Summer Peak 2015-01-15'!II36","v":0},{"$f":"Summer!CW36-'Summer Peak 2015-01-15'!IJ36","v":0},{"$f":"Summer!CX36-'Summer Peak 2015-01-15'!IK36","v":0},{"$f":"Summer!CY36-'Summer Peak 2015-01-15'!IL36","v":0},{"$f":"Summer!CZ36-'Summer Peak 2015-01-15'!IM36","v":0},{"$f":"Summer!DA36-'Summer Peak 2015-01-15'!IN36","v":0},{"$f":"Summer!DB36-'Summer Peak 2015-01-15'!IO36","v":0},{"$f":"Summer!DC36-'Summer Peak 2015-01-15'!IP36","v":0},{"$f":"Summer!DD36-'Summer Peak 2015-01-15'!IQ36","v":0},{"$f":"Summer!DE36-'Summer Peak 2015-01-15'!IR36","v":0},{"$f":"Summer!DF36-'Summer Peak 2015-01-15'!IS36","v":0},{"$f":"Summer!DG36-'Summer Peak 2015-01-15'!IT36","v":0},{"$f":"Summer!DH36-'Summer Peak 2015-01-15'!IU36","v":0},{"$f":"Summer!DI36-'Summer Peak 2015-01-15'!IV36","v":0},{"$f":"Summer!DJ36-'Summer Peak 2015-01-15'!IW36","v":0},{"$f":"Summer!DK36-'Summer Peak 2015-01-15'!IX36","v":0},{"$f":"Summer!DL36-'Summer Peak 2015-01-15'!IY36","v":0},{"$f":"Summer!DM36-'Summer Peak 2015-01-15'!IZ36","v":0},{"$f":"Summer!DN36-'Summer Peak 2015-01-15'!JA36","v":0},{"$f":"Summer!DO36-'Summer Peak 2015-01-15'!JB36","v":0},{"$f":"Summer!DP36-'Summer Peak 2015-01-15'!JC36","v":0},{"$f":"Summer!DQ36-'Summer Peak 2015-01-15'!JD36","v":0},{"$f":"Summer!DR36-'Summer Peak 2015-01-15'!JE36","v":0},{"$f":"Summer!DS36-'Summer Peak 2015-01-15'!JF36","v":0}]
[null,"PRV4",{"$f":"Summer!C37-'Summer Peak 2015-01-15'!EP37","v":0},{"$f":"Summer!D37-'Summer Peak 2015-01-15'!EQ37","v":0},{"$f":"Summer!E37-'Summer Peak 2015-01-15'!ER37","v":0},{"$f":"Summer!F37-'Summer Peak 2015-01-15'!ES37","v":0},{"$f":"Summer!G37-'Summer Peak 2015-01-15'!ET37","v":0},{"$f":"Summer!H37-'Summer Peak 2015-01-15'!EU37","v":0},{"$f":"Summer!I37-'Summer Peak 2015-01-15'!EV37","v":0},{"$f":"Summer!J37-'Summer Peak 2015-01-15'!EW37","v":0},{"$f":"Summer!K37-'Summer Peak 2015-01-15'!EX37","v":0},{"$f":"Summer!L37-'Summer Peak 2015-01-15'!EY37","v":0},{"$f":"Summer!M37-'Summer Peak 2015-01-15'!EZ37","v":0},{"$f":"Summer!N37-'Summer Peak 2015-01-15'!FA37","v":0},{"$f":"Summer!O37-'Summer Peak 2015-01-15'!FB37","v":0},{"$f":"Summer!P37-'Summer Peak 2015-01-15'!FC37","v":0},{"$f":"Summer!Q37-'Summer Peak 2015-01-15'!FD37","v":0},{"$f":"Summer!R37-'Summer Peak 2015-01-15'!FE37","v":0},{"$f":"Summer!S37-'Summer Peak 2015-01-15'!FF37","v":0},{"$f":"Summer!T37-'Summer Peak 2015-01-15'!FG37","v":0},{"$f":"Summer!U37-'Summer Peak 2015-01-15'!FH37","v":0},{"$f":"Summer!V37-'Summer Peak 2015-01-15'!FI37","v":0},{"$f":"Summer!W37-'Summer Peak 2015-01-15'!FJ37","v":0},{"$f":"Summer!X37-'Summer Peak 2015-01-15'!FK37","v":0},{"$f":"Summer!Y37-'Summer Peak 2015-01-15'!FL37","v":0},{"$f":"Summer!Z37-'Summer Peak 2015-01-15'!FM37","v":0},{"$f":"Summer!AA37-'Summer Peak 2015-01-15'!FN37","v":0},{"$f":"Summer!AB37-'Summer Peak 2015-01-15'!FO37","v":0},{"$f":"Summer!AC37-'Summer Peak 2015-01-15'!FP37","v":0},{"$f":"Summer!AD37-'Summer Peak 2015-01-15'!FQ37","v":0},{"$f":"Summer!AE37-'Summer Peak 2015-01-15'!FR37","v":0},{"$f":"Summer!AF37-'Summer Peak 2015-01-15'!FS37","v":0},{"$f":"Summer!AG37-'Summer Peak 2015-01-15'!FT37","v":0},{"$f":"Summer!AH37-'Summer Peak 2015-01-15'!FU37","v":0},{"$f":"Summer!AI37-'Summer Peak 2015-01-15'!FV37","v":0},{"$f":"Summer!AJ37-'Summer Peak 2015-01-15'!FW37","v":0},{"$f":"Summer!AK37-'Summer Peak 2015-01-15'!FX37","v":0},{"$f":"Summer!AL37-'Summer Peak 2015-01-15'!FY37","v":0},{"$f":"Summer!AM37-'Summer Peak 2015-01-15'!FZ37","v":0},{"$f":"Summer!AN37-'Summer Peak 2015-01-15'!GA37","v":0},{"$f":"Summer!AO37-'Summer Peak 2015-01-15'!GB37","v":0},{"$f":"Summer!AP37-'Summer Peak 2015-01-15'!GC37","v":0},{"$f":"Summer!AQ37-'Summer Peak 2015-01-15'!GD37","v":0},{"$f":"Summer!AR37-'Summer Peak 2015-01-15'!GE37","v":0},{"$f":"Summer!AS37-'Summer Peak 2015-01-15'!GF37","v":0},{"$f":"Summer!AT37-'Summer Peak 2015-01-15'!GG37","v":0},{"$f":"Summer!AU37-'Summer Peak 2015-01-15'!GH37","v":0},{"$f":"Summer!AV37-'Summer Peak 2015-01-15'!GI37","v":0},{"$f":"Summer!AW37-'Summer Peak 2015-01-15'!GJ37","v":0},{"$f":"Summer!AX37-'Summer Peak 2015-01-15'!GK37","v":0},{"$f":"Summer!AY37-'Summer Peak 2015-01-15'!GL37","v":0},{"$f":"Summer!AZ37-'Summer Peak 2015-01-15'!GM37","v":0},{"$f":"Summer!BA37-'Summer Peak 2015-01-15'!GN37","v":0},{"$f":"Summer!BB37-'Summer Peak 2015-01-15'!GO37","v":0},{"$f":"Summer!BC37-'Summer Peak 2015-01-15'!GP37","v":0},{"$f":"Summer!BD37-'Summer Peak 2015-01-15'!GQ37","v":0},{"$f":"Summer!BE37-'Summer Peak 2015-01-15'!GR37","v":0},{"$f":"Summer!BF37-'Summer Peak 2015-01-15'!GS37","v":0},{"$f":"Summer!BG37-'Summer Peak 2015-01-15'!GT37","v":0},{"$f":"Summer!BH37-'Summer Peak 2015-01-15'!GU37","v":0},{"$f":"Summer!BI37-'Summer Peak 2015-01-15'!GV37","v":0},{"$f":"Summer!BJ37-'Summer Peak 2015-01-15'!GW37","v":0},{"$f":"Summer!BK37-'Summer Peak 2015-01-15'!GX37","v":0},{"$f":"Summer!BL37-'Summer Peak 2015-01-15'!GY37","v":0},{"$f":"Summer!BM37-'Summer Peak 2015-01-15'!GZ37","v":0},{"$f":"Summer!BN37-'Summer Peak 2015-01-15'!HA37","v":0},{"$f":"Summer!BO37-'Summer Peak 2015-01-15'!HB37","v":0},{"$f":"Summer!BP37-'Summer Peak 2015-01-15'!HC37","v":0},{"$f":"Summer!BQ37-'Summer Peak 2015-01-15'!HD37","v":0},{"$f":"Summer!BR37-'Summer Peak 2015-01-15'!HE37","v":0},{"$f":"Summer!BS37-'Summer Peak 2015-01-15'!HF37","v":0},{"$f":"Summer!BT37-'Summer Peak 2015-01-15'!HG37","v":0},{"$f":"Summer!BU37-'Summer Peak 2015-01-15'!HH37","v":0},{"$f":"Summer!BV37-'Summer Peak 2015-01-15'!HI37","v":0},{"$f":"Summer!BW37-'Summer Peak 2015-01-15'!HJ37","v":0},{"$f":"Summer!BX37-'Summer Peak 2015-01-15'!HK37","v":0},{"$f":"Summer!BY37-'Summer Peak 2015-01-15'!HL37","v":0},{"$f":"Summer!BZ37-'Summer Peak 2015-01-15'!HM37","v":0},{"$f":"Summer!CA37-'Summer Peak 2015-01-15'!HN37","v":0},{"$f":"Summer!CB37-'Summer Peak 2015-01-15'!HO37","v":0},{"$f":"Summer!CC37-'Summer Peak 2015-01-15'!HP37","v":0},{"$f":"Summer!CD37-'Summer Peak 2015-01-15'!HQ37","v":0},{"$f":"Summer!CE37-'Summer Peak 2015-01-15'!HR37","v":0},{"$f":"Summer!CF37-'Summer Peak 2015-01-15'!HS37","v":0},{"$f":"Summer!CG37-'Summer Peak 2015-01-15'!HT37","v":0},{"$f":"Summer!CH37-'Summer Peak 2015-01-15'!HU37","v":0},{"$f":"Summer!CI37-'Summer Peak 2015-01-15'!HV37","v":0},{"$f":"Summer!CJ37-'Summer Peak 2015-01-15'!HW37","v":0},{"$f":"Summer!CK37-'Summer Peak 2015-01-15'!HX37","v":0},{"$f":"Summer!CL37-'Summer Peak 2015-01-15'!HY37","v":0},{"$f":"Summer!CM37-'Summer Peak 2015-01-15'!HZ37","v":0},{"$f":"Summer!CN37-'Summer Peak 2015-01-15'!IA37","v":0},{"$f":"Summer!CO37-'Summer Peak 2015-01-15'!IB37","v":0},{"$f":"Summer!CP37-'Summer Peak 2015-01-15'!IC37","v":0},{"$f":"Summer!CQ37-'Summer Peak 2015-01-15'!ID37","v":0},{"$f":"Summer!CR37-'Summer Peak 2015-01-15'!IE37","v":0},{"$f":"Summer!CS37-'Summer Peak 2015-01-15'!IF37","v":0},{"$f":"Summer!CT37-'Summer Peak 2015-01-15'!IG37","v":0},{"$f":"Summer!CU37-'Summer Peak 2015-01-15'!IH37","v":0},{"$f":"Summer!CV37-'Summer Peak 2015-01-15'!II37","v":0},{"$f":"Summer!CW37-'Summer Peak 2015-01-15'!IJ37","v":0},{"$f":"Summer!CX37-'Summer Peak 2015-01-15'!IK37","v":0},{"$f":"Summer!CY37-'Summer Peak 2015-01-15'!IL37","v":0},{"$f":"Summer!CZ37-'Summer Peak 2015-01-15'!IM37","v":0},{"$f":"Summer!DA37-'Summer Peak 2015-01-15'!IN37","v":0},{"$f":"Summer!DB37-'Summer Peak 2015-01-15'!IO37","v":0},{"$f":"Summer!DC37-'Summer Peak 2015-01-15'!IP37","v":0},{"$f":"Summer!DD37-'Summer Peak 2015-01-15'!IQ37","v":0},{"$f":"Summer!DE37-'Summer Peak 2015-01-15'!IR37","v":0},{"$f":"Summer!DF37-'Summer Peak 2015-01-15'!IS37","v":0},{"$f":"Summer!DG37-'Summer Peak 2015-01-15'!IT37","v":0},{"$f":"Summer!DH37-'Summer Peak 2015-01-15'!IU37","v":0},{"$f":"Summer!DI37-'Summer Peak 2015-01-15'!IV37","v":0},{"$f":"Summer!DJ37-'Summer Peak 2015-01-15'!IW37","v":0},{"$f":"Summer!DK37-'Summer Peak 2015-01-15'!IX37","v":0},{"$f":"Summer!DL37-'Summer Peak 2015-01-15'!IY37","v":0},{"$f":"Summer!DM37-'Summer Peak 2015-01-15'!IZ37","v":0},{"$f":"Summer!DN37-'Summer Peak 2015-01-15'!JA37","v":0},{"$f":"Summer!DO37-'Summer Peak 2015-01-15'!JB37","v":0},{"$f":"Summer!DP37-'Summer Peak 2015-01-15'!JC37","v":0},{"$f":"Summer!DQ37-'Summer Peak 2015-01-15'!JD37","v":0},{"$f":"Summer!DR37-'Summer Peak 2015-01-15'!JE37","v":0},{"$f":"Summer!DS37-'Summer Peak 2015-01-15'!JF37","v":0}]
[null,"PRV5",{"$f":"Summer!C38-'Summer Peak 2015-01-15'!EP38","v":0},{"$f":"Summer!D38-'Summer Peak 2015-01-15'!EQ38","v":0},{"$f":"Summer!E38-'Summer Peak 2015-01-15'!ER38","v":0},{"$f":"Summer!F38-'Summer Peak 2015-01-15'!ES38","v":0},{"$f":"Summer!G38-'Summer Peak 2015-01-15'!ET38","v":0},{"$f":"Summer!H38-'Summer Peak 2015-01-15'!EU38","v":0},{"$f":"Summer!I38-'Summer Peak 2015-01-15'!EV38","v":0},{"$f":"Summer!J38-'Summer Peak 2015-01-15'!EW38","v":0},{"$f":"Summer!K38-'Summer Peak 2015-01-15'!EX38","v":0},{"$f":"Summer!L38-'Summer Peak 2015-01-15'!EY38","v":0},{"$f":"Summer!M38-'Summer Peak 2015-01-15'!EZ38","v":0},{"$f":"Summer!N38-'Summer Peak 2015-01-15'!FA38","v":0},{"$f":"Summer!O38-'Summer Peak 2015-01-15'!FB38","v":0},{"$f":"Summer!P38-'Summer Peak 2015-01-15'!FC38","v":0},{"$f":"Summer!Q38-'Summer Peak 2015-01-15'!FD38","v":0},{"$f":"Summer!R38-'Summer Peak 2015-01-15'!FE38","v":0},{"$f":"Summer!S38-'Summer Peak 2015-01-15'!FF38","v":0},{"$f":"Summer!T38-'Summer Peak 2015-01-15'!FG38","v":0},{"$f":"Summer!U38-'Summer Peak 2015-01-15'!FH38","v":0},{"$f":"Summer!V38-'Summer Peak 2015-01-15'!FI38","v":0},{"$f":"Summer!W38-'Summer Peak 2015-01-15'!FJ38","v":0},{"$f":"Summer!X38-'Summer Peak 2015-01-15'!FK38","v":0},{"$f":"Summer!Y38-'Summer Peak 2015-01-15'!FL38","v":0},{"$f":"Summer!Z38-'Summer Peak 2015-01-15'!FM38","v":0},{"$f":"Summer!AA38-'Summer Peak 2015-01-15'!FN38","v":0},{"$f":"Summer!AB38-'Summer Peak 2015-01-15'!FO38","v":0},{"$f":"Summer!AC38-'Summer Peak 2015-01-15'!FP38","v":0},{"$f":"Summer!AD38-'Summer Peak 2015-01-15'!FQ38","v":0},{"$f":"Summer!AE38-'Summer Peak 2015-01-15'!FR38","v":0},{"$f":"Summer!AF38-'Summer Peak 2015-01-15'!FS38","v":0},{"$f":"Summer!AG38-'Summer Peak 2015-01-15'!FT38","v":0},{"$f":"Summer!AH38-'Summer Peak 2015-01-15'!FU38","v":0},{"$f":"Summer!AI38-'Summer Peak 2015-01-15'!FV38","v":0},{"$f":"Summer!AJ38-'Summer Peak 2015-01-15'!FW38","v":0},{"$f":"Summer!AK38-'Summer Peak 2015-01-15'!FX38","v":0},{"$f":"Summer!AL38-'Summer Peak 2015-01-15'!FY38","v":0},{"$f":"Summer!AM38-'Summer Peak 2015-01-15'!FZ38","v":0},{"$f":"Summer!AN38-'Summer Peak 2015-01-15'!GA38","v":0},{"$f":"Summer!AO38-'Summer Peak 2015-01-15'!GB38","v":0},{"$f":"Summer!AP38-'Summer Peak 2015-01-15'!GC38","v":0},{"$f":"Summer!AQ38-'Summer Peak 2015-01-15'!GD38","v":0},{"$f":"Summer!AR38-'Summer Peak 2015-01-15'!GE38","v":0},{"$f":"Summer!AS38-'Summer Peak 2015-01-15'!GF38","v":0},{"$f":"Summer!AT38-'Summer Peak 2015-01-15'!GG38","v":0},{"$f":"Summer!AU38-'Summer Peak 2015-01-15'!GH38","v":0},{"$f":"Summer!AV38-'Summer Peak 2015-01-15'!GI38","v":0},{"$f":"Summer!AW38-'Summer Peak 2015-01-15'!GJ38","v":0},{"$f":"Summer!AX38-'Summer Peak 2015-01-15'!GK38","v":0},{"$f":"Summer!AY38-'Summer Peak 2015-01-15'!GL38","v":0},{"$f":"Summer!AZ38-'Summer Peak 2015-01-15'!GM38","v":0},{"$f":"Summer!BA38-'Summer Peak 2015-01-15'!GN38","v":0},{"$f":"Summer!BB38-'Summer Peak 2015-01-15'!GO38","v":0},{"$f":"Summer!BC38-'Summer Peak 2015-01-15'!GP38","v":0},{"$f":"Summer!BD38-'Summer Peak 2015-01-15'!GQ38","v":0},{"$f":"Summer!BE38-'Summer Peak 2015-01-15'!GR38","v":0},{"$f":"Summer!BF38-'Summer Peak 2015-01-15'!GS38","v":0},{"$f":"Summer!BG38-'Summer Peak 2015-01-15'!GT38","v":0},{"$f":"Summer!BH38-'Summer Peak 2015-01-15'!GU38","v":0},{"$f":"Summer!BI38-'Summer Peak 2015-01-15'!GV38","v":0},{"$f":"Summer!BJ38-'Summer Peak 2015-01-15'!GW38","v":0},{"$f":"Summer!BK38-'Summer Peak 2015-01-15'!GX38","v":0},{"$f":"Summer!BL38-'Summer Peak 2015-01-15'!GY38","v":0},{"$f":"Summer!BM38-'Summer Peak 2015-01-15'!GZ38","v":0},{"$f":"Summer!BN38-'Summer Peak 2015-01-15'!HA38","v":0},{"$f":"Summer!BO38-'Summer Peak 2015-01-15'!HB38","v":0},{"$f":"Summer!BP38-'Summer Peak 2015-01-15'!HC38","v":0},{"$f":"Summer!BQ38-'Summer Peak 2015-01-15'!HD38","v":0},{"$f":"Summer!BR38-'Summer Peak 2015-01-15'!HE38","v":0},{"$f":"Summer!BS38-'Summer Peak 2015-01-15'!HF38","v":0},{"$f":"Summer!BT38-'Summer Peak 2015-01-15'!HG38","v":0},{"$f":"Summer!BU38-'Summer Peak 2015-01-15'!HH38","v":0},{"$f":"Summer!BV38-'Summer Peak 2015-01-15'!HI38","v":0},{"$f":"Summer!BW38-'Summer Peak 2015-01-15'!HJ38","v":0},{"$f":"Summer!BX38-'Summer Peak 2015-01-15'!HK38","v":0},{"$f":"Summer!BY38-'Summer Peak 2015-01-15'!HL38","v":0},{"$f":"Summer!BZ38-'Summer Peak 2015-01-15'!HM38","v":0},{"$f":"Summer!CA38-'Summer Peak 2015-01-15'!HN38","v":0},{"$f":"Summer!CB38-'Summer Peak 2015-01-15'!HO38","v":0},{"$f":"Summer!CC38-'Summer Peak 2015-01-15'!HP38","v":0},{"$f":"Summer!CD38-'Summer Peak 2015-01-15'!HQ38","v":0},{"$f":"Summer!CE38-'Summer Peak 2015-01-15'!HR38","v":0},{"$f":"Summer!CF38-'Summer Peak 2015-01-15'!HS38","v":0},{"$f":"Summer!CG38-'Summer Peak 2015-01-15'!HT38","v":0},{"$f":"Summer!CH38-'Summer Peak 2015-01-15'!HU38","v":0},{"$f":"Summer!CI38-'Summer Peak 2015-01-15'!HV38","v":0},{"$f":"Summer!CJ38-'Summer Peak 2015-01-15'!HW38","v":0},{"$f":"Summer!CK38-'Summer Peak 2015-01-15'!HX38","v":0},{"$f":"Summer!CL38-'Summer Peak 2015-01-15'!HY38","v":0},{"$f":"Summer!CM38-'Summer Peak 2015-01-15'!HZ38","v":0},{"$f":"Summer!CN38-'Summer Peak 2015-01-15'!IA38","v":0},{"$f":"Summer!CO38-'Summer Peak 2015-01-15'!IB38","v":0},{"$f":"Summer!CP38-'Summer Peak 2015-01-15'!IC38","v":0},{"$f":"Summer!CQ38-'Summer Peak 2015-01-15'!ID38","v":0},{"$f":"Summer!CR38-'Summer Peak 2015-01-15'!IE38","v":0},{"$f":"Summer!CS38-'Summer Peak 2015-01-15'!IF38","v":0},{"$f":"Summer!CT38-'Summer Peak 2015-01-15'!IG38","v":0},{"$f":"Summer!CU38-'Summer Peak 2015-01-15'!IH38","v":0},{"$f":"Summer!CV38-'Summer Peak 2015-01-15'!II38","v":0},{"$f":"Summer!CW38-'Summer Peak 2015-01-15'!IJ38","v":0},{"$f":"Summer!CX38-'Summer Peak 2015-01-15'!IK38","v":0},{"$f":"Summer!CY38-'Summer Peak 2015-01-15'!IL38","v":0},{"$f":"Summer!CZ38-'Summer Peak 2015-01-15'!IM38","v":0},{"$f":"Summer!DA38-'Summer Peak 2015-01-15'!IN38","v":0},{"$f":"Summer!DB38-'Summer Peak 2015-01-15'!IO38","v":0},{"$f":"Summer!DC38-'Summer Peak 2015-01-15'!IP38","v":0},{"$f":"Summer!DD38-'Summer Peak 2015-01-15'!IQ38","v":0},{"$f":"Summer!DE38-'Summer Peak 2015-01-15'!IR38","v":0},{"$f":"Summer!DF38-'Summer Peak 2015-01-15'!IS38","v":0},{"$f":"Summer!DG38-'Summer Peak 2015-01-15'!IT38","v":0},{"$f":"Summer!DH38-'Summer Peak 2015-01-15'!IU38","v":0},{"$f":"Summer!DI38-'Summer Peak 2015-01-15'!IV38","v":0},{"$f":"Summer!DJ38-'Summer Peak 2015-01-15'!IW38","v":0},{"$f":"Summer!DK38-'Summer Peak 2015-01-15'!IX38","v":0},{"$f":"Summer!DL38-'Summer Peak 2015-01-15'!IY38","v":0},{"$f":"Summer!DM38-'Summer Peak 2015-01-15'!IZ38","v":0},{"$f":"Summer!DN38-'Summer Peak 2015-01-15'!JA38","v":0},{"$f":"Summer!DO38-'Summer Peak 2015-01-15'!JB38","v":0},{"$f":"Summer!DP38-'Summer Peak 2015-01-15'!JC38","v":0},{"$f":"Summer!DQ38-'Summer Peak 2015-01-15'!JD38","v":0},{"$f":"Summer!DR38-'Summer Peak 2015-01-15'!JE38","v":0},{"$f":"Summer!DS38-'Summer Peak 2015-01-15'!JF38","v":0}]
[null,"PSC",{"$f":"Summer!C39-'Summer Peak 2015-01-15'!EP39","v":0},{"$f":"Summer!D39-'Summer Peak 2015-01-15'!EQ39","v":0},{"$f":"Summer!E39-'Summer Peak 2015-01-15'!ER39","v":0},{"$f":"Summer!F39-'Summer Peak 2015-01-15'!ES39","v":0},{"$f":"Summer!G39-'Summer Peak 2015-01-15'!ET39","v":0},{"$f":"Summer!H39-'Summer Peak 2015-01-15'!EU39","v":0},{"$f":"Summer!I39-'Summer Peak 2015-01-15'!EV39","v":0},{"$f":"Summer!J39-'Summer Peak 2015-01-15'!EW39","v":0},{"$f":"Summer!K39-'Summer Peak 2015-01-15'!EX39","v":0},{"$f":"Summer!L39-'Summer Peak 2015-01-15'!EY39","v":0},{"$f":"Summer!M39-'Summer Peak 2015-01-15'!EZ39","v":0},{"$f":"Summer!N39-'Summer Peak 2015-01-15'!FA39","v":0},{"$f":"Summer!O39-'Summer Peak 2015-01-15'!FB39","v":0},{"$f":"Summer!P39-'Summer Peak 2015-01-15'!FC39","v":0},{"$f":"Summer!Q39-'Summer Peak 2015-01-15'!FD39","v":0},{"$f":"Summer!R39-'Summer Peak 2015-01-15'!FE39","v":0},{"$f":"Summer!S39-'Summer Peak 2015-01-15'!FF39","v":0},{"$f":"Summer!T39-'Summer Peak 2015-01-15'!FG39","v":0},{"$f":"Summer!U39-'Summer Peak 2015-01-15'!FH39","v":0},{"$f":"Summer!V39-'Summer Peak 2015-01-15'!FI39","v":0},{"$f":"Summer!W39-'Summer Peak 2015-01-15'!FJ39","v":0},{"$f":"Summer!X39-'Summer Peak 2015-01-15'!FK39","v":0},{"$f":"Summer!Y39-'Summer Peak 2015-01-15'!FL39","v":0},{"$f":"Summer!Z39-'Summer Peak 2015-01-15'!FM39","v":0},{"$f":"Summer!AA39-'Summer Peak 2015-01-15'!FN39","v":0},{"$f":"Summer!AB39-'Summer Peak 2015-01-15'!FO39","v":0},{"$f":"Summer!AC39-'Summer Peak 2015-01-15'!FP39","v":0},{"$f":"Summer!AD39-'Summer Peak 2015-01-15'!FQ39","v":0},{"$f":"Summer!AE39-'Summer Peak 2015-01-15'!FR39","v":0},{"$f":"Summer!AF39-'Summer Peak 2015-01-15'!FS39","v":0},{"$f":"Summer!AG39-'Summer Peak 2015-01-15'!FT39","v":0},{"$f":"Summer!AH39-'Summer Peak 2015-01-15'!FU39","v":0},{"$f":"Summer!AI39-'Summer Peak 2015-01-15'!FV39","v":0},{"$f":"Summer!AJ39-'Summer Peak 2015-01-15'!FW39","v":0},{"$f":"Summer!AK39-'Summer Peak 2015-01-15'!FX39","v":0},{"$f":"Summer!AL39-'Summer Peak 2015-01-15'!FY39","v":0},{"$f":"Summer!AM39-'Summer Peak 2015-01-15'!FZ39","v":0},{"$f":"Summer!AN39-'Summer Peak 2015-01-15'!GA39","v":0},{"$f":"Summer!AO39-'Summer Peak 2015-01-15'!GB39","v":0},{"$f":"Summer!AP39-'Summer Peak 2015-01-15'!GC39","v":0},{"$f":"Summer!AQ39-'Summer Peak 2015-01-15'!GD39","v":0},{"$f":"Summer!AR39-'Summer Peak 2015-01-15'!GE39","v":0},{"$f":"Summer!AS39-'Summer Peak 2015-01-15'!GF39","v":0},{"$f":"Summer!AT39-'Summer Peak 2015-01-15'!GG39","v":0},{"$f":"Summer!AU39-'Summer Peak 2015-01-15'!GH39","v":0},{"$f":"Summer!AV39-'Summer Peak 2015-01-15'!GI39","v":0},{"$f":"Summer!AW39-'Summer Peak 2015-01-15'!GJ39","v":0},{"$f":"Summer!AX39-'Summer Peak 2015-01-15'!GK39","v":0},{"$f":"Summer!AY39-'Summer Peak 2015-01-15'!GL39","v":0},{"$f":"Summer!AZ39-'Summer Peak 2015-01-15'!GM39","v":0},{"$f":"Summer!BA39-'Summer Peak 2015-01-15'!GN39","v":0},{"$f":"Summer!BB39-'Summer Peak 2015-01-15'!GO39","v":0},{"$f":"Summer!BC39-'Summer Peak 2015-01-15'!GP39","v":0},{"$f":"Summer!BD39-'Summer Peak 2015-01-15'!GQ39","v":0},{"$f":"Summer!BE39-'Summer Peak 2015-01-15'!GR39","v":0},{"$f":"Summer!BF39-'Summer Peak 2015-01-15'!GS39","v":0},{"$f":"Summer!BG39-'Summer Peak 2015-01-15'!GT39","v":0},{"$f":"Summer!BH39-'Summer Peak 2015-01-15'!GU39","v":0},{"$f":"Summer!BI39-'Summer Peak 2015-01-15'!GV39","v":0},{"$f":"Summer!BJ39-'Summer Peak 2015-01-15'!GW39","v":0},{"$f":"Summer!BK39-'Summer Peak 2015-01-15'!GX39","v":0},{"$f":"Summer!BL39-'Summer Peak 2015-01-15'!GY39","v":0},{"$f":"Summer!BM39-'Summer Peak 2015-01-15'!GZ39","v":0},{"$f":"Summer!BN39-'Summer Peak 2015-01-15'!HA39","v":0},{"$f":"Summer!BO39-'Summer Peak 2015-01-15'!HB39","v":0},{"$f":"Summer!BP39-'Summer Peak 2015-01-15'!HC39","v":0},{"$f":"Summer!BQ39-'Summer Peak 2015-01-15'!HD39","v":0},{"$f":"Summer!BR39-'Summer Peak 2015-01-15'!HE39","v":0},{"$f":"Summer!BS39-'Summer Peak 2015-01-15'!HF39","v":0},{"$f":"Summer!BT39-'Summer Peak 2015-01-15'!HG39","v":0},{"$f":"Summer!BU39-'Summer Peak 2015-01-15'!HH39","v":0},{"$f":"Summer!BV39-'Summer Peak 2015-01-15'!HI39","v":0},{"$f":"Summer!BW39-'Summer Peak 2015-01-15'!HJ39","v":0},{"$f":"Summer!BX39-'Summer Peak 2015-01-15'!HK39","v":0},{"$f":"Summer!BY39-'Summer Peak 2015-01-15'!HL39","v":0},{"$f":"Summer!BZ39-'Summer Peak 2015-01-15'!HM39","v":0},{"$f":"Summer!CA39-'Summer Peak 2015-01-15'!HN39","v":0},{"$f":"Summer!CB39-'Summer Peak 2015-01-15'!HO39","v":0},{"$f":"Summer!CC39-'Summer Peak 2015-01-15'!HP39","v":0},{"$f":"Summer!CD39-'Summer Peak 2015-01-15'!HQ39","v":0},{"$f":"Summer!CE39-'Summer Peak 2015-01-15'!HR39","v":0},{"$f":"Summer!CF39-'Summer Peak 2015-01-15'!HS39","v":0},{"$f":"Summer!CG39-'Summer Peak 2015-01-15'!HT39","v":0},{"$f":"Summer!CH39-'Summer Peak 2015-01-15'!HU39","v":0},{"$f":"Summer!CI39-'Summer Peak 2015-01-15'!HV39","v":0},{"$f":"Summer!CJ39-'Summer Peak 2015-01-15'!HW39","v":0},{"$f":"Summer!CK39-'Summer Peak 2015-01-15'!HX39","v":0},{"$f":"Summer!CL39-'Summer Peak 2015-01-15'!HY39","v":0},{"$f":"Summer!CM39-'Summer Peak 2015-01-15'!HZ39","v":0},{"$f":"Summer!CN39-'Summer Peak 2015-01-15'!IA39","v":0},{"$f":"Summer!CO39-'Summer Peak 2015-01-15'!IB39","v":0},{"$f":"Summer!CP39-'Summer Peak 2015-01-15'!IC39","v":0},{"$f":"Summer!CQ39-'Summer Peak 2015-01-15'!ID39","v":0},{"$f":"Summer!CR39-'Summer Peak 2015-01-15'!IE39","v":0},{"$f":"Summer!CS39-'Summer Peak 2015-01-15'!IF39","v":0},{"$f":"Summer!CT39-'Summer Peak 2015-01-15'!IG39","v":0},{"$f":"Summer!CU39-'Summer Peak 2015-01-15'!IH39","v":0},{"$f":"Summer!CV39-'Summer Peak 2015-01-15'!II39","v":0},{"$f":"Summer!CW39-'Summer Peak 2015-01-15'!IJ39","v":0},{"$f":"Summer!CX39-'Summer Peak 2015-01-15'!IK39","v":0},{"$f":"Summer!CY39-'Summer Peak 2015-01-15'!IL39","v":0},{"$f":"Summer!CZ39-'Summer Peak 2015-01-15'!IM39","v":0},{"$f":"Summer!DA39-'Summer Peak 2015-01-15'!IN39","v":0},{"$f":"Summer!DB39-'Summer Peak 2015-01-15'!IO39","v":0},{"$f":"Summer!DC39-'Summer Peak 2015-01-15'!IP39","v":0},{"$f":"Summer!DD39-'Summer Peak 2015-01-15'!IQ39","v":0},{"$f":"Summer!DE39-'Summer Peak 2015-01-15'!IR39","v":0},{"$f":"Summer!DF39-'Summer Peak 2015-01-15'!IS39","v":0},{"$f":"Summer!DG39-'Summer Peak 2015-01-15'!IT39","v":0},{"$f":"Summer!DH39-'Summer Peak 2015-01-15'!IU39","v":0},{"$f":"Summer!DI39-'Summer Peak 2015-01-15'!IV39","v":0},{"$f":"Summer!DJ39-'Summer Peak 2015-01-15'!IW39","v":0},{"$f":"Summer!DK39-'Summer Peak 2015-01-15'!IX39","v":0},{"$f":"Summer!DL39-'Summer Peak 2015-01-15'!IY39","v":0},{"$f":"Summer!DM39-'Summer Peak 2015-01-15'!IZ39","v":0},{"$f":"Summer!DN39-'Summer Peak 2015-01-15'!JA39","v":0},{"$f":"Summer!DO39-'Summer Peak 2015-01-15'!JB39","v":0},{"$f":"Summer!DP39-'Summer Peak 2015-01-15'!JC39","v":0},{"$f":"Summer!DQ39-'Summer Peak 2015-01-15'!JD39","v":0},{"$f":"Summer!DR39-'Summer Peak 2015-01-15'!JE39","v":0},{"$f":"Summer!DS39-'Summer Peak 2015-01-15'!JF39","v":0}]
[null,"PSH4",{"$f":"Summer!C40-'Summer Peak 2015-01-15'!EP40","v":0},{"$f":"Summer!D40-'Summer Peak 2015-01-15'!EQ40","v":0},{"$f":"Summer!E40-'Summer Peak 2015-01-15'!ER40","v":0},{"$f":"Summer!F40-'Summer Peak 2015-01-15'!ES40","v":0},{"$f":"Summer!G40-'Summer Peak 2015-01-15'!ET40","v":0},{"$f":"Summer!H40-'Summer Peak 2015-01-15'!EU40","v":0},{"$f":"Summer!I40-'Summer Peak 2015-01-15'!EV40","v":0},{"$f":"Summer!J40-'Summer Peak 2015-01-15'!EW40","v":0},{"$f":"Summer!K40-'Summer Peak 2015-01-15'!EX40","v":0},{"$f":"Summer!L40-'Summer Peak 2015-01-15'!EY40","v":0},{"$f":"Summer!M40-'Summer Peak 2015-01-15'!EZ40","v":0},{"$f":"Summer!N40-'Summer Peak 2015-01-15'!FA40","v":0},{"$f":"Summer!O40-'Summer Peak 2015-01-15'!FB40","v":0},{"$f":"Summer!P40-'Summer Peak 2015-01-15'!FC40","v":0},{"$f":"Summer!Q40-'Summer Peak 2015-01-15'!FD40","v":0},{"$f":"Summer!R40-'Summer Peak 2015-01-15'!FE40","v":0},{"$f":"Summer!S40-'Summer Peak 2015-01-15'!FF40","v":0},{"$f":"Summer!T40-'Summer Peak 2015-01-15'!FG40","v":0},{"$f":"Summer!U40-'Summer Peak 2015-01-15'!FH40","v":0},{"$f":"Summer!V40-'Summer Peak 2015-01-15'!FI40","v":0},{"$f":"Summer!W40-'Summer Peak 2015-01-15'!FJ40","v":0},{"$f":"Summer!X40-'Summer Peak 2015-01-15'!FK40","v":0},{"$f":"Summer!Y40-'Summer Peak 2015-01-15'!FL40","v":0},{"$f":"Summer!Z40-'Summer Peak 2015-01-15'!FM40","v":0},{"$f":"Summer!AA40-'Summer Peak 2015-01-15'!FN40","v":0},{"$f":"Summer!AB40-'Summer Peak 2015-01-15'!FO40","v":0},{"$f":"Summer!AC40-'Summer Peak 2015-01-15'!FP40","v":0},{"$f":"Summer!AD40-'Summer Peak 2015-01-15'!FQ40","v":0},{"$f":"Summer!AE40-'Summer Peak 2015-01-15'!FR40","v":0},{"$f":"Summer!AF40-'Summer Peak 2015-01-15'!FS40","v":0},{"$f":"Summer!AG40-'Summer Peak 2015-01-15'!FT40","v":0},{"$f":"Summer!AH40-'Summer Peak 2015-01-15'!FU40","v":0},{"$f":"Summer!AI40-'Summer Peak 2015-01-15'!FV40","v":0},{"$f":"Summer!AJ40-'Summer Peak 2015-01-15'!FW40","v":0},{"$f":"Summer!AK40-'Summer Peak 2015-01-15'!FX40","v":0},{"$f":"Summer!AL40-'Summer Peak 2015-01-15'!FY40","v":0},{"$f":"Summer!AM40-'Summer Peak 2015-01-15'!FZ40","v":0},{"$f":"Summer!AN40-'Summer Peak 2015-01-15'!GA40","v":0},{"$f":"Summer!AO40-'Summer Peak 2015-01-15'!GB40","v":0},{"$f":"Summer!AP40-'Summer Peak 2015-01-15'!GC40","v":0},{"$f":"Summer!AQ40-'Summer Peak 2015-01-15'!GD40","v":0},{"$f":"Summer!AR40-'Summer Peak 2015-01-15'!GE40","v":0},{"$f":"Summer!AS40-'Summer Peak 2015-01-15'!GF40","v":0},{"$f":"Summer!AT40-'Summer Peak 2015-01-15'!GG40","v":0},{"$f":"Summer!AU40-'Summer Peak 2015-01-15'!GH40","v":0},{"$f":"Summer!AV40-'Summer Peak 2015-01-15'!GI40","v":0},{"$f":"Summer!AW40-'Summer Peak 2015-01-15'!GJ40","v":0},{"$f":"Summer!AX40-'Summer Peak 2015-01-15'!GK40","v":0},{"$f":"Summer!AY40-'Summer Peak 2015-01-15'!GL40","v":0},{"$f":"Summer!AZ40-'Summer Peak 2015-01-15'!GM40","v":0},{"$f":"Summer!BA40-'Summer Peak 2015-01-15'!GN40","v":0},{"$f":"Summer!BB40-'Summer Peak 2015-01-15'!GO40","v":0},{"$f":"Summer!BC40-'Summer Peak 2015-01-15'!GP40","v":0},{"$f":"Summer!BD40-'Summer Peak 2015-01-15'!GQ40","v":0},{"$f":"Summer!BE40-'Summer Peak 2015-01-15'!GR40","v":0},{"$f":"Summer!BF40-'Summer Peak 2015-01-15'!GS40","v":0},{"$f":"Summer!BG40-'Summer Peak 2015-01-15'!GT40","v":0},{"$f":"Summer!BH40-'Summer Peak 2015-01-15'!GU40","v":0},{"$f":"Summer!BI40-'Summer Peak 2015-01-15'!GV40","v":0},{"$f":"Summer!BJ40-'Summer Peak 2015-01-15'!GW40","v":0},{"$f":"Summer!BK40-'Summer Peak 2015-01-15'!GX40","v":0},{"$f":"Summer!BL40-'Summer Peak 2015-01-15'!GY40","v":0},{"$f":"Summer!BM40-'Summer Peak 2015-01-15'!GZ40","v":0},{"$f":"Summer!BN40-'Summer Peak 2015-01-15'!HA40","v":0},{"$f":"Summer!BO40-'Summer Peak 2015-01-15'!HB40","v":0},{"$f":"Summer!BP40-'Summer Peak 2015-01-15'!HC40","v":0},{"$f":"Summer!BQ40-'Summer Peak 2015-01-15'!HD40","v":0},{"$f":"Summer!BR40-'Summer Peak 2015-01-15'!HE40","v":0},{"$f":"Summer!BS40-'Summer Peak 2015-01-15'!HF40","v":0},{"$f":"Summer!BT40-'Summer Peak 2015-01-15'!HG40","v":0},{"$f":"Summer!BU40-'Summer Peak 2015-01-15'!HH40","v":0},{"$f":"Summer!BV40-'Summer Peak 2015-01-15'!HI40","v":0},{"$f":"Summer!BW40-'Summer Peak 2015-01-15'!HJ40","v":0},{"$f":"Summer!BX40-'Summer Peak 2015-01-15'!HK40","v":0},{"$f":"Summer!BY40-'Summer Peak 2015-01-15'!HL40","v":0},{"$f":"Summer!BZ40-'Summer Peak 2015-01-15'!HM40","v":0},{"$f":"Summer!CA40-'Summer Peak 2015-01-15'!HN40","v":0},{"$f":"Summer!CB40-'Summer Peak 2015-01-15'!HO40","v":0},{"$f":"Summer!CC40-'Summer Peak 2015-01-15'!HP40","v":0},{"$f":"Summer!CD40-'Summer Peak 2015-01-15'!HQ40","v":0},{"$f":"Summer!CE40-'Summer Peak 2015-01-15'!HR40","v":0},{"$f":"Summer!CF40-'Summer Peak 2015-01-15'!HS40","v":0},{"$f":"Summer!CG40-'Summer Peak 2015-01-15'!HT40","v":0},{"$f":"Summer!CH40-'Summer Peak 2015-01-15'!HU40","v":0},{"$f":"Summer!CI40-'Summer Peak 2015-01-15'!HV40","v":0},{"$f":"Summer!CJ40-'Summer Peak 2015-01-15'!HW40","v":0},{"$f":"Summer!CK40-'Summer Peak 2015-01-15'!HX40","v":0},{"$f":"Summer!CL40-'Summer Peak 2015-01-15'!HY40","v":0},{"$f":"Summer!CM40-'Summer Peak 2015-01-15'!HZ40","v":0},{"$f":"Summer!CN40-'Summer Peak 2015-01-15'!IA40","v":0},{"$f":"Summer!CO40-'Summer Peak 2015-01-15'!IB40","v":0},{"$f":"Summer!CP40-'Summer Peak 2015-01-15'!IC40","v":0},{"$f":"Summer!CQ40-'Summer Peak 2015-01-15'!ID40","v":0},{"$f":"Summer!CR40-'Summer Peak 2015-01-15'!IE40","v":0},{"$f":"Summer!CS40-'Summer Peak 2015-01-15'!IF40","v":0},{"$f":"Summer!CT40-'Summer Peak 2015-01-15'!IG40","v":0},{"$f":"Summer!CU40-'Summer Peak 2015-01-15'!IH40","v":0},{"$f":"Summer!CV40-'Summer Peak 2015-01-15'!II40","v":0},{"$f":"Summer!CW40-'Summer Peak 2015-01-15'!IJ40","v":0},{"$f":"Summer!CX40-'Summer Peak 2015-01-15'!IK40","v":0},{"$f":"Summer!CY40-'Summer Peak 2015-01-15'!IL40","v":0},{"$f":"Summer!CZ40-'Summer Peak 2015-01-15'!IM40","v":0},{"$f":"Summer!DA40-'Summer Peak 2015-01-15'!IN40","v":0},{"$f":"Summer!DB40-'Summer Peak 2015-01-15'!IO40","v":0},{"$f":"Summer!DC40-'Summer Peak 2015-01-15'!IP40","v":0},{"$f":"Summer!DD40-'Summer Peak 2015-01-15'!IQ40","v":0},{"$f":"Summer!DE40-'Summer Peak 2015-01-15'!IR40","v":0},{"$f":"Summer!DF40-'Summer Peak 2015-01-15'!IS40","v":0},{"$f":"Summer!DG40-'Summer Peak 2015-01-15'!IT40","v":0},{"$f":"Summer!DH40-'Summer Peak 2015-01-15'!IU40","v":0},{"$f":"Summer!DI40-'Summer Peak 2015-01-15'!IV40","v":0},{"$f":"Summer!DJ40-'Summer Peak 2015-01-15'!IW40","v":0},{"$f":"Summer!DK40-'Summer Peak 2015-01-15'!IX40","v":0},{"$f":"Summer!DL40-'Summer Peak 2015-01-15'!IY40","v":0},{"$f":"Summer!DM40-'Summer Peak 2015-01-15'!IZ40","v":0},{"$f":"Summer!DN40-'Summer Peak 2015-01-15'!JA40","v":0},{"$f":"Summer!DO40-'Summer Peak 2015-01-15'!JB40","v":0},{"$f":"Summer!DP40-'Summer Peak 2015-01-15'!JC40","v":0},{"$f":"Summer!DQ40-'Summer Peak 2015-01-15'!JD40","v":0},{"$f":"Summer!DR40-'Summer Peak 2015-01-15'!JE40","v":0},{"$f":"Summer!DS40-'Summer Peak 2015-01-15'!JF40","v":0}]
[null,"PSL1",{"$f":"Summer!C41-'Summer Peak 2015-01-15'!EP41","v":0},{"$f":"Summer!D41-'Summer Peak 2015-01-15'!EQ41","v":0},{"$f":"Summer!E41-'Summer Peak 2015-01-15'!ER41","v":0},{"$f":"Summer!F41-'Summer Peak 2015-01-15'!ES41","v":0},{"$f":"Summer!G41-'Summer Peak 2015-01-15'!ET41","v":0},{"$f":"Summer!H41-'Summer Peak 2015-01-15'!EU41","v":0},{"$f":"Summer!I41-'Summer Peak 2015-01-15'!EV41","v":0},{"$f":"Summer!J41-'Summer Peak 2015-01-15'!EW41","v":0},{"$f":"Summer!K41-'Summer Peak 2015-01-15'!EX41","v":0},{"$f":"Summer!L41-'Summer Peak 2015-01-15'!EY41","v":0},{"$f":"Summer!M41-'Summer Peak 2015-01-15'!EZ41","v":0},{"$f":"Summer!N41-'Summer Peak 2015-01-15'!FA41","v":0},{"$f":"Summer!O41-'Summer Peak 2015-01-15'!FB41","v":0},{"$f":"Summer!P41-'Summer Peak 2015-01-15'!FC41","v":0},{"$f":"Summer!Q41-'Summer Peak 2015-01-15'!FD41","v":0},{"$f":"Summer!R41-'Summer Peak 2015-01-15'!FE41","v":0},{"$f":"Summer!S41-'Summer Peak 2015-01-15'!FF41","v":0},{"$f":"Summer!T41-'Summer Peak 2015-01-15'!FG41","v":0},{"$f":"Summer!U41-'Summer Peak 2015-01-15'!FH41","v":0},{"$f":"Summer!V41-'Summer Peak 2015-01-15'!FI41","v":0},{"$f":"Summer!W41-'Summer Peak 2015-01-15'!FJ41","v":0},{"$f":"Summer!X41-'Summer Peak 2015-01-15'!FK41","v":0},{"$f":"Summer!Y41-'Summer Peak 2015-01-15'!FL41","v":0},{"$f":"Summer!Z41-'Summer Peak 2015-01-15'!FM41","v":0},{"$f":"Summer!AA41-'Summer Peak 2015-01-15'!FN41","v":0},{"$f":"Summer!AB41-'Summer Peak 2015-01-15'!FO41","v":0},{"$f":"Summer!AC41-'Summer Peak 2015-01-15'!FP41","v":0},{"$f":"Summer!AD41-'Summer Peak 2015-01-15'!FQ41","v":0},{"$f":"Summer!AE41-'Summer Peak 2015-01-15'!FR41","v":0},{"$f":"Summer!AF41-'Summer Peak 2015-01-15'!FS41","v":0},{"$f":"Summer!AG41-'Summer Peak 2015-01-15'!FT41","v":0},{"$f":"Summer!AH41-'Summer Peak 2015-01-15'!FU41","v":0},{"$f":"Summer!AI41-'Summer Peak 2015-01-15'!FV41","v":0},{"$f":"Summer!AJ41-'Summer Peak 2015-01-15'!FW41","v":0},{"$f":"Summer!AK41-'Summer Peak 2015-01-15'!FX41","v":0},{"$f":"Summer!AL41-'Summer Peak 2015-01-15'!FY41","v":0},{"$f":"Summer!AM41-'Summer Peak 2015-01-15'!FZ41","v":0},{"$f":"Summer!AN41-'Summer Peak 2015-01-15'!GA41","v":0},{"$f":"Summer!AO41-'Summer Peak 2015-01-15'!GB41","v":0},{"$f":"Summer!AP41-'Summer Peak 2015-01-15'!GC41","v":0},{"$f":"Summer!AQ41-'Summer Peak 2015-01-15'!GD41","v":0},{"$f":"Summer!AR41-'Summer Peak 2015-01-15'!GE41","v":0},{"$f":"Summer!AS41-'Summer Peak 2015-01-15'!GF41","v":0},{"$f":"Summer!AT41-'Summer Peak 2015-01-15'!GG41","v":0},{"$f":"Summer!AU41-'Summer Peak 2015-01-15'!GH41","v":0},{"$f":"Summer!AV41-'Summer Peak 2015-01-15'!GI41","v":0},{"$f":"Summer!AW41-'Summer Peak 2015-01-15'!GJ41","v":0},{"$f":"Summer!AX41-'Summer Peak 2015-01-15'!GK41","v":0},{"$f":"Summer!AY41-'Summer Peak 2015-01-15'!GL41","v":0},{"$f":"Summer!AZ41-'Summer Peak 2015-01-15'!GM41","v":0},{"$f":"Summer!BA41-'Summer Peak 2015-01-15'!GN41","v":0},{"$f":"Summer!BB41-'Summer Peak 2015-01-15'!GO41","v":0},{"$f":"Summer!BC41-'Summer Peak 2015-01-15'!GP41","v":0},{"$f":"Summer!BD41-'Summer Peak 2015-01-15'!GQ41","v":0},{"$f":"Summer!BE41-'Summer Peak 2015-01-15'!GR41","v":0},{"$f":"Summer!BF41-'Summer Peak 2015-01-15'!GS41","v":0},{"$f":"Summer!BG41-'Summer Peak 2015-01-15'!GT41","v":0},{"$f":"Summer!BH41-'Summer Peak 2015-01-15'!GU41","v":0},{"$f":"Summer!BI41-'Summer Peak 2015-01-15'!GV41","v":0},{"$f":"Summer!BJ41-'Summer Peak 2015-01-15'!GW41","v":0},{"$f":"Summer!BK41-'Summer Peak 2015-01-15'!GX41","v":0},{"$f":"Summer!BL41-'Summer Peak 2015-01-15'!GY41","v":0},{"$f":"Summer!BM41-'Summer Peak 2015-01-15'!GZ41","v":0},{"$f":"Summer!BN41-'Summer Peak 2015-01-15'!HA41","v":0},{"$f":"Summer!BO41-'Summer Peak 2015-01-15'!HB41","v":0},{"$f":"Summer!BP41-'Summer Peak 2015-01-15'!HC41","v":0},{"$f":"Summer!BQ41-'Summer Peak 2015-01-15'!HD41","v":0},{"$f":"Summer!BR41-'Summer Peak 2015-01-15'!HE41","v":0},{"$f":"Summer!BS41-'Summer Peak 2015-01-15'!HF41","v":0},{"$f":"Summer!BT41-'Summer Peak 2015-01-15'!HG41","v":0},{"$f":"Summer!BU41-'Summer Peak 2015-01-15'!HH41","v":0},{"$f":"Summer!BV41-'Summer Peak 2015-01-15'!HI41","v":0},{"$f":"Summer!BW41-'Summer Peak 2015-01-15'!HJ41","v":0},{"$f":"Summer!BX41-'Summer Peak 2015-01-15'!HK41","v":0},{"$f":"Summer!BY41-'Summer Peak 2015-01-15'!HL41","v":0},{"$f":"Summer!BZ41-'Summer Peak 2015-01-15'!HM41","v":0},{"$f":"Summer!CA41-'Summer Peak 2015-01-15'!HN41","v":0},{"$f":"Summer!CB41-'Summer Peak 2015-01-15'!HO41","v":0},{"$f":"Summer!CC41-'Summer Peak 2015-01-15'!HP41","v":0},{"$f":"Summer!CD41-'Summer Peak 2015-01-15'!HQ41","v":0},{"$f":"Summer!CE41-'Summer Peak 2015-01-15'!HR41","v":0},{"$f":"Summer!CF41-'Summer Peak 2015-01-15'!HS41","v":0},{"$f":"Summer!CG41-'Summer Peak 2015-01-15'!HT41","v":0},{"$f":"Summer!CH41-'Summer Peak 2015-01-15'!HU41","v":0},{"$f":"Summer!CI41-'Summer Peak 2015-01-15'!HV41","v":0},{"$f":"Summer!CJ41-'Summer Peak 2015-01-15'!HW41","v":0},{"$f":"Summer!CK41-'Summer Peak 2015-01-15'!HX41","v":0},{"$f":"Summer!CL41-'Summer Peak 2015-01-15'!HY41","v":0},{"$f":"Summer!CM41-'Summer Peak 2015-01-15'!HZ41","v":0},{"$f":"Summer!CN41-'Summer Peak 2015-01-15'!IA41","v":0},{"$f":"Summer!CO41-'Summer Peak 2015-01-15'!IB41","v":0},{"$f":"Summer!CP41-'Summer Peak 2015-01-15'!IC41","v":0},{"$f":"Summer!CQ41-'Summer Peak 2015-01-15'!ID41","v":0},{"$f":"Summer!CR41-'Summer Peak 2015-01-15'!IE41","v":0},{"$f":"Summer!CS41-'Summer Peak 2015-01-15'!IF41","v":0},{"$f":"Summer!CT41-'Summer Peak 2015-01-15'!IG41","v":0},{"$f":"Summer!CU41-'Summer Peak 2015-01-15'!IH41","v":0},{"$f":"Summer!CV41-'Summer Peak 2015-01-15'!II41","v":0},{"$f":"Summer!CW41-'Summer Peak 2015-01-15'!IJ41","v":0},{"$f":"Summer!CX41-'Summer Peak 2015-01-15'!IK41","v":0},{"$f":"Summer!CY41-'Summer Peak 2015-01-15'!IL41","v":0},{"$f":"Summer!CZ41-'Summer Peak 2015-01-15'!IM41","v":0},{"$f":"Summer!DA41-'Summer Peak 2015-01-15'!IN41","v":0},{"$f":"Summer!DB41-'Summer Peak 2015-01-15'!IO41","v":0},{"$f":"Summer!DC41-'Summer Peak 2015-01-15'!IP41","v":0},{"$f":"Summer!DD41-'Summer Peak 2015-01-15'!IQ41","v":0},{"$f":"Summer!DE41-'Summer Peak 2015-01-15'!IR41","v":0},{"$f":"Summer!DF41-'Summer Peak 2015-01-15'!IS41","v":0},{"$f":"Summer!DG41-'Summer Peak 2015-01-15'!IT41","v":0},{"$f":"Summer!DH41-'Summer Peak 2015-01-15'!IU41","v":0},{"$f":"Summer!DI41-'Summer Peak 2015-01-15'!IV41","v":0},{"$f":"Summer!DJ41-'Summer Peak 2015-01-15'!IW41","v":0},{"$f":"Summer!DK41-'Summer Peak 2015-01-15'!IX41","v":0},{"$f":"Summer!DL41-'Summer Peak 2015-01-15'!IY41","v":0},{"$f":"Summer!DM41-'Summer Peak 2015-01-15'!IZ41","v":0},{"$f":"Summer!DN41-'Summer Peak 2015-01-15'!JA41","v":0},{"$f":"Summer!DO41-'Summer Peak 2015-01-15'!JB41","v":0},{"$f":"Summer!DP41-'Summer Peak 2015-01-15'!JC41","v":0},{"$f":"Summer!DQ41-'Summer Peak 2015-01-15'!JD41","v":0},{"$f":"Summer!DR41-'Summer Peak 2015-01-15'!JE41","v":0},{"$f":"Summer!DS41-'Summer Peak 2015-01-15'!JF41","v":0}]
[null,"PSL2",{"$f":"Summer!C42-'Summer Peak 2015-01-15'!EP42","v":0},{"$f":"Summer!D42-'Summer Peak 2015-01-15'!EQ42","v":0},{"$f":"Summer!E42-'Summer Peak 2015-01-15'!ER42","v":0},{"$f":"Summer!F42-'Summer Peak 2015-01-15'!ES42","v":0},{"$f":"Summer!G42-'Summer Peak 2015-01-15'!ET42","v":0},{"$f":"Summer!H42-'Summer Peak 2015-01-15'!EU42","v":0},{"$f":"Summer!I42-'Summer Peak 2015-01-15'!EV42","v":0},{"$f":"Summer!J42-'Summer Peak 2015-01-15'!EW42","v":0},{"$f":"Summer!K42-'Summer Peak 2015-01-15'!EX42","v":0},{"$f":"Summer!L42-'Summer Peak 2015-01-15'!EY42","v":0},{"$f":"Summer!M42-'Summer Peak 2015-01-15'!EZ42","v":0},{"$f":"Summer!N42-'Summer Peak 2015-01-15'!FA42","v":0},{"$f":"Summer!O42-'Summer Peak 2015-01-15'!FB42","v":0},{"$f":"Summer!P42-'Summer Peak 2015-01-15'!FC42","v":0},{"$f":"Summer!Q42-'Summer Peak 2015-01-15'!FD42","v":0},{"$f":"Summer!R42-'Summer Peak 2015-01-15'!FE42","v":0},{"$f":"Summer!S42-'Summer Peak 2015-01-15'!FF42","v":0},{"$f":"Summer!T42-'Summer Peak 2015-01-15'!FG42","v":0},{"$f":"Summer!U42-'Summer Peak 2015-01-15'!FH42","v":0},{"$f":"Summer!V42-'Summer Peak 2015-01-15'!FI42","v":0},{"$f":"Summer!W42-'Summer Peak 2015-01-15'!FJ42","v":0},{"$f":"Summer!X42-'Summer Peak 2015-01-15'!FK42","v":0},{"$f":"Summer!Y42-'Summer Peak 2015-01-15'!FL42","v":0},{"$f":"Summer!Z42-'Summer Peak 2015-01-15'!FM42","v":0},{"$f":"Summer!AA42-'Summer Peak 2015-01-15'!FN42","v":0},{"$f":"Summer!AB42-'Summer Peak 2015-01-15'!FO42","v":0},{"$f":"Summer!AC42-'Summer Peak 2015-01-15'!FP42","v":0},{"$f":"Summer!AD42-'Summer Peak 2015-01-15'!FQ42","v":0},{"$f":"Summer!AE42-'Summer Peak 2015-01-15'!FR42","v":0},{"$f":"Summer!AF42-'Summer Peak 2015-01-15'!FS42","v":0},{"$f":"Summer!AG42-'Summer Peak 2015-01-15'!FT42","v":0},{"$f":"Summer!AH42-'Summer Peak 2015-01-15'!FU42","v":0},{"$f":"Summer!AI42-'Summer Peak 2015-01-15'!FV42","v":0},{"$f":"Summer!AJ42-'Summer Peak 2015-01-15'!FW42","v":0},{"$f":"Summer!AK42-'Summer Peak 2015-01-15'!FX42","v":0},{"$f":"Summer!AL42-'Summer Peak 2015-01-15'!FY42","v":0},{"$f":"Summer!AM42-'Summer Peak 2015-01-15'!FZ42","v":0},{"$f":"Summer!AN42-'Summer Peak 2015-01-15'!GA42","v":0},{"$f":"Summer!AO42-'Summer Peak 2015-01-15'!GB42","v":0},{"$f":"Summer!AP42-'Summer Peak 2015-01-15'!GC42","v":0},{"$f":"Summer!AQ42-'Summer Peak 2015-01-15'!GD42","v":0},{"$f":"Summer!AR42-'Summer Peak 2015-01-15'!GE42","v":0},{"$f":"Summer!AS42-'Summer Peak 2015-01-15'!GF42","v":0},{"$f":"Summer!AT42-'Summer Peak 2015-01-15'!GG42","v":0},{"$f":"Summer!AU42-'Summer Peak 2015-01-15'!GH42","v":0},{"$f":"Summer!AV42-'Summer Peak 2015-01-15'!GI42","v":0},{"$f":"Summer!AW42-'Summer Peak 2015-01-15'!GJ42","v":0},{"$f":"Summer!AX42-'Summer Peak 2015-01-15'!GK42","v":0},{"$f":"Summer!AY42-'Summer Peak 2015-01-15'!GL42","v":0},{"$f":"Summer!AZ42-'Summer Peak 2015-01-15'!GM42","v":0},{"$f":"Summer!BA42-'Summer Peak 2015-01-15'!GN42","v":0},{"$f":"Summer!BB42-'Summer Peak 2015-01-15'!GO42","v":0},{"$f":"Summer!BC42-'Summer Peak 2015-01-15'!GP42","v":0},{"$f":"Summer!BD42-'Summer Peak 2015-01-15'!GQ42","v":0},{"$f":"Summer!BE42-'Summer Peak 2015-01-15'!GR42","v":0},{"$f":"Summer!BF42-'Summer Peak 2015-01-15'!GS42","v":0},{"$f":"Summer!BG42-'Summer Peak 2015-01-15'!GT42","v":0},{"$f":"Summer!BH42-'Summer Peak 2015-01-15'!GU42","v":0},{"$f":"Summer!BI42-'Summer Peak 2015-01-15'!GV42","v":0},{"$f":"Summer!BJ42-'Summer Peak 2015-01-15'!GW42","v":0},{"$f":"Summer!BK42-'Summer Peak 2015-01-15'!GX42","v":0},{"$f":"Summer!BL42-'Summer Peak 2015-01-15'!GY42","v":0},{"$f":"Summer!BM42-'Summer Peak 2015-01-15'!GZ42","v":0},{"$f":"Summer!BN42-'Summer Peak 2015-01-15'!HA42","v":0},{"$f":"Summer!BO42-'Summer Peak 2015-01-15'!HB42","v":0},{"$f":"Summer!BP42-'Summer Peak 2015-01-15'!HC42","v":0},{"$f":"Summer!BQ42-'Summer Peak 2015-01-15'!HD42","v":0},{"$f":"Summer!BR42-'Summer Peak 2015-01-15'!HE42","v":0},{"$f":"Summer!BS42-'Summer Peak 2015-01-15'!HF42","v":0},{"$f":"Summer!BT42-'Summer Peak 2015-01-15'!HG42","v":0},{"$f":"Summer!BU42-'Summer Peak 2015-01-15'!HH42","v":0},{"$f":"Summer!BV42-'Summer Peak 2015-01-15'!HI42","v":0},{"$f":"Summer!BW42-'Summer Peak 2015-01-15'!HJ42","v":0},{"$f":"Summer!BX42-'Summer Peak 2015-01-15'!HK42","v":0},{"$f":"Summer!BY42-'Summer Peak 2015-01-15'!HL42","v":0},{"$f":"Summer!BZ42-'Summer Peak 2015-01-15'!HM42","v":0},{"$f":"Summer!CA42-'Summer Peak 2015-01-15'!HN42","v":0},{"$f":"Summer!CB42-'Summer Peak 2015-01-15'!HO42","v":0},{"$f":"Summer!CC42-'Summer Peak 2015-01-15'!HP42","v":0},{"$f":"Summer!CD42-'Summer Peak 2015-01-15'!HQ42","v":0},{"$f":"Summer!CE42-'Summer Peak 2015-01-15'!HR42","v":0},{"$f":"Summer!CF42-'Summer Peak 2015-01-15'!HS42","v":0},{"$f":"Summer!CG42-'Summer Peak 2015-01-15'!HT42","v":0},{"$f":"Summer!CH42-'Summer Peak 2015-01-15'!HU42","v":0},{"$f":"Summer!CI42-'Summer Peak 2015-01-15'!HV42","v":0},{"$f":"Summer!CJ42-'Summer Peak 2015-01-15'!HW42","v":0},{"$f":"Summer!CK42-'Summer Peak 2015-01-15'!HX42","v":0},{"$f":"Summer!CL42-'Summer Peak 2015-01-15'!HY42","v":0},{"$f":"Summer!CM42-'Summer Peak 2015-01-15'!HZ42","v":0},{"$f":"Summer!CN42-'Summer Peak 2015-01-15'!IA42","v":0},{"$f":"Summer!CO42-'Summer Peak 2015-01-15'!IB42","v":0},{"$f":"Summer!CP42-'Summer Peak 2015-01-15'!IC42","v":0},{"$f":"Summer!CQ42-'Summer Peak 2015-01-15'!ID42","v":0},{"$f":"Summer!CR42-'Summer Peak 2015-01-15'!IE42","v":0},{"$f":"Summer!CS42-'Summer Peak 2015-01-15'!IF42","v":0},{"$f":"Summer!CT42-'Summer Peak 2015-01-15'!IG42","v":0},{"$f":"Summer!CU42-'Summer Peak 2015-01-15'!IH42","v":0},{"$f":"Summer!CV42-'Summer Peak 2015-01-15'!II42","v":0},{"$f":"Summer!CW42-'Summer Peak 2015-01-15'!IJ42","v":0},{"$f":"Summer!CX42-'Summer Peak 2015-01-15'!IK42","v":0},{"$f":"Summer!CY42-'Summer Peak 2015-01-15'!IL42","v":0},{"$f":"Summer!CZ42-'Summer Peak 2015-01-15'!IM42","v":0},{"$f":"Summer!DA42-'Summer Peak 2015-01-15'!IN42","v":0},{"$f":"Summer!DB42-'Summer Peak 2015-01-15'!IO42","v":0},{"$f":"Summer!DC42-'Summer Peak 2015-01-15'!IP42","v":0},{"$f":"Summer!DD42-'Summer Peak 2015-01-15'!IQ42","v":0},{"$f":"Summer!DE42-'Summer Peak 2015-01-15'!IR42","v":0},{"$f":"Summer!DF42-'Summer Peak 2015-01-15'!IS42","v":0},{"$f":"Summer!DG42-'Summer Peak 2015-01-15'!IT42","v":0},{"$f":"Summer!DH42-'Summer Peak 2015-01-15'!IU42","v":0},{"$f":"Summer!DI42-'Summer Peak 2015-01-15'!IV42","v":0},{"$f":"Summer!DJ42-'Summer Peak 2015-01-15'!IW42","v":0},{"$f":"Summer!DK42-'Summer Peak 2015-01-15'!IX42","v":0},{"$f":"Summer!DL42-'Summer Peak 2015-01-15'!IY42","v":0},{"$f":"Summer!DM42-'Summer Peak 2015-01-15'!IZ42","v":0},{"$f":"Summer!DN42-'Summer Peak 2015-01-15'!JA42","v":0},{"$f":"Summer!DO42-'Summer Peak 2015-01-15'!JB42","v":0},{"$f":"Summer!DP42-'Summer Peak 2015-01-15'!JC42","v":0},{"$f":"Summer!DQ42-'Summer Peak 2015-01-15'!JD42","v":0},{"$f":"Summer!DR42-'Summer Peak 2015-01-15'!JE42","v":0},{"$f":"Summer!DS42-'Summer Peak 2015-01-15'!JF42","v":0}]
[null,"PSN3",{"$f":"Summer!C43-'Summer Peak 2015-01-15'!EP43","v":0},{"$f":"Summer!D43-'Summer Peak 2015-01-15'!EQ43","v":0},{"$f":"Summer!E43-'Summer Peak 2015-01-15'!ER43","v":0},{"$f":"Summer!F43-'Summer Peak 2015-01-15'!ES43","v":0},{"$f":"Summer!G43-'Summer Peak 2015-01-15'!ET43","v":0},{"$f":"Summer!H43-'Summer Peak 2015-01-15'!EU43","v":0},{"$f":"Summer!I43-'Summer Peak 2015-01-15'!EV43","v":0},{"$f":"Summer!J43-'Summer Peak 2015-01-15'!EW43","v":0},{"$f":"Summer!K43-'Summer Peak 2015-01-15'!EX43","v":0},{"$f":"Summer!L43-'Summer Peak 2015-01-15'!EY43","v":0},{"$f":"Summer!M43-'Summer Peak 2015-01-15'!EZ43","v":0},{"$f":"Summer!N43-'Summer Peak 2015-01-15'!FA43","v":0},{"$f":"Summer!O43-'Summer Peak 2015-01-15'!FB43","v":0},{"$f":"Summer!P43-'Summer Peak 2015-01-15'!FC43","v":0},{"$f":"Summer!Q43-'Summer Peak 2015-01-15'!FD43","v":0},{"$f":"Summer!R43-'Summer Peak 2015-01-15'!FE43","v":0},{"$f":"Summer!S43-'Summer Peak 2015-01-15'!FF43","v":0},{"$f":"Summer!T43-'Summer Peak 2015-01-15'!FG43","v":0},{"$f":"Summer!U43-'Summer Peak 2015-01-15'!FH43","v":0},{"$f":"Summer!V43-'Summer Peak 2015-01-15'!FI43","v":0},{"$f":"Summer!W43-'Summer Peak 2015-01-15'!FJ43","v":0},{"$f":"Summer!X43-'Summer Peak 2015-01-15'!FK43","v":0},{"$f":"Summer!Y43-'Summer Peak 2015-01-15'!FL43","v":0},{"$f":"Summer!Z43-'Summer Peak 2015-01-15'!FM43","v":0},{"$f":"Summer!AA43-'Summer Peak 2015-01-15'!FN43","v":0},{"$f":"Summer!AB43-'Summer Peak 2015-01-15'!FO43","v":0},{"$f":"Summer!AC43-'Summer Peak 2015-01-15'!FP43","v":0},{"$f":"Summer!AD43-'Summer Peak 2015-01-15'!FQ43","v":0},{"$f":"Summer!AE43-'Summer Peak 2015-01-15'!FR43","v":0},{"$f":"Summer!AF43-'Summer Peak 2015-01-15'!FS43","v":0},{"$f":"Summer!AG43-'Summer Peak 2015-01-15'!FT43","v":0},{"$f":"Summer!AH43-'Summer Peak 2015-01-15'!FU43","v":0},{"$f":"Summer!AI43-'Summer Peak 2015-01-15'!FV43","v":0},{"$f":"Summer!AJ43-'Summer Peak 2015-01-15'!FW43","v":0},{"$f":"Summer!AK43-'Summer Peak 2015-01-15'!FX43","v":0},{"$f":"Summer!AL43-'Summer Peak 2015-01-15'!FY43","v":0},{"$f":"Summer!AM43-'Summer Peak 2015-01-15'!FZ43","v":0},{"$f":"Summer!AN43-'Summer Peak 2015-01-15'!GA43","v":0},{"$f":"Summer!AO43-'Summer Peak 2015-01-15'!GB43","v":0},{"$f":"Summer!AP43-'Summer Peak 2015-01-15'!GC43","v":0},{"$f":"Summer!AQ43-'Summer Peak 2015-01-15'!GD43","v":0},{"$f":"Summer!AR43-'Summer Peak 2015-01-15'!GE43","v":0},{"$f":"Summer!AS43-'Summer Peak 2015-01-15'!GF43","v":0},{"$f":"Summer!AT43-'Summer Peak 2015-01-15'!GG43","v":0},{"$f":"Summer!AU43-'Summer Peak 2015-01-15'!GH43","v":0},{"$f":"Summer!AV43-'Summer Peak 2015-01-15'!GI43","v":0},{"$f":"Summer!AW43-'Summer Peak 2015-01-15'!GJ43","v":0},{"$f":"Summer!AX43-'Summer Peak 2015-01-15'!GK43","v":0},{"$f":"Summer!AY43-'Summer Peak 2015-01-15'!GL43","v":0},{"$f":"Summer!AZ43-'Summer Peak 2015-01-15'!GM43","v":0},{"$f":"Summer!BA43-'Summer Peak 2015-01-15'!GN43","v":0},{"$f":"Summer!BB43-'Summer Peak 2015-01-15'!GO43","v":0},{"$f":"Summer!BC43-'Summer Peak 2015-01-15'!GP43","v":0},{"$f":"Summer!BD43-'Summer Peak 2015-01-15'!GQ43","v":0},{"$f":"Summer!BE43-'Summer Peak 2015-01-15'!GR43","v":0},{"$f":"Summer!BF43-'Summer Peak 2015-01-15'!GS43","v":0},{"$f":"Summer!BG43-'Summer Peak 2015-01-15'!GT43","v":0},{"$f":"Summer!BH43-'Summer Peak 2015-01-15'!GU43","v":0},{"$f":"Summer!BI43-'Summer Peak 2015-01-15'!GV43","v":0},{"$f":"Summer!BJ43-'Summer Peak 2015-01-15'!GW43","v":0},{"$f":"Summer!BK43-'Summer Peak 2015-01-15'!GX43","v":0},{"$f":"Summer!BL43-'Summer Peak 2015-01-15'!GY43","v":0},{"$f":"Summer!BM43-'Summer Peak 2015-01-15'!GZ43","v":0},{"$f":"Summer!BN43-'Summer Peak 2015-01-15'!HA43","v":0},{"$f":"Summer!BO43-'Summer Peak 2015-01-15'!HB43","v":0},{"$f":"Summer!BP43-'Summer Peak 2015-01-15'!HC43","v":0},{"$f":"Summer!BQ43-'Summer Peak 2015-01-15'!HD43","v":0},{"$f":"Summer!BR43-'Summer Peak 2015-01-15'!HE43","v":0},{"$f":"Summer!BS43-'Summer Peak 2015-01-15'!HF43","v":0},{"$f":"Summer!BT43-'Summer Peak 2015-01-15'!HG43","v":0},{"$f":"Summer!BU43-'Summer Peak 2015-01-15'!HH43","v":0},{"$f":"Summer!BV43-'Summer Peak 2015-01-15'!HI43","v":0},{"$f":"Summer!BW43-'Summer Peak 2015-01-15'!HJ43","v":0},{"$f":"Summer!BX43-'Summer Peak 2015-01-15'!HK43","v":0},{"$f":"Summer!BY43-'Summer Peak 2015-01-15'!HL43","v":0},{"$f":"Summer!BZ43-'Summer Peak 2015-01-15'!HM43","v":0},{"$f":"Summer!CA43-'Summer Peak 2015-01-15'!HN43","v":0},{"$f":"Summer!CB43-'Summer Peak 2015-01-15'!HO43","v":0},{"$f":"Summer!CC43-'Summer Peak 2015-01-15'!HP43","v":0},{"$f":"Summer!CD43-'Summer Peak 2015-01-15'!HQ43","v":0},{"$f":"Summer!CE43-'Summer Peak 2015-01-15'!HR43","v":0},{"$f":"Summer!CF43-'Summer Peak 2015-01-15'!HS43","v":0},{"$f":"Summer!CG43-'Summer Peak 2015-01-15'!HT43","v":0},{"$f":"Summer!CH43-'Summer Peak 2015-01-15'!HU43","v":0},{"$f":"Summer!CI43-'Summer Peak 2015-01-15'!HV43","v":0},{"$f":"Summer!CJ43-'Summer Peak 2015-01-15'!HW43","v":0},{"$f":"Summer!CK43-'Summer Peak 2015-01-15'!HX43","v":0},{"$f":"Summer!CL43-'Summer Peak 2015-01-15'!HY43","v":0},{"$f":"Summer!CM43-'Summer Peak 2015-01-15'!HZ43","v":0},{"$f":"Summer!CN43-'Summer Peak 2015-01-15'!IA43","v":0},{"$f":"Summer!CO43-'Summer Peak 2015-01-15'!IB43","v":0},{"$f":"Summer!CP43-'Summer Peak 2015-01-15'!IC43","v":0},{"$f":"Summer!CQ43-'Summer Peak 2015-01-15'!ID43","v":0},{"$f":"Summer!CR43-'Summer Peak 2015-01-15'!IE43","v":0},{"$f":"Summer!CS43-'Summer Peak 2015-01-15'!IF43","v":0},{"$f":"Summer!CT43-'Summer Peak 2015-01-15'!IG43","v":0},{"$f":"Summer!CU43-'Summer Peak 2015-01-15'!IH43","v":0},{"$f":"Summer!CV43-'Summer Peak 2015-01-15'!II43","v":0},{"$f":"Summer!CW43-'Summer Peak 2015-01-15'!IJ43","v":0},{"$f":"Summer!CX43-'Summer Peak 2015-01-15'!IK43","v":0},{"$f":"Summer!CY43-'Summer Peak 2015-01-15'!IL43","v":0},{"$f":"Summer!CZ43-'Summer Peak 2015-01-15'!IM43","v":0},{"$f":"Summer!DA43-'Summer Peak 2015-01-15'!IN43","v":0},{"$f":"Summer!DB43-'Summer Peak 2015-01-15'!IO43","v":0},{"$f":"Summer!DC43-'Summer Peak 2015-01-15'!IP43","v":0},{"$f":"Summer!DD43-'Summer Peak 2015-01-15'!IQ43","v":0},{"$f":"Summer!DE43-'Summer Peak 2015-01-15'!IR43","v":0},{"$f":"Summer!DF43-'Summer Peak 2015-01-15'!IS43","v":0},{"$f":"Summer!DG43-'Summer Peak 2015-01-15'!IT43","v":0},{"$f":"Summer!DH43-'Summer Peak 2015-01-15'!IU43","v":0},{"$f":"Summer!DI43-'Summer Peak 2015-01-15'!IV43","v":0},{"$f":"Summer!DJ43-'Summer Peak 2015-01-15'!IW43","v":0},{"$f":"Summer!DK43-'Summer Peak 2015-01-15'!IX43","v":0},{"$f":"Summer!DL43-'Summer Peak 2015-01-15'!IY43","v":0},{"$f":"Summer!DM43-'Summer Peak 2015-01-15'!IZ43","v":0},{"$f":"Summer!DN43-'Summer Peak 2015-01-15'!JA43","v":0},{"$f":"Summer!DO43-'Summer Peak 2015-01-15'!JB43","v":0},{"$f":"Summer!DP43-'Summer Peak 2015-01-15'!JC43","v":0},{"$f":"Summer!DQ43-'Summer Peak 2015-01-15'!JD43","v":0},{"$f":"Summer!DR43-'Summer Peak 2015-01-15'!JE43","v":0},{"$f":"Summer!DS43-'Summer Peak 2015-01-15'!JF43","v":0}]
[null,"PSR4",{"$f":"Summer!C44-'Summer Peak 2015-01-15'!EP44","v":0},{"$f":"Summer!D44-'Summer Peak 2015-01-15'!EQ44","v":0},{"$f":"Summer!E44-'Summer Peak 2015-01-15'!ER44","v":0},{"$f":"Summer!F44-'Summer Peak 2015-01-15'!ES44","v":0},{"$f":"Summer!G44-'Summer Peak 2015-01-15'!ET44","v":0},{"$f":"Summer!H44-'Summer Peak 2015-01-15'!EU44","v":0},{"$f":"Summer!I44-'Summer Peak 2015-01-15'!EV44","v":0},{"$f":"Summer!J44-'Summer Peak 2015-01-15'!EW44","v":0},{"$f":"Summer!K44-'Summer Peak 2015-01-15'!EX44","v":0},{"$f":"Summer!L44-'Summer Peak 2015-01-15'!EY44","v":0},{"$f":"Summer!M44-'Summer Peak 2015-01-15'!EZ44","v":0},{"$f":"Summer!N44-'Summer Peak 2015-01-15'!FA44","v":0},{"$f":"Summer!O44-'Summer Peak 2015-01-15'!FB44","v":0},{"$f":"Summer!P44-'Summer Peak 2015-01-15'!FC44","v":0},{"$f":"Summer!Q44-'Summer Peak 2015-01-15'!FD44","v":0},{"$f":"Summer!R44-'Summer Peak 2015-01-15'!FE44","v":0},{"$f":"Summer!S44-'Summer Peak 2015-01-15'!FF44","v":0},{"$f":"Summer!T44-'Summer Peak 2015-01-15'!FG44","v":0},{"$f":"Summer!U44-'Summer Peak 2015-01-15'!FH44","v":0},{"$f":"Summer!V44-'Summer Peak 2015-01-15'!FI44","v":0},{"$f":"Summer!W44-'Summer Peak 2015-01-15'!FJ44","v":0},{"$f":"Summer!X44-'Summer Peak 2015-01-15'!FK44","v":0},{"$f":"Summer!Y44-'Summer Peak 2015-01-15'!FL44","v":0},{"$f":"Summer!Z44-'Summer Peak 2015-01-15'!FM44","v":0},{"$f":"Summer!AA44-'Summer Peak 2015-01-15'!FN44","v":0},{"$f":"Summer!AB44-'Summer Peak 2015-01-15'!FO44","v":0},{"$f":"Summer!AC44-'Summer Peak 2015-01-15'!FP44","v":0},{"$f":"Summer!AD44-'Summer Peak 2015-01-15'!FQ44","v":-1},{"$f":"Summer!AE44-'Summer Peak 2015-01-15'!FR44","v":-1},{"$f":"Summer!AF44-'Summer Peak 2015-01-15'!FS44","v":-1},{"$f":"Summer!AG44-'Summer Peak 2015-01-15'!FT44","v":-1},{"$f":"Summer!AH44-'Summer Peak 2015-01-15'!FU44","v":-1},{"$f":"Summer!AI44-'Summer Peak 2015-01-15'!FV44","v":-1},{"$f":"Summer!AJ44-'Summer Peak 2015-01-15'!FW44","v":-1},{"$f":"Summer!AK44-'Summer Peak 2015-01-15'!FX44","v":-1},{"$f":"Summer!AL44-'Summer Peak 2015-01-15'!FY44","v":-1},{"$f":"Summer!AM44-'Summer Peak 2015-01-15'!FZ44","v":-1},{"$f":"Summer!AN44-'Summer Peak 2015-01-15'!GA44","v":-1},{"$f":"Summer!AO44-'Summer Peak 2015-01-15'!GB44","v":-1},{"$f":"Summer!AP44-'Summer Peak 2015-01-15'!GC44","v":-1},{"$f":"Summer!AQ44-'Summer Peak 2015-01-15'!GD44","v":-1},{"$f":"Summer!AR44-'Summer Peak 2015-01-15'!GE44","v":-1},{"$f":"Summer!AS44-'Summer Peak 2015-01-15'!GF44","v":-1},{"$f":"Summer!AT44-'Summer Peak 2015-01-15'!GG44","v":-1},{"$f":"Summer!AU44-'Summer Peak 2015-01-15'!GH44","v":-1},{"$f":"Summer!AV44-'Summer Peak 2015-01-15'!GI44","v":-1},{"$f":"Summer!AW44-'Summer Peak 2015-01-15'!GJ44","v":-1},{"$f":"Summer!AX44-'Summer Peak 2015-01-15'!GK44","v":-1},{"$f":"Summer!AY44-'Summer Peak 2015-01-15'!GL44","v":-1},{"$f":"Summer!AZ44-'Summer Peak 2015-01-15'!GM44","v":-1},{"$f":"Summer!BA44-'Summer Peak 2015-01-15'!GN44","v":-1},{"$f":"Summer!BB44-'Summer Peak 2015-01-15'!GO44","v":-1},{"$f":"Summer!BC44-'Summer Peak 2015-01-15'!GP44","v":-1},{"$f":"Summer!BD44-'Summer Peak 2015-01-15'!GQ44","v":-1},{"$f":"Summer!BE44-'Summer Peak 2015-01-15'!GR44","v":-1},{"$f":"Summer!BF44-'Summer Peak 2015-01-15'!GS44","v":-1},{"$f":"Summer!BG44-'Summer Peak 2015-01-15'!GT44","v":-1},{"$f":"Summer!BH44-'Summer Peak 2015-01-15'!GU44","v":-1},{"$f":"Summer!BI44-'Summer Peak 2015-01-15'!GV44","v":-1},{"$f":"Summer!BJ44-'Summer Peak 2015-01-15'!GW44","v":-1},{"$f":"Summer!BK44-'Summer Peak 2015-01-15'!GX44","v":-1},{"$f":"Summer!BL44-'Summer Peak 2015-01-15'!GY44","v":-1},{"$f":"Summer!BM44-'Summer Peak 2015-01-15'!GZ44","v":-1},{"$f":"Summer!BN44-'Summer Peak 2015-01-15'!HA44","v":-1},{"$f":"Summer!BO44-'Summer Peak 2015-01-15'!HB44","v":-1},{"$f":"Summer!BP44-'Summer Peak 2015-01-15'!HC44","v":-1},{"$f":"Summer!BQ44-'Summer Peak 2015-01-15'!HD44","v":-1},{"$f":"Summer!BR44-'Summer Peak 2015-01-15'!HE44","v":-1},{"$f":"Summer!BS44-'Summer Peak 2015-01-15'!HF44","v":-1},{"$f":"Summer!BT44-'Summer Peak 2015-01-15'!HG44","v":-1},{"$f":"Summer!BU44-'Summer Peak 2015-01-15'!HH44","v":-1},{"$f":"Summer!BV44-'Summer Peak 2015-01-15'!HI44","v":-1},{"$f":"Summer!BW44-'Summer Peak 2015-01-15'!HJ44","v":-1},{"$f":"Summer!BX44-'Summer Peak 2015-01-15'!HK44","v":-1},{"$f":"Summer!BY44-'Summer Peak 2015-01-15'!HL44","v":-1},{"$f":"Summer!BZ44-'Summer Peak 2015-01-15'!HM44","v":-1},{"$f":"Summer!CA44-'Summer Peak 2015-01-15'!HN44","v":-1},{"$f":"Summer!CB44-'Summer Peak 2015-01-15'!HO44","v":-1},{"$f":"Summer!CC44-'Summer Peak 2015-01-15'!HP44","v":-1},{"$f":"Summer!CD44-'Summer Peak 2015-01-15'!HQ44","v":-1},{"$f":"Summer!CE44-'Summer Peak 2015-01-15'!HR44","v":-1},{"$f":"Summer!CF44-'Summer Peak 2015-01-15'!HS44","v":-1},{"$f":"Summer!CG44-'Summer Peak 2015-01-15'!HT44","v":-1},{"$f":"Summer!CH44-'Summer Peak 2015-01-15'!HU44","v":-1},{"$f":"Summer!CI44-'Summer Peak 2015-01-15'!HV44","v":-1},{"$f":"Summer!CJ44-'Summer Peak 2015-01-15'!HW44","v":-1},{"$f":"Summer!CK44-'Summer Peak 2015-01-15'!HX44","v":-1},{"$f":"Summer!CL44-'Summer Peak 2015-01-15'!HY44","v":-1},{"$f":"Summer!CM44-'Summer Peak 2015-01-15'!HZ44","v":-1},{"$f":"Summer!CN44-'Summer Peak 2015-01-15'!IA44","v":-1},{"$f":"Summer!CO44-'Summer Peak 2015-01-15'!IB44","v":-1},{"$f":"Summer!CP44-'Summer Peak 2015-01-15'!IC44","v":-1},{"$f":"Summer!CQ44-'Summer Peak 2015-01-15'!ID44","v":-1},{"$f":"Summer!CR44-'Summer Peak 2015-01-15'!IE44","v":-1},{"$f":"Summer!CS44-'Summer Peak 2015-01-15'!IF44","v":-1},{"$f":"Summer!CT44-'Summer Peak 2015-01-15'!IG44","v":-1},{"$f":"Summer!CU44-'Summer Peak 2015-01-15'!IH44","v":-1},{"$f":"Summer!CV44-'Summer Peak 2015-01-15'!II44","v":-1},{"$f":"Summer!CW44-'Summer Peak 2015-01-15'!IJ44","v":-1},{"$f":"Summer!CX44-'Summer Peak 2015-01-15'!IK44","v":-1},{"$f":"Summer!CY44-'Summer Peak 2015-01-15'!IL44","v":-1},{"$f":"Summer!CZ44-'Summer Peak 2015-01-15'!IM44","v":-1},{"$f":"Summer!DA44-'Summer Peak 2015-01-15'!IN44","v":-1},{"$f":"Summer!DB44-'Summer Peak 2015-01-15'!IO44","v":-1},{"$f":"Summer!DC44-'Summer Peak 2015-01-15'!IP44","v":-1},{"$f":"Summer!DD44-'Summer Peak 2015-01-15'!IQ44","v":-1},{"$f":"Summer!DE44-'Summer Peak 2015-01-15'!IR44","v":-1},{"$f":"Summer!DF44-'Summer Peak 2015-01-15'!IS44","v":-1},{"$f":"Summer!DG44-'Summer Peak 2015-01-15'!IT44","v":-1},{"$f":"Summer!DH44-'Summer Peak 2015-01-15'!IU44","v":-1},{"$f":"Summer!DI44-'Summer Peak 2015-01-15'!IV44","v":-1},{"$f":"Summer!DJ44-'Summer Peak 2015-01-15'!IW44","v":-1},{"$f":"Summer!DK44-'Summer Peak 2015-01-15'!IX44","v":-1},{"$f":"Summer!DL44-'Summer Peak 2015-01-15'!IY44","v":-1},{"$f":"Summer!DM44-'Summer Peak 2015-01-15'!IZ44","v":-1},{"$f":"Summer!DN44-'Summer Peak 2015-01-15'!JA44","v":-1},{"$f":"Summer!DO44-'Summer Peak 2015-01-15'!JB44","v":-1},{"$f":"Summer!DP44-'Summer Peak 2015-01-15'!JC44","v":-1},{"$f":"Summer!DQ44-'Summer Peak 2015-01-15'!JD44","v":-1},{"$f":"Summer!DR44-'Summer Peak 2015-01-15'!JE44","v":-1},{"$f":"Summer!DS44-'Summer Peak 2015-01-15'!JF44","v":-1}]
[null,"PSR5",{"$f":"Summer!C45-'Summer Peak 2015-01-15'!EP45","v":0},{"$f":"Summer!D45-'Summer Peak 2015-01-15'!EQ45","v":0},{"$f":"Summer!E45-'Summer Peak 2015-01-15'!ER45","v":0},{"$f":"Summer!F45-'Summer Peak 2015-01-15'!ES45","v":0},{"$f":"Summer!G45-'Summer Peak 2015-01-15'!ET45","v":0},{"$f":"Summer!H45-'Summer Peak 2015-01-15'!EU45","v":0},{"$f":"Summer!I45-'Summer Peak 2015-01-15'!EV45","v":0},{"$f":"Summer!J45-'Summer Peak 2015-01-15'!EW45","v":0},{"$f":"Summer!K45-'Summer Peak 2015-01-15'!EX45","v":0},{"$f":"Summer!L45-'Summer Peak 2015-01-15'!EY45","v":0},{"$f":"Summer!M45-'Summer Peak 2015-01-15'!EZ45","v":0},{"$f":"Summer!N45-'Summer Peak 2015-01-15'!FA45","v":0},{"$f":"Summer!O45-'Summer Peak 2015-01-15'!FB45","v":0},{"$f":"Summer!P45-'Summer Peak 2015-01-15'!FC45","v":0},{"$f":"Summer!Q45-'Summer Peak 2015-01-15'!FD45","v":0},{"$f":"Summer!R45-'Summer Peak 2015-01-15'!FE45","v":0},{"$f":"Summer!S45-'Summer Peak 2015-01-15'!FF45","v":0},{"$f":"Summer!T45-'Summer Peak 2015-01-15'!FG45","v":0},{"$f":"Summer!U45-'Summer Peak 2015-01-15'!FH45","v":0},{"$f":"Summer!V45-'Summer Peak 2015-01-15'!FI45","v":0},{"$f":"Summer!W45-'Summer Peak 2015-01-15'!FJ45","v":0},{"$f":"Summer!X45-'Summer Peak 2015-01-15'!FK45","v":0},{"$f":"Summer!Y45-'Summer Peak 2015-01-15'!FL45","v":0},{"$f":"Summer!Z45-'Summer Peak 2015-01-15'!FM45","v":0},{"$f":"Summer!AA45-'Summer Peak 2015-01-15'!FN45","v":0},{"$f":"Summer!AB45-'Summer Peak 2015-01-15'!FO45","v":0},{"$f":"Summer!AC45-'Summer Peak 2015-01-15'!FP45","v":0},{"$f":"Summer!AD45-'Summer Peak 2015-01-15'!FQ45","v":0},{"$f":"Summer!AE45-'Summer Peak 2015-01-15'!FR45","v":0},{"$f":"Summer!AF45-'Summer Peak 2015-01-15'!FS45","v":0},{"$f":"Summer!AG45-'Summer Peak 2015-01-15'!FT45","v":0},{"$f":"Summer!AH45-'Summer Peak 2015-01-15'!FU45","v":0},{"$f":"Summer!AI45-'Summer Peak 2015-01-15'!FV45","v":0},{"$f":"Summer!AJ45-'Summer Peak 2015-01-15'!FW45","v":0},{"$f":"Summer!AK45-'Summer Peak 2015-01-15'!FX45","v":0},{"$f":"Summer!AL45-'Summer Peak 2015-01-15'!FY45","v":0},{"$f":"Summer!AM45-'Summer Peak 2015-01-15'!FZ45","v":0},{"$f":"Summer!AN45-'Summer Peak 2015-01-15'!GA45","v":0},{"$f":"Summer!AO45-'Summer Peak 2015-01-15'!GB45","v":0},{"$f":"Summer!AP45-'Summer Peak 2015-01-15'!GC45","v":0},{"$f":"Summer!AQ45-'Summer Peak 2015-01-15'!GD45","v":0},{"$f":"Summer!AR45-'Summer Peak 2015-01-15'!GE45","v":0},{"$f":"Summer!AS45-'Summer Peak 2015-01-15'!GF45","v":-1},{"$f":"Summer!AT45-'Summer Peak 2015-01-15'!GG45","v":-1},{"$f":"Summer!AU45-'Summer Peak 2015-01-15'!GH45","v":-1},{"$f":"Summer!AV45-'Summer Peak 2015-01-15'!GI45","v":-1},{"$f":"Summer!AW45-'Summer Peak 2015-01-15'!GJ45","v":-1},{"$f":"Summer!AX45-'Summer Peak 2015-01-15'!GK45","v":-1},{"$f":"Summer!AY45-'Summer Peak 2015-01-15'!GL45","v":-1},{"$f":"Summer!AZ45-'Summer Peak 2015-01-15'!GM45","v":-1},{"$f":"Summer!BA45-'Summer Peak 2015-01-15'!GN45","v":-1},{"$f":"Summer!BB45-'Summer Peak 2015-01-15'!GO45","v":-1},{"$f":"Summer!BC45-'Summer Peak 2015-01-15'!GP45","v":-1},{"$f":"Summer!BD45-'Summer Peak 2015-01-15'!GQ45","v":-1},{"$f":"Summer!BE45-'Summer Peak 2015-01-15'!GR45","v":-1},{"$f":"Summer!BF45-'Summer Peak 2015-01-15'!GS45","v":-1},{"$f":"Summer!BG45-'Summer Peak 2015-01-15'!GT45","v":-1},{"$f":"Summer!BH45-'Summer Peak 2015-01-15'!GU45","v":-1},{"$f":"Summer!BI45-'Summer Peak 2015-01-15'!GV45","v":-1},{"$f":"Summer!BJ45-'Summer Peak 2015-01-15'!GW45","v":-1},{"$f":"Summer!BK45-'Summer Peak 2015-01-15'!GX45","v":-1},{"$f":"Summer!BL45-'Summer Peak 2015-01-15'!GY45","v":-1},{"$f":"Summer!BM45-'Summer Peak 2015-01-15'!GZ45","v":-1},{"$f":"Summer!BN45-'Summer Peak 2015-01-15'!HA45","v":-1},{"$f":"Summer!BO45-'Summer Peak 2015-01-15'!HB45","v":-1},{"$f":"Summer!BP45-'Summer Peak 2015-01-15'!HC45","v":-1},{"$f":"Summer!BQ45-'Summer Peak 2015-01-15'!HD45","v":-1},{"$f":"Summer!BR45-'Summer Peak 2015-01-15'!HE45","v":-1},{"$f":"Summer!BS45-'Summer Peak 2015-01-15'!HF45","v":-1},{"$f":"Summer!BT45-'Summer Peak 2015-01-15'!HG45","v":-1},{"$f":"Summer!BU45-'Summer Peak 2015-01-15'!HH45","v":-1},{"$f":"Summer!BV45-'Summer Peak 2015-01-15'!HI45","v":-1},{"$f":"Summer!BW45-'Summer Peak 2015-01-15'!HJ45","v":-1},{"$f":"Summer!BX45-'Summer Peak 2015-01-15'!HK45","v":-1},{"$f":"Summer!BY45-'Summer Peak 2015-01-15'!HL45","v":-1},{"$f":"Summer!BZ45-'Summer Peak 2015-01-15'!HM45","v":-1},{"$f":"Summer!CA45-'Summer Peak 2015-01-15'!HN45","v":-1},{"$f":"Summer!CB45-'Summer Peak 2015-01-15'!HO45","v":-1},{"$f":"Summer!CC45-'Summer Peak 2015-01-15'!HP45","v":-1},{"$f":"Summer!CD45-'Summer Peak 2015-01-15'!HQ45","v":-1},{"$f":"Summer!CE45-'Summer Peak 2015-01-15'!HR45","v":-1},{"$f":"Summer!CF45-'Summer Peak 2015-01-15'!HS45","v":-1},{"$f":"Summer!CG45-'Summer Peak 2015-01-15'!HT45","v":-1},{"$f":"Summer!CH45-'Summer Peak 2015-01-15'!HU45","v":-1},{"$f":"Summer!CI45-'Summer Peak 2015-01-15'!HV45","v":-1},{"$f":"Summer!CJ45-'Summer Peak 2015-01-15'!HW45","v":-1},{"$f":"Summer!CK45-'Summer Peak 2015-01-15'!HX45","v":-1},{"$f":"Summer!CL45-'Summer Peak 2015-01-15'!HY45","v":-1},{"$f":"Summer!CM45-'Summer Peak 2015-01-15'!HZ45","v":-1},{"$f":"Summer!CN45-'Summer Peak 2015-01-15'!IA45","v":-1},{"$f":"Summer!CO45-'Summer Peak 2015-01-15'!IB45","v":-1},{"$f":"Summer!CP45-'Summer Peak 2015-01-15'!IC45","v":-1},{"$f":"Summer!CQ45-'Summer Peak 2015-01-15'!ID45","v":-1},{"$f":"Summer!CR45-'Summer Peak 2015-01-15'!IE45","v":-1},{"$f":"Summer!CS45-'Summer Peak 2015-01-15'!IF45","v":-1},{"$f":"Summer!CT45-'Summer Peak 2015-01-15'!IG45","v":-1},{"$f":"Summer!CU45-'Summer Peak 2015-01-15'!IH45","v":-1},{"$f":"Summer!CV45-'Summer Peak 2015-01-15'!II45","v":-1},{"$f":"Summer!CW45-'Summer Peak 2015-01-15'!IJ45","v":-1},{"$f":"Summer!CX45-'Summer Peak 2015-01-15'!IK45","v":-1},{"$f":"Summer!CY45-'Summer Peak 2015-01-15'!IL45","v":-1},{"$f":"Summer!CZ45-'Summer Peak 2015-01-15'!IM45","v":-1},{"$f":"Summer!DA45-'Summer Peak 2015-01-15'!IN45","v":-1},{"$f":"Summer!DB45-'Summer Peak 2015-01-15'!IO45","v":-1},{"$f":"Summer!DC45-'Summer Peak 2015-01-15'!IP45","v":-1},{"$f":"Summer!DD45-'Summer Peak 2015-01-15'!IQ45","v":-1},{"$f":"Summer!DE45-'Summer Peak 2015-01-15'!IR45","v":-1},{"$f":"Summer!DF45-'Summer Peak 2015-01-15'!IS45","v":-1},{"$f":"Summer!DG45-'Summer Peak 2015-01-15'!IT45","v":-1},{"$f":"Summer!DH45-'Summer Peak 2015-01-15'!IU45","v":-1},{"$f":"Summer!DI45-'Summer Peak 2015-01-15'!IV45","v":-1},{"$f":"Summer!DJ45-'Summer Peak 2015-01-15'!IW45","v":-1},{"$f":"Summer!DK45-'Summer Peak 2015-01-15'!IX45","v":-1},{"$f":"Summer!DL45-'Summer Peak 2015-01-15'!IY45","v":-1},{"$f":"Summer!DM45-'Summer Peak 2015-01-15'!IZ45","v":-1},{"$f":"Summer!DN45-'Summer Peak 2015-01-15'!JA45","v":-1},{"$f":"Summer!DO45-'Summer Peak 2015-01-15'!JB45","v":-1},{"$f":"Summer!DP45-'Summer Peak 2015-01-15'!JC45","v":-1},{"$f":"Summer!DQ45-'Summer Peak 2015-01-15'!JD45","v":-1},{"$f":"Summer!DR45-'Summer Peak 2015-01-15'!JE45","v":-1},{"$f":"Summer!DS45-'Summer Peak 2015-01-15'!JF45","v":-1}]
[null,"PTF1",{"$f":"Summer!C46-'Summer Peak 2015-01-15'!EP46","v":0},{"$f":"Summer!D46-'Summer Peak 2015-01-15'!EQ46","v":0},{"$f":"Summer!E46-'Summer Peak 2015-01-15'!ER46","v":0},{"$f":"Summer!F46-'Summer Peak 2015-01-15'!ES46","v":0},{"$f":"Summer!G46-'Summer Peak 2015-01-15'!ET46","v":0},{"$f":"Summer!H46-'Summer Peak 2015-01-15'!EU46","v":0},{"$f":"Summer!I46-'Summer Peak 2015-01-15'!EV46","v":0},{"$f":"Summer!J46-'Summer Peak 2015-01-15'!EW46","v":0},{"$f":"Summer!K46-'Summer Peak 2015-01-15'!EX46","v":0},{"$f":"Summer!L46-'Summer Peak 2015-01-15'!EY46","v":0},{"$f":"Summer!M46-'Summer Peak 2015-01-15'!EZ46","v":0},{"$f":"Summer!N46-'Summer Peak 2015-01-15'!FA46","v":0},{"$f":"Summer!O46-'Summer Peak 2015-01-15'!FB46","v":0},{"$f":"Summer!P46-'Summer Peak 2015-01-15'!FC46","v":0},{"$f":"Summer!Q46-'Summer Peak 2015-01-15'!FD46","v":0},{"$f":"Summer!R46-'Summer Peak 2015-01-15'!FE46","v":0},{"$f":"Summer!S46-'Summer Peak 2015-01-15'!FF46","v":0},{"$f":"Summer!T46-'Summer Peak 2015-01-15'!FG46","v":0},{"$f":"Summer!U46-'Summer Peak 2015-01-15'!FH46","v":0},{"$f":"Summer!V46-'Summer Peak 2015-01-15'!FI46","v":0},{"$f":"Summer!W46-'Summer Peak 2015-01-15'!FJ46","v":0},{"$f":"Summer!X46-'Summer Peak 2015-01-15'!FK46","v":0},{"$f":"Summer!Y46-'Summer Peak 2015-01-15'!FL46","v":0},{"$f":"Summer!Z46-'Summer Peak 2015-01-15'!FM46","v":0},{"$f":"Summer!AA46-'Summer Peak 2015-01-15'!FN46","v":0},{"$f":"Summer!AB46-'Summer Peak 2015-01-15'!FO46","v":-396},{"$f":"Summer!AC46-'Summer Peak 2015-01-15'!FP46","v":-396},{"$f":"Summer!AD46-'Summer Peak 2015-01-15'!FQ46","v":-396},{"$f":"Summer!AE46-'Summer Peak 2015-01-15'!FR46","v":-396},{"$f":"Summer!AF46-'Summer Peak 2015-01-15'!FS46","v":-396},{"$f":"Summer!AG46-'Summer Peak 2015-01-15'!FT46","v":-396},{"$f":"Summer!AH46-'Summer Peak 2015-01-15'!FU46","v":-396},{"$f":"Summer!AI46-'Summer Peak 2015-01-15'!FV46","v":-396},{"$f":"Summer!AJ46-'Summer Peak 2015-01-15'!FW46","v":-396},{"$f":"Summer!AK46-'Summer Peak 2015-01-15'!FX46","v":-396},{"$f":"Summer!AL46-'Summer Peak 2015-01-15'!FY46","v":-396},{"$f":"Summer!AM46-'Summer Peak 2015-01-15'!FZ46","v":-396},{"$f":"Summer!AN46-'Summer Peak 2015-01-15'!GA46","v":0},{"$f":"Summer!AO46-'Summer Peak 2015-01-15'!GB46","v":0},{"$f":"Summer!AP46-'Summer Peak 2015-01-15'!GC46","v":0},{"$f":"Summer!AQ46-'Summer Peak 2015-01-15'!GD46","v":0},{"$f":"Summer!AR46-'Summer Peak 2015-01-15'!GE46","v":0},{"$f":"Summer!AS46-'Summer Peak 2015-01-15'!GF46","v":0},{"$f":"Summer!AT46-'Summer Peak 2015-01-15'!GG46","v":0},{"$f":"Summer!AU46-'Summer Peak 2015-01-15'!GH46","v":0},{"$f":"Summer!AV46-'Summer Peak 2015-01-15'!GI46","v":0},{"$f":"Summer!AW46-'Summer Peak 2015-01-15'!GJ46","v":0},{"$f":"Summer!AX46-'Summer Peak 2015-01-15'!GK46","v":0},{"$f":"Summer!AY46-'Summer Peak 2015-01-15'!GL46","v":0},{"$f":"Summer!AZ46-'Summer Peak 2015-01-15'!GM46","v":0},{"$f":"Summer!BA46-'Summer Peak 2015-01-15'!GN46","v":0},{"$f":"Summer!BB46-'Summer Peak 2015-01-15'!GO46","v":0},{"$f":"Summer!BC46-'Summer Peak 2015-01-15'!GP46","v":0},{"$f":"Summer!BD46-'Summer Peak 2015-01-15'!GQ46","v":0},{"$f":"Summer!BE46-'Summer Peak 2015-01-15'!GR46","v":0},{"$f":"Summer!BF46-'Summer Peak 2015-01-15'!GS46","v":0},{"$f":"Summer!BG46-'Summer Peak 2015-01-15'!GT46","v":0},{"$f":"Summer!BH46-'Summer Peak 2015-01-15'!GU46","v":0},{"$f":"Summer!BI46-'Summer Peak 2015-01-15'!GV46","v":0},{"$f":"Summer!BJ46-'Summer Peak 2015-01-15'!GW46","v":0},{"$f":"Summer!BK46-'Summer Peak 2015-01-15'!GX46","v":0},{"$f":"Summer!BL46-'Summer Peak 2015-01-15'!GY46","v":0},{"$f":"Summer!BM46-'Summer Peak 2015-01-15'!GZ46","v":0},{"$f":"Summer!BN46-'Summer Peak 2015-01-15'!HA46","v":0},{"$f":"Summer!BO46-'Summer Peak 2015-01-15'!HB46","v":0},{"$f":"Summer!BP46-'Summer Peak 2015-01-15'!HC46","v":0},{"$f":"Summer!BQ46-'Summer Peak 2015-01-15'!HD46","v":0},{"$f":"Summer!BR46-'Summer Peak 2015-01-15'!HE46","v":0},{"$f":"Summer!BS46-'Summer Peak 2015-01-15'!HF46","v":0},{"$f":"Summer!BT46-'Summer Peak 2015-01-15'!HG46","v":0},{"$f":"Summer!BU46-'Summer Peak 2015-01-15'!HH46","v":0},{"$f":"Summer!BV46-'Summer Peak 2015-01-15'!HI46","v":0},{"$f":"Summer!BW46-'Summer Peak 2015-01-15'!HJ46","v":0},{"$f":"Summer!BX46-'Summer Peak 2015-01-15'!HK46","v":0},{"$f":"Summer!BY46-'Summer Peak 2015-01-15'!HL46","v":0},{"$f":"Summer!BZ46-'Summer Peak 2015-01-15'!HM46","v":0},{"$f":"Summer!CA46-'Summer Peak 2015-01-15'!HN46","v":0},{"$f":"Summer!CB46-'Summer Peak 2015-01-15'!HO46","v":0},{"$f":"Summer!CC46-'Summer Peak 2015-01-15'!HP46","v":0},{"$f":"Summer!CD46-'Summer Peak 2015-01-15'!HQ46","v":0},{"$f":"Summer!CE46-'Summer Peak 2015-01-15'!HR46","v":0},{"$f":"Summer!CF46-'Summer Peak 2015-01-15'!HS46","v":0},{"$f":"Summer!CG46-'Summer Peak 2015-01-15'!HT46","v":0},{"$f":"Summer!CH46-'Summer Peak 2015-01-15'!HU46","v":0},{"$f":"Summer!CI46-'Summer Peak 2015-01-15'!HV46","v":0},{"$f":"Summer!CJ46-'Summer Peak 2015-01-15'!HW46","v":0},{"$f":"Summer!CK46-'Summer Peak 2015-01-15'!HX46","v":0},{"$f":"Summer!CL46-'Summer Peak 2015-01-15'!HY46","v":0},{"$f":"Summer!CM46-'Summer Peak 2015-01-15'!HZ46","v":0},{"$f":"Summer!CN46-'Summer Peak 2015-01-15'!IA46","v":0},{"$f":"Summer!CO46-'Summer Peak 2015-01-15'!IB46","v":0},{"$f":"Summer!CP46-'Summer Peak 2015-01-15'!IC46","v":0},{"$f":"Summer!CQ46-'Summer Peak 2015-01-15'!ID46","v":0},{"$f":"Summer!CR46-'Summer Peak 2015-01-15'!IE46","v":0},{"$f":"Summer!CS46-'Summer Peak 2015-01-15'!IF46","v":0},{"$f":"Summer!CT46-'Summer Peak 2015-01-15'!IG46","v":0},{"$f":"Summer!CU46-'Summer Peak 2015-01-15'!IH46","v":0},{"$f":"Summer!CV46-'Summer Peak 2015-01-15'!II46","v":0},{"$f":"Summer!CW46-'Summer Peak 2015-01-15'!IJ46","v":0},{"$f":"Summer!CX46-'Summer Peak 2015-01-15'!IK46","v":0},{"$f":"Summer!CY46-'Summer Peak 2015-01-15'!IL46","v":0},{"$f":"Summer!CZ46-'Summer Peak 2015-01-15'!IM46","v":0},{"$f":"Summer!DA46-'Summer Peak 2015-01-15'!IN46","v":0},{"$f":"Summer!DB46-'Summer Peak 2015-01-15'!IO46","v":0},{"$f":"Summer!DC46-'Summer Peak 2015-01-15'!IP46","v":0},{"$f":"Summer!DD46-'Summer Peak 2015-01-15'!IQ46","v":0},{"$f":"Summer!DE46-'Summer Peak 2015-01-15'!IR46","v":0},{"$f":"Summer!DF46-'Summer Peak 2015-01-15'!IS46","v":0},{"$f":"Summer!DG46-'Summer Peak 2015-01-15'!IT46","v":0},{"$f":"Summer!DH46-'Summer Peak 2015-01-15'!IU46","v":0},{"$f":"Summer!DI46-'Summer Peak 2015-01-15'!IV46","v":0},{"$f":"Summer!DJ46-'Summer Peak 2015-01-15'!IW46","v":0},{"$f":"Summer!DK46-'Summer Peak 2015-01-15'!IX46","v":0},{"$f":"Summer!DL46-'Summer Peak 2015-01-15'!IY46","v":0},{"$f":"Summer!DM46-'Summer Peak 2015-01-15'!IZ46","v":0},{"$f":"Summer!DN46-'Summer Peak 2015-01-15'!JA46","v":0},{"$f":"Summer!DO46-'Summer Peak 2015-01-15'!JB46","v":0},{"$f":"Summer!DP46-'Summer Peak 2015-01-15'!JC46","v":0},{"$f":"Summer!DQ46-'Summer Peak 2015-01-15'!JD46","v":0},{"$f":"Summer!DR46-'Summer Peak 2015-01-15'!JE46","v":0},{"$f":"Summer!DS46-'Summer Peak 2015-01-15'!JF46","v":0}]
[null,"PTF2",{"$f":"Summer!C47-'Summer Peak 2015-01-15'!EP47","v":0},{"$f":"Summer!D47-'Summer Peak 2015-01-15'!EQ47","v":0},{"$f":"Summer!E47-'Summer Peak 2015-01-15'!ER47","v":0},{"$f":"Summer!F47-'Summer Peak 2015-01-15'!ES47","v":0},{"$f":"Summer!G47-'Summer Peak 2015-01-15'!ET47","v":0},{"$f":"Summer!H47-'Summer Peak 2015-01-15'!EU47","v":0},{"$f":"Summer!I47-'Summer Peak 2015-01-15'!EV47","v":0},{"$f":"Summer!J47-'Summer Peak 2015-01-15'!EW47","v":0},{"$f":"Summer!K47-'Summer Peak 2015-01-15'!EX47","v":0},{"$f":"Summer!L47-'Summer Peak 2015-01-15'!EY47","v":0},{"$f":"Summer!M47-'Summer Peak 2015-01-15'!EZ47","v":0},{"$f":"Summer!N47-'Summer Peak 2015-01-15'!FA47","v":0},{"$f":"Summer!O47-'Summer Peak 2015-01-15'!FB47","v":0},{"$f":"Summer!P47-'Summer Peak 2015-01-15'!FC47","v":0},{"$f":"Summer!Q47-'Summer Peak 2015-01-15'!FD47","v":0},{"$f":"Summer!R47-'Summer Peak 2015-01-15'!FE47","v":0},{"$f":"Summer!S47-'Summer Peak 2015-01-15'!FF47","v":0},{"$f":"Summer!T47-'Summer Peak 2015-01-15'!FG47","v":0},{"$f":"Summer!U47-'Summer Peak 2015-01-15'!FH47","v":0},{"$f":"Summer!V47-'Summer Peak 2015-01-15'!FI47","v":0},{"$f":"Summer!W47-'Summer Peak 2015-01-15'!FJ47","v":0},{"$f":"Summer!X47-'Summer Peak 2015-01-15'!FK47","v":0},{"$f":"Summer!Y47-'Summer Peak 2015-01-15'!FL47","v":0},{"$f":"Summer!Z47-'Summer Peak 2015-01-15'!FM47","v":0},{"$f":"Summer!AA47-'Summer Peak 2015-01-15'!FN47","v":0},{"$f":"Summer!AB47-'Summer Peak 2015-01-15'!FO47","v":0},{"$f":"Summer!AC47-'Summer Peak 2015-01-15'!FP47","v":0},{"$f":"Summer!AD47-'Summer Peak 2015-01-15'!FQ47","v":0},{"$f":"Summer!AE47-'Summer Peak 2015-01-15'!FR47","v":0},{"$f":"Summer!AF47-'Summer Peak 2015-01-15'!FS47","v":0},{"$f":"Summer!AG47-'Summer Peak 2015-01-15'!FT47","v":0},{"$f":"Summer!AH47-'Summer Peak 2015-01-15'!FU47","v":0},{"$f":"Summer!AI47-'Summer Peak 2015-01-15'!FV47","v":0},{"$f":"Summer!AJ47-'Summer Peak 2015-01-15'!FW47","v":0},{"$f":"Summer!AK47-'Summer Peak 2015-01-15'!FX47","v":0},{"$f":"Summer!AL47-'Summer Peak 2015-01-15'!FY47","v":0},{"$f":"Summer!AM47-'Summer Peak 2015-01-15'!FZ47","v":0},{"$f":"Summer!AN47-'Summer Peak 2015-01-15'!GA47","v":0},{"$f":"Summer!AO47-'Summer Peak 2015-01-15'!GB47","v":0},{"$f":"Summer!AP47-'Summer Peak 2015-01-15'!GC47","v":0},{"$f":"Summer!AQ47-'Summer Peak 2015-01-15'!GD47","v":0},{"$f":"Summer!AR47-'Summer Peak 2015-01-15'!GE47","v":0},{"$f":"Summer!AS47-'Summer Peak 2015-01-15'!GF47","v":0},{"$f":"Summer!AT47-'Summer Peak 2015-01-15'!GG47","v":0},{"$f":"Summer!AU47-'Summer Peak 2015-01-15'!GH47","v":0},{"$f":"Summer!AV47-'Summer Peak 2015-01-15'!GI47","v":0},{"$f":"Summer!AW47-'Summer Peak 2015-01-15'!GJ47","v":0},{"$f":"Summer!AX47-'Summer Peak 2015-01-15'!GK47","v":0},{"$f":"Summer!AY47-'Summer Peak 2015-01-15'!GL47","v":0},{"$f":"Summer!AZ47-'Summer Peak 2015-01-15'!GM47","v":0},{"$f":"Summer!BA47-'Summer Peak 2015-01-15'!GN47","v":0},{"$f":"Summer!BB47-'Summer Peak 2015-01-15'!GO47","v":0},{"$f":"Summer!BC47-'Summer Peak 2015-01-15'!GP47","v":0},{"$f":"Summer!BD47-'Summer Peak 2015-01-15'!GQ47","v":0},{"$f":"Summer!BE47-'Summer Peak 2015-01-15'!GR47","v":0},{"$f":"Summer!BF47-'Summer Peak 2015-01-15'!GS47","v":0},{"$f":"Summer!BG47-'Summer Peak 2015-01-15'!GT47","v":0},{"$f":"Summer!BH47-'Summer Peak 2015-01-15'!GU47","v":0},{"$f":"Summer!BI47-'Summer Peak 2015-01-15'!GV47","v":0},{"$f":"Summer!BJ47-'Summer Peak 2015-01-15'!GW47","v":0},{"$f":"Summer!BK47-'Summer Peak 2015-01-15'!GX47","v":0},{"$f":"Summer!BL47-'Summer Peak 2015-01-15'!GY47","v":0},{"$f":"Summer!BM47-'Summer Peak 2015-01-15'!GZ47","v":0},{"$f":"Summer!BN47-'Summer Peak 2015-01-15'!HA47","v":0},{"$f":"Summer!BO47-'Summer Peak 2015-01-15'!HB47","v":0},{"$f":"Summer!BP47-'Summer Peak 2015-01-15'!HC47","v":0},{"$f":"Summer!BQ47-'Summer Peak 2015-01-15'!HD47","v":0},{"$f":"Summer!BR47-'Summer Peak 2015-01-15'!HE47","v":0},{"$f":"Summer!BS47-'Summer Peak 2015-01-15'!HF47","v":0},{"$f":"Summer!BT47-'Summer Peak 2015-01-15'!HG47","v":0},{"$f":"Summer!BU47-'Summer Peak 2015-01-15'!HH47","v":0},{"$f":"Summer!BV47-'Summer Peak 2015-01-15'!HI47","v":0},{"$f":"Summer!BW47-'Summer Peak 2015-01-15'!HJ47","v":0},{"$f":"Summer!BX47-'Summer Peak 2015-01-15'!HK47","v":0},{"$f":"Summer!BY47-'Summer Peak 2015-01-15'!HL47","v":0},{"$f":"Summer!BZ47-'Summer Peak 2015-01-15'!HM47","v":0},{"$f":"Summer!CA47-'Summer Peak 2015-01-15'!HN47","v":0},{"$f":"Summer!CB47-'Summer Peak 2015-01-15'!HO47","v":0},{"$f":"Summer!CC47-'Summer Peak 2015-01-15'!HP47","v":0},{"$f":"Summer!CD47-'Summer Peak 2015-01-15'!HQ47","v":0},{"$f":"Summer!CE47-'Summer Peak 2015-01-15'!HR47","v":0},{"$f":"Summer!CF47-'Summer Peak 2015-01-15'!HS47","v":0},{"$f":"Summer!CG47-'Summer Peak 2015-01-15'!HT47","v":0},{"$f":"Summer!CH47-'Summer Peak 2015-01-15'!HU47","v":0},{"$f":"Summer!CI47-'Summer Peak 2015-01-15'!HV47","v":0},{"$f":"Summer!CJ47-'Summer Peak 2015-01-15'!HW47","v":0},{"$f":"Summer!CK47-'Summer Peak 2015-01-15'!HX47","v":0},{"$f":"Summer!CL47-'Summer Peak 2015-01-15'!HY47","v":0},{"$f":"Summer!CM47-'Summer Peak 2015-01-15'!HZ47","v":0},{"$f":"Summer!CN47-'Summer Peak 2015-01-15'!IA47","v":0},{"$f":"Summer!CO47-'Summer Peak 2015-01-15'!IB47","v":0},{"$f":"Summer!CP47-'Summer Peak 2015-01-15'!IC47","v":0},{"$f":"Summer!CQ47-'Summer Peak 2015-01-15'!ID47","v":0},{"$f":"Summer!CR47-'Summer Peak 2015-01-15'!IE47","v":0},{"$f":"Summer!CS47-'Summer Peak 2015-01-15'!IF47","v":0},{"$f":"Summer!CT47-'Summer Peak 2015-01-15'!IG47","v":0},{"$f":"Summer!CU47-'Summer Peak 2015-01-15'!IH47","v":0},{"$f":"Summer!CV47-'Summer Peak 2015-01-15'!II47","v":0},{"$f":"Summer!CW47-'Summer Peak 2015-01-15'!IJ47","v":0},{"$f":"Summer!CX47-'Summer Peak 2015-01-15'!IK47","v":0},{"$f":"Summer!CY47-'Summer Peak 2015-01-15'!IL47","v":0},{"$f":"Summer!CZ47-'Summer Peak 2015-01-15'!IM47","v":0},{"$f":"Summer!DA47-'Summer Peak 2015-01-15'!IN47","v":0},{"$f":"Summer!DB47-'Summer Peak 2015-01-15'!IO47","v":0},{"$f":"Summer!DC47-'Summer Peak 2015-01-15'!IP47","v":0},{"$f":"Summer!DD47-'Summer Peak 2015-01-15'!IQ47","v":0},{"$f":"Summer!DE47-'Summer Peak 2015-01-15'!IR47","v":0},{"$f":"Summer!DF47-'Summer Peak 2015-01-15'!IS47","v":0},{"$f":"Summer!DG47-'Summer Peak 2015-01-15'!IT47","v":0},{"$f":"Summer!DH47-'Summer Peak 2015-01-15'!IU47","v":0},{"$f":"Summer!DI47-'Summer Peak 2015-01-15'!IV47","v":0},{"$f":"Summer!DJ47-'Summer Peak 2015-01-15'!IW47","v":0},{"$f":"Summer!DK47-'Summer Peak 2015-01-15'!IX47","v":0},{"$f":"Summer!DL47-'Summer Peak 2015-01-15'!IY47","v":0},{"$f":"Summer!DM47-'Summer Peak 2015-01-15'!IZ47","v":0},{"$f":"Summer!DN47-'Summer Peak 2015-01-15'!JA47","v":0},{"$f":"Summer!DO47-'Summer Peak 2015-01-15'!JB47","v":0},{"$f":"Summer!DP47-'Summer Peak 2015-01-15'!JC47","v":0},{"$f":"Summer!DQ47-'Summer Peak 2015-01-15'!JD47","v":0},{"$f":"Summer!DR47-'Summer Peak 2015-01-15'!JE47","v":0},{"$f":"Summer!DS47-'Summer Peak 2015-01-15'!JF47","v":0}]
[null,"PTN3",{"$f":"Summer!C48-'Summer Peak 2015-01-15'!EP48","v":0},{"$f":"Summer!D48-'Summer Peak 2015-01-15'!EQ48","v":0},{"$f":"Summer!E48-'Summer Peak 2015-01-15'!ER48","v":0},{"$f":"Summer!F48-'Summer Peak 2015-01-15'!ES48","v":0},{"$f":"Summer!G48-'Summer Peak 2015-01-15'!ET48","v":0},{"$f":"Summer!H48-'Summer Peak 2015-01-15'!EU48","v":0},{"$f":"Summer!I48-'Summer Peak 2015-01-15'!EV48","v":0},{"$f":"Summer!J48-'Summer Peak 2015-01-15'!EW48","v":0},{"$f":"Summer!K48-'Summer Peak 2015-01-15'!EX48","v":0},{"$f":"Summer!L48-'Summer Peak 2015-01-15'!EY48","v":0},{"$f":"Summer!M48-'Summer Peak 2015-01-15'!EZ48","v":0},{"$f":"Summer!N48-'Summer Peak 2015-01-15'!FA48","v":0},{"$f":"Summer!O48-'Summer Peak 2015-01-15'!FB48","v":0},{"$f":"Summer!P48-'Summer Peak 2015-01-15'!FC48","v":0},{"$f":"Summer!Q48-'Summer Peak 2015-01-15'!FD48","v":0},{"$f":"Summer!R48-'Summer Peak 2015-01-15'!FE48","v":0},{"$f":"Summer!S48-'Summer Peak 2015-01-15'!FF48","v":0},{"$f":"Summer!T48-'Summer Peak 2015-01-15'!FG48","v":0},{"$f":"Summer!U48-'Summer Peak 2015-01-15'!FH48","v":0},{"$f":"Summer!V48-'Summer Peak 2015-01-15'!FI48","v":0},{"$f":"Summer!W48-'Summer Peak 2015-01-15'!FJ48","v":0},{"$f":"Summer!X48-'Summer Peak 2015-01-15'!FK48","v":0},{"$f":"Summer!Y48-'Summer Peak 2015-01-15'!FL48","v":0},{"$f":"Summer!Z48-'Summer Peak 2015-01-15'!FM48","v":0},{"$f":"Summer!AA48-'Summer Peak 2015-01-15'!FN48","v":0},{"$f":"Summer!AB48-'Summer Peak 2015-01-15'!FO48","v":0},{"$f":"Summer!AC48-'Summer Peak 2015-01-15'!FP48","v":0},{"$f":"Summer!AD48-'Summer Peak 2015-01-15'!FQ48","v":0},{"$f":"Summer!AE48-'Summer Peak 2015-01-15'!FR48","v":0},{"$f":"Summer!AF48-'Summer Peak 2015-01-15'!FS48","v":0},{"$f":"Summer!AG48-'Summer Peak 2015-01-15'!FT48","v":0},{"$f":"Summer!AH48-'Summer Peak 2015-01-15'!FU48","v":0},{"$f":"Summer!AI48-'Summer Peak 2015-01-15'!FV48","v":0},{"$f":"Summer!AJ48-'Summer Peak 2015-01-15'!FW48","v":0},{"$f":"Summer!AK48-'Summer Peak 2015-01-15'!FX48","v":0},{"$f":"Summer!AL48-'Summer Peak 2015-01-15'!FY48","v":0},{"$f":"Summer!AM48-'Summer Peak 2015-01-15'!FZ48","v":0},{"$f":"Summer!AN48-'Summer Peak 2015-01-15'!GA48","v":0},{"$f":"Summer!AO48-'Summer Peak 2015-01-15'!GB48","v":0},{"$f":"Summer!AP48-'Summer Peak 2015-01-15'!GC48","v":0},{"$f":"Summer!AQ48-'Summer Peak 2015-01-15'!GD48","v":0},{"$f":"Summer!AR48-'Summer Peak 2015-01-15'!GE48","v":0},{"$f":"Summer!AS48-'Summer Peak 2015-01-15'!GF48","v":0},{"$f":"Summer!AT48-'Summer Peak 2015-01-15'!GG48","v":0},{"$f":"Summer!AU48-'Summer Peak 2015-01-15'!GH48","v":0},{"$f":"Summer!AV48-'Summer Peak 2015-01-15'!GI48","v":0},{"$f":"Summer!AW48-'Summer Peak 2015-01-15'!GJ48","v":0},{"$f":"Summer!AX48-'Summer Peak 2015-01-15'!GK48","v":0},{"$f":"Summer!AY48-'Summer Peak 2015-01-15'!GL48","v":0},{"$f":"Summer!AZ48-'Summer Peak 2015-01-15'!GM48","v":0},{"$f":"Summer!BA48-'Summer Peak 2015-01-15'!GN48","v":0},{"$f":"Summer!BB48-'Summer Peak 2015-01-15'!GO48","v":0},{"$f":"Summer!BC48-'Summer Peak 2015-01-15'!GP48","v":0},{"$f":"Summer!BD48-'Summer Peak 2015-01-15'!GQ48","v":0},{"$f":"Summer!BE48-'Summer Peak 2015-01-15'!GR48","v":0},{"$f":"Summer!BF48-'Summer Peak 2015-01-15'!GS48","v":0},{"$f":"Summer!BG48-'Summer Peak 2015-01-15'!GT48","v":0},{"$f":"Summer!BH48-'Summer Peak 2015-01-15'!GU48","v":0},{"$f":"Summer!BI48-'Summer Peak 2015-01-15'!GV48","v":0},{"$f":"Summer!BJ48-'Summer Peak 2015-01-15'!GW48","v":0},{"$f":"Summer!BK48-'Summer Peak 2015-01-15'!GX48","v":0},{"$f":"Summer!BL48-'Summer Peak 2015-01-15'!GY48","v":0},{"$f":"Summer!BM48-'Summer Peak 2015-01-15'!GZ48","v":0},{"$f":"Summer!BN48-'Summer Peak 2015-01-15'!HA48","v":0},{"$f":"Summer!BO48-'Summer Peak 2015-01-15'!HB48","v":0},{"$f":"Summer!BP48-'Summer Peak 2015-01-15'!HC48","v":0},{"$f":"Summer!BQ48-'Summer Peak 2015-01-15'!HD48","v":0},{"$f":"Summer!BR48-'Summer Peak 2015-01-15'!HE48","v":0},{"$f":"Summer!BS48-'Summer Peak 2015-01-15'!HF48","v":0},{"$f":"Summer!BT48-'Summer Peak 2015-01-15'!HG48","v":0},{"$f":"Summer!BU48-'Summer Peak 2015-01-15'!HH48","v":0},{"$f":"Summer!BV48-'Summer Peak 2015-01-15'!HI48","v":0},{"$f":"Summer!BW48-'Summer Peak 2015-01-15'!HJ48","v":0},{"$f":"Summer!BX48-'Summer Peak 2015-01-15'!HK48","v":0},{"$f":"Summer!BY48-'Summer Peak 2015-01-15'!HL48","v":0},{"$f":"Summer!BZ48-'Summer Peak 2015-01-15'!HM48","v":0},{"$f":"Summer!CA48-'Summer Peak 2015-01-15'!HN48","v":0},{"$f":"Summer!CB48-'Summer Peak 2015-01-15'!HO48","v":0},{"$f":"Summer!CC48-'Summer Peak 2015-01-15'!HP48","v":0},{"$f":"Summer!CD48-'Summer Peak 2015-01-15'!HQ48","v":0},{"$f":"Summer!CE48-'Summer Peak 2015-01-15'!HR48","v":0},{"$f":"Summer!CF48-'Summer Peak 2015-01-15'!HS48","v":0},{"$f":"Summer!CG48-'Summer Peak 2015-01-15'!HT48","v":0},{"$f":"Summer!CH48-'Summer Peak 2015-01-15'!HU48","v":0},{"$f":"Summer!CI48-'Summer Peak 2015-01-15'!HV48","v":0},{"$f":"Summer!CJ48-'Summer Peak 2015-01-15'!HW48","v":0},{"$f":"Summer!CK48-'Summer Peak 2015-01-15'!HX48","v":0},{"$f":"Summer!CL48-'Summer Peak 2015-01-15'!HY48","v":0},{"$f":"Summer!CM48-'Summer Peak 2015-01-15'!HZ48","v":0},{"$f":"Summer!CN48-'Summer Peak 2015-01-15'!IA48","v":0},{"$f":"Summer!CO48-'Summer Peak 2015-01-15'!IB48","v":0},{"$f":"Summer!CP48-'Summer Peak 2015-01-15'!IC48","v":0},{"$f":"Summer!CQ48-'Summer Peak 2015-01-15'!ID48","v":0},{"$f":"Summer!CR48-'Summer Peak 2015-01-15'!IE48","v":0},{"$f":"Summer!CS48-'Summer Peak 2015-01-15'!IF48","v":0},{"$f":"Summer!CT48-'Summer Peak 2015-01-15'!IG48","v":0},{"$f":"Summer!CU48-'Summer Peak 2015-01-15'!IH48","v":0},{"$f":"Summer!CV48-'Summer Peak 2015-01-15'!II48","v":0},{"$f":"Summer!CW48-'Summer Peak 2015-01-15'!IJ48","v":0},{"$f":"Summer!CX48-'Summer Peak 2015-01-15'!IK48","v":0},{"$f":"Summer!CY48-'Summer Peak 2015-01-15'!IL48","v":0},{"$f":"Summer!CZ48-'Summer Peak 2015-01-15'!IM48","v":0},{"$f":"Summer!DA48-'Summer Peak 2015-01-15'!IN48","v":0},{"$f":"Summer!DB48-'Summer Peak 2015-01-15'!IO48","v":0},{"$f":"Summer!DC48-'Summer Peak 2015-01-15'!IP48","v":0},{"$f":"Summer!DD48-'Summer Peak 2015-01-15'!IQ48","v":0},{"$f":"Summer!DE48-'Summer Peak 2015-01-15'!IR48","v":0},{"$f":"Summer!DF48-'Summer Peak 2015-01-15'!IS48","v":0},{"$f":"Summer!DG48-'Summer Peak 2015-01-15'!IT48","v":0},{"$f":"Summer!DH48-'Summer Peak 2015-01-15'!IU48","v":0},{"$f":"Summer!DI48-'Summer Peak 2015-01-15'!IV48","v":0},{"$f":"Summer!DJ48-'Summer Peak 2015-01-15'!IW48","v":0},{"$f":"Summer!DK48-'Summer Peak 2015-01-15'!IX48","v":0},{"$f":"Summer!DL48-'Summer Peak 2015-01-15'!IY48","v":0},{"$f":"Summer!DM48-'Summer Peak 2015-01-15'!IZ48","v":0},{"$f":"Summer!DN48-'Summer Peak 2015-01-15'!JA48","v":0},{"$f":"Summer!DO48-'Summer Peak 2015-01-15'!JB48","v":0},{"$f":"Summer!DP48-'Summer Peak 2015-01-15'!JC48","v":0},{"$f":"Summer!DQ48-'Summer Peak 2015-01-15'!JD48","v":0},{"$f":"Summer!DR48-'Summer Peak 2015-01-15'!JE48","v":0},{"$f":"Summer!DS48-'Summer Peak 2015-01-15'!JF48","v":0}]
[null,"PTN4",{"$f":"Summer!C49-'Summer Peak 2015-01-15'!EP49","v":0},{"$f":"Summer!D49-'Summer Peak 2015-01-15'!EQ49","v":0},{"$f":"Summer!E49-'Summer Peak 2015-01-15'!ER49","v":0},{"$f":"Summer!F49-'Summer Peak 2015-01-15'!ES49","v":0},{"$f":"Summer!G49-'Summer Peak 2015-01-15'!ET49","v":0},{"$f":"Summer!H49-'Summer Peak 2015-01-15'!EU49","v":0},{"$f":"Summer!I49-'Summer Peak 2015-01-15'!EV49","v":0},{"$f":"Summer!J49-'Summer Peak 2015-01-15'!EW49","v":0},{"$f":"Summer!K49-'Summer Peak 2015-01-15'!EX49","v":0},{"$f":"Summer!L49-'Summer Peak 2015-01-15'!EY49","v":0},{"$f":"Summer!M49-'Summer Peak 2015-01-15'!EZ49","v":0},{"$f":"Summer!N49-'Summer Peak 2015-01-15'!FA49","v":0},{"$f":"Summer!O49-'Summer Peak 2015-01-15'!FB49","v":0},{"$f":"Summer!P49-'Summer Peak 2015-01-15'!FC49","v":0},{"$f":"Summer!Q49-'Summer Peak 2015-01-15'!FD49","v":0},{"$f":"Summer!R49-'Summer Peak 2015-01-15'!FE49","v":0},{"$f":"Summer!S49-'Summer Peak 2015-01-15'!FF49","v":0},{"$f":"Summer!T49-'Summer Peak 2015-01-15'!FG49","v":0},{"$f":"Summer!U49-'Summer Peak 2015-01-15'!FH49","v":0},{"$f":"Summer!V49-'Summer Peak 2015-01-15'!FI49","v":0},{"$f":"Summer!W49-'Summer Peak 2015-01-15'!FJ49","v":0},{"$f":"Summer!X49-'Summer Peak 2015-01-15'!FK49","v":0},{"$f":"Summer!Y49-'Summer Peak 2015-01-15'!FL49","v":0},{"$f":"Summer!Z49-'Summer Peak 2015-01-15'!FM49","v":0},{"$f":"Summer!AA49-'Summer Peak 2015-01-15'!FN49","v":0},{"$f":"Summer!AB49-'Summer Peak 2015-01-15'!FO49","v":0},{"$f":"Summer!AC49-'Summer Peak 2015-01-15'!FP49","v":0},{"$f":"Summer!AD49-'Summer Peak 2015-01-15'!FQ49","v":0},{"$f":"Summer!AE49-'Summer Peak 2015-01-15'!FR49","v":0},{"$f":"Summer!AF49-'Summer Peak 2015-01-15'!FS49","v":0},{"$f":"Summer!AG49-'Summer Peak 2015-01-15'!FT49","v":0},{"$f":"Summer!AH49-'Summer Peak 2015-01-15'!FU49","v":0},{"$f":"Summer!AI49-'Summer Peak 2015-01-15'!FV49","v":0},{"$f":"Summer!AJ49-'Summer Peak 2015-01-15'!FW49","v":0},{"$f":"Summer!AK49-'Summer Peak 2015-01-15'!FX49","v":0},{"$f":"Summer!AL49-'Summer Peak 2015-01-15'!FY49","v":0},{"$f":"Summer!AM49-'Summer Peak 2015-01-15'!FZ49","v":0},{"$f":"Summer!AN49-'Summer Peak 2015-01-15'!GA49","v":0},{"$f":"Summer!AO49-'Summer Peak 2015-01-15'!GB49","v":0},{"$f":"Summer!AP49-'Summer Peak 2015-01-15'!GC49","v":0},{"$f":"Summer!AQ49-'Summer Peak 2015-01-15'!GD49","v":0},{"$f":"Summer!AR49-'Summer Peak 2015-01-15'!GE49","v":0},{"$f":"Summer!AS49-'Summer Peak 2015-01-15'!GF49","v":0},{"$f":"Summer!AT49-'Summer Peak 2015-01-15'!GG49","v":0},{"$f":"Summer!AU49-'Summer Peak 2015-01-15'!GH49","v":0},{"$f":"Summer!AV49-'Summer Peak 2015-01-15'!GI49","v":0},{"$f":"Summer!AW49-'Summer Peak 2015-01-15'!GJ49","v":0},{"$f":"Summer!AX49-'Summer Peak 2015-01-15'!GK49","v":0},{"$f":"Summer!AY49-'Summer Peak 2015-01-15'!GL49","v":0},{"$f":"Summer!AZ49-'Summer Peak 2015-01-15'!GM49","v":0},{"$f":"Summer!BA49-'Summer Peak 2015-01-15'!GN49","v":0},{"$f":"Summer!BB49-'Summer Peak 2015-01-15'!GO49","v":0},{"$f":"Summer!BC49-'Summer Peak 2015-01-15'!GP49","v":0},{"$f":"Summer!BD49-'Summer Peak 2015-01-15'!GQ49","v":0},{"$f":"Summer!BE49-'Summer Peak 2015-01-15'!GR49","v":0},{"$f":"Summer!BF49-'Summer Peak 2015-01-15'!GS49","v":0},{"$f":"Summer!BG49-'Summer Peak 2015-01-15'!GT49","v":0},{"$f":"Summer!BH49-'Summer Peak 2015-01-15'!GU49","v":0},{"$f":"Summer!BI49-'Summer Peak 2015-01-15'!GV49","v":0},{"$f":"Summer!BJ49-'Summer Peak 2015-01-15'!GW49","v":0},{"$f":"Summer!BK49-'Summer Peak 2015-01-15'!GX49","v":0},{"$f":"Summer!BL49-'Summer Peak 2015-01-15'!GY49","v":0},{"$f":"Summer!BM49-'Summer Peak 2015-01-15'!GZ49","v":0},{"$f":"Summer!BN49-'Summer Peak 2015-01-15'!HA49","v":0},{"$f":"Summer!BO49-'Summer Peak 2015-01-15'!HB49","v":0},{"$f":"Summer!BP49-'Summer Peak 2015-01-15'!HC49","v":0},{"$f":"Summer!BQ49-'Summer Peak 2015-01-15'!HD49","v":0},{"$f":"Summer!BR49-'Summer Peak 2015-01-15'!HE49","v":0},{"$f":"Summer!BS49-'Summer Peak 2015-01-15'!HF49","v":0},{"$f":"Summer!BT49-'Summer Peak 2015-01-15'!HG49","v":0},{"$f":"Summer!BU49-'Summer Peak 2015-01-15'!HH49","v":0},{"$f":"Summer!BV49-'Summer Peak 2015-01-15'!HI49","v":0},{"$f":"Summer!BW49-'Summer Peak 2015-01-15'!HJ49","v":0},{"$f":"Summer!BX49-'Summer Peak 2015-01-15'!HK49","v":0},{"$f":"Summer!BY49-'Summer Peak 2015-01-15'!HL49","v":0},{"$f":"Summer!BZ49-'Summer Peak 2015-01-15'!HM49","v":0},{"$f":"Summer!CA49-'Summer Peak 2015-01-15'!HN49","v":0},{"$f":"Summer!CB49-'Summer Peak 2015-01-15'!HO49","v":0},{"$f":"Summer!CC49-'Summer Peak 2015-01-15'!HP49","v":0},{"$f":"Summer!CD49-'Summer Peak 2015-01-15'!HQ49","v":0},{"$f":"Summer!CE49-'Summer Peak 2015-01-15'!HR49","v":0},{"$f":"Summer!CF49-'Summer Peak 2015-01-15'!HS49","v":0},{"$f":"Summer!CG49-'Summer Peak 2015-01-15'!HT49","v":0},{"$f":"Summer!CH49-'Summer Peak 2015-01-15'!HU49","v":0},{"$f":"Summer!CI49-'Summer Peak 2015-01-15'!HV49","v":0},{"$f":"Summer!CJ49-'Summer Peak 2015-01-15'!HW49","v":0},{"$f":"Summer!CK49-'Summer Peak 2015-01-15'!HX49","v":0},{"$f":"Summer!CL49-'Summer Peak 2015-01-15'!HY49","v":0},{"$f":"Summer!CM49-'Summer Peak 2015-01-15'!HZ49","v":0},{"$f":"Summer!CN49-'Summer Peak 2015-01-15'!IA49","v":0},{"$f":"Summer!CO49-'Summer Peak 2015-01-15'!IB49","v":0},{"$f":"Summer!CP49-'Summer Peak 2015-01-15'!IC49","v":0},{"$f":"Summer!CQ49-'Summer Peak 2015-01-15'!ID49","v":0},{"$f":"Summer!CR49-'Summer Peak 2015-01-15'!IE49","v":0},{"$f":"Summer!CS49-'Summer Peak 2015-01-15'!IF49","v":0},{"$f":"Summer!CT49-'Summer Peak 2015-01-15'!IG49","v":0},{"$f":"Summer!CU49-'Summer Peak 2015-01-15'!IH49","v":0},{"$f":"Summer!CV49-'Summer Peak 2015-01-15'!II49","v":0},{"$f":"Summer!CW49-'Summer Peak 2015-01-15'!IJ49","v":0},{"$f":"Summer!CX49-'Summer Peak 2015-01-15'!IK49","v":0},{"$f":"Summer!CY49-'Summer Peak 2015-01-15'!IL49","v":0},{"$f":"Summer!CZ49-'Summer Peak 2015-01-15'!IM49","v":0},{"$f":"Summer!DA49-'Summer Peak 2015-01-15'!IN49","v":0},{"$f":"Summer!DB49-'Summer Peak 2015-01-15'!IO49","v":0},{"$f":"Summer!DC49-'Summer Peak 2015-01-15'!IP49","v":0},{"$f":"Summer!DD49-'Summer Peak 2015-01-15'!IQ49","v":0},{"$f":"Summer!DE49-'Summer Peak 2015-01-15'!IR49","v":0},{"$f":"Summer!DF49-'Summer Peak 2015-01-15'!IS49","v":0},{"$f":"Summer!DG49-'Summer Peak 2015-01-15'!IT49","v":0},{"$f":"Summer!DH49-'Summer Peak 2015-01-15'!IU49","v":0},{"$f":"Summer!DI49-'Summer Peak 2015-01-15'!IV49","v":0},{"$f":"Summer!DJ49-'Summer Peak 2015-01-15'!IW49","v":0},{"$f":"Summer!DK49-'Summer Peak 2015-01-15'!IX49","v":0},{"$f":"Summer!DL49-'Summer Peak 2015-01-15'!IY49","v":0},{"$f":"Summer!DM49-'Summer Peak 2015-01-15'!IZ49","v":0},{"$f":"Summer!DN49-'Summer Peak 2015-01-15'!JA49","v":0},{"$f":"Summer!DO49-'Summer Peak 2015-01-15'!JB49","v":0},{"$f":"Summer!DP49-'Summer Peak 2015-01-15'!JC49","v":0},{"$f":"Summer!DQ49-'Summer Peak 2015-01-15'!JD49","v":0},{"$f":"Summer!DR49-'Summer Peak 2015-01-15'!JE49","v":0},{"$f":"Summer!DS49-'Summer Peak 2015-01-15'!JF49","v":0}]
[null,"PTF5",{"$f":"Summer!C50-'Summer Peak 2015-01-15'!EP50","v":0},{"$f":"Summer!D50-'Summer Peak 2015-01-15'!EQ50","v":0},{"$f":"Summer!E50-'Summer Peak 2015-01-15'!ER50","v":0},{"$f":"Summer!F50-'Summer Peak 2015-01-15'!ES50","v":0},{"$f":"Summer!G50-'Summer Peak 2015-01-15'!ET50","v":0},{"$f":"Summer!H50-'Summer Peak 2015-01-15'!EU50","v":0},{"$f":"Summer!I50-'Summer Peak 2015-01-15'!EV50","v":0},{"$f":"Summer!J50-'Summer Peak 2015-01-15'!EW50","v":0},{"$f":"Summer!K50-'Summer Peak 2015-01-15'!EX50","v":0},{"$f":"Summer!L50-'Summer Peak 2015-01-15'!EY50","v":0},{"$f":"Summer!M50-'Summer Peak 2015-01-15'!EZ50","v":0},{"$f":"Summer!N50-'Summer Peak 2015-01-15'!FA50","v":0},{"$f":"Summer!O50-'Summer Peak 2015-01-15'!FB50","v":0},{"$f":"Summer!P50-'Summer Peak 2015-01-15'!FC50","v":0},{"$f":"Summer!Q50-'Summer Peak 2015-01-15'!FD50","v":0},{"$f":"Summer!R50-'Summer Peak 2015-01-15'!FE50","v":0},{"$f":"Summer!S50-'Summer Peak 2015-01-15'!FF50","v":0},{"$f":"Summer!T50-'Summer Peak 2015-01-15'!FG50","v":0},{"$f":"Summer!U50-'Summer Peak 2015-01-15'!FH50","v":0},{"$f":"Summer!V50-'Summer Peak 2015-01-15'!FI50","v":0},{"$f":"Summer!W50-'Summer Peak 2015-01-15'!FJ50","v":0},{"$f":"Summer!X50-'Summer Peak 2015-01-15'!FK50","v":0},{"$f":"Summer!Y50-'Summer Peak 2015-01-15'!FL50","v":0},{"$f":"Summer!Z50-'Summer Peak 2015-01-15'!FM50","v":0},{"$f":"Summer!AA50-'Summer Peak 2015-01-15'!FN50","v":0},{"$f":"Summer!AB50-'Summer Peak 2015-01-15'!FO50","v":0},{"$f":"Summer!AC50-'Summer Peak 2015-01-15'!FP50","v":0},{"$f":"Summer!AD50-'Summer Peak 2015-01-15'!FQ50","v":0},{"$f":"Summer!AE50-'Summer Peak 2015-01-15'!FR50","v":0},{"$f":"Summer!AF50-'Summer Peak 2015-01-15'!FS50","v":0},{"$f":"Summer!AG50-'Summer Peak 2015-01-15'!FT50","v":0},{"$f":"Summer!AH50-'Summer Peak 2015-01-15'!FU50","v":0},{"$f":"Summer!AI50-'Summer Peak 2015-01-15'!FV50","v":0},{"$f":"Summer!AJ50-'Summer Peak 2015-01-15'!FW50","v":0},{"$f":"Summer!AK50-'Summer Peak 2015-01-15'!FX50","v":0},{"$f":"Summer!AL50-'Summer Peak 2015-01-15'!FY50","v":0},{"$f":"Summer!AM50-'Summer Peak 2015-01-15'!FZ50","v":0},{"$f":"Summer!AN50-'Summer Peak 2015-01-15'!GA50","v":0},{"$f":"Summer!AO50-'Summer Peak 2015-01-15'!GB50","v":-13},{"$f":"Summer!AP50-'Summer Peak 2015-01-15'!GC50","v":-20},{"$f":"Summer!AQ50-'Summer Peak 2015-01-15'!GD50","v":-27},{"$f":"Summer!AR50-'Summer Peak 2015-01-15'!GE50","v":-27},{"$f":"Summer!AS50-'Summer Peak 2015-01-15'!GF50","v":-27},{"$f":"Summer!AT50-'Summer Peak 2015-01-15'!GG50","v":-27},{"$f":"Summer!AU50-'Summer Peak 2015-01-15'!GH50","v":-27},{"$f":"Summer!AV50-'Summer Peak 2015-01-15'!GI50","v":-27},{"$f":"Summer!AW50-'Summer Peak 2015-01-15'!GJ50","v":-27},{"$f":"Summer!AX50-'Summer Peak 2015-01-15'!GK50","v":-27},{"$f":"Summer!AY50-'Summer Peak 2015-01-15'!GL50","v":-27},{"$f":"Summer!AZ50-'Summer Peak 2015-01-15'!GM50","v":-27},{"$f":"Summer!BA50-'Summer Peak 2015-01-15'!GN50","v":-27},{"$f":"Summer!BB50-'Summer Peak 2015-01-15'!GO50","v":-27},{"$f":"Summer!BC50-'Summer Peak 2015-01-15'!GP50","v":-27},{"$f":"Summer!BD50-'Summer Peak 2015-01-15'!GQ50","v":-27},{"$f":"Summer!BE50-'Summer Peak 2015-01-15'!GR50","v":-27},{"$f":"Summer!BF50-'Summer Peak 2015-01-15'!GS50","v":-27},{"$f":"Summer!BG50-'Summer Peak 2015-01-15'!GT50","v":-27},{"$f":"Summer!BH50-'Summer Peak 2015-01-15'!GU50","v":-27},{"$f":"Summer!BI50-'Summer Peak 2015-01-15'!GV50","v":-27},{"$f":"Summer!BJ50-'Summer Peak 2015-01-15'!GW50","v":-27},{"$f":"Summer!BK50-'Summer Peak 2015-01-15'!GX50","v":-27},{"$f":"Summer!BL50-'Summer Peak 2015-01-15'!GY50","v":-27},{"$f":"Summer!BM50-'Summer Peak 2015-01-15'!GZ50","v":-27},{"$f":"Summer!BN50-'Summer Peak 2015-01-15'!HA50","v":-27},{"$f":"Summer!BO50-'Summer Peak 2015-01-15'!HB50","v":-27},{"$f":"Summer!BP50-'Summer Peak 2015-01-15'!HC50","v":-27},{"$f":"Summer!BQ50-'Summer Peak 2015-01-15'!HD50","v":-27},{"$f":"Summer!BR50-'Summer Peak 2015-01-15'!HE50","v":-27},{"$f":"Summer!BS50-'Summer Peak 2015-01-15'!HF50","v":-27},{"$f":"Summer!BT50-'Summer Peak 2015-01-15'!HG50","v":-27},{"$f":"Summer!BU50-'Summer Peak 2015-01-15'!HH50","v":-27},{"$f":"Summer!BV50-'Summer Peak 2015-01-15'!HI50","v":-27},{"$f":"Summer!BW50-'Summer Peak 2015-01-15'!HJ50","v":-27},{"$f":"Summer!BX50-'Summer Peak 2015-01-15'!HK50","v":-27},{"$f":"Summer!BY50-'Summer Peak 2015-01-15'!HL50","v":-27},{"$f":"Summer!BZ50-'Summer Peak 2015-01-15'!HM50","v":-27},{"$f":"Summer!CA50-'Summer Peak 2015-01-15'!HN50","v":-27},{"$f":"Summer!CB50-'Summer Peak 2015-01-15'!HO50","v":-27},{"$f":"Summer!CC50-'Summer Peak 2015-01-15'!HP50","v":-27},{"$f":"Summer!CD50-'Summer Peak 2015-01-15'!HQ50","v":-27},{"$f":"Summer!CE50-'Summer Peak 2015-01-15'!HR50","v":-27},{"$f":"Summer!CF50-'Summer Peak 2015-01-15'!HS50","v":-27},{"$f":"Summer!CG50-'Summer Peak 2015-01-15'!HT50","v":-27},{"$f":"Summer!CH50-'Summer Peak 2015-01-15'!HU50","v":-27},{"$f":"Summer!CI50-'Summer Peak 2015-01-15'!HV50","v":-27},{"$f":"Summer!CJ50-'Summer Peak 2015-01-15'!HW50","v":-27},{"$f":"Summer!CK50-'Summer Peak 2015-01-15'!HX50","v":-27},{"$f":"Summer!CL50-'Summer Peak 2015-01-15'!HY50","v":-27},{"$f":"Summer!CM50-'Summer Peak 2015-01-15'!HZ50","v":-27},{"$f":"Summer!CN50-'Summer Peak 2015-01-15'!IA50","v":-27},{"$f":"Summer!CO50-'Summer Peak 2015-01-15'!IB50","v":-27},{"$f":"Summer!CP50-'Summer Peak 2015-01-15'!IC50","v":-27},{"$f":"Summer!CQ50-'Summer Peak 2015-01-15'!ID50","v":-27},{"$f":"Summer!CR50-'Summer Peak 2015-01-15'!IE50","v":-27},{"$f":"Summer!CS50-'Summer Peak 2015-01-15'!IF50","v":-27},{"$f":"Summer!CT50-'Summer Peak 2015-01-15'!IG50","v":-27},{"$f":"Summer!CU50-'Summer Peak 2015-01-15'!IH50","v":-27},{"$f":"Summer!CV50-'Summer Peak 2015-01-15'!II50","v":-27},{"$f":"Summer!CW50-'Summer Peak 2015-01-15'!IJ50","v":-27},{"$f":"Summer!CX50-'Summer Peak 2015-01-15'!IK50","v":-27},{"$f":"Summer!CY50-'Summer Peak 2015-01-15'!IL50","v":-27},{"$f":"Summer!CZ50-'Summer Peak 2015-01-15'!IM50","v":-27},{"$f":"Summer!DA50-'Summer Peak 2015-01-15'!IN50","v":-27},{"$f":"Summer!DB50-'Summer Peak 2015-01-15'!IO50","v":-27},{"$f":"Summer!DC50-'Summer Peak 2015-01-15'!IP50","v":-27},{"$f":"Summer!DD50-'Summer Peak 2015-01-15'!IQ50","v":-27},{"$f":"Summer!DE50-'Summer Peak 2015-01-15'!IR50","v":-27},{"$f":"Summer!DF50-'Summer Peak 2015-01-15'!IS50","v":-27},{"$f":"Summer!DG50-'Summer Peak 2015-01-15'!IT50","v":-27},{"$f":"Summer!DH50-'Summer Peak 2015-01-15'!IU50","v":-27},{"$f":"Summer!DI50-'Summer Peak 2015-01-15'!IV50","v":-27},{"$f":"Summer!DJ50-'Summer Peak 2015-01-15'!IW50","v":-27},{"$f":"Summer!DK50-'Summer Peak 2015-01-15'!IX50","v":-27},{"$f":"Summer!DL50-'Summer Peak 2015-01-15'!IY50","v":-27},{"$f":"Summer!DM50-'Summer Peak 2015-01-15'!IZ50","v":-27},{"$f":"Summer!DN50-'Summer Peak 2015-01-15'!JA50","v":-27},{"$f":"Summer!DO50-'Summer Peak 2015-01-15'!JB50","v":-27},{"$f":"Summer!DP50-'Summer Peak 2015-01-15'!JC50","v":-27},{"$f":"Summer!DQ50-'Summer Peak 2015-01-15'!JD50","v":-27},{"$f":"Summer!DR50-'Summer Peak 2015-01-15'!JE50","v":-27},{"$f":"Summer!DS50-'Summer Peak 2015-01-15'!JF50","v":-27}]
[null,"PTN6",{"$f":"Summer!C51-'Summer Peak 2015-01-15'!EP51","v":0},{"$f":"Summer!D51-'Summer Peak 2015-01-15'!EQ51","v":0},{"$f":"Summer!E51-'Summer Peak 2015-01-15'!ER51","v":0},{"$f":"Summer!F51-'Summer Peak 2015-01-15'!ES51","v":0},{"$f":"Summer!G51-'Summer Peak 2015-01-15'!ET51","v":0},{"$f":"Summer!H51-'Summer Peak 2015-01-15'!EU51","v":0},{"$f":"Summer!I51-'Summer Peak 2015-01-15'!EV51","v":0},{"$f":"Summer!J51-'Summer Peak 2015-01-15'!EW51","v":0},{"$f":"Summer!K51-'Summer Peak 2015-01-15'!EX51","v":0},{"$f":"Summer!L51-'Summer Peak 2015-01-15'!EY51","v":0},{"$f":"Summer!M51-'Summer Peak 2015-01-15'!EZ51","v":0},{"$f":"Summer!N51-'Summer Peak 2015-01-15'!FA51","v":0},{"$f":"Summer!O51-'Summer Peak 2015-01-15'!FB51","v":0},{"$f":"Summer!P51-'Summer Peak 2015-01-15'!FC51","v":0},{"$f":"Summer!Q51-'Summer Peak 2015-01-15'!FD51","v":0},{"$f":"Summer!R51-'Summer Peak 2015-01-15'!FE51","v":0},{"$f":"Summer!S51-'Summer Peak 2015-01-15'!FF51","v":0},{"$f":"Summer!T51-'Summer Peak 2015-01-15'!FG51","v":0},{"$f":"Summer!U51-'Summer Peak 2015-01-15'!FH51","v":0},{"$f":"Summer!V51-'Summer Peak 2015-01-15'!FI51","v":0},{"$f":"Summer!W51-'Summer Peak 2015-01-15'!FJ51","v":0},{"$f":"Summer!X51-'Summer Peak 2015-01-15'!FK51","v":0},{"$f":"Summer!Y51-'Summer Peak 2015-01-15'!FL51","v":0},{"$f":"Summer!Z51-'Summer Peak 2015-01-15'!FM51","v":0},{"$f":"Summer!AA51-'Summer Peak 2015-01-15'!FN51","v":0},{"$f":"Summer!AB51-'Summer Peak 2015-01-15'!FO51","v":0},{"$f":"Summer!AC51-'Summer Peak 2015-01-15'!FP51","v":0},{"$f":"Summer!AD51-'Summer Peak 2015-01-15'!FQ51","v":0},{"$f":"Summer!AE51-'Summer Peak 2015-01-15'!FR51","v":0},{"$f":"Summer!AF51-'Summer Peak 2015-01-15'!FS51","v":0},{"$f":"Summer!AG51-'Summer Peak 2015-01-15'!FT51","v":0},{"$f":"Summer!AH51-'Summer Peak 2015-01-15'!FU51","v":0},{"$f":"Summer!AI51-'Summer Peak 2015-01-15'!FV51","v":0},{"$f":"Summer!AJ51-'Summer Peak 2015-01-15'!FW51","v":0},{"$f":"Summer!AK51-'Summer Peak 2015-01-15'!FX51","v":0},{"$f":"Summer!AL51-'Summer Peak 2015-01-15'!FY51","v":0},{"$f":"Summer!AM51-'Summer Peak 2015-01-15'!FZ51","v":0},{"$f":"Summer!AN51-'Summer Peak 2015-01-15'!GA51","v":0},{"$f":"Summer!AO51-'Summer Peak 2015-01-15'!GB51","v":0},{"$f":"Summer!AP51-'Summer Peak 2015-01-15'!GC51","v":0},{"$f":"Summer!AQ51-'Summer Peak 2015-01-15'!GD51","v":0},{"$f":"Summer!AR51-'Summer Peak 2015-01-15'!GE51","v":0},{"$f":"Summer!AS51-'Summer Peak 2015-01-15'!GF51","v":0},{"$f":"Summer!AT51-'Summer Peak 2015-01-15'!GG51","v":0},{"$f":"Summer!AU51-'Summer Peak 2015-01-15'!GH51","v":0},{"$f":"Summer!AV51-'Summer Peak 2015-01-15'!GI51","v":0},{"$f":"Summer!AW51-'Summer Peak 2015-01-15'!GJ51","v":0},{"$f":"Summer!AX51-'Summer Peak 2015-01-15'!GK51","v":0},{"$f":"Summer!AY51-'Summer Peak 2015-01-15'!GL51","v":0},{"$f":"Summer!AZ51-'Summer Peak 2015-01-15'!GM51","v":0},{"$f":"Summer!BA51-'Summer Peak 2015-01-15'!GN51","v":0},{"$f":"Summer!BB51-'Summer Peak 2015-01-15'!GO51","v":0},{"$f":"Summer!BC51-'Summer Peak 2015-01-15'!GP51","v":0},{"$f":"Summer!BD51-'Summer Peak 2015-01-15'!GQ51","v":0},{"$f":"Summer!BE51-'Summer Peak 2015-01-15'!GR51","v":0},{"$f":"Summer!BF51-'Summer Peak 2015-01-15'!GS51","v":0},{"$f":"Summer!BG51-'Summer Peak 2015-01-15'!GT51","v":0},{"$f":"Summer!BH51-'Summer Peak 2015-01-15'!GU51","v":0},{"$f":"Summer!BI51-'Summer Peak 2015-01-15'!GV51","v":0},{"$f":"Summer!BJ51-'Summer Peak 2015-01-15'!GW51","v":0},{"$f":"Summer!BK51-'Summer Peak 2015-01-15'!GX51","v":0},{"$f":"Summer!BL51-'Summer Peak 2015-01-15'!GY51","v":0},{"$f":"Summer!BM51-'Summer Peak 2015-01-15'!GZ51","v":0},{"$f":"Summer!BN51-'Summer Peak 2015-01-15'!HA51","v":0},{"$f":"Summer!BO51-'Summer Peak 2015-01-15'!HB51","v":0},{"$f":"Summer!BP51-'Summer Peak 2015-01-15'!HC51","v":0},{"$f":"Summer!BQ51-'Summer Peak 2015-01-15'!HD51","v":0},{"$f":"Summer!BR51-'Summer Peak 2015-01-15'!HE51","v":0},{"$f":"Summer!BS51-'Summer Peak 2015-01-15'!HF51","v":0},{"$f":"Summer!BT51-'Summer Peak 2015-01-15'!HG51","v":0},{"$f":"Summer!BU51-'Summer Peak 2015-01-15'!HH51","v":0},{"$f":"Summer!BV51-'Summer Peak 2015-01-15'!HI51","v":0},{"$f":"Summer!BW51-'Summer Peak 2015-01-15'!HJ51","v":0},{"$f":"Summer!BX51-'Summer Peak 2015-01-15'!HK51","v":0},{"$f":"Summer!BY51-'Summer Peak 2015-01-15'!HL51","v":0},{"$f":"Summer!BZ51-'Summer Peak 2015-01-15'!HM51","v":0},{"$f":"Summer!CA51-'Summer Peak 2015-01-15'!HN51","v":0},{"$f":"Summer!CB51-'Summer Peak 2015-01-15'!HO51","v":0},{"$f":"Summer!CC51-'Summer Peak 2015-01-15'!HP51","v":0},{"$f":"Summer!CD51-'Summer Peak 2015-01-15'!HQ51","v":0},{"$f":"Summer!CE51-'Summer Peak 2015-01-15'!HR51","v":0},{"$f":"Summer!CF51-'Summer Peak 2015-01-15'!HS51","v":0},{"$f":"Summer!CG51-'Summer Peak 2015-01-15'!HT51","v":0},{"$f":"Summer!CH51-'Summer Peak 2015-01-15'!HU51","v":0},{"$f":"Summer!CI51-'Summer Peak 2015-01-15'!HV51","v":0},{"$f":"Summer!CJ51-'Summer Peak 2015-01-15'!HW51","v":0},{"$f":"Summer!CK51-'Summer Peak 2015-01-15'!HX51","v":0},{"$f":"Summer!CL51-'Summer Peak 2015-01-15'!HY51","v":0},{"$f":"Summer!CM51-'Summer Peak 2015-01-15'!HZ51","v":0},{"$f":"Summer!CN51-'Summer Peak 2015-01-15'!IA51","v":0},{"$f":"Summer!CO51-'Summer Peak 2015-01-15'!IB51","v":0},{"$f":"Summer!CP51-'Summer Peak 2015-01-15'!IC51","v":0},{"$f":"Summer!CQ51-'Summer Peak 2015-01-15'!ID51","v":0},{"$f":"Summer!CR51-'Summer Peak 2015-01-15'!IE51","v":0},{"$f":"Summer!CS51-'Summer Peak 2015-01-15'!IF51","v":0},{"$f":"Summer!CT51-'Summer Peak 2015-01-15'!IG51","v":0},{"$f":"Summer!CU51-'Summer Peak 2015-01-15'!IH51","v":0},{"$f":"Summer!CV51-'Summer Peak 2015-01-15'!II51","v":0},{"$f":"Summer!CW51-'Summer Peak 2015-01-15'!IJ51","v":0},{"$f":"Summer!CX51-'Summer Peak 2015-01-15'!IK51","v":0},{"$f":"Summer!CY51-'Summer Peak 2015-01-15'!IL51","v":0},{"$f":"Summer!CZ51-'Summer Peak 2015-01-15'!IM51","v":0},{"$f":"Summer!DA51-'Summer Peak 2015-01-15'!IN51","v":0},{"$f":"Summer!DB51-'Summer Peak 2015-01-15'!IO51","v":0},{"$f":"Summer!DC51-'Summer Peak 2015-01-15'!IP51","v":0},{"$f":"Summer!DD51-'Summer Peak 2015-01-15'!IQ51","v":0},{"$f":"Summer!DE51-'Summer Peak 2015-01-15'!IR51","v":0},{"$f":"Summer!DF51-'Summer Peak 2015-01-15'!IS51","v":0},{"$f":"Summer!DG51-'Summer Peak 2015-01-15'!IT51","v":0},{"$f":"Summer!DH51-'Summer Peak 2015-01-15'!IU51","v":0},{"$f":"Summer!DI51-'Summer Peak 2015-01-15'!IV51","v":0},{"$f":"Summer!DJ51-'Summer Peak 2015-01-15'!IW51","v":0},{"$f":"Summer!DK51-'Summer Peak 2015-01-15'!IX51","v":0},{"$f":"Summer!DL51-'Summer Peak 2015-01-15'!IY51","v":0},{"$f":"Summer!DM51-'Summer Peak 2015-01-15'!IZ51","v":0},{"$f":"Summer!DN51-'Summer Peak 2015-01-15'!JA51","v":0},{"$f":"Summer!DO51-'Summer Peak 2015-01-15'!JB51","v":0},{"$f":"Summer!DP51-'Summer Peak 2015-01-15'!JC51","v":0},{"$f":"Summer!DQ51-'Summer Peak 2015-01-15'!JD51","v":0},{"$f":"Summer!DR51-'Summer Peak 2015-01-15'!JE51","v":0},{"$f":"Summer!DS51-'Summer Peak 2015-01-15'!JF51","v":0}]
[null,"PTN7",{"$f":"Summer!C52-'Summer Peak 2015-01-15'!EP52","v":0},{"$f":"Summer!D52-'Summer Peak 2015-01-15'!EQ52","v":0},{"$f":"Summer!E52-'Summer Peak 2015-01-15'!ER52","v":0},{"$f":"Summer!F52-'Summer Peak 2015-01-15'!ES52","v":0},{"$f":"Summer!G52-'Summer Peak 2015-01-15'!ET52","v":0},{"$f":"Summer!H52-'Summer Peak 2015-01-15'!EU52","v":0},{"$f":"Summer!I52-'Summer Peak 2015-01-15'!EV52","v":0},{"$f":"Summer!J52-'Summer Peak 2015-01-15'!EW52","v":0},{"$f":"Summer!K52-'Summer Peak 2015-01-15'!EX52","v":0},{"$f":"Summer!L52-'Summer Peak 2015-01-15'!EY52","v":0},{"$f":"Summer!M52-'Summer Peak 2015-01-15'!EZ52","v":0},{"$f":"Summer!N52-'Summer Peak 2015-01-15'!FA52","v":0},{"$f":"Summer!O52-'Summer Peak 2015-01-15'!FB52","v":0},{"$f":"Summer!P52-'Summer Peak 2015-01-15'!FC52","v":0},{"$f":"Summer!Q52-'Summer Peak 2015-01-15'!FD52","v":0},{"$f":"Summer!R52-'Summer Peak 2015-01-15'!FE52","v":0},{"$f":"Summer!S52-'Summer Peak 2015-01-15'!FF52","v":0},{"$f":"Summer!T52-'Summer Peak 2015-01-15'!FG52","v":0},{"$f":"Summer!U52-'Summer Peak 2015-01-15'!FH52","v":0},{"$f":"Summer!V52-'Summer Peak 2015-01-15'!FI52","v":0},{"$f":"Summer!W52-'Summer Peak 2015-01-15'!FJ52","v":0},{"$f":"Summer!X52-'Summer Peak 2015-01-15'!FK52","v":0},{"$f":"Summer!Y52-'Summer Peak 2015-01-15'!FL52","v":0},{"$f":"Summer!Z52-'Summer Peak 2015-01-15'!FM52","v":0},{"$f":"Summer!AA52-'Summer Peak 2015-01-15'!FN52","v":0},{"$f":"Summer!AB52-'Summer Peak 2015-01-15'!FO52","v":0},{"$f":"Summer!AC52-'Summer Peak 2015-01-15'!FP52","v":0},{"$f":"Summer!AD52-'Summer Peak 2015-01-15'!FQ52","v":0},{"$f":"Summer!AE52-'Summer Peak 2015-01-15'!FR52","v":0},{"$f":"Summer!AF52-'Summer Peak 2015-01-15'!FS52","v":0},{"$f":"Summer!AG52-'Summer Peak 2015-01-15'!FT52","v":0},{"$f":"Summer!AH52-'Summer Peak 2015-01-15'!FU52","v":0},{"$f":"Summer!AI52-'Summer Peak 2015-01-15'!FV52","v":0},{"$f":"Summer!AJ52-'Summer Peak 2015-01-15'!FW52","v":0},{"$f":"Summer!AK52-'Summer Peak 2015-01-15'!FX52","v":0},{"$f":"Summer!AL52-'Summer Peak 2015-01-15'!FY52","v":0},{"$f":"Summer!AM52-'Summer Peak 2015-01-15'!FZ52","v":0},{"$f":"Summer!AN52-'Summer Peak 2015-01-15'!GA52","v":0},{"$f":"Summer!AO52-'Summer Peak 2015-01-15'!GB52","v":0},{"$f":"Summer!AP52-'Summer Peak 2015-01-15'!GC52","v":0},{"$f":"Summer!AQ52-'Summer Peak 2015-01-15'!GD52","v":0},{"$f":"Summer!AR52-'Summer Peak 2015-01-15'!GE52","v":0},{"$f":"Summer!AS52-'Summer Peak 2015-01-15'!GF52","v":0},{"$f":"Summer!AT52-'Summer Peak 2015-01-15'!GG52","v":0},{"$f":"Summer!AU52-'Summer Peak 2015-01-15'!GH52","v":0},{"$f":"Summer!AV52-'Summer Peak 2015-01-15'!GI52","v":0},{"$f":"Summer!AW52-'Summer Peak 2015-01-15'!GJ52","v":0},{"$f":"Summer!AX52-'Summer Peak 2015-01-15'!GK52","v":0},{"$f":"Summer!AY52-'Summer Peak 2015-01-15'!GL52","v":0},{"$f":"Summer!AZ52-'Summer Peak 2015-01-15'!GM52","v":0},{"$f":"Summer!BA52-'Summer Peak 2015-01-15'!GN52","v":0},{"$f":"Summer!BB52-'Summer Peak 2015-01-15'!GO52","v":0},{"$f":"Summer!BC52-'Summer Peak 2015-01-15'!GP52","v":0},{"$f":"Summer!BD52-'Summer Peak 2015-01-15'!GQ52","v":0},{"$f":"Summer!BE52-'Summer Peak 2015-01-15'!GR52","v":0},{"$f":"Summer!BF52-'Summer Peak 2015-01-15'!GS52","v":0},{"$f":"Summer!BG52-'Summer Peak 2015-01-15'!GT52","v":0},{"$f":"Summer!BH52-'Summer Peak 2015-01-15'!GU52","v":0},{"$f":"Summer!BI52-'Summer Peak 2015-01-15'!GV52","v":0},{"$f":"Summer!BJ52-'Summer Peak 2015-01-15'!GW52","v":0},{"$f":"Summer!BK52-'Summer Peak 2015-01-15'!GX52","v":0},{"$f":"Summer!BL52-'Summer Peak 2015-01-15'!GY52","v":0},{"$f":"Summer!BM52-'Summer Peak 2015-01-15'!GZ52","v":0},{"$f":"Summer!BN52-'Summer Peak 2015-01-15'!HA52","v":0},{"$f":"Summer!BO52-'Summer Peak 2015-01-15'!HB52","v":0},{"$f":"Summer!BP52-'Summer Peak 2015-01-15'!HC52","v":0},{"$f":"Summer!BQ52-'Summer Peak 2015-01-15'!HD52","v":0},{"$f":"Summer!BR52-'Summer Peak 2015-01-15'!HE52","v":0},{"$f":"Summer!BS52-'Summer Peak 2015-01-15'!HF52","v":0},{"$f":"Summer!BT52-'Summer Peak 2015-01-15'!HG52","v":0},{"$f":"Summer!BU52-'Summer Peak 2015-01-15'!HH52","v":0},{"$f":"Summer!BV52-'Summer Peak 2015-01-15'!HI52","v":0},{"$f":"Summer!BW52-'Summer Peak 2015-01-15'!HJ52","v":0},{"$f":"Summer!BX52-'Summer Peak 2015-01-15'!HK52","v":0},{"$f":"Summer!BY52-'Summer Peak 2015-01-15'!HL52","v":0},{"$f":"Summer!BZ52-'Summer Peak 2015-01-15'!HM52","v":0},{"$f":"Summer!CA52-'Summer Peak 2015-01-15'!HN52","v":0},{"$f":"Summer!CB52-'Summer Peak 2015-01-15'!HO52","v":0},{"$f":"Summer!CC52-'Summer Peak 2015-01-15'!HP52","v":0},{"$f":"Summer!CD52-'Summer Peak 2015-01-15'!HQ52","v":0},{"$f":"Summer!CE52-'Summer Peak 2015-01-15'!HR52","v":0},{"$f":"Summer!CF52-'Summer Peak 2015-01-15'!HS52","v":0},{"$f":"Summer!CG52-'Summer Peak 2015-01-15'!HT52","v":0},{"$f":"Summer!CH52-'Summer Peak 2015-01-15'!HU52","v":0},{"$f":"Summer!CI52-'Summer Peak 2015-01-15'!HV52","v":0},{"$f":"Summer!CJ52-'Summer Peak 2015-01-15'!HW52","v":0},{"$f":"Summer!CK52-'Summer Peak 2015-01-15'!HX52","v":0},{"$f":"Summer!CL52-'Summer Peak 2015-01-15'!HY52","v":0},{"$f":"Summer!CM52-'Summer Peak 2015-01-15'!HZ52","v":0},{"$f":"Summer!CN52-'Summer Peak 2015-01-15'!IA52","v":0},{"$f":"Summer!CO52-'Summer Peak 2015-01-15'!IB52","v":0},{"$f":"Summer!CP52-'Summer Peak 2015-01-15'!IC52","v":0},{"$f":"Summer!CQ52-'Summer Peak 2015-01-15'!ID52","v":0},{"$f":"Summer!CR52-'Summer Peak 2015-01-15'!IE52","v":0},{"$f":"Summer!CS52-'Summer Peak 2015-01-15'!IF52","v":0},{"$f":"Summer!CT52-'Summer Peak 2015-01-15'!IG52","v":0},{"$f":"Summer!CU52-'Summer Peak 2015-01-15'!IH52","v":0},{"$f":"Summer!CV52-'Summer Peak 2015-01-15'!II52","v":0},{"$f":"Summer!CW52-'Summer Peak 2015-01-15'!IJ52","v":0},{"$f":"Summer!CX52-'Summer Peak 2015-01-15'!IK52","v":0},{"$f":"Summer!CY52-'Summer Peak 2015-01-15'!IL52","v":0},{"$f":"Summer!CZ52-'Summer Peak 2015-01-15'!IM52","v":0},{"$f":"Summer!DA52-'Summer Peak 2015-01-15'!IN52","v":0},{"$f":"Summer!DB52-'Summer Peak 2015-01-15'!IO52","v":0},{"$f":"Summer!DC52-'Summer Peak 2015-01-15'!IP52","v":0},{"$f":"Summer!DD52-'Summer Peak 2015-01-15'!IQ52","v":0},{"$f":"Summer!DE52-'Summer Peak 2015-01-15'!IR52","v":0},{"$f":"Summer!DF52-'Summer Peak 2015-01-15'!IS52","v":0},{"$f":"Summer!DG52-'Summer Peak 2015-01-15'!IT52","v":0},{"$f":"Summer!DH52-'Summer Peak 2015-01-15'!IU52","v":0},{"$f":"Summer!DI52-'Summer Peak 2015-01-15'!IV52","v":0},{"$f":"Summer!DJ52-'Summer Peak 2015-01-15'!IW52","v":0},{"$f":"Summer!DK52-'Summer Peak 2015-01-15'!IX52","v":0},{"$f":"Summer!DL52-'Summer Peak 2015-01-15'!IY52","v":0},{"$f":"Summer!DM52-'Summer Peak 2015-01-15'!IZ52","v":0},{"$f":"Summer!DN52-'Summer Peak 2015-01-15'!JA52","v":0},{"$f":"Summer!DO52-'Summer Peak 2015-01-15'!JB52","v":0},{"$f":"Summer!DP52-'Summer Peak 2015-01-15'!JC52","v":0},{"$f":"Summer!DQ52-'Summer Peak 2015-01-15'!JD52","v":0},{"$f":"Summer!DR52-'Summer Peak 2015-01-15'!JE52","v":0},{"$f":"Summer!DS52-'Summer Peak 2015-01-15'!JF52","v":0}]
[null,"PTFD",{"$f":"Summer!C53-'Summer Peak 2015-01-15'!EP53","v":0},{"$f":"Summer!D53-'Summer Peak 2015-01-15'!EQ53","v":0},{"$f":"Summer!E53-'Summer Peak 2015-01-15'!ER53","v":0},{"$f":"Summer!F53-'Summer Peak 2015-01-15'!ES53","v":0},{"$f":"Summer!G53-'Summer Peak 2015-01-15'!ET53","v":0},{"$f":"Summer!H53-'Summer Peak 2015-01-15'!EU53","v":0},{"$f":"Summer!I53-'Summer Peak 2015-01-15'!EV53","v":0},{"$f":"Summer!J53-'Summer Peak 2015-01-15'!EW53","v":0},{"$f":"Summer!K53-'Summer Peak 2015-01-15'!EX53","v":0},{"$f":"Summer!L53-'Summer Peak 2015-01-15'!EY53","v":0},{"$f":"Summer!M53-'Summer Peak 2015-01-15'!EZ53","v":0},{"$f":"Summer!N53-'Summer Peak 2015-01-15'!FA53","v":0},{"$f":"Summer!O53-'Summer Peak 2015-01-15'!FB53","v":0},{"$f":"Summer!P53-'Summer Peak 2015-01-15'!FC53","v":0},{"$f":"Summer!Q53-'Summer Peak 2015-01-15'!FD53","v":0},{"$f":"Summer!R53-'Summer Peak 2015-01-15'!FE53","v":0},{"$f":"Summer!S53-'Summer Peak 2015-01-15'!FF53","v":0},{"$f":"Summer!T53-'Summer Peak 2015-01-15'!FG53","v":0},{"$f":"Summer!U53-'Summer Peak 2015-01-15'!FH53","v":0},{"$f":"Summer!V53-'Summer Peak 2015-01-15'!FI53","v":0},{"$f":"Summer!W53-'Summer Peak 2015-01-15'!FJ53","v":0},{"$f":"Summer!X53-'Summer Peak 2015-01-15'!FK53","v":0},{"$f":"Summer!Y53-'Summer Peak 2015-01-15'!FL53","v":0},{"$f":"Summer!Z53-'Summer Peak 2015-01-15'!FM53","v":0},{"$f":"Summer!AA53-'Summer Peak 2015-01-15'!FN53","v":0},{"$f":"Summer!AB53-'Summer Peak 2015-01-15'!FO53","v":0},{"$f":"Summer!AC53-'Summer Peak 2015-01-15'!FP53","v":0},{"$f":"Summer!AD53-'Summer Peak 2015-01-15'!FQ53","v":0},{"$f":"Summer!AE53-'Summer Peak 2015-01-15'!FR53","v":0},{"$f":"Summer!AF53-'Summer Peak 2015-01-15'!FS53","v":0},{"$f":"Summer!AG53-'Summer Peak 2015-01-15'!FT53","v":0},{"$f":"Summer!AH53-'Summer Peak 2015-01-15'!FU53","v":0},{"$f":"Summer!AI53-'Summer Peak 2015-01-15'!FV53","v":0},{"$f":"Summer!AJ53-'Summer Peak 2015-01-15'!FW53","v":0},{"$f":"Summer!AK53-'Summer Peak 2015-01-15'!FX53","v":0},{"$f":"Summer!AL53-'Summer Peak 2015-01-15'!FY53","v":0},{"$f":"Summer!AM53-'Summer Peak 2015-01-15'!FZ53","v":0},{"$f":"Summer!AN53-'Summer Peak 2015-01-15'!GA53","v":0},{"$f":"Summer!AO53-'Summer Peak 2015-01-15'!GB53","v":0},{"$f":"Summer!AP53-'Summer Peak 2015-01-15'!GC53","v":0},{"$f":"Summer!AQ53-'Summer Peak 2015-01-15'!GD53","v":0},{"$f":"Summer!AR53-'Summer Peak 2015-01-15'!GE53","v":0},{"$f":"Summer!AS53-'Summer Peak 2015-01-15'!GF53","v":0},{"$f":"Summer!AT53-'Summer Peak 2015-01-15'!GG53","v":0},{"$f":"Summer!AU53-'Summer Peak 2015-01-15'!GH53","v":0},{"$f":"Summer!AV53-'Summer Peak 2015-01-15'!GI53","v":0},{"$f":"Summer!AW53-'Summer Peak 2015-01-15'!GJ53","v":0},{"$f":"Summer!AX53-'Summer Peak 2015-01-15'!GK53","v":0},{"$f":"Summer!AY53-'Summer Peak 2015-01-15'!GL53","v":0},{"$f":"Summer!AZ53-'Summer Peak 2015-01-15'!GM53","v":0},{"$f":"Summer!BA53-'Summer Peak 2015-01-15'!GN53","v":0},{"$f":"Summer!BB53-'Summer Peak 2015-01-15'!GO53","v":0},{"$f":"Summer!BC53-'Summer Peak 2015-01-15'!GP53","v":0},{"$f":"Summer!BD53-'Summer Peak 2015-01-15'!GQ53","v":0},{"$f":"Summer!BE53-'Summer Peak 2015-01-15'!GR53","v":0},{"$f":"Summer!BF53-'Summer Peak 2015-01-15'!GS53","v":0},{"$f":"Summer!BG53-'Summer Peak 2015-01-15'!GT53","v":0},{"$f":"Summer!BH53-'Summer Peak 2015-01-15'!GU53","v":0},{"$f":"Summer!BI53-'Summer Peak 2015-01-15'!GV53","v":0},{"$f":"Summer!BJ53-'Summer Peak 2015-01-15'!GW53","v":0},{"$f":"Summer!BK53-'Summer Peak 2015-01-15'!GX53","v":0},{"$f":"Summer!BL53-'Summer Peak 2015-01-15'!GY53","v":0},{"$f":"Summer!BM53-'Summer Peak 2015-01-15'!GZ53","v":0},{"$f":"Summer!BN53-'Summer Peak 2015-01-15'!HA53","v":0},{"$f":"Summer!BO53-'Summer Peak 2015-01-15'!HB53","v":0},{"$f":"Summer!BP53-'Summer Peak 2015-01-15'!HC53","v":0},{"$f":"Summer!BQ53-'Summer Peak 2015-01-15'!HD53","v":0},{"$f":"Summer!BR53-'Summer Peak 2015-01-15'!HE53","v":0},{"$f":"Summer!BS53-'Summer Peak 2015-01-15'!HF53","v":0},{"$f":"Summer!BT53-'Summer Peak 2015-01-15'!HG53","v":0},{"$f":"Summer!BU53-'Summer Peak 2015-01-15'!HH53","v":0},{"$f":"Summer!BV53-'Summer Peak 2015-01-15'!HI53","v":0},{"$f":"Summer!BW53-'Summer Peak 2015-01-15'!HJ53","v":0},{"$f":"Summer!BX53-'Summer Peak 2015-01-15'!HK53","v":0},{"$f":"Summer!BY53-'Summer Peak 2015-01-15'!HL53","v":0},{"$f":"Summer!BZ53-'Summer Peak 2015-01-15'!HM53","v":0},{"$f":"Summer!CA53-'Summer Peak 2015-01-15'!HN53","v":0},{"$f":"Summer!CB53-'Summer Peak 2015-01-15'!HO53","v":0},{"$f":"Summer!CC53-'Summer Peak 2015-01-15'!HP53","v":0},{"$f":"Summer!CD53-'Summer Peak 2015-01-15'!HQ53","v":0},{"$f":"Summer!CE53-'Summer Peak 2015-01-15'!HR53","v":0},{"$f":"Summer!CF53-'Summer Peak 2015-01-15'!HS53","v":0},{"$f":"Summer!CG53-'Summer Peak 2015-01-15'!HT53","v":0},{"$f":"Summer!CH53-'Summer Peak 2015-01-15'!HU53","v":0},{"$f":"Summer!CI53-'Summer Peak 2015-01-15'!HV53","v":0},{"$f":"Summer!CJ53-'Summer Peak 2015-01-15'!HW53","v":0},{"$f":"Summer!CK53-'Summer Peak 2015-01-15'!HX53","v":0},{"$f":"Summer!CL53-'Summer Peak 2015-01-15'!HY53","v":0},{"$f":"Summer!CM53-'Summer Peak 2015-01-15'!HZ53","v":0},{"$f":"Summer!CN53-'Summer Peak 2015-01-15'!IA53","v":0},{"$f":"Summer!CO53-'Summer Peak 2015-01-15'!IB53","v":0},{"$f":"Summer!CP53-'Summer Peak 2015-01-15'!IC53","v":0},{"$f":"Summer!CQ53-'Summer Peak 2015-01-15'!ID53","v":0},{"$f":"Summer!CR53-'Summer Peak 2015-01-15'!IE53","v":0},{"$f":"Summer!CS53-'Summer Peak 2015-01-15'!IF53","v":0},{"$f":"Summer!CT53-'Summer Peak 2015-01-15'!IG53","v":0},{"$f":"Summer!CU53-'Summer Peak 2015-01-15'!IH53","v":0},{"$f":"Summer!CV53-'Summer Peak 2015-01-15'!II53","v":0},{"$f":"Summer!CW53-'Summer Peak 2015-01-15'!IJ53","v":0},{"$f":"Summer!CX53-'Summer Peak 2015-01-15'!IK53","v":0},{"$f":"Summer!CY53-'Summer Peak 2015-01-15'!IL53","v":0},{"$f":"Summer!CZ53-'Summer Peak 2015-01-15'!IM53","v":0},{"$f":"Summer!DA53-'Summer Peak 2015-01-15'!IN53","v":0},{"$f":"Summer!DB53-'Summer Peak 2015-01-15'!IO53","v":0},{"$f":"Summer!DC53-'Summer Peak 2015-01-15'!IP53","v":0},{"$f":"Summer!DD53-'Summer Peak 2015-01-15'!IQ53","v":0},{"$f":"Summer!DE53-'Summer Peak 2015-01-15'!IR53","v":0},{"$f":"Summer!DF53-'Summer Peak 2015-01-15'!IS53","v":0},{"$f":"Summer!DG53-'Summer Peak 2015-01-15'!IT53","v":0},{"$f":"Summer!DH53-'Summer Peak 2015-01-15'!IU53","v":0},{"$f":"Summer!DI53-'Summer Peak 2015-01-15'!IV53","v":0},{"$f":"Summer!DJ53-'Summer Peak 2015-01-15'!IW53","v":0},{"$f":"Summer!DK53-'Summer Peak 2015-01-15'!IX53","v":0},{"$f":"Summer!DL53-'Summer Peak 2015-01-15'!IY53","v":0},{"$f":"Summer!DM53-'Summer Peak 2015-01-15'!IZ53","v":0},{"$f":"Summer!DN53-'Summer Peak 2015-01-15'!JA53","v":0},{"$f":"Summer!DO53-'Summer Peak 2015-01-15'!JB53","v":0},{"$f":"Summer!DP53-'Summer Peak 2015-01-15'!JC53","v":0},{"$f":"Summer!DQ53-'Summer Peak 2015-01-15'!JD53","v":0},{"$f":"Summer!DR53-'Summer Peak 2015-01-15'!JE53","v":0},{"$f":"Summer!DS53-'Summer Peak 2015-01-15'!JF53","v":0}]
[null,"PVB",{"$f":"Summer!C54-'Summer Peak 2015-01-15'!EP54","v":0},{"$f":"Summer!D54-'Summer Peak 2015-01-15'!EQ54","v":0},{"$f":"Summer!E54-'Summer Peak 2015-01-15'!ER54","v":0},{"$f":"Summer!F54-'Summer Peak 2015-01-15'!ES54","v":0},{"$f":"Summer!G54-'Summer Peak 2015-01-15'!ET54","v":0},{"$f":"Summer!H54-'Summer Peak 2015-01-15'!EU54","v":0},{"$f":"Summer!I54-'Summer Peak 2015-01-15'!EV54","v":0},{"$f":"Summer!J54-'Summer Peak 2015-01-15'!EW54","v":0},{"$f":"Summer!K54-'Summer Peak 2015-01-15'!EX54","v":0},{"$f":"Summer!L54-'Summer Peak 2015-01-15'!EY54","v":0},{"$f":"Summer!M54-'Summer Peak 2015-01-15'!EZ54","v":0},{"$f":"Summer!N54-'Summer Peak 2015-01-15'!FA54","v":0},{"$f":"Summer!O54-'Summer Peak 2015-01-15'!FB54","v":0},{"$f":"Summer!P54-'Summer Peak 2015-01-15'!FC54","v":0},{"$f":"Summer!Q54-'Summer Peak 2015-01-15'!FD54","v":0},{"$f":"Summer!R54-'Summer Peak 2015-01-15'!FE54","v":0},{"$f":"Summer!S54-'Summer Peak 2015-01-15'!FF54","v":0},{"$f":"Summer!T54-'Summer Peak 2015-01-15'!FG54","v":0},{"$f":"Summer!U54-'Summer Peak 2015-01-15'!FH54","v":0},{"$f":"Summer!V54-'Summer Peak 2015-01-15'!FI54","v":0},{"$f":"Summer!W54-'Summer Peak 2015-01-15'!FJ54","v":0},{"$f":"Summer!X54-'Summer Peak 2015-01-15'!FK54","v":0},{"$f":"Summer!Y54-'Summer Peak 2015-01-15'!FL54","v":0},{"$f":"Summer!Z54-'Summer Peak 2015-01-15'!FM54","v":0},{"$f":"Summer!AA54-'Summer Peak 2015-01-15'!FN54","v":0},{"$f":"Summer!AB54-'Summer Peak 2015-01-15'!FO54","v":0},{"$f":"Summer!AC54-'Summer Peak 2015-01-15'!FP54","v":0},{"$f":"Summer!AD54-'Summer Peak 2015-01-15'!FQ54","v":0},{"$f":"Summer!AE54-'Summer Peak 2015-01-15'!FR54","v":0},{"$f":"Summer!AF54-'Summer Peak 2015-01-15'!FS54","v":0},{"$f":"Summer!AG54-'Summer Peak 2015-01-15'!FT54","v":0},{"$f":"Summer!AH54-'Summer Peak 2015-01-15'!FU54","v":0},{"$f":"Summer!AI54-'Summer Peak 2015-01-15'!FV54","v":0},{"$f":"Summer!AJ54-'Summer Peak 2015-01-15'!FW54","v":0},{"$f":"Summer!AK54-'Summer Peak 2015-01-15'!FX54","v":0},{"$f":"Summer!AL54-'Summer Peak 2015-01-15'!FY54","v":0},{"$f":"Summer!AM54-'Summer Peak 2015-01-15'!FZ54","v":0},{"$f":"Summer!AN54-'Summer Peak 2015-01-15'!GA54","v":0},{"$f":"Summer!AO54-'Summer Peak 2015-01-15'!GB54","v":0},{"$f":"Summer!AP54-'Summer Peak 2015-01-15'!GC54","v":0},{"$f":"Summer!AQ54-'Summer Peak 2015-01-15'!GD54","v":0},{"$f":"Summer!AR54-'Summer Peak 2015-01-15'!GE54","v":0},{"$f":"Summer!AS54-'Summer Peak 2015-01-15'!GF54","v":0},{"$f":"Summer!AT54-'Summer Peak 2015-01-15'!GG54","v":0},{"$f":"Summer!AU54-'Summer Peak 2015-01-15'!GH54","v":0},{"$f":"Summer!AV54-'Summer Peak 2015-01-15'!GI54","v":0},{"$f":"Summer!AW54-'Summer Peak 2015-01-15'!GJ54","v":0},{"$f":"Summer!AX54-'Summer Peak 2015-01-15'!GK54","v":0},{"$f":"Summer!AY54-'Summer Peak 2015-01-15'!GL54","v":0},{"$f":"Summer!AZ54-'Summer Peak 2015-01-15'!GM54","v":0},{"$f":"Summer!BA54-'Summer Peak 2015-01-15'!GN54","v":0},{"$f":"Summer!BB54-'Summer Peak 2015-01-15'!GO54","v":0},{"$f":"Summer!BC54-'Summer Peak 2015-01-15'!GP54","v":0},{"$f":"Summer!BD54-'Summer Peak 2015-01-15'!GQ54","v":0},{"$f":"Summer!BE54-'Summer Peak 2015-01-15'!GR54","v":0},{"$f":"Summer!BF54-'Summer Peak 2015-01-15'!GS54","v":0},{"$f":"Summer!BG54-'Summer Peak 2015-01-15'!GT54","v":0},{"$f":"Summer!BH54-'Summer Peak 2015-01-15'!GU54","v":0},{"$f":"Summer!BI54-'Summer Peak 2015-01-15'!GV54","v":0},{"$f":"Summer!BJ54-'Summer Peak 2015-01-15'!GW54","v":0},{"$f":"Summer!BK54-'Summer Peak 2015-01-15'!GX54","v":0},{"$f":"Summer!BL54-'Summer Peak 2015-01-15'!GY54","v":0},{"$f":"Summer!BM54-'Summer Peak 2015-01-15'!GZ54","v":0},{"$f":"Summer!BN54-'Summer Peak 2015-01-15'!HA54","v":0},{"$f":"Summer!BO54-'Summer Peak 2015-01-15'!HB54","v":0},{"$f":"Summer!BP54-'Summer Peak 2015-01-15'!HC54","v":0},{"$f":"Summer!BQ54-'Summer Peak 2015-01-15'!HD54","v":0},{"$f":"Summer!BR54-'Summer Peak 2015-01-15'!HE54","v":0},{"$f":"Summer!BS54-'Summer Peak 2015-01-15'!HF54","v":0},{"$f":"Summer!BT54-'Summer Peak 2015-01-15'!HG54","v":0},{"$f":"Summer!BU54-'Summer Peak 2015-01-15'!HH54","v":0},{"$f":"Summer!BV54-'Summer Peak 2015-01-15'!HI54","v":0},{"$f":"Summer!BW54-'Summer Peak 2015-01-15'!HJ54","v":0},{"$f":"Summer!BX54-'Summer Peak 2015-01-15'!HK54","v":0},{"$f":"Summer!BY54-'Summer Peak 2015-01-15'!HL54","v":0},{"$f":"Summer!BZ54-'Summer Peak 2015-01-15'!HM54","v":0},{"$f":"Summer!CA54-'Summer Peak 2015-01-15'!HN54","v":0},{"$f":"Summer!CB54-'Summer Peak 2015-01-15'!HO54","v":0},{"$f":"Summer!CC54-'Summer Peak 2015-01-15'!HP54","v":0},{"$f":"Summer!CD54-'Summer Peak 2015-01-15'!HQ54","v":0},{"$f":"Summer!CE54-'Summer Peak 2015-01-15'!HR54","v":0},{"$f":"Summer!CF54-'Summer Peak 2015-01-15'!HS54","v":0},{"$f":"Summer!CG54-'Summer Peak 2015-01-15'!HT54","v":0},{"$f":"Summer!CH54-'Summer Peak 2015-01-15'!HU54","v":0},{"$f":"Summer!CI54-'Summer Peak 2015-01-15'!HV54","v":0},{"$f":"Summer!CJ54-'Summer Peak 2015-01-15'!HW54","v":0},{"$f":"Summer!CK54-'Summer Peak 2015-01-15'!HX54","v":0},{"$f":"Summer!CL54-'Summer Peak 2015-01-15'!HY54","v":0},{"$f":"Summer!CM54-'Summer Peak 2015-01-15'!HZ54","v":0},{"$f":"Summer!CN54-'Summer Peak 2015-01-15'!IA54","v":0},{"$f":"Summer!CO54-'Summer Peak 2015-01-15'!IB54","v":0},{"$f":"Summer!CP54-'Summer Peak 2015-01-15'!IC54","v":0},{"$f":"Summer!CQ54-'Summer Peak 2015-01-15'!ID54","v":0},{"$f":"Summer!CR54-'Summer Peak 2015-01-15'!IE54","v":0},{"$f":"Summer!CS54-'Summer Peak 2015-01-15'!IF54","v":0},{"$f":"Summer!CT54-'Summer Peak 2015-01-15'!IG54","v":0},{"$f":"Summer!CU54-'Summer Peak 2015-01-15'!IH54","v":0},{"$f":"Summer!CV54-'Summer Peak 2015-01-15'!II54","v":0},{"$f":"Summer!CW54-'Summer Peak 2015-01-15'!IJ54","v":0},{"$f":"Summer!CX54-'Summer Peak 2015-01-15'!IK54","v":0},{"$f":"Summer!CY54-'Summer Peak 2015-01-15'!IL54","v":0},{"$f":"Summer!CZ54-'Summer Peak 2015-01-15'!IM54","v":0},{"$f":"Summer!DA54-'Summer Peak 2015-01-15'!IN54","v":0},{"$f":"Summer!DB54-'Summer Peak 2015-01-15'!IO54","v":0},{"$f":"Summer!DC54-'Summer Peak 2015-01-15'!IP54","v":0},{"$f":"Summer!DD54-'Summer Peak 2015-01-15'!IQ54","v":0},{"$f":"Summer!DE54-'Summer Peak 2015-01-15'!IR54","v":0},{"$f":"Summer!DF54-'Summer Peak 2015-01-15'!IS54","v":0},{"$f":"Summer!DG54-'Summer Peak 2015-01-15'!IT54","v":0},{"$f":"Summer!DH54-'Summer Peak 2015-01-15'!IU54","v":0},{"$f":"Summer!DI54-'Summer Peak 2015-01-15'!IV54","v":0},{"$f":"Summer!DJ54-'Summer Peak 2015-01-15'!IW54","v":0},{"$f":"Summer!DK54-'Summer Peak 2015-01-15'!IX54","v":0},{"$f":"Summer!DL54-'Summer Peak 2015-01-15'!IY54","v":0},{"$f":"Summer!DM54-'Summer Peak 2015-01-15'!IZ54","v":0},{"$f":"Summer!DN54-'Summer Peak 2015-01-15'!JA54","v":0},{"$f":"Summer!DO54-'Summer Peak 2015-01-15'!JB54","v":0},{"$f":"Summer!DP54-'Summer Peak 2015-01-15'!JC54","v":0},{"$f":"Summer!DQ54-'Summer Peak 2015-01-15'!JD54","v":0},{"$f":"Summer!DR54-'Summer Peak 2015-01-15'!JE54","v":0},{"$f":"Summer!DS54-'Summer Peak 2015-01-15'!JF54","v":0}]
[null,"PWC1",{"$f":"Summer!C55-'Summer Peak 2015-01-15'!EP55","v":0},{"$f":"Summer!D55-'Summer Peak 2015-01-15'!EQ55","v":0},{"$f":"Summer!E55-'Summer Peak 2015-01-15'!ER55","v":0},{"$f":"Summer!F55-'Summer Peak 2015-01-15'!ES55","v":0},{"$f":"Summer!G55-'Summer Peak 2015-01-15'!ET55","v":0},{"$f":"Summer!H55-'Summer Peak 2015-01-15'!EU55","v":0},{"$f":"Summer!I55-'Summer Peak 2015-01-15'!EV55","v":0},{"$f":"Summer!J55-'Summer Peak 2015-01-15'!EW55","v":0},{"$f":"Summer!K55-'Summer Peak 2015-01-15'!EX55","v":0},{"$f":"Summer!L55-'Summer Peak 2015-01-15'!EY55","v":0},{"$f":"Summer!M55-'Summer Peak 2015-01-15'!EZ55","v":0},{"$f":"Summer!N55-'Summer Peak 2015-01-15'!FA55","v":0},{"$f":"Summer!O55-'Summer Peak 2015-01-15'!FB55","v":0},{"$f":"Summer!P55-'Summer Peak 2015-01-15'!FC55","v":0},{"$f":"Summer!Q55-'Summer Peak 2015-01-15'!FD55","v":0},{"$f":"Summer!R55-'Summer Peak 2015-01-15'!FE55","v":0},{"$f":"Summer!S55-'Summer Peak 2015-01-15'!FF55","v":0},{"$f":"Summer!T55-'Summer Peak 2015-01-15'!FG55","v":0},{"$f":"Summer!U55-'Summer Peak 2015-01-15'!FH55","v":0},{"$f":"Summer!V55-'Summer Peak 2015-01-15'!FI55","v":0},{"$f":"Summer!W55-'Summer Peak 2015-01-15'!FJ55","v":0},{"$f":"Summer!X55-'Summer Peak 2015-01-15'!FK55","v":0},{"$f":"Summer!Y55-'Summer Peak 2015-01-15'!FL55","v":0},{"$f":"Summer!Z55-'Summer Peak 2015-01-15'!FM55","v":0},{"$f":"Summer!AA55-'Summer Peak 2015-01-15'!FN55","v":0},{"$f":"Summer!AB55-'Summer Peak 2015-01-15'!FO55","v":0},{"$f":"Summer!AC55-'Summer Peak 2015-01-15'!FP55","v":0},{"$f":"Summer!AD55-'Summer Peak 2015-01-15'!FQ55","v":0},{"$f":"Summer!AE55-'Summer Peak 2015-01-15'!FR55","v":0},{"$f":"Summer!AF55-'Summer Peak 2015-01-15'!FS55","v":0},{"$f":"Summer!AG55-'Summer Peak 2015-01-15'!FT55","v":0},{"$f":"Summer!AH55-'Summer Peak 2015-01-15'!FU55","v":0},{"$f":"Summer!AI55-'Summer Peak 2015-01-15'!FV55","v":0},{"$f":"Summer!AJ55-'Summer Peak 2015-01-15'!FW55","v":0},{"$f":"Summer!AK55-'Summer Peak 2015-01-15'!FX55","v":0},{"$f":"Summer!AL55-'Summer Peak 2015-01-15'!FY55","v":0},{"$f":"Summer!AM55-'Summer Peak 2015-01-15'!FZ55","v":0},{"$f":"Summer!AN55-'Summer Peak 2015-01-15'!GA55","v":0},{"$f":"Summer!AO55-'Summer Peak 2015-01-15'!GB55","v":0},{"$f":"Summer!AP55-'Summer Peak 2015-01-15'!GC55","v":0},{"$f":"Summer!AQ55-'Summer Peak 2015-01-15'!GD55","v":0},{"$f":"Summer!AR55-'Summer Peak 2015-01-15'!GE55","v":0},{"$f":"Summer!AS55-'Summer Peak 2015-01-15'!GF55","v":0},{"$f":"Summer!AT55-'Summer Peak 2015-01-15'!GG55","v":0},{"$f":"Summer!AU55-'Summer Peak 2015-01-15'!GH55","v":0},{"$f":"Summer!AV55-'Summer Peak 2015-01-15'!GI55","v":0},{"$f":"Summer!AW55-'Summer Peak 2015-01-15'!GJ55","v":0},{"$f":"Summer!AX55-'Summer Peak 2015-01-15'!GK55","v":0},{"$f":"Summer!AY55-'Summer Peak 2015-01-15'!GL55","v":0},{"$f":"Summer!AZ55-'Summer Peak 2015-01-15'!GM55","v":0},{"$f":"Summer!BA55-'Summer Peak 2015-01-15'!GN55","v":0},{"$f":"Summer!BB55-'Summer Peak 2015-01-15'!GO55","v":0},{"$f":"Summer!BC55-'Summer Peak 2015-01-15'!GP55","v":0},{"$f":"Summer!BD55-'Summer Peak 2015-01-15'!GQ55","v":0},{"$f":"Summer!BE55-'Summer Peak 2015-01-15'!GR55","v":0},{"$f":"Summer!BF55-'Summer Peak 2015-01-15'!GS55","v":0},{"$f":"Summer!BG55-'Summer Peak 2015-01-15'!GT55","v":0},{"$f":"Summer!BH55-'Summer Peak 2015-01-15'!GU55","v":0},{"$f":"Summer!BI55-'Summer Peak 2015-01-15'!GV55","v":0},{"$f":"Summer!BJ55-'Summer Peak 2015-01-15'!GW55","v":0},{"$f":"Summer!BK55-'Summer Peak 2015-01-15'!GX55","v":0},{"$f":"Summer!BL55-'Summer Peak 2015-01-15'!GY55","v":0},{"$f":"Summer!BM55-'Summer Peak 2015-01-15'!GZ55","v":0},{"$f":"Summer!BN55-'Summer Peak 2015-01-15'!HA55","v":0},{"$f":"Summer!BO55-'Summer Peak 2015-01-15'!HB55","v":0},{"$f":"Summer!BP55-'Summer Peak 2015-01-15'!HC55","v":0},{"$f":"Summer!BQ55-'Summer Peak 2015-01-15'!HD55","v":0},{"$f":"Summer!BR55-'Summer Peak 2015-01-15'!HE55","v":0},{"$f":"Summer!BS55-'Summer Peak 2015-01-15'!HF55","v":0},{"$f":"Summer!BT55-'Summer Peak 2015-01-15'!HG55","v":0},{"$f":"Summer!BU55-'Summer Peak 2015-01-15'!HH55","v":0},{"$f":"Summer!BV55-'Summer Peak 2015-01-15'!HI55","v":0},{"$f":"Summer!BW55-'Summer Peak 2015-01-15'!HJ55","v":0},{"$f":"Summer!BX55-'Summer Peak 2015-01-15'!HK55","v":0},{"$f":"Summer!BY55-'Summer Peak 2015-01-15'!HL55","v":0},{"$f":"Summer!BZ55-'Summer Peak 2015-01-15'!HM55","v":0},{"$f":"Summer!CA55-'Summer Peak 2015-01-15'!HN55","v":0},{"$f":"Summer!CB55-'Summer Peak 2015-01-15'!HO55","v":0},{"$f":"Summer!CC55-'Summer Peak 2015-01-15'!HP55","v":0},{"$f":"Summer!CD55-'Summer Peak 2015-01-15'!HQ55","v":0},{"$f":"Summer!CE55-'Summer Peak 2015-01-15'!HR55","v":0},{"$f":"Summer!CF55-'Summer Peak 2015-01-15'!HS55","v":0},{"$f":"Summer!CG55-'Summer Peak 2015-01-15'!HT55","v":0},{"$f":"Summer!CH55-'Summer Peak 2015-01-15'!HU55","v":0},{"$f":"Summer!CI55-'Summer Peak 2015-01-15'!HV55","v":0},{"$f":"Summer!CJ55-'Summer Peak 2015-01-15'!HW55","v":0},{"$f":"Summer!CK55-'Summer Peak 2015-01-15'!HX55","v":0},{"$f":"Summer!CL55-'Summer Peak 2015-01-15'!HY55","v":0},{"$f":"Summer!CM55-'Summer Peak 2015-01-15'!HZ55","v":0},{"$f":"Summer!CN55-'Summer Peak 2015-01-15'!IA55","v":0},{"$f":"Summer!CO55-'Summer Peak 2015-01-15'!IB55","v":0},{"$f":"Summer!CP55-'Summer Peak 2015-01-15'!IC55","v":0},{"$f":"Summer!CQ55-'Summer Peak 2015-01-15'!ID55","v":0},{"$f":"Summer!CR55-'Summer Peak 2015-01-15'!IE55","v":0},{"$f":"Summer!CS55-'Summer Peak 2015-01-15'!IF55","v":0},{"$f":"Summer!CT55-'Summer Peak 2015-01-15'!IG55","v":0},{"$f":"Summer!CU55-'Summer Peak 2015-01-15'!IH55","v":0},{"$f":"Summer!CV55-'Summer Peak 2015-01-15'!II55","v":0},{"$f":"Summer!CW55-'Summer Peak 2015-01-15'!IJ55","v":0},{"$f":"Summer!CX55-'Summer Peak 2015-01-15'!IK55","v":0},{"$f":"Summer!CY55-'Summer Peak 2015-01-15'!IL55","v":0},{"$f":"Summer!CZ55-'Summer Peak 2015-01-15'!IM55","v":0},{"$f":"Summer!DA55-'Summer Peak 2015-01-15'!IN55","v":0},{"$f":"Summer!DB55-'Summer Peak 2015-01-15'!IO55","v":0},{"$f":"Summer!DC55-'Summer Peak 2015-01-15'!IP55","v":0},{"$f":"Summer!DD55-'Summer Peak 2015-01-15'!IQ55","v":0},{"$f":"Summer!DE55-'Summer Peak 2015-01-15'!IR55","v":0},{"$f":"Summer!DF55-'Summer Peak 2015-01-15'!IS55","v":0},{"$f":"Summer!DG55-'Summer Peak 2015-01-15'!IT55","v":0},{"$f":"Summer!DH55-'Summer Peak 2015-01-15'!IU55","v":0},{"$f":"Summer!DI55-'Summer Peak 2015-01-15'!IV55","v":0},{"$f":"Summer!DJ55-'Summer Peak 2015-01-15'!IW55","v":0},{"$f":"Summer!DK55-'Summer Peak 2015-01-15'!IX55","v":0},{"$f":"Summer!DL55-'Summer Peak 2015-01-15'!IY55","v":0},{"$f":"Summer!DM55-'Summer Peak 2015-01-15'!IZ55","v":0},{"$f":"Summer!DN55-'Summer Peak 2015-01-15'!JA55","v":0},{"$f":"Summer!DO55-'Summer Peak 2015-01-15'!JB55","v":0},{"$f":"Summer!DP55-'Summer Peak 2015-01-15'!JC55","v":0},{"$f":"Summer!DQ55-'Summer Peak 2015-01-15'!JD55","v":0},{"$f":"Summer!DR55-'Summer Peak 2015-01-15'!JE55","v":0},{"$f":"Summer!DS55-'Summer Peak 2015-01-15'!JF55","v":0}]
[null,"PWC2",{"$f":"Summer!C56-'Summer Peak 2015-01-15'!EP56","v":0},{"$f":"Summer!D56-'Summer Peak 2015-01-15'!EQ56","v":0},{"$f":"Summer!E56-'Summer Peak 2015-01-15'!ER56","v":0},{"$f":"Summer!F56-'Summer Peak 2015-01-15'!ES56","v":0},{"$f":"Summer!G56-'Summer Peak 2015-01-15'!ET56","v":0},{"$f":"Summer!H56-'Summer Peak 2015-01-15'!EU56","v":0},{"$f":"Summer!I56-'Summer Peak 2015-01-15'!EV56","v":0},{"$f":"Summer!J56-'Summer Peak 2015-01-15'!EW56","v":0},{"$f":"Summer!K56-'Summer Peak 2015-01-15'!EX56","v":0},{"$f":"Summer!L56-'Summer Peak 2015-01-15'!EY56","v":0},{"$f":"Summer!M56-'Summer Peak 2015-01-15'!EZ56","v":0},{"$f":"Summer!N56-'Summer Peak 2015-01-15'!FA56","v":0},{"$f":"Summer!O56-'Summer Peak 2015-01-15'!FB56","v":0},{"$f":"Summer!P56-'Summer Peak 2015-01-15'!FC56","v":0},{"$f":"Summer!Q56-'Summer Peak 2015-01-15'!FD56","v":0},{"$f":"Summer!R56-'Summer Peak 2015-01-15'!FE56","v":0},{"$f":"Summer!S56-'Summer Peak 2015-01-15'!FF56","v":0},{"$f":"Summer!T56-'Summer Peak 2015-01-15'!FG56","v":0},{"$f":"Summer!U56-'Summer Peak 2015-01-15'!FH56","v":0},{"$f":"Summer!V56-'Summer Peak 2015-01-15'!FI56","v":0},{"$f":"Summer!W56-'Summer Peak 2015-01-15'!FJ56","v":0},{"$f":"Summer!X56-'Summer Peak 2015-01-15'!FK56","v":0},{"$f":"Summer!Y56-'Summer Peak 2015-01-15'!FL56","v":0},{"$f":"Summer!Z56-'Summer Peak 2015-01-15'!FM56","v":0},{"$f":"Summer!AA56-'Summer Peak 2015-01-15'!FN56","v":0},{"$f":"Summer!AB56-'Summer Peak 2015-01-15'!FO56","v":0},{"$f":"Summer!AC56-'Summer Peak 2015-01-15'!FP56","v":0},{"$f":"Summer!AD56-'Summer Peak 2015-01-15'!FQ56","v":0},{"$f":"Summer!AE56-'Summer Peak 2015-01-15'!FR56","v":0},{"$f":"Summer!AF56-'Summer Peak 2015-01-15'!FS56","v":0},{"$f":"Summer!AG56-'Summer Peak 2015-01-15'!FT56","v":0},{"$f":"Summer!AH56-'Summer Peak 2015-01-15'!FU56","v":0},{"$f":"Summer!AI56-'Summer Peak 2015-01-15'!FV56","v":0},{"$f":"Summer!AJ56-'Summer Peak 2015-01-15'!FW56","v":0},{"$f":"Summer!AK56-'Summer Peak 2015-01-15'!FX56","v":0},{"$f":"Summer!AL56-'Summer Peak 2015-01-15'!FY56","v":0},{"$f":"Summer!AM56-'Summer Peak 2015-01-15'!FZ56","v":0},{"$f":"Summer!AN56-'Summer Peak 2015-01-15'!GA56","v":0},{"$f":"Summer!AO56-'Summer Peak 2015-01-15'!GB56","v":0},{"$f":"Summer!AP56-'Summer Peak 2015-01-15'!GC56","v":0},{"$f":"Summer!AQ56-'Summer Peak 2015-01-15'!GD56","v":0},{"$f":"Summer!AR56-'Summer Peak 2015-01-15'!GE56","v":0},{"$f":"Summer!AS56-'Summer Peak 2015-01-15'!GF56","v":0},{"$f":"Summer!AT56-'Summer Peak 2015-01-15'!GG56","v":0},{"$f":"Summer!AU56-'Summer Peak 2015-01-15'!GH56","v":0},{"$f":"Summer!AV56-'Summer Peak 2015-01-15'!GI56","v":0},{"$f":"Summer!AW56-'Summer Peak 2015-01-15'!GJ56","v":0},{"$f":"Summer!AX56-'Summer Peak 2015-01-15'!GK56","v":0},{"$f":"Summer!AY56-'Summer Peak 2015-01-15'!GL56","v":0},{"$f":"Summer!AZ56-'Summer Peak 2015-01-15'!GM56","v":0},{"$f":"Summer!BA56-'Summer Peak 2015-01-15'!GN56","v":0},{"$f":"Summer!BB56-'Summer Peak 2015-01-15'!GO56","v":0},{"$f":"Summer!BC56-'Summer Peak 2015-01-15'!GP56","v":0},{"$f":"Summer!BD56-'Summer Peak 2015-01-15'!GQ56","v":0},{"$f":"Summer!BE56-'Summer Peak 2015-01-15'!GR56","v":0},{"$f":"Summer!BF56-'Summer Peak 2015-01-15'!GS56","v":0},{"$f":"Summer!BG56-'Summer Peak 2015-01-15'!GT56","v":0},{"$f":"Summer!BH56-'Summer Peak 2015-01-15'!GU56","v":0},{"$f":"Summer!BI56-'Summer Peak 2015-01-15'!GV56","v":0},{"$f":"Summer!BJ56-'Summer Peak 2015-01-15'!GW56","v":0},{"$f":"Summer!BK56-'Summer Peak 2015-01-15'!GX56","v":0},{"$f":"Summer!BL56-'Summer Peak 2015-01-15'!GY56","v":0},{"$f":"Summer!BM56-'Summer Peak 2015-01-15'!GZ56","v":0},{"$f":"Summer!BN56-'Summer Peak 2015-01-15'!HA56","v":0},{"$f":"Summer!BO56-'Summer Peak 2015-01-15'!HB56","v":0},{"$f":"Summer!BP56-'Summer Peak 2015-01-15'!HC56","v":0},{"$f":"Summer!BQ56-'Summer Peak 2015-01-15'!HD56","v":0},{"$f":"Summer!BR56-'Summer Peak 2015-01-15'!HE56","v":0},{"$f":"Summer!BS56-'Summer Peak 2015-01-15'!HF56","v":0},{"$f":"Summer!BT56-'Summer Peak 2015-01-15'!HG56","v":0},{"$f":"Summer!BU56-'Summer Peak 2015-01-15'!HH56","v":0},{"$f":"Summer!BV56-'Summer Peak 2015-01-15'!HI56","v":0},{"$f":"Summer!BW56-'Summer Peak 2015-01-15'!HJ56","v":0},{"$f":"Summer!BX56-'Summer Peak 2015-01-15'!HK56","v":0},{"$f":"Summer!BY56-'Summer Peak 2015-01-15'!HL56","v":0},{"$f":"Summer!BZ56-'Summer Peak 2015-01-15'!HM56","v":0},{"$f":"Summer!CA56-'Summer Peak 2015-01-15'!HN56","v":0},{"$f":"Summer!CB56-'Summer Peak 2015-01-15'!HO56","v":0},{"$f":"Summer!CC56-'Summer Peak 2015-01-15'!HP56","v":0},{"$f":"Summer!CD56-'Summer Peak 2015-01-15'!HQ56","v":0},{"$f":"Summer!CE56-'Summer Peak 2015-01-15'!HR56","v":0},{"$f":"Summer!CF56-'Summer Peak 2015-01-15'!HS56","v":0},{"$f":"Summer!CG56-'Summer Peak 2015-01-15'!HT56","v":0},{"$f":"Summer!CH56-'Summer Peak 2015-01-15'!HU56","v":0},{"$f":"Summer!CI56-'Summer Peak 2015-01-15'!HV56","v":0},{"$f":"Summer!CJ56-'Summer Peak 2015-01-15'!HW56","v":0},{"$f":"Summer!CK56-'Summer Peak 2015-01-15'!HX56","v":0},{"$f":"Summer!CL56-'Summer Peak 2015-01-15'!HY56","v":0},{"$f":"Summer!CM56-'Summer Peak 2015-01-15'!HZ56","v":0},{"$f":"Summer!CN56-'Summer Peak 2015-01-15'!IA56","v":0},{"$f":"Summer!CO56-'Summer Peak 2015-01-15'!IB56","v":0},{"$f":"Summer!CP56-'Summer Peak 2015-01-15'!IC56","v":0},{"$f":"Summer!CQ56-'Summer Peak 2015-01-15'!ID56","v":0},{"$f":"Summer!CR56-'Summer Peak 2015-01-15'!IE56","v":0},{"$f":"Summer!CS56-'Summer Peak 2015-01-15'!IF56","v":0},{"$f":"Summer!CT56-'Summer Peak 2015-01-15'!IG56","v":0},{"$f":"Summer!CU56-'Summer Peak 2015-01-15'!IH56","v":0},{"$f":"Summer!CV56-'Summer Peak 2015-01-15'!II56","v":0},{"$f":"Summer!CW56-'Summer Peak 2015-01-15'!IJ56","v":0},{"$f":"Summer!CX56-'Summer Peak 2015-01-15'!IK56","v":0},{"$f":"Summer!CY56-'Summer Peak 2015-01-15'!IL56","v":0},{"$f":"Summer!CZ56-'Summer Peak 2015-01-15'!IM56","v":0},{"$f":"Summer!DA56-'Summer Peak 2015-01-15'!IN56","v":0},{"$f":"Summer!DB56-'Summer Peak 2015-01-15'!IO56","v":0},{"$f":"Summer!DC56-'Summer Peak 2015-01-15'!IP56","v":0},{"$f":"Summer!DD56-'Summer Peak 2015-01-15'!IQ56","v":0},{"$f":"Summer!DE56-'Summer Peak 2015-01-15'!IR56","v":0},{"$f":"Summer!DF56-'Summer Peak 2015-01-15'!IS56","v":0},{"$f":"Summer!DG56-'Summer Peak 2015-01-15'!IT56","v":0},{"$f":"Summer!DH56-'Summer Peak 2015-01-15'!IU56","v":0},{"$f":"Summer!DI56-'Summer Peak 2015-01-15'!IV56","v":0},{"$f":"Summer!DJ56-'Summer Peak 2015-01-15'!IW56","v":0},{"$f":"Summer!DK56-'Summer Peak 2015-01-15'!IX56","v":0},{"$f":"Summer!DL56-'Summer Peak 2015-01-15'!IY56","v":0},{"$f":"Summer!DM56-'Summer Peak 2015-01-15'!IZ56","v":0},{"$f":"Summer!DN56-'Summer Peak 2015-01-15'!JA56","v":0},{"$f":"Summer!DO56-'Summer Peak 2015-01-15'!JB56","v":0},{"$f":"Summer!DP56-'Summer Peak 2015-01-15'!JC56","v":0},{"$f":"Summer!DQ56-'Summer Peak 2015-01-15'!JD56","v":0},{"$f":"Summer!DR56-'Summer Peak 2015-01-15'!JE56","v":0},{"$f":"Summer!DS56-'Summer Peak 2015-01-15'!JF56","v":0}]
[null,"PWC3",{"$f":"Summer!C57-'Summer Peak 2015-01-15'!EP57","v":0},{"$f":"Summer!D57-'Summer Peak 2015-01-15'!EQ57","v":0},{"$f":"Summer!E57-'Summer Peak 2015-01-15'!ER57","v":0},{"$f":"Summer!F57-'Summer Peak 2015-01-15'!ES57","v":0},{"$f":"Summer!G57-'Summer Peak 2015-01-15'!ET57","v":0},{"$f":"Summer!H57-'Summer Peak 2015-01-15'!EU57","v":0},{"$f":"Summer!I57-'Summer Peak 2015-01-15'!EV57","v":0},{"$f":"Summer!J57-'Summer Peak 2015-01-15'!EW57","v":0},{"$f":"Summer!K57-'Summer Peak 2015-01-15'!EX57","v":0},{"$f":"Summer!L57-'Summer Peak 2015-01-15'!EY57","v":0},{"$f":"Summer!M57-'Summer Peak 2015-01-15'!EZ57","v":0},{"$f":"Summer!N57-'Summer Peak 2015-01-15'!FA57","v":0},{"$f":"Summer!O57-'Summer Peak 2015-01-15'!FB57","v":0},{"$f":"Summer!P57-'Summer Peak 2015-01-15'!FC57","v":0},{"$f":"Summer!Q57-'Summer Peak 2015-01-15'!FD57","v":0},{"$f":"Summer!R57-'Summer Peak 2015-01-15'!FE57","v":0},{"$f":"Summer!S57-'Summer Peak 2015-01-15'!FF57","v":0},{"$f":"Summer!T57-'Summer Peak 2015-01-15'!FG57","v":0},{"$f":"Summer!U57-'Summer Peak 2015-01-15'!FH57","v":0},{"$f":"Summer!V57-'Summer Peak 2015-01-15'!FI57","v":0},{"$f":"Summer!W57-'Summer Peak 2015-01-15'!FJ57","v":0},{"$f":"Summer!X57-'Summer Peak 2015-01-15'!FK57","v":0},{"$f":"Summer!Y57-'Summer Peak 2015-01-15'!FL57","v":0},{"$f":"Summer!Z57-'Summer Peak 2015-01-15'!FM57","v":0},{"$f":"Summer!AA57-'Summer Peak 2015-01-15'!FN57","v":0},{"$f":"Summer!AB57-'Summer Peak 2015-01-15'!FO57","v":0},{"$f":"Summer!AC57-'Summer Peak 2015-01-15'!FP57","v":0},{"$f":"Summer!AD57-'Summer Peak 2015-01-15'!FQ57","v":0},{"$f":"Summer!AE57-'Summer Peak 2015-01-15'!FR57","v":0},{"$f":"Summer!AF57-'Summer Peak 2015-01-15'!FS57","v":0},{"$f":"Summer!AG57-'Summer Peak 2015-01-15'!FT57","v":0},{"$f":"Summer!AH57-'Summer Peak 2015-01-15'!FU57","v":0},{"$f":"Summer!AI57-'Summer Peak 2015-01-15'!FV57","v":0},{"$f":"Summer!AJ57-'Summer Peak 2015-01-15'!FW57","v":0},{"$f":"Summer!AK57-'Summer Peak 2015-01-15'!FX57","v":0},{"$f":"Summer!AL57-'Summer Peak 2015-01-15'!FY57","v":0},{"$f":"Summer!AM57-'Summer Peak 2015-01-15'!FZ57","v":0},{"$f":"Summer!AN57-'Summer Peak 2015-01-15'!GA57","v":0},{"$f":"Summer!AO57-'Summer Peak 2015-01-15'!GB57","v":0},{"$f":"Summer!AP57-'Summer Peak 2015-01-15'!GC57","v":0},{"$f":"Summer!AQ57-'Summer Peak 2015-01-15'!GD57","v":0},{"$f":"Summer!AR57-'Summer Peak 2015-01-15'!GE57","v":0},{"$f":"Summer!AS57-'Summer Peak 2015-01-15'!GF57","v":0},{"$f":"Summer!AT57-'Summer Peak 2015-01-15'!GG57","v":0},{"$f":"Summer!AU57-'Summer Peak 2015-01-15'!GH57","v":0},{"$f":"Summer!AV57-'Summer Peak 2015-01-15'!GI57","v":0},{"$f":"Summer!AW57-'Summer Peak 2015-01-15'!GJ57","v":0},{"$f":"Summer!AX57-'Summer Peak 2015-01-15'!GK57","v":0},{"$f":"Summer!AY57-'Summer Peak 2015-01-15'!GL57","v":0},{"$f":"Summer!AZ57-'Summer Peak 2015-01-15'!GM57","v":0},{"$f":"Summer!BA57-'Summer Peak 2015-01-15'!GN57","v":0},{"$f":"Summer!BB57-'Summer Peak 2015-01-15'!GO57","v":0},{"$f":"Summer!BC57-'Summer Peak 2015-01-15'!GP57","v":0},{"$f":"Summer!BD57-'Summer Peak 2015-01-15'!GQ57","v":0},{"$f":"Summer!BE57-'Summer Peak 2015-01-15'!GR57","v":0},{"$f":"Summer!BF57-'Summer Peak 2015-01-15'!GS57","v":0},{"$f":"Summer!BG57-'Summer Peak 2015-01-15'!GT57","v":0},{"$f":"Summer!BH57-'Summer Peak 2015-01-15'!GU57","v":0},{"$f":"Summer!BI57-'Summer Peak 2015-01-15'!GV57","v":0},{"$f":"Summer!BJ57-'Summer Peak 2015-01-15'!GW57","v":0},{"$f":"Summer!BK57-'Summer Peak 2015-01-15'!GX57","v":0},{"$f":"Summer!BL57-'Summer Peak 2015-01-15'!GY57","v":0},{"$f":"Summer!BM57-'Summer Peak 2015-01-15'!GZ57","v":0},{"$f":"Summer!BN57-'Summer Peak 2015-01-15'!HA57","v":0},{"$f":"Summer!BO57-'Summer Peak 2015-01-15'!HB57","v":0},{"$f":"Summer!BP57-'Summer Peak 2015-01-15'!HC57","v":0},{"$f":"Summer!BQ57-'Summer Peak 2015-01-15'!HD57","v":0},{"$f":"Summer!BR57-'Summer Peak 2015-01-15'!HE57","v":0},{"$f":"Summer!BS57-'Summer Peak 2015-01-15'!HF57","v":0},{"$f":"Summer!BT57-'Summer Peak 2015-01-15'!HG57","v":0},{"$f":"Summer!BU57-'Summer Peak 2015-01-15'!HH57","v":0},{"$f":"Summer!BV57-'Summer Peak 2015-01-15'!HI57","v":0},{"$f":"Summer!BW57-'Summer Peak 2015-01-15'!HJ57","v":0},{"$f":"Summer!BX57-'Summer Peak 2015-01-15'!HK57","v":0},{"$f":"Summer!BY57-'Summer Peak 2015-01-15'!HL57","v":0},{"$f":"Summer!BZ57-'Summer Peak 2015-01-15'!HM57","v":0},{"$f":"Summer!CA57-'Summer Peak 2015-01-15'!HN57","v":0},{"$f":"Summer!CB57-'Summer Peak 2015-01-15'!HO57","v":0},{"$f":"Summer!CC57-'Summer Peak 2015-01-15'!HP57","v":0},{"$f":"Summer!CD57-'Summer Peak 2015-01-15'!HQ57","v":0},{"$f":"Summer!CE57-'Summer Peak 2015-01-15'!HR57","v":0},{"$f":"Summer!CF57-'Summer Peak 2015-01-15'!HS57","v":0},{"$f":"Summer!CG57-'Summer Peak 2015-01-15'!HT57","v":0},{"$f":"Summer!CH57-'Summer Peak 2015-01-15'!HU57","v":0},{"$f":"Summer!CI57-'Summer Peak 2015-01-15'!HV57","v":0},{"$f":"Summer!CJ57-'Summer Peak 2015-01-15'!HW57","v":0},{"$f":"Summer!CK57-'Summer Peak 2015-01-15'!HX57","v":0},{"$f":"Summer!CL57-'Summer Peak 2015-01-15'!HY57","v":0},{"$f":"Summer!CM57-'Summer Peak 2015-01-15'!HZ57","v":0},{"$f":"Summer!CN57-'Summer Peak 2015-01-15'!IA57","v":0},{"$f":"Summer!CO57-'Summer Peak 2015-01-15'!IB57","v":0},{"$f":"Summer!CP57-'Summer Peak 2015-01-15'!IC57","v":0},{"$f":"Summer!CQ57-'Summer Peak 2015-01-15'!ID57","v":0},{"$f":"Summer!CR57-'Summer Peak 2015-01-15'!IE57","v":0},{"$f":"Summer!CS57-'Summer Peak 2015-01-15'!IF57","v":0},{"$f":"Summer!CT57-'Summer Peak 2015-01-15'!IG57","v":0},{"$f":"Summer!CU57-'Summer Peak 2015-01-15'!IH57","v":0},{"$f":"Summer!CV57-'Summer Peak 2015-01-15'!II57","v":0},{"$f":"Summer!CW57-'Summer Peak 2015-01-15'!IJ57","v":0},{"$f":"Summer!CX57-'Summer Peak 2015-01-15'!IK57","v":0},{"$f":"Summer!CY57-'Summer Peak 2015-01-15'!IL57","v":0},{"$f":"Summer!CZ57-'Summer Peak 2015-01-15'!IM57","v":0},{"$f":"Summer!DA57-'Summer Peak 2015-01-15'!IN57","v":0},{"$f":"Summer!DB57-'Summer Peak 2015-01-15'!IO57","v":0},{"$f":"Summer!DC57-'Summer Peak 2015-01-15'!IP57","v":0},{"$f":"Summer!DD57-'Summer Peak 2015-01-15'!IQ57","v":0},{"$f":"Summer!DE57-'Summer Peak 2015-01-15'!IR57","v":0},{"$f":"Summer!DF57-'Summer Peak 2015-01-15'!IS57","v":0},{"$f":"Summer!DG57-'Summer Peak 2015-01-15'!IT57","v":0},{"$f":"Summer!DH57-'Summer Peak 2015-01-15'!IU57","v":0},{"$f":"Summer!DI57-'Summer Peak 2015-01-15'!IV57","v":0},{"$f":"Summer!DJ57-'Summer Peak 2015-01-15'!IW57","v":0},{"$f":"Summer!DK57-'Summer Peak 2015-01-15'!IX57","v":0},{"$f":"Summer!DL57-'Summer Peak 2015-01-15'!IY57","v":0},{"$f":"Summer!DM57-'Summer Peak 2015-01-15'!IZ57","v":0},{"$f":"Summer!DN57-'Summer Peak 2015-01-15'!JA57","v":0},{"$f":"Summer!DO57-'Summer Peak 2015-01-15'!JB57","v":0},{"$f":"Summer!DP57-'Summer Peak 2015-01-15'!JC57","v":0},{"$f":"Summer!DQ57-'Summer Peak 2015-01-15'!JD57","v":0},{"$f":"Summer!DR57-'Summer Peak 2015-01-15'!JE57","v":0},{"$f":"Summer!DS57-'Summer Peak 2015-01-15'!JF57","v":0}]
[]
[null,"Total",{"$f":"Summer!C59-'Summer Peak 2015-01-15'!EP59","v":0},{"$f":"Summer!D59-'Summer Peak 2015-01-15'!EQ59","v":0},{"$f":"Summer!E59-'Summer Peak 2015-01-15'!ER59","v":0},{"$f":"Summer!F59-'Summer Peak 2015-01-15'!ES59","v":0},{"$f":"Summer!G59-'Summer Peak 2015-01-15'!ET59","v":0},{"$f":"Summer!H59-'Summer Peak 2015-01-15'!EU59","v":0},{"$f":"Summer!I59-'Summer Peak 2015-01-15'!EV59","v":0},{"$f":"Summer!J59-'Summer Peak 2015-01-15'!EW59","v":0},{"$f":"Summer!K59-'Summer Peak 2015-01-15'!EX59","v":0},{"$f":"Summer!L59-'Summer Peak 2015-01-15'!EY59","v":0},{"$f":"Summer!M59-'Summer Peak 2015-01-15'!EZ59","v":0},{"$f":"Summer!N59-'Summer Peak 2015-01-15'!FA59","v":0},{"$f":"Summer!O59-'Summer Peak 2015-01-15'!FB59","v":0},{"$f":"Summer!P59-'Summer Peak 2015-01-15'!FC59","v":0},{"$f":"Summer!Q59-'Summer Peak 2015-01-15'!FD59","v":0},{"$f":"Summer!R59-'Summer Peak 2015-01-15'!FE59","v":0},{"$f":"Summer!S59-'Summer Peak 2015-01-15'!FF59","v":0},{"$f":"Summer!T59-'Summer Peak 2015-01-15'!FG59","v":4},{"$f":"Summer!U59-'Summer Peak 2015-01-15'!FH59","v":8},{"$f":"Summer!V59-'Summer Peak 2015-01-15'!FI59","v":12},{"$f":"Summer!W59-'Summer Peak 2015-01-15'!FJ59","v":16},{"$f":"Summer!X59-'Summer Peak 2015-01-15'!FK59","v":15},{"$f":"Summer!Y59-'Summer Peak 2015-01-15'!FL59","v":15},{"$f":"Summer!Z59-'Summer Peak 2015-01-15'!FM59","v":15},{"$f":"Summer!AA59-'Summer Peak 2015-01-15'!FN59","v":15},{"$f":"Summer!AB59-'Summer Peak 2015-01-15'!FO59","v":-373},{"$f":"Summer!AC59-'Summer Peak 2015-01-15'!FP59","v":-373},{"$f":"Summer!AD59-'Summer Peak 2015-01-15'!FQ59","v":-374},{"$f":"Summer!AE59-'Summer Peak 2015-01-15'!FR59","v":-374},{"$f":"Summer!AF59-'Summer Peak 2015-01-15'!FS59","v":-374},{"$f":"Summer!AG59-'Summer Peak 2015-01-15'!FT59","v":-376},{"$f":"Summer!AH59-'Summer Peak 2015-01-15'!FU59","v":-377},{"$f":"Summer!AI59-'Summer Peak 2015-01-15'!FV59","v":-377},{"$f":"Summer!AJ59-'Summer Peak 2015-01-15'!FW59","v":-379},{"$f":"Summer!AK59-'Summer Peak 2015-01-15'!FX59","v":-380},{"$f":"Summer!AL59-'Summer Peak 2015-01-15'!FY59","v":-380},{"$f":"Summer!AM59-'Summer Peak 2015-01-15'!FZ59","v":-380},{"$f":"Summer!AN59-'Summer Peak 2015-01-15'!GA59","v":16},{"$f":"Summer!AO59-'Summer Peak 2015-01-15'!GB59","v":3},{"$f":"Summer!AP59-'Summer Peak 2015-01-15'!GC59","v":-4},{"$f":"Summer!AQ59-'Summer Peak 2015-01-15'!GD59","v":-11},{"$f":"Summer!AR59-'Summer Peak 2015-01-15'!GE59","v":-13},{"$f":"Summer!AS59-'Summer Peak 2015-01-15'!GF59","v":-14},{"$f":"Summer!AT59-'Summer Peak 2015-01-15'!GG59","v":-15},{"$f":"Summer!AU59-'Summer Peak 2015-01-15'!GH59","v":-15},{"$f":"Summer!AV59-'Summer Peak 2015-01-15'!GI59","v":-15},{"$f":"Summer!AW59-'Summer Peak 2015-01-15'!GJ59","v":-15},{"$f":"Summer!AX59-'Summer Peak 2015-01-15'!GK59","v":-15},{"$f":"Summer!AY59-'Summer Peak 2015-01-15'!GL59","v":-15},{"$f":"Summer!AZ59-'Summer Peak 2015-01-15'!GM59","v":-15},{"$f":"Summer!BA59-'Summer Peak 2015-01-15'!GN59","v":-15},{"$f":"Summer!BB59-'Summer Peak 2015-01-15'!GO59","v":-15},{"$f":"Summer!BC59-'Summer Peak 2015-01-15'!GP59","v":-15},{"$f":"Summer!BD59-'Summer Peak 2015-01-15'!GQ59","v":-15},{"$f":"Summer!BE59-'Summer Peak 2015-01-15'!GR59","v":-15},{"$f":"Summer!BF59-'Summer Peak 2015-01-15'!GS59","v":-15},{"$f":"Summer!BG59-'Summer Peak 2015-01-15'!GT59","v":-15},{"$f":"Summer!BH59-'Summer Peak 2015-01-15'!GU59","v":-15},{"$f":"Summer!BI59-'Summer Peak 2015-01-15'!GV59","v":-15},{"$f":"Summer!BJ59-'Summer Peak 2015-01-15'!GW59","v":-15},{"$f":"Summer!BK59-'Summer Peak 2015-01-15'!GX59","v":-15},{"$f":"Summer!BL59-'Summer Peak 2015-01-15'!GY59","v":-15},{"$f":"Summer!BM59-'Summer Peak 2015-01-15'!GZ59","v":-15},{"$f":"Summer!BN59-'Summer Peak 2015-01-15'!HA59","v":-15},{"$f":"Summer!BO59-'Summer Peak 2015-01-15'!HB59","v":-15},{"$f":"Summer!BP59-'Summer Peak 2015-01-15'!HC59","v":-15},{"$f":"Summer!BQ59-'Summer Peak 2015-01-15'!HD59","v":-15},{"$f":"Summer!BR59-'Summer Peak 2015-01-15'!HE59","v":-15},{"$f":"Summer!BS59-'Summer Peak 2015-01-15'!HF59","v":-15},{"$f":"Summer!BT59-'Summer Peak 2015-01-15'!HG59","v":-15},{"$f":"Summer!BU59-'Summer Peak 2015-01-15'!HH59","v":-15},{"$f":"Summer!BV59-'Summer Peak 2015-01-15'!HI59","v":-15},{"$f":"Summer!BW59-'Summer Peak 2015-01-15'!HJ59","v":-15},{"$f":"Summer!BX59-'Summer Peak 2015-01-15'!HK59","v":-15},{"$f":"Summer!BY59-'Summer Peak 2015-01-15'!HL59","v":-15},{"$f":"Summer!BZ59-'Summer Peak 2015-01-15'!HM59","v":-15},{"$f":"Summer!CA59-'Summer Peak 2015-01-15'!HN59","v":-15},{"$f":"Summer!CB59-'Summer Peak 2015-01-15'!HO59","v":-15},{"$f":"Summer!CC59-'Summer Peak 2015-01-15'!HP59","v":-15},{"$f":"Summer!CD59-'Summer Peak 2015-01-15'!HQ59","v":-15},{"$f":"Summer!CE59-'Summer Peak 2015-01-15'!HR59","v":-15},{"$f":"Summer!CF59-'Summer Peak 2015-01-15'!HS59","v":-15},{"$f":"Summer!CG59-'Summer Peak 2015-01-15'!HT59","v":-15},{"$f":"Summer!CH59-'Summer Peak 2015-01-15'!HU59","v":-15},{"$f":"Summer!CI59-'Summer Peak 2015-01-15'!HV59","v":-15},{"$f":"Summer!CJ59-'Summer Peak 2015-01-15'!HW59","v":-15},{"$f":"Summer!CK59-'Summer Peak 2015-01-15'!HX59","v":-15},{"$f":"Summer!CL59-'Summer Peak 2015-01-15'!HY59","v":-15},{"$f":"Summer!CM59-'Summer Peak 2015-01-15'!HZ59","v":-15},{"$f":"Summer!CN59-'Summer Peak 2015-01-15'!IA59","v":-15},{"$f":"Summer!CO59-'Summer Peak 2015-01-15'!IB59","v":-15},{"$f":"Summer!CP59-'Summer Peak 2015-01-15'!IC59","v":-15},{"$f":"Summer!CQ59-'Summer Peak 2015-01-15'!ID59","v":-15},{"$f":"Summer!CR59-'Summer Peak 2015-01-15'!IE59","v":-15},{"$f":"Summer!CS59-'Summer Peak 2015-01-15'!IF59","v":-15},{"$f":"Summer!CT59-'Summer Peak 2015-01-15'!IG59","v":-15},{"$f":"Summer!CU59-'Summer Peak 2015-01-15'!IH59","v":-15},{"$f":"Summer!CV59-'Summer Peak 2015-01-15'!II59","v":-15},{"$f":"Summer!CW59-'Summer Peak 2015-01-15'!IJ59","v":-15},{"$f":"Summer!CX59-'Summer Peak 2015-01-15'!IK59","v":-15},{"$f":"Summer!CY59-'Summer Peak 2015-01-15'!IL59","v":-15},{"$f":"Summer!CZ59-'Summer Peak 2015-01-15'!IM59","v":-15},{"$f":"Summer!DA59-'Summer Peak 2015-01-15'!IN59","v":-15},{"$f":"Summer!DB59-'Summer Peak 2015-01-15'!IO59","v":-15},{"$f":"Summer!DC59-'Summer Peak 2015-01-15'!IP59","v":-15},{"$f":"Summer!DD59-'Summer Peak 2015-01-15'!IQ59","v":-15},{"$f":"Summer!DE59-'Summer Peak 2015-01-15'!IR59","v":-15},{"$f":"Summer!DF59-'Summer Peak 2015-01-15'!IS59","v":-15},{"$f":"Summer!DG59-'Summer Peak 2015-01-15'!IT59","v":-15},{"$f":"Summer!DH59-'Summer Peak 2015-01-15'!IU59","v":-15},{"$f":"Summer!DI59-'Summer Peak 2015-01-15'!IV59","v":-15},{"$f":"Summer!DJ59-'Summer Peak 2015-01-15'!IW59","v":-15},{"$f":"Summer!DK59-'Summer Peak 2015-01-15'!IX59","v":-15},{"$f":"Summer!DL59-'Summer Peak 2015-01-15'!IY59","v":-15},{"$f":"Summer!DM59-'Summer Peak 2015-01-15'!IZ59","v":-15},{"$f":"Summer!DN59-'Summer Peak 2015-01-15'!JA59","v":-15},{"$f":"Summer!DO59-'Summer Peak 2015-01-15'!JB59","v":-15},{"$f":"Summer!DP59-'Summer Peak 2015-01-15'!JC59","v":-15},{"$f":"Summer!DQ59-'Summer Peak 2015-01-15'!JD59","v":-15},{"$f":"Summer!DR59-'Summer Peak 2015-01-15'!JE59","v":-15},{"$f":"Summer!DS59-'Summer Peak 2015-01-15'!JF59","v":-15}]
[null,null,{"$f":"Summer!C60-'Summer Peak 2015-01-15'!EP60","v":0},{"$f":"Summer!D60-'Summer Peak 2015-01-15'!EQ60","v":0},{"$f":"Summer!E60-'Summer Peak 2015-01-15'!ER60","v":0},{"$f":"Summer!F60-'Summer Peak 2015-01-15'!ES60","v":0},{"$f":"Summer!G60-'Summer Peak 2015-01-15'!ET60","v":0},{"$f":"Summer!H60-'Summer Peak 2015-01-15'!EU60","v":0},{"$f":"Summer!I60-'Summer Peak 2015-01-15'!EV60","v":0},{"$f":"Summer!J60-'Summer Peak 2015-01-15'!EW60","v":0},{"$f":"Summer!K60-'Summer Peak 2015-01-15'!EX60","v":0},{"$f":"Summer!L60-'Summer Peak 2015-01-15'!EY60","v":0},{"$f":"Summer!M60-'Summer Peak 2015-01-15'!EZ60","v":0},{"$f":"Summer!N60-'Summer Peak 2015-01-15'!FA60","v":0},{"$f":"Summer!O60-'Summer Peak 2015-01-15'!FB60","v":0},{"$f":"Summer!P60-'Summer Peak 2015-01-15'!FC60","v":0},{"$f":"Summer!Q60-'Summer Peak 2015-01-15'!FD60","v":0},{"$f":"Summer!R60-'Summer Peak 2015-01-15'!FE60","v":0},{"$f":"Summer!S60-'Summer Peak 2015-01-15'!FF60","v":0},{"$f":"Summer!T60-'Summer Peak 2015-01-15'!FG60","v":0},{"$f":"Summer!U60-'Summer Peak 2015-01-15'!FH60","v":0},{"$f":"Summer!V60-'Summer Peak 2015-01-15'!FI60","v":0},{"$f":"Summer!W60-'Summer Peak 2015-01-15'!FJ60","v":0},{"$f":"Summer!X60-'Summer Peak 2015-01-15'!FK60","v":0},{"$f":"Summer!Y60-'Summer Peak 2015-01-15'!FL60","v":0},{"$f":"Summer!Z60-'Summer Peak 2015-01-15'!FM60","v":0},{"$f":"Summer!AA60-'Summer Peak 2015-01-15'!FN60","v":0},{"$f":"Summer!AB60-'Summer Peak 2015-01-15'!FO60","v":0},{"$f":"Summer!AC60-'Summer Peak 2015-01-15'!FP60","v":0},{"$f":"Summer!AD60-'Summer Peak 2015-01-15'!FQ60","v":0},{"$f":"Summer!AE60-'Summer Peak 2015-01-15'!FR60","v":0},{"$f":"Summer!AF60-'Summer Peak 2015-01-15'!FS60","v":0},{"$f":"Summer!AG60-'Summer Peak 2015-01-15'!FT60","v":0},{"$f":"Summer!AH60-'Summer Peak 2015-01-15'!FU60","v":0},{"$f":"Summer!AI60-'Summer Peak 2015-01-15'!FV60","v":0},{"$f":"Summer!AJ60-'Summer Peak 2015-01-15'!FW60","v":0},{"$f":"Summer!AK60-'Summer Peak 2015-01-15'!FX60","v":0},{"$f":"Summer!AL60-'Summer Peak 2015-01-15'!FY60","v":0},{"$f":"Summer!AM60-'Summer Peak 2015-01-15'!FZ60","v":0},{"$f":"Summer!AN60-'Summer Peak 2015-01-15'!GA60","v":0},{"$f":"Summer!AO60-'Summer Peak 2015-01-15'!GB60","v":0},{"$f":"Summer!AP60-'Summer Peak 2015-01-15'!GC60","v":0},{"$f":"Summer!AQ60-'Summer Peak 2015-01-15'!GD60","v":0},{"$f":"Summer!AR60-'Summer Peak 2015-01-15'!GE60","v":0},{"$f":"Summer!AS60-'Summer Peak 2015-01-15'!GF60","v":0},{"$f":"Summer!AT60-'Summer Peak 2015-01-15'!GG60","v":0},{"$f":"Summer!AU60-'Summer Peak 2015-01-15'!GH60","v":0},{"$f":"Summer!AV60-'Summer Peak 2015-01-15'!GI60","v":0},{"$f":"Summer!AW60-'Summer Peak 2015-01-15'!GJ60","v":0},{"$f":"Summer!AX60-'Summer Peak 2015-01-15'!GK60","v":0},{"$f":"Summer!AY60-'Summer Peak 2015-01-15'!GL60","v":0},{"$f":"Summer!AZ60-'Summer Peak 2015-01-15'!GM60","v":0},{"$f":"Summer!BA60-'Summer Peak 2015-01-15'!GN60","v":0},{"$f":"Summer!BB60-'Summer Peak 2015-01-15'!GO60","v":0},{"$f":"Summer!BC60-'Summer Peak 2015-01-15'!GP60","v":0},{"$f":"Summer!BD60-'Summer Peak 2015-01-15'!GQ60","v":0},{"$f":"Summer!BE60-'Summer Peak 2015-01-15'!GR60","v":0},{"$f":"Summer!BF60-'Summer Peak 2015-01-15'!GS60","v":0},{"$f":"Summer!BG60-'Summer Peak 2015-01-15'!GT60","v":0},{"$f":"Summer!BH60-'Summer Peak 2015-01-15'!GU60","v":0},{"$f":"Summer!BI60-'Summer Peak 2015-01-15'!GV60","v":0},{"$f":"Summer!BJ60-'Summer Peak 2015-01-15'!GW60","v":0},{"$f":"Summer!BK60-'Summer Peak 2015-01-15'!GX60","v":0},{"$f":"Summer!BL60-'Summer Peak 2015-01-15'!GY60","v":0},{"$f":"Summer!BM60-'Summer Peak 2015-01-15'!GZ60","v":0},{"$f":"Summer!BN60-'Summer Peak 2015-01-15'!HA60","v":0},{"$f":"Summer!BO60-'Summer Peak 2015-01-15'!HB60","v":0},{"$f":"Summer!BP60-'Summer Peak 2015-01-15'!HC60","v":0},{"$f":"Summer!BQ60-'Summer Peak 2015-01-15'!HD60","v":0},{"$f":"Summer!BR60-'Summer Peak 2015-01-15'!HE60","v":0},{"$f":"Summer!BS60-'Summer Peak 2015-01-15'!HF60","v":0},{"$f":"Summer!BT60-'Summer Peak 2015-01-15'!HG60","v":0},{"$f":"Summer!BU60-'Summer Peak 2015-01-15'!HH60","v":0},{"$f":"Summer!BV60-'Summer Peak 2015-01-15'!HI60","v":0},{"$f":"Summer!BW60-'Summer Peak 2015-01-15'!HJ60","v":0},{"$f":"Summer!BX60-'Summer Peak 2015-01-15'!HK60","v":0},{"$f":"Summer!BY60-'Summer Peak 2015-01-15'!HL60","v":0},{"$f":"Summer!BZ60-'Summer Peak 2015-01-15'!HM60","v":0},{"$f":"Summer!CA60-'Summer Peak 2015-01-15'!HN60","v":0},{"$f":"Summer!CB60-'Summer Peak 2015-01-15'!HO60","v":0},{"$f":"Summer!CC60-'Summer Peak 2015-01-15'!HP60","v":0},{"$f":"Summer!CD60-'Summer Peak 2015-01-15'!HQ60","v":0},{"$f":"Summer!CE60-'Summer Peak 2015-01-15'!HR60","v":0},{"$f":"Summer!CF60-'Summer Peak 2015-01-15'!HS60","v":0},{"$f":"Summer!CG60-'Summer Peak 2015-01-15'!HT60","v":0},{"$f":"Summer!CH60-'Summer Peak 2015-01-15'!HU60","v":0},{"$f":"Summer!CI60-'Summer Peak 2015-01-15'!HV60","v":0},{"$f":"Summer!CJ60-'Summer Peak 2015-01-15'!HW60","v":0},{"$f":"Summer!CK60-'Summer Peak 2015-01-15'!HX60","v":0},{"$f":"Summer!CL60-'Summer Peak 2015-01-15'!HY60","v":0},{"$f":"Summer!CM60-'Summer Peak 2015-01-15'!HZ60","v":0},{"$f":"Summer!CN60-'Summer Peak 2015-01-15'!IA60","v":0},{"$f":"Summer!CO60-'Summer Peak 2015-01-15'!IB60","v":0},{"$f":"Summer!CP60-'Summer Peak 2015-01-15'!IC60","v":0},{"$f":"Summer!CQ60-'Summer Peak 2015-01-15'!ID60","v":0},{"$f":"Summer!CR60-'Summer Peak 2015-01-15'!IE60","v":0},{"$f":"Summer!CS60-'Summer Peak 2015-01-15'!IF60","v":0},{"$f":"Summer!CT60-'Summer Peak 2015-01-15'!IG60","v":0},{"$f":"Summer!CU60-'Summer Peak 2015-01-15'!IH60","v":0},{"$f":"Summer!CV60-'Summer Peak 2015-01-15'!II60","v":0},{"$f":"Summer!CW60-'Summer Peak 2015-01-15'!IJ60","v":0},{"$f":"Summer!CX60-'Summer Peak 2015-01-15'!IK60","v":0},{"$f":"Summer!CY60-'Summer Peak 2015-01-15'!IL60","v":0},{"$f":"Summer!CZ60-'Summer Peak 2015-01-15'!IM60","v":0},{"$f":"Summer!DA60-'Summer Peak 2015-01-15'!IN60","v":0},{"$f":"Summer!DB60-'Summer Peak 2015-01-15'!IO60","v":0},{"$f":"Summer!DC60-'Summer Peak 2015-01-15'!IP60","v":0},{"$f":"Summer!DD60-'Summer Peak 2015-01-15'!IQ60","v":0},{"$f":"Summer!DE60-'Summer Peak 2015-01-15'!IR60","v":0},{"$f":"Summer!DF60-'Summer Peak 2015-01-15'!IS60","v":0},{"$f":"Summer!DG60-'Summer Peak 2015-01-15'!IT60","v":0},{"$f":"Summer!DH60-'Summer Peak 2015-01-15'!IU60","v":0},{"$f":"Summer!DI60-'Summer Peak 2015-01-15'!IV60","v":0},{"$f":"Summer!DJ60-'Summer Peak 2015-01-15'!IW60","v":0},{"$f":"Summer!DK60-'Summer Peak 2015-01-15'!IX60","v":0},{"$f":"Summer!DL60-'Summer Peak 2015-01-15'!IY60","v":0},{"$f":"Summer!DM60-'Summer Peak 2015-01-15'!IZ60","v":0},{"$f":"Summer!DN60-'Summer Peak 2015-01-15'!JA60","v":0},{"$f":"Summer!DO60-'Summer Peak 2015-01-15'!JB60","v":0},{"$f":"Summer!DP60-'Summer Peak 2015-01-15'!JC60","v":0},{"$f":"Summer!DQ60-'Summer Peak 2015-01-15'!JD60","v":0},{"$f":"Summer!DR60-'Summer Peak 2015-01-15'!JE60","v":0},{"$f":"Summer!DS60-'Summer Peak 2015-01-15'!JF60","v":0}]
[null,"New Gen",{"$f":"Summer!C61-'Summer Peak 2015-01-15'!EP61","v":0},{"$f":"Summer!D61-'Summer Peak 2015-01-15'!EQ61","v":0},{"$f":"Summer!E61-'Summer Peak 2015-01-15'!ER61","v":0},{"$f":"Summer!F61-'Summer Peak 2015-01-15'!ES61","v":0},{"$f":"Summer!G61-'Summer Peak 2015-01-15'!ET61","v":0},{"$f":"Summer!H61-'Summer Peak 2015-01-15'!EU61","v":0},{"$f":"Summer!I61-'Summer Peak 2015-01-15'!EV61","v":0},{"$f":"Summer!J61-'Summer Peak 2015-01-15'!EW61","v":0},{"$f":"Summer!K61-'Summer Peak 2015-01-15'!EX61","v":0},{"$f":"Summer!L61-'Summer Peak 2015-01-15'!EY61","v":0},{"$f":"Summer!M61-'Summer Peak 2015-01-15'!EZ61","v":0},{"$f":"Summer!N61-'Summer Peak 2015-01-15'!FA61","v":0},{"$f":"Summer!O61-'Summer Peak 2015-01-15'!FB61","v":0},{"$f":"Summer!P61-'Summer Peak 2015-01-15'!FC61","v":0},{"$f":"Summer!Q61-'Summer Peak 2015-01-15'!FD61","v":0},{"$f":"Summer!R61-'Summer Peak 2015-01-15'!FE61","v":0},{"$f":"Summer!S61-'Summer Peak 2015-01-15'!FF61","v":0},{"$f":"Summer!T61-'Summer Peak 2015-01-15'!FG61","v":0},{"$f":"Summer!U61-'Summer Peak 2015-01-15'!FH61","v":0},{"$f":"Summer!V61-'Summer Peak 2015-01-15'!FI61","v":0},{"$f":"Summer!W61-'Summer Peak 2015-01-15'!FJ61","v":0},{"$f":"Summer!X61-'Summer Peak 2015-01-15'!FK61","v":0},{"$f":"Summer!Y61-'Summer Peak 2015-01-15'!FL61","v":0},{"$f":"Summer!Z61-'Summer Peak 2015-01-15'!FM61","v":0},{"$f":"Summer!AA61-'Summer Peak 2015-01-15'!FN61","v":0},{"$f":"Summer!AB61-'Summer Peak 2015-01-15'!FO61","v":0},{"$f":"Summer!AC61-'Summer Peak 2015-01-15'!FP61","v":0},{"$f":"Summer!AD61-'Summer Peak 2015-01-15'!FQ61","v":0},{"$f":"Summer!AE61-'Summer Peak 2015-01-15'!FR61","v":0},{"$f":"Summer!AF61-'Summer Peak 2015-01-15'!FS61","v":0},{"$f":"Summer!AG61-'Summer Peak 2015-01-15'!FT61","v":0},{"$f":"Summer!AH61-'Summer Peak 2015-01-15'!FU61","v":0},{"$f":"Summer!AI61-'Summer Peak 2015-01-15'!FV61","v":0},{"$f":"Summer!AJ61-'Summer Peak 2015-01-15'!FW61","v":0},{"$f":"Summer!AK61-'Summer Peak 2015-01-15'!FX61","v":0},{"$f":"Summer!AL61-'Summer Peak 2015-01-15'!FY61","v":0},{"$f":"Summer!AM61-'Summer Peak 2015-01-15'!FZ61","v":0},{"$f":"Summer!AN61-'Summer Peak 2015-01-15'!GA61","v":0},{"$f":"Summer!AO61-'Summer Peak 2015-01-15'!GB61","v":0},{"$f":"Summer!AP61-'Summer Peak 2015-01-15'!GC61","v":0},{"$f":"Summer!AQ61-'Summer Peak 2015-01-15'!GD61","v":0},{"$f":"Summer!AR61-'Summer Peak 2015-01-15'!GE61","v":0},{"$f":"Summer!AS61-'Summer Peak 2015-01-15'!GF61","v":0},{"$f":"Summer!AT61-'Summer Peak 2015-01-15'!GG61","v":0},{"$f":"Summer!AU61-'Summer Peak 2015-01-15'!GH61","v":0},{"$f":"Summer!AV61-'Summer Peak 2015-01-15'!GI61","v":0},{"$f":"Summer!AW61-'Summer Peak 2015-01-15'!GJ61","v":0},{"$f":"Summer!AX61-'Summer Peak 2015-01-15'!GK61","v":0},{"$f":"Summer!AY61-'Summer Peak 2015-01-15'!GL61","v":0},{"$f":"Summer!AZ61-'Summer Peak 2015-01-15'!GM61","v":0},{"$f":"Summer!BA61-'Summer Peak 2015-01-15'!GN61","v":0},{"$f":"Summer!BB61-'Summer Peak 2015-01-15'!GO61","v":0},{"$f":"Summer!BC61-'Summer Peak 2015-01-15'!GP61","v":0},{"$f":"Summer!BD61-'Summer Peak 2015-01-15'!GQ61","v":0},{"$f":"Summer!BE61-'Summer Peak 2015-01-15'!GR61","v":0},{"$f":"Summer!BF61-'Summer Peak 2015-01-15'!GS61","v":0},{"$f":"Summer!BG61-'Summer Peak 2015-01-15'!GT61","v":0},{"$f":"Summer!BH61-'Summer Peak 2015-01-15'!GU61","v":0},{"$f":"Summer!BI61-'Summer Peak 2015-01-15'!GV61","v":0},{"$f":"Summer!BJ61-'Summer Peak 2015-01-15'!GW61","v":0},{"$f":"Summer!BK61-'Summer Peak 2015-01-15'!GX61","v":0},{"$f":"Summer!BL61-'Summer Peak 2015-01-15'!GY61","v":0},{"$f":"Summer!BM61-'Summer Peak 2015-01-15'!GZ61","v":0},{"$f":"Summer!BN61-'Summer Peak 2015-01-15'!HA61","v":0},{"$f":"Summer!BO61-'Summer Peak 2015-01-15'!HB61","v":0},{"$f":"Summer!BP61-'Summer Peak 2015-01-15'!HC61","v":0},{"$f":"Summer!BQ61-'Summer Peak 2015-01-15'!HD61","v":0},{"$f":"Summer!BR61-'Summer Peak 2015-01-15'!HE61","v":0},{"$f":"Summer!BS61-'Summer Peak 2015-01-15'!HF61","v":0},{"$f":"Summer!BT61-'Summer Peak 2015-01-15'!HG61","v":0},{"$f":"Summer!BU61-'Summer Peak 2015-01-15'!HH61","v":0},{"$f":"Summer!BV61-'Summer Peak 2015-01-15'!HI61","v":0},{"$f":"Summer!BW61-'Summer Peak 2015-01-15'!HJ61","v":0},{"$f":"Summer!BX61-'Summer Peak 2015-01-15'!HK61","v":0},{"$f":"Summer!BY61-'Summer Peak 2015-01-15'!HL61","v":0},{"$f":"Summer!BZ61-'Summer Peak 2015-01-15'!HM61","v":0},{"$f":"Summer!CA61-'Summer Peak 2015-01-15'!HN61","v":0},{"$f":"Summer!CB61-'Summer Peak 2015-01-15'!HO61","v":0},{"$f":"Summer!CC61-'Summer Peak 2015-01-15'!HP61","v":0},{"$f":"Summer!CD61-'Summer Peak 2015-01-15'!HQ61","v":0},{"$f":"Summer!CE61-'Summer Peak 2015-01-15'!HR61","v":0},{"$f":"Summer!CF61-'Summer Peak 2015-01-15'!HS61","v":0},{"$f":"Summer!CG61-'Summer Peak 2015-01-15'!HT61","v":0},{"$f":"Summer!CH61-'Summer Peak 2015-01-15'!HU61","v":0},{"$f":"Summer!CI61-'Summer Peak 2015-01-15'!HV61","v":0},{"$f":"Summer!CJ61-'Summer Peak 2015-01-15'!HW61","v":0},{"$f":"Summer!CK61-'Summer Peak 2015-01-15'!HX61","v":0},{"$f":"Summer!CL61-'Summer Peak 2015-01-15'!HY61","v":0},{"$f":"Summer!CM61-'Summer Peak 2015-01-15'!HZ61","v":0},{"$f":"Summer!CN61-'Summer Peak 2015-01-15'!IA61","v":0},{"$f":"Summer!CO61-'Summer Peak 2015-01-15'!IB61","v":0},{"$f":"Summer!CP61-'Summer Peak 2015-01-15'!IC61","v":0},{"$f":"Summer!CQ61-'Summer Peak 2015-01-15'!ID61","v":0},{"$f":"Summer!CR61-'Summer Peak 2015-01-15'!IE61","v":0},{"$f":"Summer!CS61-'Summer Peak 2015-01-15'!IF61","v":0},{"$f":"Summer!CT61-'Summer Peak 2015-01-15'!IG61","v":0},{"$f":"Summer!CU61-'Summer Peak 2015-01-15'!IH61","v":0},{"$f":"Summer!CV61-'Summer Peak 2015-01-15'!II61","v":0},{"$f":"Summer!CW61-'Summer Peak 2015-01-15'!IJ61","v":0},{"$f":"Summer!CX61-'Summer Peak 2015-01-15'!IK61","v":0},{"$f":"Summer!CY61-'Summer Peak 2015-01-15'!IL61","v":0},{"$f":"Summer!CZ61-'Summer Peak 2015-01-15'!IM61","v":0},{"$f":"Summer!DA61-'Summer Peak 2015-01-15'!IN61","v":0},{"$f":"Summer!DB61-'Summer Peak 2015-01-15'!IO61","v":0},{"$f":"Summer!DC61-'Summer Peak 2015-01-15'!IP61","v":0},{"$f":"Summer!DD61-'Summer Peak 2015-01-15'!IQ61","v":0},{"$f":"Summer!DE61-'Summer Peak 2015-01-15'!IR61","v":0},{"$f":"Summer!DF61-'Summer Peak 2015-01-15'!IS61","v":0},{"$f":"Summer!DG61-'Summer Peak 2015-01-15'!IT61","v":0},{"$f":"Summer!DH61-'Summer Peak 2015-01-15'!IU61","v":0},{"$f":"Summer!DI61-'Summer Peak 2015-01-15'!IV61","v":0},{"$f":"Summer!DJ61-'Summer Peak 2015-01-15'!IW61","v":0},{"$f":"Summer!DK61-'Summer Peak 2015-01-15'!IX61","v":0},{"$f":"Summer!DL61-'Summer Peak 2015-01-15'!IY61","v":0},{"$f":"Summer!DM61-'Summer Peak 2015-01-15'!IZ61","v":0},{"$f":"Summer!DN61-'Summer Peak 2015-01-15'!JA61","v":0},{"$f":"Summer!DO61-'Summer Peak 2015-01-15'!JB61","v":0},{"$f":"Summer!DP61-'Summer Peak 2015-01-15'!JC61","v":0},{"$f":"Summer!DQ61-'Summer Peak 2015-01-15'!JD61","v":0},{"$f":"Summer!DR61-'Summer Peak 2015-01-15'!JE61","v":0},{"$f":"Summer!DS61-'Summer Peak 2015-01-15'!JF61","v":0}]
[null,"Repower",{"$f":"Summer!C62-'Summer Peak 2015-01-15'!EP62","v":0},{"$f":"Summer!D62-'Summer Peak 2015-01-15'!EQ62","v":0},{"$f":"Summer!E62-'Summer Peak 2015-01-15'!ER62","v":0},{"$f":"Summer!F62-'Summer Peak 2015-01-15'!ES62","v":0},{"$f":"Summer!G62-'Summer Peak 2015-01-15'!ET62","v":0},{"$f":"Summer!H62-'Summer Peak 2015-01-15'!EU62","v":0},{"$f":"Summer!I62-'Summer Peak 2015-01-15'!EV62","v":0},{"$f":"Summer!J62-'Summer Peak 2015-01-15'!EW62","v":0},{"$f":"Summer!K62-'Summer Peak 2015-01-15'!EX62","v":0},{"$f":"Summer!L62-'Summer Peak 2015-01-15'!EY62","v":0},{"$f":"Summer!M62-'Summer Peak 2015-01-15'!EZ62","v":0},{"$f":"Summer!N62-'Summer Peak 2015-01-15'!FA62","v":0},{"$f":"Summer!O62-'Summer Peak 2015-01-15'!FB62","v":0},{"$f":"Summer!P62-'Summer Peak 2015-01-15'!FC62","v":0},{"$f":"Summer!Q62-'Summer Peak 2015-01-15'!FD62","v":0},{"$f":"Summer!R62-'Summer Peak 2015-01-15'!FE62","v":0},{"$f":"Summer!S62-'Summer Peak 2015-01-15'!FF62","v":0},{"$f":"Summer!T62-'Summer Peak 2015-01-15'!FG62","v":0},{"$f":"Summer!U62-'Summer Peak 2015-01-15'!FH62","v":0},{"$f":"Summer!V62-'Summer Peak 2015-01-15'!FI62","v":0},{"$f":"Summer!W62-'Summer Peak 2015-01-15'!FJ62","v":0},{"$f":"Summer!X62-'Summer Peak 2015-01-15'!FK62","v":0},{"$f":"Summer!Y62-'Summer Peak 2015-01-15'!FL62","v":0},{"$f":"Summer!Z62-'Summer Peak 2015-01-15'!FM62","v":0},{"$f":"Summer!AA62-'Summer Peak 2015-01-15'!FN62","v":0},{"$f":"Summer!AB62-'Summer Peak 2015-01-15'!FO62","v":0},{"$f":"Summer!AC62-'Summer Peak 2015-01-15'!FP62","v":0},{"$f":"Summer!AD62-'Summer Peak 2015-01-15'!FQ62","v":0},{"$f":"Summer!AE62-'Summer Peak 2015-01-15'!FR62","v":0},{"$f":"Summer!AF62-'Summer Peak 2015-01-15'!FS62","v":0},{"$f":"Summer!AG62-'Summer Peak 2015-01-15'!FT62","v":0},{"$f":"Summer!AH62-'Summer Peak 2015-01-15'!FU62","v":0},{"$f":"Summer!AI62-'Summer Peak 2015-01-15'!FV62","v":0},{"$f":"Summer!AJ62-'Summer Peak 2015-01-15'!FW62","v":0},{"$f":"Summer!AK62-'Summer Peak 2015-01-15'!FX62","v":0},{"$f":"Summer!AL62-'Summer Peak 2015-01-15'!FY62","v":0},{"$f":"Summer!AM62-'Summer Peak 2015-01-15'!FZ62","v":0},{"$f":"Summer!AN62-'Summer Peak 2015-01-15'!GA62","v":0},{"$f":"Summer!AO62-'Summer Peak 2015-01-15'!GB62","v":0},{"$f":"Summer!AP62-'Summer Peak 2015-01-15'!GC62","v":0},{"$f":"Summer!AQ62-'Summer Peak 2015-01-15'!GD62","v":0},{"$f":"Summer!AR62-'Summer Peak 2015-01-15'!GE62","v":0},{"$f":"Summer!AS62-'Summer Peak 2015-01-15'!GF62","v":0},{"$f":"Summer!AT62-'Summer Peak 2015-01-15'!GG62","v":0},{"$f":"Summer!AU62-'Summer Peak 2015-01-15'!GH62","v":0},{"$f":"Summer!AV62-'Summer Peak 2015-01-15'!GI62","v":0},{"$f":"Summer!AW62-'Summer Peak 2015-01-15'!GJ62","v":0},{"$f":"Summer!AX62-'Summer Peak 2015-01-15'!GK62","v":0},{"$f":"Summer!AY62-'Summer Peak 2015-01-15'!GL62","v":0},{"$f":"Summer!AZ62-'Summer Peak 2015-01-15'!GM62","v":0},{"$f":"Summer!BA62-'Summer Peak 2015-01-15'!GN62","v":0},{"$f":"Summer!BB62-'Summer Peak 2015-01-15'!GO62","v":0},{"$f":"Summer!BC62-'Summer Peak 2015-01-15'!GP62","v":0},{"$f":"Summer!BD62-'Summer Peak 2015-01-15'!GQ62","v":0},{"$f":"Summer!BE62-'Summer Peak 2015-01-15'!GR62","v":0},{"$f":"Summer!BF62-'Summer Peak 2015-01-15'!GS62","v":0},{"$f":"Summer!BG62-'Summer Peak 2015-01-15'!GT62","v":0},{"$f":"Summer!BH62-'Summer Peak 2015-01-15'!GU62","v":0},{"$f":"Summer!BI62-'Summer Peak 2015-01-15'!GV62","v":0},{"$f":"Summer!BJ62-'Summer Peak 2015-01-15'!GW62","v":0},{"$f":"Summer!BK62-'Summer Peak 2015-01-15'!GX62","v":0},{"$f":"Summer!BL62-'Summer Peak 2015-01-15'!GY62","v":0},{"$f":"Summer!BM62-'Summer Peak 2015-01-15'!GZ62","v":0},{"$f":"Summer!BN62-'Summer Peak 2015-01-15'!HA62","v":0},{"$f":"Summer!BO62-'Summer Peak 2015-01-15'!HB62","v":0},{"$f":"Summer!BP62-'Summer Peak 2015-01-15'!HC62","v":0},{"$f":"Summer!BQ62-'Summer Peak 2015-01-15'!HD62","v":0},{"$f":"Summer!BR62-'Summer Peak 2015-01-15'!HE62","v":0},{"$f":"Summer!BS62-'Summer Peak 2015-01-15'!HF62","v":0},{"$f":"Summer!BT62-'Summer Peak 2015-01-15'!HG62","v":0},{"$f":"Summer!BU62-'Summer Peak 2015-01-15'!HH62","v":0},{"$f":"Summer!BV62-'Summer Peak 2015-01-15'!HI62","v":0},{"$f":"Summer!BW62-'Summer Peak 2015-01-15'!HJ62","v":0},{"$f":"Summer!BX62-'Summer Peak 2015-01-15'!HK62","v":0},{"$f":"Summer!BY62-'Summer Peak 2015-01-15'!HL62","v":0},{"$f":"Summer!BZ62-'Summer Peak 2015-01-15'!HM62","v":0},{"$f":"Summer!CA62-'Summer Peak 2015-01-15'!HN62","v":0},{"$f":"Summer!CB62-'Summer Peak 2015-01-15'!HO62","v":0},{"$f":"Summer!CC62-'Summer Peak 2015-01-15'!HP62","v":0},{"$f":"Summer!CD62-'Summer Peak 2015-01-15'!HQ62","v":0},{"$f":"Summer!CE62-'Summer Peak 2015-01-15'!HR62","v":0},{"$f":"Summer!CF62-'Summer Peak 2015-01-15'!HS62","v":0},{"$f":"Summer!CG62-'Summer Peak 2015-01-15'!HT62","v":0},{"$f":"Summer!CH62-'Summer Peak 2015-01-15'!HU62","v":0},{"$f":"Summer!CI62-'Summer Peak 2015-01-15'!HV62","v":0},{"$f":"Summer!CJ62-'Summer Peak 2015-01-15'!HW62","v":0},{"$f":"Summer!CK62-'Summer Peak 2015-01-15'!HX62","v":0},{"$f":"Summer!CL62-'Summer Peak 2015-01-15'!HY62","v":0},{"$f":"Summer!CM62-'Summer Peak 2015-01-15'!HZ62","v":0},{"$f":"Summer!CN62-'Summer Peak 2015-01-15'!IA62","v":0},{"$f":"Summer!CO62-'Summer Peak 2015-01-15'!IB62","v":0},{"$f":"Summer!CP62-'Summer Peak 2015-01-15'!IC62","v":0},{"$f":"Summer!CQ62-'Summer Peak 2015-01-15'!ID62","v":0},{"$f":"Summer!CR62-'Summer Peak 2015-01-15'!IE62","v":0},{"$f":"Summer!CS62-'Summer Peak 2015-01-15'!IF62","v":0},{"$f":"Summer!CT62-'Summer Peak 2015-01-15'!IG62","v":0},{"$f":"Summer!CU62-'Summer Peak 2015-01-15'!IH62","v":0},{"$f":"Summer!CV62-'Summer Peak 2015-01-15'!II62","v":0},{"$f":"Summer!CW62-'Summer Peak 2015-01-15'!IJ62","v":0},{"$f":"Summer!CX62-'Summer Peak 2015-01-15'!IK62","v":0},{"$f":"Summer!CY62-'Summer Peak 2015-01-15'!IL62","v":0},{"$f":"Summer!CZ62-'Summer Peak 2015-01-15'!IM62","v":0},{"$f":"Summer!DA62-'Summer Peak 2015-01-15'!IN62","v":0},{"$f":"Summer!DB62-'Summer Peak 2015-01-15'!IO62","v":0},{"$f":"Summer!DC62-'Summer Peak 2015-01-15'!IP62","v":0},{"$f":"Summer!DD62-'Summer Peak 2015-01-15'!IQ62","v":0},{"$f":"Summer!DE62-'Summer Peak 2015-01-15'!IR62","v":0},{"$f":"Summer!DF62-'Summer Peak 2015-01-15'!IS62","v":0},{"$f":"Summer!DG62-'Summer Peak 2015-01-15'!IT62","v":0},{"$f":"Summer!DH62-'Summer Peak 2015-01-15'!IU62","v":0},{"$f":"Summer!DI62-'Summer Peak 2015-01-15'!IV62","v":0},{"$f":"Summer!DJ62-'Summer Peak 2015-01-15'!IW62","v":0},{"$f":"Summer!DK62-'Summer Peak 2015-01-15'!IX62","v":0},{"$f":"Summer!DL62-'Summer Peak 2015-01-15'!IY62","v":0},{"$f":"Summer!DM62-'Summer Peak 2015-01-15'!IZ62","v":0},{"$f":"Summer!DN62-'Summer Peak 2015-01-15'!JA62","v":0},{"$f":"Summer!DO62-'Summer Peak 2015-01-15'!JB62","v":0},{"$f":"Summer!DP62-'Summer Peak 2015-01-15'!JC62","v":0},{"$f":"Summer!DQ62-'Summer Peak 2015-01-15'!JD62","v":0},{"$f":"Summer!DR62-'Summer Peak 2015-01-15'!JE62","v":0},{"$f":"Summer!DS62-'Summer Peak 2015-01-15'!JF62","v":0}]
[null,"EPU",{"$f":"Summer!C63-'Summer Peak 2015-01-15'!EP63","v":0},{"$f":"Summer!D63-'Summer Peak 2015-01-15'!EQ63","v":0},{"$f":"Summer!E63-'Summer Peak 2015-01-15'!ER63","v":0},{"$f":"Summer!F63-'Summer Peak 2015-01-15'!ES63","v":0},{"$f":"Summer!G63-'Summer Peak 2015-01-15'!ET63","v":0},{"$f":"Summer!H63-'Summer Peak 2015-01-15'!EU63","v":0},{"$f":"Summer!I63-'Summer Peak 2015-01-15'!EV63","v":0},{"$f":"Summer!J63-'Summer Peak 2015-01-15'!EW63","v":0},{"$f":"Summer!K63-'Summer Peak 2015-01-15'!EX63","v":0},{"$f":"Summer!L63-'Summer Peak 2015-01-15'!EY63","v":0},{"$f":"Summer!M63-'Summer Peak 2015-01-15'!EZ63","v":0},{"$f":"Summer!N63-'Summer Peak 2015-01-15'!FA63","v":0},{"$f":"Summer!O63-'Summer Peak 2015-01-15'!FB63","v":0},{"$f":"Summer!P63-'Summer Peak 2015-01-15'!FC63","v":0},{"$f":"Summer!Q63-'Summer Peak 2015-01-15'!FD63","v":0},{"$f":"Summer!R63-'Summer Peak 2015-01-15'!FE63","v":0},{"$f":"Summer!S63-'Summer Peak 2015-01-15'!FF63","v":0},{"$f":"Summer!T63-'Summer Peak 2015-01-15'!FG63","v":0},{"$f":"Summer!U63-'Summer Peak 2015-01-15'!FH63","v":0},{"$f":"Summer!V63-'Summer Peak 2015-01-15'!FI63","v":0},{"$f":"Summer!W63-'Summer Peak 2015-01-15'!FJ63","v":0},{"$f":"Summer!X63-'Summer Peak 2015-01-15'!FK63","v":0},{"$f":"Summer!Y63-'Summer Peak 2015-01-15'!FL63","v":0},{"$f":"Summer!Z63-'Summer Peak 2015-01-15'!FM63","v":0},{"$f":"Summer!AA63-'Summer Peak 2015-01-15'!FN63","v":0},{"$f":"Summer!AB63-'Summer Peak 2015-01-15'!FO63","v":0},{"$f":"Summer!AC63-'Summer Peak 2015-01-15'!FP63","v":0},{"$f":"Summer!AD63-'Summer Peak 2015-01-15'!FQ63","v":0},{"$f":"Summer!AE63-'Summer Peak 2015-01-15'!FR63","v":0},{"$f":"Summer!AF63-'Summer Peak 2015-01-15'!FS63","v":0},{"$f":"Summer!AG63-'Summer Peak 2015-01-15'!FT63","v":0},{"$f":"Summer!AH63-'Summer Peak 2015-01-15'!FU63","v":0},{"$f":"Summer!AI63-'Summer Peak 2015-01-15'!FV63","v":0},{"$f":"Summer!AJ63-'Summer Peak 2015-01-15'!FW63","v":0},{"$f":"Summer!AK63-'Summer Peak 2015-01-15'!FX63","v":0},{"$f":"Summer!AL63-'Summer Peak 2015-01-15'!FY63","v":0},{"$f":"Summer!AM63-'Summer Peak 2015-01-15'!FZ63","v":0},{"$f":"Summer!AN63-'Summer Peak 2015-01-15'!GA63","v":0},{"$f":"Summer!AO63-'Summer Peak 2015-01-15'!GB63","v":0},{"$f":"Summer!AP63-'Summer Peak 2015-01-15'!GC63","v":0},{"$f":"Summer!AQ63-'Summer Peak 2015-01-15'!GD63","v":0},{"$f":"Summer!AR63-'Summer Peak 2015-01-15'!GE63","v":0},{"$f":"Summer!AS63-'Summer Peak 2015-01-15'!GF63","v":0},{"$f":"Summer!AT63-'Summer Peak 2015-01-15'!GG63","v":0},{"$f":"Summer!AU63-'Summer Peak 2015-01-15'!GH63","v":0},{"$f":"Summer!AV63-'Summer Peak 2015-01-15'!GI63","v":0},{"$f":"Summer!AW63-'Summer Peak 2015-01-15'!GJ63","v":0},{"$f":"Summer!AX63-'Summer Peak 2015-01-15'!GK63","v":0},{"$f":"Summer!AY63-'Summer Peak 2015-01-15'!GL63","v":0},{"$f":"Summer!AZ63-'Summer Peak 2015-01-15'!GM63","v":0},{"$f":"Summer!BA63-'Summer Peak 2015-01-15'!GN63","v":0},{"$f":"Summer!BB63-'Summer Peak 2015-01-15'!GO63","v":0},{"$f":"Summer!BC63-'Summer Peak 2015-01-15'!GP63","v":0},{"$f":"Summer!BD63-'Summer Peak 2015-01-15'!GQ63","v":0},{"$f":"Summer!BE63-'Summer Peak 2015-01-15'!GR63","v":0},{"$f":"Summer!BF63-'Summer Peak 2015-01-15'!GS63","v":0},{"$f":"Summer!BG63-'Summer Peak 2015-01-15'!GT63","v":0},{"$f":"Summer!BH63-'Summer Peak 2015-01-15'!GU63","v":0},{"$f":"Summer!BI63-'Summer Peak 2015-01-15'!GV63","v":0},{"$f":"Summer!BJ63-'Summer Peak 2015-01-15'!GW63","v":0},{"$f":"Summer!BK63-'Summer Peak 2015-01-15'!GX63","v":0},{"$f":"Summer!BL63-'Summer Peak 2015-01-15'!GY63","v":0},{"$f":"Summer!BM63-'Summer Peak 2015-01-15'!GZ63","v":0},{"$f":"Summer!BN63-'Summer Peak 2015-01-15'!HA63","v":0},{"$f":"Summer!BO63-'Summer Peak 2015-01-15'!HB63","v":0},{"$f":"Summer!BP63-'Summer Peak 2015-01-15'!HC63","v":0},{"$f":"Summer!BQ63-'Summer Peak 2015-01-15'!HD63","v":0},{"$f":"Summer!BR63-'Summer Peak 2015-01-15'!HE63","v":0},{"$f":"Summer!BS63-'Summer Peak 2015-01-15'!HF63","v":0},{"$f":"Summer!BT63-'Summer Peak 2015-01-15'!HG63","v":0},{"$f":"Summer!BU63-'Summer Peak 2015-01-15'!HH63","v":0},{"$f":"Summer!BV63-'Summer Peak 2015-01-15'!HI63","v":0},{"$f":"Summer!BW63-'Summer Peak 2015-01-15'!HJ63","v":0},{"$f":"Summer!BX63-'Summer Peak 2015-01-15'!HK63","v":0},{"$f":"Summer!BY63-'Summer Peak 2015-01-15'!HL63","v":0},{"$f":"Summer!BZ63-'Summer Peak 2015-01-15'!HM63","v":0},{"$f":"Summer!CA63-'Summer Peak 2015-01-15'!HN63","v":0},{"$f":"Summer!CB63-'Summer Peak 2015-01-15'!HO63","v":0},{"$f":"Summer!CC63-'Summer Peak 2015-01-15'!HP63","v":0},{"$f":"Summer!CD63-'Summer Peak 2015-01-15'!HQ63","v":0},{"$f":"Summer!CE63-'Summer Peak 2015-01-15'!HR63","v":0},{"$f":"Summer!CF63-'Summer Peak 2015-01-15'!HS63","v":0},{"$f":"Summer!CG63-'Summer Peak 2015-01-15'!HT63","v":0},{"$f":"Summer!CH63-'Summer Peak 2015-01-15'!HU63","v":0},{"$f":"Summer!CI63-'Summer Peak 2015-01-15'!HV63","v":0},{"$f":"Summer!CJ63-'Summer Peak 2015-01-15'!HW63","v":0},{"$f":"Summer!CK63-'Summer Peak 2015-01-15'!HX63","v":0},{"$f":"Summer!CL63-'Summer Peak 2015-01-15'!HY63","v":0},{"$f":"Summer!CM63-'Summer Peak 2015-01-15'!HZ63","v":0},{"$f":"Summer!CN63-'Summer Peak 2015-01-15'!IA63","v":0},{"$f":"Summer!CO63-'Summer Peak 2015-01-15'!IB63","v":0},{"$f":"Summer!CP63-'Summer Peak 2015-01-15'!IC63","v":0},{"$f":"Summer!CQ63-'Summer Peak 2015-01-15'!ID63","v":0},{"$f":"Summer!CR63-'Summer Peak 2015-01-15'!IE63","v":0},{"$f":"Summer!CS63-'Summer Peak 2015-01-15'!IF63","v":0},{"$f":"Summer!CT63-'Summer Peak 2015-01-15'!IG63","v":0},{"$f":"Summer!CU63-'Summer Peak 2015-01-15'!IH63","v":0},{"$f":"Summer!CV63-'Summer Peak 2015-01-15'!II63","v":0},{"$f":"Summer!CW63-'Summer Peak 2015-01-15'!IJ63","v":0},{"$f":"Summer!CX63-'Summer Peak 2015-01-15'!IK63","v":0},{"$f":"Summer!CY63-'Summer Peak 2015-01-15'!IL63","v":0},{"$f":"Summer!CZ63-'Summer Peak 2015-01-15'!IM63","v":0},{"$f":"Summer!DA63-'Summer Peak 2015-01-15'!IN63","v":0},{"$f":"Summer!DB63-'Summer Peak 2015-01-15'!IO63","v":0},{"$f":"Summer!DC63-'Summer Peak 2015-01-15'!IP63","v":0},{"$f":"Summer!DD63-'Summer Peak 2015-01-15'!IQ63","v":0},{"$f":"Summer!DE63-'Summer Peak 2015-01-15'!IR63","v":0},{"$f":"Summer!DF63-'Summer Peak 2015-01-15'!IS63","v":0},{"$f":"Summer!DG63-'Summer Peak 2015-01-15'!IT63","v":0},{"$f":"Summer!DH63-'Summer Peak 2015-01-15'!IU63","v":0},{"$f":"Summer!DI63-'Summer Peak 2015-01-15'!IV63","v":0},{"$f":"Summer!DJ63-'Summer Peak 2015-01-15'!IW63","v":0},{"$f":"Summer!DK63-'Summer Peak 2015-01-15'!IX63","v":0},{"$f":"Summer!DL63-'Summer Peak 2015-01-15'!IY63","v":0},{"$f":"Summer!DM63-'Summer Peak 2015-01-15'!IZ63","v":0},{"$f":"Summer!DN63-'Summer Peak 2015-01-15'!JA63","v":0},{"$f":"Summer!DO63-'Summer Peak 2015-01-15'!JB63","v":0},{"$f":"Summer!DP63-'Summer Peak 2015-01-15'!JC63","v":0},{"$f":"Summer!DQ63-'Summer Peak 2015-01-15'!JD63","v":0},{"$f":"Summer!DR63-'Summer Peak 2015-01-15'!JE63","v":0},{"$f":"Summer!DS63-'Summer Peak 2015-01-15'!JF63","v":0}]
[null,"CT Upgrade",{"$f":"Summer!C64-'Summer Peak 2015-01-15'!EP64","v":0},{"$f":"Summer!D64-'Summer Peak 2015-01-15'!EQ64","v":0},{"$f":"Summer!E64-'Summer Peak 2015-01-15'!ER64","v":0},{"$f":"Summer!F64-'Summer Peak 2015-01-15'!ES64","v":0},{"$f":"Summer!G64-'Summer Peak 2015-01-15'!ET64","v":0},{"$f":"Summer!H64-'Summer Peak 2015-01-15'!EU64","v":0},{"$f":"Summer!I64-'Summer Peak 2015-01-15'!EV64","v":0},{"$f":"Summer!J64-'Summer Peak 2015-01-15'!EW64","v":0},{"$f":"Summer!K64-'Summer Peak 2015-01-15'!EX64","v":0},{"$f":"Summer!L64-'Summer Peak 2015-01-15'!EY64","v":0},{"$f":"Summer!M64-'Summer Peak 2015-01-15'!EZ64","v":0},{"$f":"Summer!N64-'Summer Peak 2015-01-15'!FA64","v":0},{"$f":"Summer!O64-'Summer Peak 2015-01-15'!FB64","v":0},{"$f":"Summer!P64-'Summer Peak 2015-01-15'!FC64","v":0},{"$f":"Summer!Q64-'Summer Peak 2015-01-15'!FD64","v":0},{"$f":"Summer!R64-'Summer Peak 2015-01-15'!FE64","v":0},{"$f":"Summer!S64-'Summer Peak 2015-01-15'!FF64","v":0},{"$f":"Summer!T64-'Summer Peak 2015-01-15'!FG64","v":4},{"$f":"Summer!U64-'Summer Peak 2015-01-15'!FH64","v":4},{"$f":"Summer!V64-'Summer Peak 2015-01-15'!FI64","v":4},{"$f":"Summer!W64-'Summer Peak 2015-01-15'!FJ64","v":4},{"$f":"Summer!X64-'Summer Peak 2015-01-15'!FK64","v":-1},{"$f":"Summer!Y64-'Summer Peak 2015-01-15'!FL64","v":0},{"$f":"Summer!Z64-'Summer Peak 2015-01-15'!FM64","v":0},{"$f":"Summer!AA64-'Summer Peak 2015-01-15'!FN64","v":0},{"$f":"Summer!AB64-'Summer Peak 2015-01-15'!FO64","v":8},{"$f":"Summer!AC64-'Summer Peak 2015-01-15'!FP64","v":0},{"$f":"Summer!AD64-'Summer Peak 2015-01-15'!FQ64","v":-1},{"$f":"Summer!AE64-'Summer Peak 2015-01-15'!FR64","v":0},{"$f":"Summer!AF64-'Summer Peak 2015-01-15'!FS64","v":0},{"$f":"Summer!AG64-'Summer Peak 2015-01-15'!FT64","v":-2},{"$f":"Summer!AH64-'Summer Peak 2015-01-15'!FU64","v":-1},{"$f":"Summer!AI64-'Summer Peak 2015-01-15'!FV64","v":0},{"$f":"Summer!AJ64-'Summer Peak 2015-01-15'!FW64","v":-2},{"$f":"Summer!AK64-'Summer Peak 2015-01-15'!FX64","v":-1},{"$f":"Summer!AL64-'Summer Peak 2015-01-15'!FY64","v":0},{"$f":"Summer!AM64-'Summer Peak 2015-01-15'!FZ64","v":0},{"$f":"Summer!AN64-'Summer Peak 2015-01-15'!GA64","v":0},{"$f":"Summer!AO64-'Summer Peak 2015-01-15'!GB64","v":-13},{"$f":"Summer!AP64-'Summer Peak 2015-01-15'!GC64","v":-7},{"$f":"Summer!AQ64-'Summer Peak 2015-01-15'!GD64","v":-7},{"$f":"Summer!AR64-'Summer Peak 2015-01-15'!GE64","v":-2},{"$f":"Summer!AS64-'Summer Peak 2015-01-15'!GF64","v":-1},{"$f":"Summer!AT64-'Summer Peak 2015-01-15'!GG64","v":-1},{"$f":"Summer!AU64-'Summer Peak 2015-01-15'!GH64","v":0},{"$f":"Summer!AV64-'Summer Peak 2015-01-15'!GI64","v":0},{"$f":"Summer!AW64-'Summer Peak 2015-01-15'!GJ64","v":0},{"$f":"Summer!AX64-'Summer Peak 2015-01-15'!GK64","v":0},{"$f":"Summer!AY64-'Summer Peak 2015-01-15'!GL64","v":0},{"$f":"Summer!AZ64-'Summer Peak 2015-01-15'!GM64","v":0},{"$f":"Summer!BA64-'Summer Peak 2015-01-15'!GN64","v":0},{"$f":"Summer!BB64-'Summer Peak 2015-01-15'!GO64","v":0},{"$f":"Summer!BC64-'Summer Peak 2015-01-15'!GP64","v":0},{"$f":"Summer!BD64-'Summer Peak 2015-01-15'!GQ64","v":0},{"$f":"Summer!BE64-'Summer Peak 2015-01-15'!GR64","v":0},{"$f":"Summer!BF64-'Summer Peak 2015-01-15'!GS64","v":0},{"$f":"Summer!BG64-'Summer Peak 2015-01-15'!GT64","v":0},{"$f":"Summer!BH64-'Summer Peak 2015-01-15'!GU64","v":0},{"$f":"Summer!BI64-'Summer Peak 2015-01-15'!GV64","v":0},{"$f":"Summer!BJ64-'Summer Peak 2015-01-15'!GW64","v":0},{"$f":"Summer!BK64-'Summer Peak 2015-01-15'!GX64","v":0},{"$f":"Summer!BL64-'Summer Peak 2015-01-15'!GY64","v":0},{"$f":"Summer!BM64-'Summer Peak 2015-01-15'!GZ64","v":0},{"$f":"Summer!BN64-'Summer Peak 2015-01-15'!HA64","v":0},{"$f":"Summer!BO64-'Summer Peak 2015-01-15'!HB64","v":0},{"$f":"Summer!BP64-'Summer Peak 2015-01-15'!HC64","v":0},{"$f":"Summer!BQ64-'Summer Peak 2015-01-15'!HD64","v":0},{"$f":"Summer!BR64-'Summer Peak 2015-01-15'!HE64","v":0},{"$f":"Summer!BS64-'Summer Peak 2015-01-15'!HF64","v":0},{"$f":"Summer!BT64-'Summer Peak 2015-01-15'!HG64","v":0},{"$f":"Summer!BU64-'Summer Peak 2015-01-15'!HH64","v":0},{"$f":"Summer!BV64-'Summer Peak 2015-01-15'!HI64","v":0},{"$f":"Summer!BW64-'Summer Peak 2015-01-15'!HJ64","v":0},{"$f":"Summer!BX64-'Summer Peak 2015-01-15'!HK64","v":0},{"$f":"Summer!BY64-'Summer Peak 2015-01-15'!HL64","v":0},{"$f":"Summer!BZ64-'Summer Peak 2015-01-15'!HM64","v":0},{"$f":"Summer!CA64-'Summer Peak 2015-01-15'!HN64","v":0},{"$f":"Summer!CB64-'Summer Peak 2015-01-15'!HO64","v":0},{"$f":"Summer!CC64-'Summer Peak 2015-01-15'!HP64","v":0},{"$f":"Summer!CD64-'Summer Peak 2015-01-15'!HQ64","v":0},{"$f":"Summer!CE64-'Summer Peak 2015-01-15'!HR64","v":0},{"$f":"Summer!CF64-'Summer Peak 2015-01-15'!HS64","v":0},{"$f":"Summer!CG64-'Summer Peak 2015-01-15'!HT64","v":0},{"$f":"Summer!CH64-'Summer Peak 2015-01-15'!HU64","v":0},{"$f":"Summer!CI64-'Summer Peak 2015-01-15'!HV64","v":0},{"$f":"Summer!CJ64-'Summer Peak 2015-01-15'!HW64","v":0},{"$f":"Summer!CK64-'Summer Peak 2015-01-15'!HX64","v":0},{"$f":"Summer!CL64-'Summer Peak 2015-01-15'!HY64","v":0},{"$f":"Summer!CM64-'Summer Peak 2015-01-15'!HZ64","v":0},{"$f":"Summer!CN64-'Summer Peak 2015-01-15'!IA64","v":0},{"$f":"Summer!CO64-'Summer Peak 2015-01-15'!IB64","v":0},{"$f":"Summer!CP64-'Summer Peak 2015-01-15'!IC64","v":0},{"$f":"Summer!CQ64-'Summer Peak 2015-01-15'!ID64","v":0},{"$f":"Summer!CR64-'Summer Peak 2015-01-15'!IE64","v":0},{"$f":"Summer!CS64-'Summer Peak 2015-01-15'!IF64","v":0},{"$f":"Summer!CT64-'Summer Peak 2015-01-15'!IG64","v":0},{"$f":"Summer!CU64-'Summer Peak 2015-01-15'!IH64","v":0},{"$f":"Summer!CV64-'Summer Peak 2015-01-15'!II64","v":0},{"$f":"Summer!CW64-'Summer Peak 2015-01-15'!IJ64","v":0},{"$f":"Summer!CX64-'Summer Peak 2015-01-15'!IK64","v":0},{"$f":"Summer!CY64-'Summer Peak 2015-01-15'!IL64","v":0},{"$f":"Summer!CZ64-'Summer Peak 2015-01-15'!IM64","v":0},{"$f":"Summer!DA64-'Summer Peak 2015-01-15'!IN64","v":0},{"$f":"Summer!DB64-'Summer Peak 2015-01-15'!IO64","v":0},{"$f":"Summer!DC64-'Summer Peak 2015-01-15'!IP64","v":0},{"$f":"Summer!DD64-'Summer Peak 2015-01-15'!IQ64","v":0},{"$f":"Summer!DE64-'Summer Peak 2015-01-15'!IR64","v":0},{"$f":"Summer!DF64-'Summer Peak 2015-01-15'!IS64","v":0},{"$f":"Summer!DG64-'Summer Peak 2015-01-15'!IT64","v":0},{"$f":"Summer!DH64-'Summer Peak 2015-01-15'!IU64","v":0},{"$f":"Summer!DI64-'Summer Peak 2015-01-15'!IV64","v":0},{"$f":"Summer!DJ64-'Summer Peak 2015-01-15'!IW64","v":0},{"$f":"Summer!DK64-'Summer Peak 2015-01-15'!IX64","v":0},{"$f":"Summer!DL64-'Summer Peak 2015-01-15'!IY64","v":0},{"$f":"Summer!DM64-'Summer Peak 2015-01-15'!IZ64","v":0},{"$f":"Summer!DN64-'Summer Peak 2015-01-15'!JA64","v":0},{"$f":"Summer!DO64-'Summer Peak 2015-01-15'!JB64","v":0},{"$f":"Summer!DP64-'Summer Peak 2015-01-15'!JC64","v":0},{"$f":"Summer!DQ64-'Summer Peak 2015-01-15'!JD64","v":0},{"$f":"Summer!DR64-'Summer Peak 2015-01-15'!JE64","v":0},{"$f":"Summer!DS64-'Summer Peak 2015-01-15'!JF64","v":0}]
[null,"Capability",{"$f":"Summer!C65-'Summer Peak 2015-01-15'!EP65","v":0},{"$f":"Summer!D65-'Summer Peak 2015-01-15'!EQ65","v":0},{"$f":"Summer!E65-'Summer Peak 2015-01-15'!ER65","v":0},{"$f":"Summer!F65-'Summer Peak 2015-01-15'!ES65","v":0},{"$f":"Summer!G65-'Summer Peak 2015-01-15'!ET65","v":0},{"$f":"Summer!H65-'Summer Peak 2015-01-15'!EU65","v":0},{"$f":"Summer!I65-'Summer Peak 2015-01-15'!EV65","v":0},{"$f":"Summer!J65-'Summer Peak 2015-01-15'!EW65","v":0},{"$f":"Summer!K65-'Summer Peak 2015-01-15'!EX65","v":0},{"$f":"Summer!L65-'Summer Peak 2015-01-15'!EY65","v":0},{"$f":"Summer!M65-'Summer Peak 2015-01-15'!EZ65","v":0},{"$f":"Summer!N65-'Summer Peak 2015-01-15'!FA65","v":0},{"$f":"Summer!O65-'Summer Peak 2015-01-15'!FB65","v":0},{"$f":"Summer!P65-'Summer Peak 2015-01-15'!FC65","v":0},{"$f":"Summer!Q65-'Summer Peak 2015-01-15'!FD65","v":0},{"$f":"Summer!R65-'Summer Peak 2015-01-15'!FE65","v":0},{"$f":"Summer!S65-'Summer Peak 2015-01-15'!FF65","v":0},{"$f":"Summer!T65-'Summer Peak 2015-01-15'!FG65","v":0},{"$f":"Summer!U65-'Summer Peak 2015-01-15'!FH65","v":0},{"$f":"Summer!V65-'Summer Peak 2015-01-15'!FI65","v":0},{"$f":"Summer!W65-'Summer Peak 2015-01-15'!FJ65","v":0},{"$f":"Summer!X65-'Summer Peak 2015-01-15'!FK65","v":0},{"$f":"Summer!Y65-'Summer Peak 2015-01-15'!FL65","v":0},{"$f":"Summer!Z65-'Summer Peak 2015-01-15'!FM65","v":0},{"$f":"Summer!AA65-'Summer Peak 2015-01-15'!FN65","v":0},{"$f":"Summer!AB65-'Summer Peak 2015-01-15'!FO65","v":0},{"$f":"Summer!AC65-'Summer Peak 2015-01-15'!FP65","v":0},{"$f":"Summer!AD65-'Summer Peak 2015-01-15'!FQ65","v":0},{"$f":"Summer!AE65-'Summer Peak 2015-01-15'!FR65","v":0},{"$f":"Summer!AF65-'Summer Peak 2015-01-15'!FS65","v":0},{"$f":"Summer!AG65-'Summer Peak 2015-01-15'!FT65","v":0},{"$f":"Summer!AH65-'Summer Peak 2015-01-15'!FU65","v":0},{"$f":"Summer!AI65-'Summer Peak 2015-01-15'!FV65","v":0},{"$f":"Summer!AJ65-'Summer Peak 2015-01-15'!FW65","v":0},{"$f":"Summer!AK65-'Summer Peak 2015-01-15'!FX65","v":0},{"$f":"Summer!AL65-'Summer Peak 2015-01-15'!FY65","v":0},{"$f":"Summer!AM65-'Summer Peak 2015-01-15'!FZ65","v":0},{"$f":"Summer!AN65-'Summer Peak 2015-01-15'!GA65","v":0},{"$f":"Summer!AO65-'Summer Peak 2015-01-15'!GB65","v":0},{"$f":"Summer!AP65-'Summer Peak 2015-01-15'!GC65","v":0},{"$f":"Summer!AQ65-'Summer Peak 2015-01-15'!GD65","v":0},{"$f":"Summer!AR65-'Summer Peak 2015-01-15'!GE65","v":0},{"$f":"Summer!AS65-'Summer Peak 2015-01-15'!GF65","v":0},{"$f":"Summer!AT65-'Summer Peak 2015-01-15'!GG65","v":0},{"$f":"Summer!AU65-'Summer Peak 2015-01-15'!GH65","v":0},{"$f":"Summer!AV65-'Summer Peak 2015-01-15'!GI65","v":0},{"$f":"Summer!AW65-'Summer Peak 2015-01-15'!GJ65","v":0},{"$f":"Summer!AX65-'Summer Peak 2015-01-15'!GK65","v":0},{"$f":"Summer!AY65-'Summer Peak 2015-01-15'!GL65","v":0},{"$f":"Summer!AZ65-'Summer Peak 2015-01-15'!GM65","v":0},{"$f":"Summer!BA65-'Summer Peak 2015-01-15'!GN65","v":0},{"$f":"Summer!BB65-'Summer Peak 2015-01-15'!GO65","v":0},{"$f":"Summer!BC65-'Summer Peak 2015-01-15'!GP65","v":0},{"$f":"Summer!BD65-'Summer Peak 2015-01-15'!GQ65","v":0},{"$f":"Summer!BE65-'Summer Peak 2015-01-15'!GR65","v":0},{"$f":"Summer!BF65-'Summer Peak 2015-01-15'!GS65","v":0},{"$f":"Summer!BG65-'Summer Peak 2015-01-15'!GT65","v":0},{"$f":"Summer!BH65-'Summer Peak 2015-01-15'!GU65","v":0},{"$f":"Summer!BI65-'Summer Peak 2015-01-15'!GV65","v":0},{"$f":"Summer!BJ65-'Summer Peak 2015-01-15'!GW65","v":0},{"$f":"Summer!BK65-'Summer Peak 2015-01-15'!GX65","v":0},{"$f":"Summer!BL65-'Summer Peak 2015-01-15'!GY65","v":0},{"$f":"Summer!BM65-'Summer Peak 2015-01-15'!GZ65","v":0},{"$f":"Summer!BN65-'Summer Peak 2015-01-15'!HA65","v":0},{"$f":"Summer!BO65-'Summer Peak 2015-01-15'!HB65","v":0},{"$f":"Summer!BP65-'Summer Peak 2015-01-15'!HC65","v":0},{"$f":"Summer!BQ65-'Summer Peak 2015-01-15'!HD65","v":0},{"$f":"Summer!BR65-'Summer Peak 2015-01-15'!HE65","v":0},{"$f":"Summer!BS65-'Summer Peak 2015-01-15'!HF65","v":0},{"$f":"Summer!BT65-'Summer Peak 2015-01-15'!HG65","v":0},{"$f":"Summer!BU65-'Summer Peak 2015-01-15'!HH65","v":0},{"$f":"Summer!BV65-'Summer Peak 2015-01-15'!HI65","v":0},{"$f":"Summer!BW65-'Summer Peak 2015-01-15'!HJ65","v":0},{"$f":"Summer!BX65-'Summer Peak 2015-01-15'!HK65","v":0},{"$f":"Summer!BY65-'Summer Peak 2015-01-15'!HL65","v":0},{"$f":"Summer!BZ65-'Summer Peak 2015-01-15'!HM65","v":0},{"$f":"Summer!CA65-'Summer Peak 2015-01-15'!HN65","v":0},{"$f":"Summer!CB65-'Summer Peak 2015-01-15'!HO65","v":0},{"$f":"Summer!CC65-'Summer Peak 2015-01-15'!HP65","v":0},{"$f":"Summer!CD65-'Summer Peak 2015-01-15'!HQ65","v":0},{"$f":"Summer!CE65-'Summer Peak 2015-01-15'!HR65","v":0},{"$f":"Summer!CF65-'Summer Peak 2015-01-15'!HS65","v":0},{"$f":"Summer!CG65-'Summer Peak 2015-01-15'!HT65","v":0},{"$f":"Summer!CH65-'Summer Peak 2015-01-15'!HU65","v":0},{"$f":"Summer!CI65-'Summer Peak 2015-01-15'!HV65","v":0},{"$f":"Summer!CJ65-'Summer Peak 2015-01-15'!HW65","v":0},{"$f":"Summer!CK65-'Summer Peak 2015-01-15'!HX65","v":0},{"$f":"Summer!CL65-'Summer Peak 2015-01-15'!HY65","v":0},{"$f":"Summer!CM65-'Summer Peak 2015-01-15'!HZ65","v":0},{"$f":"Summer!CN65-'Summer Peak 2015-01-15'!IA65","v":0},{"$f":"Summer!CO65-'Summer Peak 2015-01-15'!IB65","v":0},{"$f":"Summer!CP65-'Summer Peak 2015-01-15'!IC65","v":0},{"$f":"Summer!CQ65-'Summer Peak 2015-01-15'!ID65","v":0},{"$f":"Summer!CR65-'Summer Peak 2015-01-15'!IE65","v":0},{"$f":"Summer!CS65-'Summer Peak 2015-01-15'!IF65","v":0},{"$f":"Summer!CT65-'Summer Peak 2015-01-15'!IG65","v":0},{"$f":"Summer!CU65-'Summer Peak 2015-01-15'!IH65","v":0},{"$f":"Summer!CV65-'Summer Peak 2015-01-15'!II65","v":0},{"$f":"Summer!CW65-'Summer Peak 2015-01-15'!IJ65","v":0},{"$f":"Summer!CX65-'Summer Peak 2015-01-15'!IK65","v":0},{"$f":"Summer!CY65-'Summer Peak 2015-01-15'!IL65","v":0},{"$f":"Summer!CZ65-'Summer Peak 2015-01-15'!IM65","v":0},{"$f":"Summer!DA65-'Summer Peak 2015-01-15'!IN65","v":0},{"$f":"Summer!DB65-'Summer Peak 2015-01-15'!IO65","v":0},{"$f":"Summer!DC65-'Summer Peak 2015-01-15'!IP65","v":0},{"$f":"Summer!DD65-'Summer Peak 2015-01-15'!IQ65","v":0},{"$f":"Summer!DE65-'Summer Peak 2015-01-15'!IR65","v":0},{"$f":"Summer!DF65-'Summer Peak 2015-01-15'!IS65","v":0},{"$f":"Summer!DG65-'Summer Peak 2015-01-15'!IT65","v":0},{"$f":"Summer!DH65-'Summer Peak 2015-01-15'!IU65","v":0},{"$f":"Summer!DI65-'Summer Peak 2015-01-15'!IV65","v":0},{"$f":"Summer!DJ65-'Summer Peak 2015-01-15'!IW65","v":0},{"$f":"Summer!DK65-'Summer Peak 2015-01-15'!IX65","v":0},{"$f":"Summer!DL65-'Summer Peak 2015-01-15'!IY65","v":0},{"$f":"Summer!DM65-'Summer Peak 2015-01-15'!IZ65","v":0},{"$f":"Summer!DN65-'Summer Peak 2015-01-15'!JA65","v":0},{"$f":"Summer!DO65-'Summer Peak 2015-01-15'!JB65","v":0},{"$f":"Summer!DP65-'Summer Peak 2015-01-15'!JC65","v":0},{"$f":"Summer!DQ65-'Summer Peak 2015-01-15'!JD65","v":0},{"$f":"Summer!DR65-'Summer Peak 2015-01-15'!JE65","v":0},{"$f":"Summer!DS65-'Summer Peak 2015-01-15'!JF65","v":0}]
[null,"Temp",{"$f":"Summer!C66-'Summer Peak 2015-01-15'!EP66","v":0},{"$f":"Summer!D66-'Summer Peak 2015-01-15'!EQ66","v":0},{"$f":"Summer!E66-'Summer Peak 2015-01-15'!ER66","v":0},{"$f":"Summer!F66-'Summer Peak 2015-01-15'!ES66","v":0},{"$f":"Summer!G66-'Summer Peak 2015-01-15'!ET66","v":0},{"$f":"Summer!H66-'Summer Peak 2015-01-15'!EU66","v":0},{"$f":"Summer!I66-'Summer Peak 2015-01-15'!EV66","v":0},{"$f":"Summer!J66-'Summer Peak 2015-01-15'!EW66","v":0},{"$f":"Summer!K66-'Summer Peak 2015-01-15'!EX66","v":0},{"$f":"Summer!L66-'Summer Peak 2015-01-15'!EY66","v":0},{"$f":"Summer!M66-'Summer Peak 2015-01-15'!EZ66","v":0},{"$f":"Summer!N66-'Summer Peak 2015-01-15'!FA66","v":0},{"$f":"Summer!O66-'Summer Peak 2015-01-15'!FB66","v":0},{"$f":"Summer!P66-'Summer Peak 2015-01-15'!FC66","v":0},{"$f":"Summer!Q66-'Summer Peak 2015-01-15'!FD66","v":0},{"$f":"Summer!R66-'Summer Peak 2015-01-15'!FE66","v":0},{"$f":"Summer!S66-'Summer Peak 2015-01-15'!FF66","v":0},{"$f":"Summer!T66-'Summer Peak 2015-01-15'!FG66","v":0},{"$f":"Summer!U66-'Summer Peak 2015-01-15'!FH66","v":0},{"$f":"Summer!V66-'Summer Peak 2015-01-15'!FI66","v":0},{"$f":"Summer!W66-'Summer Peak 2015-01-15'!FJ66","v":0},{"$f":"Summer!X66-'Summer Peak 2015-01-15'!FK66","v":0},{"$f":"Summer!Y66-'Summer Peak 2015-01-15'!FL66","v":0},{"$f":"Summer!Z66-'Summer Peak 2015-01-15'!FM66","v":0},{"$f":"Summer!AA66-'Summer Peak 2015-01-15'!FN66","v":0},{"$f":"Summer!AB66-'Summer Peak 2015-01-15'!FO66","v":0},{"$f":"Summer!AC66-'Summer Peak 2015-01-15'!FP66","v":0},{"$f":"Summer!AD66-'Summer Peak 2015-01-15'!FQ66","v":0},{"$f":"Summer!AE66-'Summer Peak 2015-01-15'!FR66","v":0},{"$f":"Summer!AF66-'Summer Peak 2015-01-15'!FS66","v":0},{"$f":"Summer!AG66-'Summer Peak 2015-01-15'!FT66","v":0},{"$f":"Summer!AH66-'Summer Peak 2015-01-15'!FU66","v":0},{"$f":"Summer!AI66-'Summer Peak 2015-01-15'!FV66","v":0},{"$f":"Summer!AJ66-'Summer Peak 2015-01-15'!FW66","v":0},{"$f":"Summer!AK66-'Summer Peak 2015-01-15'!FX66","v":0},{"$f":"Summer!AL66-'Summer Peak 2015-01-15'!FY66","v":0},{"$f":"Summer!AM66-'Summer Peak 2015-01-15'!FZ66","v":0},{"$f":"Summer!AN66-'Summer Peak 2015-01-15'!GA66","v":0},{"$f":"Summer!AO66-'Summer Peak 2015-01-15'!GB66","v":0},{"$f":"Summer!AP66-'Summer Peak 2015-01-15'!GC66","v":0},{"$f":"Summer!AQ66-'Summer Peak 2015-01-15'!GD66","v":0},{"$f":"Summer!AR66-'Summer Peak 2015-01-15'!GE66","v":0},{"$f":"Summer!AS66-'Summer Peak 2015-01-15'!GF66","v":0},{"$f":"Summer!AT66-'Summer Peak 2015-01-15'!GG66","v":0},{"$f":"Summer!AU66-'Summer Peak 2015-01-15'!GH66","v":0},{"$f":"Summer!AV66-'Summer Peak 2015-01-15'!GI66","v":0},{"$f":"Summer!AW66-'Summer Peak 2015-01-15'!GJ66","v":0},{"$f":"Summer!AX66-'Summer Peak 2015-01-15'!GK66","v":0},{"$f":"Summer!AY66-'Summer Peak 2015-01-15'!GL66","v":0},{"$f":"Summer!AZ66-'Summer Peak 2015-01-15'!GM66","v":0},{"$f":"Summer!BA66-'Summer Peak 2015-01-15'!GN66","v":0},{"$f":"Summer!BB66-'Summer Peak 2015-01-15'!GO66","v":0},{"$f":"Summer!BC66-'Summer Peak 2015-01-15'!GP66","v":0},{"$f":"Summer!BD66-'Summer Peak 2015-01-15'!GQ66","v":0},{"$f":"Summer!BE66-'Summer Peak 2015-01-15'!GR66","v":0},{"$f":"Summer!BF66-'Summer Peak 2015-01-15'!GS66","v":0},{"$f":"Summer!BG66-'Summer Peak 2015-01-15'!GT66","v":0},{"$f":"Summer!BH66-'Summer Peak 2015-01-15'!GU66","v":0},{"$f":"Summer!BI66-'Summer Peak 2015-01-15'!GV66","v":0},{"$f":"Summer!BJ66-'Summer Peak 2015-01-15'!GW66","v":0},{"$f":"Summer!BK66-'Summer Peak 2015-01-15'!GX66","v":0},{"$f":"Summer!BL66-'Summer Peak 2015-01-15'!GY66","v":0},{"$f":"Summer!BM66-'Summer Peak 2015-01-15'!GZ66","v":0},{"$f":"Summer!BN66-'Summer Peak 2015-01-15'!HA66","v":0},{"$f":"Summer!BO66-'Summer Peak 2015-01-15'!HB66","v":0},{"$f":"Summer!BP66-'Summer Peak 2015-01-15'!HC66","v":0},{"$f":"Summer!BQ66-'Summer Peak 2015-01-15'!HD66","v":0},{"$f":"Summer!BR66-'Summer Peak 2015-01-15'!HE66","v":0},{"$f":"Summer!BS66-'Summer Peak 2015-01-15'!HF66","v":0},{"$f":"Summer!BT66-'Summer Peak 2015-01-15'!HG66","v":0},{"$f":"Summer!BU66-'Summer Peak 2015-01-15'!HH66","v":0},{"$f":"Summer!BV66-'Summer Peak 2015-01-15'!HI66","v":0},{"$f":"Summer!BW66-'Summer Peak 2015-01-15'!HJ66","v":0},{"$f":"Summer!BX66-'Summer Peak 2015-01-15'!HK66","v":0},{"$f":"Summer!BY66-'Summer Peak 2015-01-15'!HL66","v":0},{"$f":"Summer!BZ66-'Summer Peak 2015-01-15'!HM66","v":0},{"$f":"Summer!CA66-'Summer Peak 2015-01-15'!HN66","v":0},{"$f":"Summer!CB66-'Summer Peak 2015-01-15'!HO66","v":0},{"$f":"Summer!CC66-'Summer Peak 2015-01-15'!HP66","v":0},{"$f":"Summer!CD66-'Summer Peak 2015-01-15'!HQ66","v":0},{"$f":"Summer!CE66-'Summer Peak 2015-01-15'!HR66","v":0},{"$f":"Summer!CF66-'Summer Peak 2015-01-15'!HS66","v":0},{"$f":"Summer!CG66-'Summer Peak 2015-01-15'!HT66","v":0},{"$f":"Summer!CH66-'Summer Peak 2015-01-15'!HU66","v":0},{"$f":"Summer!CI66-'Summer Peak 2015-01-15'!HV66","v":0},{"$f":"Summer!CJ66-'Summer Peak 2015-01-15'!HW66","v":0},{"$f":"Summer!CK66-'Summer Peak 2015-01-15'!HX66","v":0},{"$f":"Summer!CL66-'Summer Peak 2015-01-15'!HY66","v":0},{"$f":"Summer!CM66-'Summer Peak 2015-01-15'!HZ66","v":0},{"$f":"Summer!CN66-'Summer Peak 2015-01-15'!IA66","v":0},{"$f":"Summer!CO66-'Summer Peak 2015-01-15'!IB66","v":0},{"$f":"Summer!CP66-'Summer Peak 2015-01-15'!IC66","v":0},{"$f":"Summer!CQ66-'Summer Peak 2015-01-15'!ID66","v":0},{"$f":"Summer!CR66-'Summer Peak 2015-01-15'!IE66","v":0},{"$f":"Summer!CS66-'Summer Peak 2015-01-15'!IF66","v":0},{"$f":"Summer!CT66-'Summer Peak 2015-01-15'!IG66","v":0},{"$f":"Summer!CU66-'Summer Peak 2015-01-15'!IH66","v":0},{"$f":"Summer!CV66-'Summer Peak 2015-01-15'!II66","v":0},{"$f":"Summer!CW66-'Summer Peak 2015-01-15'!IJ66","v":0},{"$f":"Summer!CX66-'Summer Peak 2015-01-15'!IK66","v":0},{"$f":"Summer!CY66-'Summer Peak 2015-01-15'!IL66","v":0},{"$f":"Summer!CZ66-'Summer Peak 2015-01-15'!IM66","v":0},{"$f":"Summer!DA66-'Summer Peak 2015-01-15'!IN66","v":0},{"$f":"Summer!DB66-'Summer Peak 2015-01-15'!IO66","v":0},{"$f":"Summer!DC66-'Summer Peak 2015-01-15'!IP66","v":0},{"$f":"Summer!DD66-'Summer Peak 2015-01-15'!IQ66","v":0},{"$f":"Summer!DE66-'Summer Peak 2015-01-15'!IR66","v":0},{"$f":"Summer!DF66-'Summer Peak 2015-01-15'!IS66","v":0},{"$f":"Summer!DG66-'Summer Peak 2015-01-15'!IT66","v":0},{"$f":"Summer!DH66-'Summer Peak 2015-01-15'!IU66","v":0},{"$f":"Summer!DI66-'Summer Peak 2015-01-15'!IV66","v":0},{"$f":"Summer!DJ66-'Summer Peak 2015-01-15'!IW66","v":0},{"$f":"Summer!DK66-'Summer Peak 2015-01-15'!IX66","v":0},{"$f":"Summer!DL66-'Summer Peak 2015-01-15'!IY66","v":0},{"$f":"Summer!DM66-'Summer Peak 2015-01-15'!IZ66","v":0},{"$f":"Summer!DN66-'Summer Peak 2015-01-15'!JA66","v":0},{"$f":"Summer!DO66-'Summer Peak 2015-01-15'!JB66","v":0},{"$f":"Summer!DP66-'Summer Peak 2015-01-15'!JC66","v":0},{"$f":"Summer!DQ66-'Summer Peak 2015-01-15'!JD66","v":0},{"$f":"Summer!DR66-'Summer Peak 2015-01-15'!JE66","v":0},{"$f":"Summer!DS66-'Summer Peak 2015-01-15'!JF66","v":0}]
[null,"Retired",{"$f":"Summer!C67-'Summer Peak 2015-01-15'!EP67","v":0},{"$f":"Summer!D67-'Summer Peak 2015-01-15'!EQ67","v":0},{"$f":"Summer!E67-'Summer Peak 2015-01-15'!ER67","v":0},{"$f":"Summer!F67-'Summer Peak 2015-01-15'!ES67","v":0},{"$f":"Summer!G67-'Summer Peak 2015-01-15'!ET67","v":0},{"$f":"Summer!H67-'Summer Peak 2015-01-15'!EU67","v":0},{"$f":"Summer!I67-'Summer Peak 2015-01-15'!EV67","v":0},{"$f":"Summer!J67-'Summer Peak 2015-01-15'!EW67","v":0},{"$f":"Summer!K67-'Summer Peak 2015-01-15'!EX67","v":0},{"$f":"Summer!L67-'Summer Peak 2015-01-15'!EY67","v":0},{"$f":"Summer!M67-'Summer Peak 2015-01-15'!EZ67","v":0},{"$f":"Summer!N67-'Summer Peak 2015-01-15'!FA67","v":0},{"$f":"Summer!O67-'Summer Peak 2015-01-15'!FB67","v":0},{"$f":"Summer!P67-'Summer Peak 2015-01-15'!FC67","v":0},{"$f":"Summer!Q67-'Summer Peak 2015-01-15'!FD67","v":0},{"$f":"Summer!R67-'Summer Peak 2015-01-15'!FE67","v":0},{"$f":"Summer!S67-'Summer Peak 2015-01-15'!FF67","v":0},{"$f":"Summer!T67-'Summer Peak 2015-01-15'!FG67","v":0},{"$f":"Summer!U67-'Summer Peak 2015-01-15'!FH67","v":0},{"$f":"Summer!V67-'Summer Peak 2015-01-15'!FI67","v":0},{"$f":"Summer!W67-'Summer Peak 2015-01-15'!FJ67","v":0},{"$f":"Summer!X67-'Summer Peak 2015-01-15'!FK67","v":0},{"$f":"Summer!Y67-'Summer Peak 2015-01-15'!FL67","v":0},{"$f":"Summer!Z67-'Summer Peak 2015-01-15'!FM67","v":0},{"$f":"Summer!AA67-'Summer Peak 2015-01-15'!FN67","v":0},{"$f":"Summer!AB67-'Summer Peak 2015-01-15'!FO67","v":-396},{"$f":"Summer!AC67-'Summer Peak 2015-01-15'!FP67","v":0},{"$f":"Summer!AD67-'Summer Peak 2015-01-15'!FQ67","v":0},{"$f":"Summer!AE67-'Summer Peak 2015-01-15'!FR67","v":0},{"$f":"Summer!AF67-'Summer Peak 2015-01-15'!FS67","v":0},{"$f":"Summer!AG67-'Summer Peak 2015-01-15'!FT67","v":0},{"$f":"Summer!AH67-'Summer Peak 2015-01-15'!FU67","v":0},{"$f":"Summer!AI67-'Summer Peak 2015-01-15'!FV67","v":0},{"$f":"Summer!AJ67-'Summer Peak 2015-01-15'!FW67","v":0},{"$f":"Summer!AK67-'Summer Peak 2015-01-15'!FX67","v":0},{"$f":"Summer!AL67-'Summer Peak 2015-01-15'!FY67","v":0},{"$f":"Summer!AM67-'Summer Peak 2015-01-15'!FZ67","v":0},{"$f":"Summer!AN67-'Summer Peak 2015-01-15'!GA67","v":396},{"$f":"Summer!AO67-'Summer Peak 2015-01-15'!GB67","v":0},{"$f":"Summer!AP67-'Summer Peak 2015-01-15'!GC67","v":0},{"$f":"Summer!AQ67-'Summer Peak 2015-01-15'!GD67","v":0},{"$f":"Summer!AR67-'Summer Peak 2015-01-15'!GE67","v":0},{"$f":"Summer!AS67-'Summer Peak 2015-01-15'!GF67","v":0},{"$f":"Summer!AT67-'Summer Peak 2015-01-15'!GG67","v":0},{"$f":"Summer!AU67-'Summer Peak 2015-01-15'!GH67","v":0},{"$f":"Summer!AV67-'Summer Peak 2015-01-15'!GI67","v":0},{"$f":"Summer!AW67-'Summer Peak 2015-01-15'!GJ67","v":0},{"$f":"Summer!AX67-'Summer Peak 2015-01-15'!GK67","v":0},{"$f":"Summer!AY67-'Summer Peak 2015-01-15'!GL67","v":0},{"$f":"Summer!AZ67-'Summer Peak 2015-01-15'!GM67","v":0},{"$f":"Summer!BA67-'Summer Peak 2015-01-15'!GN67","v":0},{"$f":"Summer!BB67-'Summer Peak 2015-01-15'!GO67","v":0},{"$f":"Summer!BC67-'Summer Peak 2015-01-15'!GP67","v":0},{"$f":"Summer!BD67-'Summer Peak 2015-01-15'!GQ67","v":0},{"$f":"Summer!BE67-'Summer Peak 2015-01-15'!GR67","v":0},{"$f":"Summer!BF67-'Summer Peak 2015-01-15'!GS67","v":0},{"$f":"Summer!BG67-'Summer Peak 2015-01-15'!GT67","v":0},{"$f":"Summer!BH67-'Summer Peak 2015-01-15'!GU67","v":0},{"$f":"Summer!BI67-'Summer Peak 2015-01-15'!GV67","v":0},{"$f":"Summer!BJ67-'Summer Peak 2015-01-15'!GW67","v":0},{"$f":"Summer!BK67-'Summer Peak 2015-01-15'!GX67","v":0},{"$f":"Summer!BL67-'Summer Peak 2015-01-15'!GY67","v":0},{"$f":"Summer!BM67-'Summer Peak 2015-01-15'!GZ67","v":0},{"$f":"Summer!BN67-'Summer Peak 2015-01-15'!HA67","v":0},{"$f":"Summer!BO67-'Summer Peak 2015-01-15'!HB67","v":0},{"$f":"Summer!BP67-'Summer Peak 2015-01-15'!HC67","v":0},{"$f":"Summer!BQ67-'Summer Peak 2015-01-15'!HD67","v":0},{"$f":"Summer!BR67-'Summer Peak 2015-01-15'!HE67","v":0},{"$f":"Summer!BS67-'Summer Peak 2015-01-15'!HF67","v":0},{"$f":"Summer!BT67-'Summer Peak 2015-01-15'!HG67","v":0},{"$f":"Summer!BU67-'Summer Peak 2015-01-15'!HH67","v":0},{"$f":"Summer!BV67-'Summer Peak 2015-01-15'!HI67","v":0},{"$f":"Summer!BW67-'Summer Peak 2015-01-15'!HJ67","v":0},{"$f":"Summer!BX67-'Summer Peak 2015-01-15'!HK67","v":0},{"$f":"Summer!BY67-'Summer Peak 2015-01-15'!HL67","v":0},{"$f":"Summer!BZ67-'Summer Peak 2015-01-15'!HM67","v":0},{"$f":"Summer!CA67-'Summer Peak 2015-01-15'!HN67","v":0},{"$f":"Summer!CB67-'Summer Peak 2015-01-15'!HO67","v":0},{"$f":"Summer!CC67-'Summer Peak 2015-01-15'!HP67","v":0},{"$f":"Summer!CD67-'Summer Peak 2015-01-15'!HQ67","v":0},{"$f":"Summer!CE67-'Summer Peak 2015-01-15'!HR67","v":0},{"$f":"Summer!CF67-'Summer Peak 2015-01-15'!HS67","v":0},{"$f":"Summer!CG67-'Summer Peak 2015-01-15'!HT67","v":0},{"$f":"Summer!CH67-'Summer Peak 2015-01-15'!HU67","v":0},{"$f":"Summer!CI67-'Summer Peak 2015-01-15'!HV67","v":0},{"$f":"Summer!CJ67-'Summer Peak 2015-01-15'!HW67","v":0},{"$f":"Summer!CK67-'Summer Peak 2015-01-15'!HX67","v":0},{"$f":"Summer!CL67-'Summer Peak 2015-01-15'!HY67","v":0},{"$f":"Summer!CM67-'Summer Peak 2015-01-15'!HZ67","v":0},{"$f":"Summer!CN67-'Summer Peak 2015-01-15'!IA67","v":0},{"$f":"Summer!CO67-'Summer Peak 2015-01-15'!IB67","v":0},{"$f":"Summer!CP67-'Summer Peak 2015-01-15'!IC67","v":0},{"$f":"Summer!CQ67-'Summer Peak 2015-01-15'!ID67","v":0},{"$f":"Summer!CR67-'Summer Peak 2015-01-15'!IE67","v":0},{"$f":"Summer!CS67-'Summer Peak 2015-01-15'!IF67","v":0},{"$f":"Summer!CT67-'Summer Peak 2015-01-15'!IG67","v":0},{"$f":"Summer!CU67-'Summer Peak 2015-01-15'!IH67","v":0},{"$f":"Summer!CV67-'Summer Peak 2015-01-15'!II67","v":0},{"$f":"Summer!CW67-'Summer Peak 2015-01-15'!IJ67","v":0},{"$f":"Summer!CX67-'Summer Peak 2015-01-15'!IK67","v":0},{"$f":"Summer!CY67-'Summer Peak 2015-01-15'!IL67","v":0},{"$f":"Summer!CZ67-'Summer Peak 2015-01-15'!IM67","v":0},{"$f":"Summer!DA67-'Summer Peak 2015-01-15'!IN67","v":0},{"$f":"Summer!DB67-'Summer Peak 2015-01-15'!IO67","v":0},{"$f":"Summer!DC67-'Summer Peak 2015-01-15'!IP67","v":0},{"$f":"Summer!DD67-'Summer Peak 2015-01-15'!IQ67","v":0},{"$f":"Summer!DE67-'Summer Peak 2015-01-15'!IR67","v":0},{"$f":"Summer!DF67-'Summer Peak 2015-01-15'!IS67","v":0},{"$f":"Summer!DG67-'Summer Peak 2015-01-15'!IT67","v":0},{"$f":"Summer!DH67-'Summer Peak 2015-01-15'!IU67","v":0},{"$f":"Summer!DI67-'Summer Peak 2015-01-15'!IV67","v":0},{"$f":"Summer!DJ67-'Summer Peak 2015-01-15'!IW67","v":0},{"$f":"Summer!DK67-'Summer Peak 2015-01-15'!IX67","v":0},{"$f":"Summer!DL67-'Summer Peak 2015-01-15'!IY67","v":0},{"$f":"Summer!DM67-'Summer Peak 2015-01-15'!IZ67","v":0},{"$f":"Summer!DN67-'Summer Peak 2015-01-15'!JA67","v":0},{"$f":"Summer!DO67-'Summer Peak 2015-01-15'!JB67","v":0},{"$f":"Summer!DP67-'Summer Peak 2015-01-15'!JC67","v":0},{"$f":"Summer!DQ67-'Summer Peak 2015-01-15'!JD67","v":0},{"$f":"Summer!DR67-'Summer Peak 2015-01-15'!JE67","v":0},{"$f":"Summer!DS67-'Summer Peak 2015-01-15'!JF67","v":0},{"$f":"SUM(C4:DS67)","v":-11235}]
[null,"Cap Letter"]
[]
[null,null,{"$f":"C59-SUM(C9,C39)","v":0},null,null,null,null,null,null,null,null,null,null,null,{"$f":"O59-SUM(O9,O39)","v":0},null,null,null,null,null,null,null,null,null,null,null,{"$f":"AA59-SUM(AA9,AA39)","v":15},null,null,null,null,null,null,null,null,null,null,null,{"$f":"AM59-SUM(AM9,AM39)","v":-380},null,null,null,null,null,null,null,null,null,null,null,{"$f":"AY59-SUM(AY9,AY39)","v":-15},null,null,null,null,null,null,null,null,null,null,null,{"$f":"BK59-SUM(BK9,BK39)","v":-15},null,null,null,null,null,null,null,null,null,null,null,{"$f":"BW59-SUM(BW9,BW39)","v":-15},null,null,null,null,null,null,null,null,null,null,null,{"$f":"CI59-SUM(CI9,CI39)","v":-15},null,null,null,null,null,null,null,null,null,null,null,{"$f":"CU59-SUM(CU9,CU39)","v":-15},null,null,null,null,null,null,null,null,null,null,null,{"$f":"DG59-SUM(DG9,DG39)","v":-15},null,null,null,null,null,null,null,null,null,null,null,{"$f":"DS59-SUM(DS9,DS39)","v":-15}]

{"sheet":"ColdWinter","index":3,"n_rows":69,"n_cols":123,"rows_kept":69,"cut":false,"hidden":false,"merged":[[1,3,1,14],[1,39,1,50],[1,51,1,62],[1,63,1,74],[1,111,1,122],[1,75,1,86],[1,87,1,98],[1,99,1,110],[1,15,1,26],[1,27,1,38]]}
["OPC 006104","Long-Term Cold Winter Peak Capabilities"]
["FPL RC-16",null,null,2014,null,null,null,null,null,null,null,null,null,null,null,2015,null,null,null,null,null,null,null,null,null,null,null,2016,null,null,null,null,null,null,null,null,null,null,null,2017,null,null,null,null,null,null,null,null,null,null,null,2018,null,null,null,null,null,null,null,null,null,null,null,2019,null,null,null,null,null,null,null,null,null,null,null,2020,null,null,null,null,null,null,null,null,null,null,null,2021,null,null,null,null,null,null,null,null,null,null,null,2022,null,null,null,null,null,null,null,null,null,null,null,2023]
[null,"Unit","Dec","Jan","Feb","Mar","Apr","May","Jun","Jul","Aug","Sep","Oct","Nov","Dec","Jan","Feb","Mar","Apr","May","Jun","Jul","Aug","Sep","Oct","Nov","Dec","Jan","Feb","Mar","Apr","May","Jun","Jul","Aug","Sep","Oct","Nov","Dec","Jan","Feb","Mar","Apr","May","Jun","Jul","Aug","Sep","Oct","Nov","Dec","Jan","Feb","Mar","Apr","May","Jun","Jul","Aug","Sep","Oct","Nov","Dec","Jan","Feb","Mar","Apr","May","Jun","Jul","Aug","Sep","Oct","Nov","Dec","Jan","Feb","Mar","Apr","May","Jun","Jul","Aug","Sep","Oct","Nov","Dec","Jan","Feb","Mar","Apr","May","Jun","Jul","Aug","Sep","Oct","Nov","Dec","Jan","Feb","Mar","Apr","May","Jun","Jul","Aug","Sep","Oct","Nov","Dec","Jan","Feb","Mar","Apr","May","Jun","Jul","Aug","Sep","Oct","Nov","Dec"]
[null,"PCC1",0,{"$f":"C4","v":0},{"$f":"D4","v":0},{"$f":"E4","v":0},{"$f":"F4","v":0},0,0,0,0,0,0,0,0,{"$f":"O4","v":0},{"$f":"P4","v":0},0,0,0,0,0,0,0,0,0,0,0,0,0,0,0,{"$f":"AF4","v":0},0,0,0,0,0,0,{"$f":"AM4","v":0},{"$f":"AN4","v":0},{"$f":"AO4","v":0},0,0,0,0,0,0,0,0,0,{"$f":"AY4","v":0},{"$f":"AZ4","v":0},{"$f":"BA4","v":0},0,0,0,0,0,0,0,0,0,{"$f":"BK4","v":0},{"$f":"BL4","v":0},{"$f":"BM4","v":0},0,0,0,0,0,0,0,0,0,{"$f":"BW4","v":0},{"$f":"BX4","v":0},{"$f":"BY4","v":0},0,0,0,0,0,0,0,0,0,{"$f":"CI4","v":0},{"$f":"CJ4","v":0},{"$f":"CK4","v":0},0,0,0,0,0,0,0,0,0,{"$f":"CU4","v":0},{"$f":"CV4","v":0},{"$f":"CW4","v":0},0,0,0,0,0,0,0,0,0,{"$f":"DG4","v":0},{"$f":"DH4","v":0},{"$f":"DI4","v":0},0,0,0,0,0,0,0,0,0]
[null,"PCC2",0,{"$f":"C5","v":0},{"$f":"D5","v":0},0,0,0,0,0,0,0,0,0,0,0,0,0,0,0,0,0,0,0,0,0,0,0,0,0,0,0,0,0,0,0,0,0,0,0,0,0,0,0,0,0,0,0,0,0,0,0,0,0,0,0,0,0,0,0,0,0,0,0,0,0,0,0,0,0,0,0,0,0,0,0,0,0,0,0,0,0,0,0,0,0,0,0,0,0,0,0,0,0,0,0,0,0,0,0,0,0,0,0,0,0,0,0,0,0,0,0,0,0,0,0,0,0,0,0,0,0,0]
[null,"PCC3",1355,1355,1355,1355,1355,1355,1355,1355,1355,1355,1355,1355,1355,1355,1355,1355,1355,1355,1355,1355,1355,1355,1355,1355,1355,1355,1355,1355,1355,1355,{"$f":"AF6","v":1355},1355,1355,1355,1355,1355,1355,1355,1355,1355,1355,1355,1355,1355,1355,1355,1355,1355,1355,1355,1355,1355,1355,1355,1355,1355,1355,1355,1355,1355,1355,1355,1355,1355,1355,1355,1355,1355,1355,1355,1355,1355,1355,1355,1355,1355,1355,1355,1355,1355,1355,1355,1355,1355,1355,1355,1355,1355,1355,1355,1355,1355,1355,1355,1355,1355,1355,1355,1355,{"$f":"CW6+16","v":1371},{"$f":"CX6","v":1371},{"$f":"CY6+16","v":1387},{"$f":"CZ6","v":1387},{"$f":"DA6+15","v":1402},{"$f":"DB6","v":1402},{"$f":"DC6","v":1402},1402,1402,1402,1402,1402,1402,1402,1402,1402,1402,1402,1402,1402,1402,1402]
[null,"PCU5",0,0,0,0,0,0,0,0,0,0,0,0,0,0,0,0,0,0,0,0,0,0,0,0,0,0,0,0,0,0,0,0,0,0,0,0,0,0,0,0,0,0,0,0,0,0,0,0,0,0,0,0,0,0,0,0,0,0,0,0,0,0,0,0,0,0,0,0,0,0,0,0,0,0,0,0,0,0,0,0,0,0,0,0,0,0,0,0,0,0,0,0,0,0,0,0,0,0,0,0,0,0,0,0,0,0,0,0,0,0,0,0,0,0,0,0,0,0,0,0,0]
[null,"PCU6",0,0,0,0,0,0,0,0,0,0,0,0,0,0,0,0,0,0,0,0,0,0,0,0,0,0,0,0,0,0,0,0,0,0,0,0,0,0,0,0,0,0,0,0,0,0,0,0,0,0,0,0,0,0,0,0,0,0,0,0,0,0,0,0,0,0,0,0,0,0,0,0,0,0,0,0,0,0,0,0,0,0,0,0,0,0,0,0,0,0,0,0,0,0,0,0,0,0,0,0,0,0,0,0,0,0,0,0,0,0,0,0,0,0,0,0,0,0,0,0,0]
[null,"PDO",25,25,25,25,25,25,25,25,25,25,25,25,25,25,25,25,25,25,25,25,25,25,25,25,25,25,25,25,25,25,25,25,25,25,25,25,25,25,25,25,25,25,25,25,25,25,25,25,25,25,25,25,25,25,25,25,25,25,25,25,25,25,25,25,25,25,25,25,25,25,25,25,25,25,25,25,25,25,25,25,25,25,25,25,25,25,25,25,25,25,25,25,25,25,25,25,25,25,25,25,25,25,25,25,25,25,25,25,25,25,25,25,25,25,25,25,25,25,25,25,25]
[null,"PFL4",483,483,483,483,483,483,483,483,483,483,483,483,483,483,483,483,483,483,483,483,483,483,483,483,483,483,483,483,483,483,483,483,483,483,483,483,483,483,483,483,483,483,483,483,483,483,483,483,483,483,483,483,483,483,483,483,483,483,483,483,483,483,483,483,483,483,483,483,483,483,483,483,483,483,483,483,483,483,483,483,483,483,483,483,483,483,483,483,483,483,483,483,483,483,483,483,483,483,483,483,483,483,483,483,483,483,483,483,483,483,483,483,483,483,483,483,483,483,483,483,483]
[null,"PFL5",483,483,483,483,483,483,483,483,483,483,483,483,483,483,483,483,483,483,483,483,483,483,483,483,483,483,483,483,483,483,483,483,483,483,483,483,483,483,483,483,483,483,483,483,483,483,483,483,483,483,483,483,483,483,483,483,483,483,483,483,483,483,483,483,483,483,483,483,483,483,483,483,483,483,483,483,483,483,483,483,483,483,483,483,483,483,483,483,483,483,483,483,483,483,483,483,483,483,483,483,483,483,483,483,483,483,483,483,483,483,483,483,483,483,483,483,483,483,483,483,483]
[null,"PFL GT1",459,459,459,459,459,459,459,459,459,459,459,459,459,459,459,459,459,459,459,459,459,459,459,459,459,459,459,459,459,459,459,459,459,459,459,459,459,459,459,459,459,459,459,459,459,459,459,459,459,459,459,459,459,459,459,459,459,459,459,459,459,{"$f":"BK12","v":459},459,459,459,459,459,459,459,459,459,459,459,459,459,459,459,459,459,459,459,459,459,459,459,459,459,459,459,459,459,459,459,459,459,459,459,459,459,459,459,459,459,459,459,459,459,459,459,459,459,459,459,459,459,459,459,459,459,459,459]
[null,"PFL GT2",459,459,459,459,459,459,459,459,459,459,459,459,459,459,459,459,459,459,459,459,459,459,459,459,459,459,459,459,459,459,459,459,459,459,459,459,459,459,459,459,459,459,459,459,459,459,459,459,459,459,459,459,459,459,459,459,459,459,459,459,459,{"$f":"BK13","v":459},459,459,459,459,459,459,459,459,459,459,459,459,459,459,459,459,459,459,459,459,459,459,459,459,459,459,459,459,459,459,459,459,459,459,459,459,459,459,459,459,459,459,459,459,459,459,459,459,459,459,459,459,459,459,459,459,459,459,459]
[null,"PFL CT",0,0,0,0,0,0,0,0,0,0,0,0,0,0,0,0,0,0,0,0,0,0,0,0,0,0,0,0,0,0,0,0,0,0,0,0,0,0,0,0,0,0,0,0,0,0,0,0,0,0,0,0,0,0,0,0,0,0,0,0,0,{"$f":"BK14","v":0},0,0,0,0,0,0,0,0,0,0,0,0,0,0,0,0,0,0,0,0,0,0,0,0,0,0,0,0,0,0,0,0,0,0,0,0,0,0,0,0,0,0,0,0,0,0,0,0,0,0,0,0,0,0,0,0,0,0,0]
[null,"PFM2",1490,{"$f":"C15+1","v":1491},1491,1491,1491,1491,1491,1491,1491,1491,1491,1491,{"$f":"N15","v":1491},{"$f":"O15","v":1491},1491,{"$f":"Q15","v":1491},1491,1527,1563,1599,1635,1707,1707,1707,1707,1707,1707,1707,1707,1707,1707,1707,1707,1707,1707,1707,1707,1707,1707,1707,1707,1707,1707,1707,1707,1707,1707,1707,1707,1707,1707,1707,1707,1707,1707,1707,1707,1707,1707,1707,1707,1707,1707,1707,1707,1707,1707,1707,1707,1707,1707,1707,1707,1707,1707,1707,1707,1707,1707,1707,1707,1707,1707,1707,1707,1707,1707,1707,1707,1707,1707,1707,1707,1707,1707,1707,1707,1707,1707,1707,1707,1707,1707,1707,1707,1707,1707,1707,1707,1707,1707,1707,1707,1707,1707,1707,1707,1707,1707,1707,1707]
[null,"PFM3",352,352,352,352,352,352,352,352,352,352,352,352,352,352,352,352,352,352,352,352,352,352,352,352,352,352,352,352,352,352,352,352,352,352,352,352,352,352,352,352,352,352,352,352,352,352,352,352,352,352,352,352,352,352,352,352,352,352,352,352,352,352,352,352,352,352,352,352,352,352,352,352,352,352,352,352,352,352,352,352,352,352,352,352,352,352,352,352,352,352,352,352,352,352,352,352,352,352,352,352,352,352,352,352,352,352,352,352,352,352,352,352,352,352,352,352,352,352,352,352,352]
[null,"PFM GT",710,710,710,710,710,710,710,710,710,710,710,710,710,710,710,710,710,710,710,710,710,710,710,710,710,710,710,710,710,710,710,710,710,710,710,710,710,710,710,710,710,710,710,710,710,710,710,710,710,710,710,710,710,710,710,710,710,710,710,710,710,710,710,710,710,710,710,710,710,710,710,710,710,710,710,710,710,710,710,710,710,710,710,710,710,710,710,710,710,710,710,710,710,710,710,710,710,710,710,710,710,710,710,710,710,710,710,710,710,710,710,710,710,710,710,710,710,710,710,710,710]
[null,"PJK1",130,130,130,130,130,130,130,130,130,130,130,130,130,130,130,130,130,130,130,130,130,130,130,130,130,130,130,130,130,130,130,130,130,130,130,130,130,130,130,130,130,130,130,130,130,130,130,130,130,130,130,130,130,130,130,130,130,130,130,130,130,130,130,130,130,130,130,130,130,130,130,130,130,130,130,130,130,130,130,130,130,130,130,130,130,130,130,130,130,130,130,130,130,130,130,130,130,130,130,130,130,130,130,130,130,130,130,130,130,130,130,130,130,130,130,130,130,130,130,130,130]
[null,"PJK2",130,130,130,130,130,130,130,130,130,130,130,130,130,130,130,130,130,130,130,130,130,130,130,130,130,130,130,130,130,130,130,130,130,130,130,130,130,130,130,130,130,130,130,130,130,130,130,130,130,130,130,130,130,130,130,130,130,130,130,130,130,130,130,130,130,130,130,130,130,130,130,130,130,130,130,130,130,130,130,130,130,130,130,130,130,130,130,130,130,130,130,130,130,130,130,130,130,130,130,130,130,130,130,130,130,130,130,130,130,130,130,130,130,130,130,130,130,130,130,130,130]
[null,"PMR1",832,832,832,{"$f":"E20","v":832},832,{"$f":"G20-3","v":829},829,829,829,829,829,829,829,829,829,829,829,829,829,829,829,829,829,829,829,829,829,829,829,829,829,829,829,829,829,829,829,829,829,{"$f":"AO20","v":829},829,829,829,829,829,829,829,829,829,829,829,829,829,829,829,829,829,829,829,829,829,829,829,{"$f":"BM20","v":829},829,829,829,829,829,829,829,829,829,829,829,829,829,829,829,829,829,829,829,829,829,829,829,829,829,829,829,829,829,829,829,829,829,829,829,829,829,829,829,829,829,829,829,829,829,829,829,829,829,829,829,829,829,829,829,829,829]
[null,"PMR2",832,832,{"$f":"D21","v":832},832,832,832,832,832,832,832,832,832,832,832,{"$f":"P21-3","v":829},829,829,829,829,829,{"$f":"V21","v":829},829,829,829,829,829,829,829,829,829,829,829,829,829,829,829,{"$f":"AL21","v":829},829,829,829,829,829,829,829,829,829,829,829,829,829,829,829,{"$f":"BB21","v":829},829,829,829,829,829,829,829,829,829,829,829,829,829,829,829,{"$f":"BR21","v":829},829,829,829,829,829,829,829,829,829,829,829,829,829,829,829,{"$f":"CH21","v":829},829,829,829,829,829,829,829,829,829,829,829,829,829,829,829,829,829,829,829,829,829,829,829,829,829,829,829,829,829,829,829,829,829,829,829,829]
[null,"PMG3",489,489,489,489,489,489,{"$f":"H22","v":489},489,489,489,489,489,489,489,489,489,489,489,489,489,489,489,489,489,489,489,489,489,489,489,489,489,489,489,489,489,489,489,489,489,489,489,489,489,489,489,489,489,489,489,489,489,489,489,489,489,489,489,489,489,489,489,489,489,489,489,489,489,489,489,489,489,489,489,489,489,489,489,489,489,489,489,489,489,489,489,489,489,489,489,489,489,489,489,489,489,489,489,489,489,489,489,489,489,489,489,489,489,489,489,489,489,489,489,489,489,489,489,489,489,489]
[null,"PMG4",489,489,{"$f":"D23","v":489},489,489,489,489,489,489,489,489,489,489,489,489,489,489,489,489,489,489,489,489,489,489,489,489,489,489,489,489,489,489,489,489,489,489,489,489,489,489,489,489,489,489,489,489,489,489,489,489,489,489,489,489,489,489,489,489,489,489,489,489,489,489,489,489,489,489,489,489,489,489,489,489,489,489,489,489,489,489,489,489,489,489,489,489,489,489,489,489,489,489,489,489,489,489,489,489,489,489,489,489,489,489,489,489,489,489,489,489,489,489,489,489,489,489,489,489,489,489]
[null,"PMG8",1228,{"$f":"C24-1","v":1227},1227,1227,1227,1227,1227,1227,1227,1227,1227,1227,1227,1227,1227,1227,1227,1227,1227,1227,1227,1227,1227,1227,1227,1227,1227,1227,1227,1227,1237,1242,1242,1242,1242,1242,1242,1242,1242,1242,1242,1242,1242,1247,1247,1247,1247,1247,1247,1247,1247,1247,1247,1247,1247,1247,1247,1247,1247,1247,1247,1247,1247,1247,1247,1247,1247,1247,1247,1247,1247,1247,1247,1247,1247,1247,1247,1247,1247,1247,1247,1247,1247,1247,1247,1247,1247,1247,1247,1247,1247,1247,1247,1247,1247,1247,1247,1247,1247,1247,1247,1247,1247,1247,1247,1247,1247,1247,1247,1247,1247,1247,1247,1247,1247,1247,1247,1247,1247,1247,1247]
[null,"PMT1",819,819,819,819,819,819,819,819,819,819,819,819,819,819,819,819,819,819,819,819,819,819,819,819,819,819,819,819,819,819,819,819,819,819,819,819,819,819,819,819,819,819,819,819,819,819,819,819,819,819,819,819,819,819,819,819,819,819,819,819,819,819,819,819,819,819,819,819,819,819,819,819,819,819,819,819,819,819,819,819,819,819,819,819,819,819,819,819,819,819,819,819,819,819,819,819,819,819,819,819,819,819,819,819,819,819,819,819,819,819,819,819,819,819,819,819,819,819,819,819,819]
[null,"PMT2",819,819,819,819,819,819,819,819,819,819,819,819,819,819,819,819,819,819,819,819,819,819,819,819,819,819,819,819,819,819,819,819,819,819,819,819,819,819,819,819,819,819,819,819,819,819,819,819,819,819,819,819,819,819,819,819,819,819,819,819,819,819,819,819,819,819,819,819,819,819,819,819,819,819,819,819,819,819,819,819,819,819,819,819,819,819,819,819,819,819,819,819,819,819,819,819,819,819,819,819,819,819,819,819,819,819,819,819,819,819,819,819,819,819,819,819,819,819,819,819,819]
[null,"PMT3",1168,{"$f":"C27+30","v":1198},1198,{"$f":"E27","v":1198},1198,1198,{"$f":"H27+10+11+9","v":1228},{"$f":"I27","v":1228},{"$f":"J27+5","v":1233},1233,1233,1233,1233,1233,1233,1233,1233,1233,1233,1233,1233,1233,1233,1233,1233,1233,1233,1233,1233,1233,1233,1233,1233,1234,1234,1234,1234,1234,1234,1234,1234,1235,1235,1235,1235,1235,1235,1235,1235,1235,1235,1235,1235,1235,1235,1235,1235,1235,1235,1235,1235,1235,1235,1235,1235,1235,1235,1235,1235,1235,1235,1235,1235,1235,1235,1235,1235,1235,1235,1235,1235,1235,1235,1235,1235,1235,1235,1235,1235,1235,1235,1235,1235,1235,1235,1235,1235,1235,1235,1235,1235,1235,1235,1235,1235,1235,1235,1235,1235,1235,1235,1235,1235,1235,1235,1235,1235,1235,1235,1235,1235]
[null,"PPE1",0,0,0,0,0,0,{"$f":"H28","v":0},0,0,0,0,0,0,0,0,0,0,0,0,0,0,0,0,0,0,0,0,0,0,0,0,0,0,0,0,0,0,0,0,0,0,0,0,0,0,0,0,0,0,0,0,0,0,0,0,0,0,0,0,0,0,0,0,0,0,0,0,0,0,0,0,0,0,0,0,0,0,0,0,0,0,0,0,0,0,0,0,0,0,0,0,0,0,0,0,0,0,0,0,0,0,0,0,0,0,0,0,0,0,0,0,0,0,0,0,0,0,0,0,0,0]
[null,"PPE2",0,0,0,0,0,0,0,0,0,0,0,0,0,0,0,0,0,0,0,0,0,0,0,0,0,0,0,0,0,0,0,0,0,0,0,0,0,0,0,0,0,0,0,0,0,0,0,0,0,0,0,0,0,0,0,0,0,0,0,0,0,0,0,0,0,0,0,0,0,0,0,0,0,0,0,0,0,0,0,0,0,0,0,0,0,0,0,0,0,0,0,0,0,0,0,0,0,0,0,0,0,0,0,0,0,0,0,0,0,0,0,0,0,0,0,0,{"$f":"DN29","v":0},0,0,0,0]
[null,"PPE3",0,0,0,0,0,0,0,0,0,0,0,0,0,0,0,0,0,0,0,0,0,0,0,0,0,0,0,0,0,0,0,0,0,0,0,0,0,0,0,0,0,0,0,0,0,0,0,0,0,0,0,0,0,0,0,0,0,0,0,0,0,0,0,0,0,0,0,0,0,0,0,0,0,0,0,0,0,0,0,0,0,0,0,0,0,0,0,0,0,0,0,0,0,0,0,0,{"$f":"CT30","v":0},0,0,0,0,0,0,0,0,0,0,0,0,0,0,0,0,0,0,0,0,0,0,0,0]
[null,"PPE4",0,0,0,0,0,0,0,0,0,0,0,0,0,0,0,0,0,0,0,0,0,0,0,0,0,0,0,0,0,0,0,0,0,0,0,0,0,0,0,0,0,0,0,0,0,0,0,0,0,0,0,0,0,0,0,0,0,0,0,0,0,0,0,0,0,0,0,0,0,0,0,0,0,0,0,0,0,0,0,0,0,0,0,0,{"$f":"CH31","v":0},0,0,0,0,0,0,0,0,0,0,0,0,0,0,0,0,0,0,0,0,0,0,0,0,0,0,0,0,0,0,0,0,0,0,0,0]
[null,"PPE5",0,0,0,0,0,0,0,0,0,0,0,0,0,0,0,0,0,0,0,0,0,0,0,0,0,0,0,0,0,0,1429,1429,1429,1429,1429,1429,1429,1429,1429,1429,1429,1429,1429,1429,1429,1429,1429,1429,1429,1429,1429,1429,1429,1429,1429,1429,1429,1429,1429,1429,1429,1429,1429,1429,1429,1429,1429,1429,1429,1429,1429,1429,1429,1429,1429,1429,1429,1429,1429,1429,1429,1429,1429,1429,1429,1429,1429,1429,1429,1429,1429,1429,1429,1429,1429,1429,1429,1429,1429,1429,1429,1429,1429,1429,1429,1429,1429,1429,1429,1429,1429,1429,1429,1429,1429,1429,1429,1429,1429,1429,1429]
[null,"PPE GT",459,459,459,459,459,459,459,459,459,459,459,459,459,459,459,459,459,459,459,459,459,459,459,459,459,459,459,459,459,459,459,459,459,459,459,459,459,459,459,459,459,459,459,459,459,459,459,459,459,459,459,459,459,459,459,459,459,459,459,459,459,{"$f":"BK33","v":459},459,459,459,459,459,459,459,459,459,459,459,459,459,459,459,459,459,459,459,459,459,459,459,459,459,459,459,459,459,459,459,459,459,459,459,459,459,459,459,459,459,459,459,459,459,459,459,459,459,459,459,459,459,459,459,459,459,459,459]
[null,"PPN1",265,{"$f":"C34-6","v":259},259,259,259,259,259,259,259,259,259,259,0,0,0,0,0,0,0,0,0,0,0,0,0,0,0,0,0,0,0,0,0,0,0,0,0,0,0,0,0,0,0,0,0,0,0,0,0,0,0,0,0,0,0,0,0,0,0,0,0,0,0,0,0,0,0,0,0,0,0,0,0,0,0,0,0,0,0,0,0,0,0,0,0,0,0,0,0,0,0,0,0,0,0,0,0,0,0,0,0,0,0,0,0,0,0,0,0,0,0,0,0,0,0,0,0,0,0,0,0]
[null,"PPN2",265,{"$f":"C35-6","v":259},259,259,259,259,259,259,259,259,259,259,0,0,0,0,0,0,0,0,0,0,0,0,0,0,0,0,0,0,0,0,0,0,0,0,0,0,0,0,0,0,0,0,0,0,0,0,0,0,0,0,0,0,0,0,0,{"$f":"BG35","v":0},{"$f":"BH35","v":0},0,0,0,0,0,0,0,{"$f":"BP35","v":0},{"$f":"BQ35","v":0},{"$f":"BR35","v":0},{"$f":"BS35","v":0},{"$f":"BT35","v":0},0,0,0,0,0,0,0,0,0,0,0,0,0,0,0,0,0,0,0,0,0,0,0,0,0,0,0,0,0,0,0,0,0,0,{"$f":"DC35","v":0},{"$f":"DD35","v":0},0,0,0,0,0,0,0,0,0,0,{"$f":"DO35","v":0},{"$f":"DP35","v":0},0,0]
[null,"PRV3",0,0,0,0,0,0,0,0,0,0,0,0,0,0,0,0,0,0,0,0,0,0,0,0,0,0,0,0,0,0,0,0,0,0,0,0,0,0,0,0,0,0,0,0,0,0,0,0,0,0,0,0,0,0,0,0,0,0,0,0,0,0,0,0,0,0,0,0,{"$f":"BR36","v":0},0,0,0,0,0,0,0,0,0,0,0,0,0,0,0,0,0,0,0,0,0,0,0,0,0,0,0,0,0,0,0,0,0,0,0,0,0,0,0,0,0,0,0,0,0,0,0,0,0,0,0,0]
[null,"PRV4",0,0,0,0,0,0,0,0,0,0,0,0,0,0,0,0,0,0,0,0,0,0,{"$f":"X37","v":0},0,0,0,0,0,0,0,0,0,0,0,0,0,0,0,{"$f":"AN37","v":0},0,0,0,0,0,0,0,0,0,0,0,0,0,0,0,{"$f":"BD37","v":0},0,0,0,0,0,0,0,0,0,0,0,0,0,0,0,0,0,0,0,0,0,0,0,0,0,{"$f":"CD37","v":0},0,0,0,0,0,0,0,0,0,0,0,0,0,0,0,0,0,0,0,0,0,0,0,0,0,0,0,0,0,0,0,0,0,0,0,0,0,0,0,0]
[null,"PRV5",0,0,0,0,{"$f":"F38+1344","v":1344},1344,1344,1344,1344,1344,1344,1344,1344,1344,1344,1344,1344,{"$f":"S38","v":1344},1344,1344,1344,1344,1344,1344,1344,1344,1344,1344,1344,1344,1344,1344,1344,1344,1344,1344,1344,1344,1344,1344,1344,1344,1344,1344,1344,1344,1344,1344,1344,1344,1344,1344,1344,1344,1344,1344,1344,1344,1344,1344,1344,1344,1344,1344,1344,1344,1344,1344,1344,1344,1344,1344,1344,1344,1344,{"$f":"BY38","v":1344},1344,1344,1344,1344,1344,1344,1344,1344,1344,1344,1344,1344,1344,1344,1344,1344,1344,1344,1344,1344,1344,1344,1344,1344,1344,1344,1344,1344,1344,1344,1344,1344,1344,1344,1344,1344,1344,{"$f":"DK38+14","v":1358},1358,{"$f":"DM38+14","v":1372},{"$f":"DN38","v":1372},{"$f":"DO38","v":1372},{"$f":"DP38","v":1372},{"$f":"DQ38+14","v":1386},1386]
[null,"PSC",10,10,{"$f":"D39","v":10},10,10,10,10,10,10,10,10,10,10,10,10,10,10,10,10,10,10,10,10,10,10,10,10,10,10,10,10,10,10,10,10,10,10,10,10,10,10,10,10,10,10,10,10,10,10,10,10,10,10,10,10,10,10,10,10,10,10,10,10,10,10,10,10,10,10,10,10,10,10,10,10,10,10,10,10,10,10,10,10,10,10,10,10,10,10,10,10,10,10,10,10,10,10,10,10,10,10,10,10,10,10,10,10,10,10,10,10,10,10,10,10,10,10,10,10,10,10]
[null,"PSH4",651,651,651,651,651,651,651,651,651,651,651,651,651,651,651,651,651,651,651,651,651,651,651,651,651,651,651,651,651,651,651,651,651,651,651,651,651,651,651,651,651,651,651,651,651,651,651,651,651,651,651,651,651,651,651,651,651,651,651,651,651,651,651,651,651,651,651,651,651,651,651,651,651,651,651,651,651,651,651,651,651,651,651,651,651,651,651,651,651,651,651,651,651,651,651,651,651,651,651,651,651,651,651,651,651,651,651,651,651,651,651,651,651,651,651,651,651,651,651,651,651]
[null,"PSL1",1003,1003,1003,1003,1003,1003,1003,1003,1003,1003,1003,1003,1003,1003,1003,1003,1003,1003,1003,1003,1003,1003,1003,1003,1003,1003,1003,1003,1003,1003,1003,1003,1003,1003,1003,1003,1003,1003,1003,1003,1003,1003,1003,1003,1003,1003,1003,1003,1003,1003,1003,1003,1003,1003,1003,1003,1003,1003,1003,1003,1003,1003,1003,1003,1003,1003,1003,1003,1003,1003,1003,1003,1003,1003,1003,1003,1003,1003,1003,1003,1003,1003,1003,1003,1003,1003,1003,1003,1003,1003,1003,1003,1003,1003,1003,1003,1003,1003,1003,1003,1003,1003,1003,1003,1003,1003,1003,1003,1003,1003,1003,1003,1003,1003,1003,1003,1003,1003,1003,1003,1003]
[null,"PSL2",860,860,860,860,860,860,860,860,860,860,860,860,860,860,860,860,860,860,860,860,860,860,860,860,860,860,860,860,860,860,860,860,860,860,860,860,860,860,860,860,860,860,860,860,860,860,860,860,860,860,860,860,860,860,860,860,860,860,860,860,860,860,860,860,860,860,860,860,860,860,860,860,860,860,860,860,860,860,860,860,860,860,860,860,860,860,860,860,860,860,860,860,860,860,860,860,860,860,860,860,860,860,860,860,860,860,860,860,860,860,860,860,860,860,860,860,860,860,860,860,860]
[null,"PSN3",0,0,0,0,0,0,0,0,0,0,0,0,0,0,0,0,0,0,0,0,0,0,0,0,0,0,0,0,0,0,0,0,0,0,0,0,0,0,0,0,0,0,0,0,0,0,0,0,0,0,0,0,0,0,0,0,0,0,0,0,0,0,0,0,0,0,0,0,0,0,0,0,0,0,0,0,0,0,0,0,0,0,0,0,0,0,0,0,0,0,0,0,0,0,0,0,0,0,0,0,0,0,0,0,0,0,0,0,0,0,0,0,0,0,0,0,0,0,0,0,0]
[null,"PSR4",1078,{"$f":"C44+22","v":1100},1100,1100,1100,1100,{"$f":"H44","v":1100},1100,1100,1100,1100,1100,1100,1100,1100,1100,1100,1100,1100,1100,1100,1100,1100,1100,1100,1100,1125,1150,1150,1150,1150,1150,1150,1150,1150,1150,1150,1150,1150,1150,1150,1150,1150,1150,1150,1150,1150,1150,1150,1150,1150,1150,1150,1150,1150,1150,1150,1150,1150,1150,1150,1150,1150,1150,1150,1150,1150,1150,1150,1150,1150,1150,1150,1150,1150,1150,1150,1150,1150,1150,1150,1150,1150,1150,1150,1150,1150,1150,1150,1150,1150,1150,1150,1150,1150,1150,1150,1150,1150,1150,1150,1150,1150,1150,1150,1150,1150,1150,1150,1150,1150,1150,1150,1150,1150,1150,1150,1150,1150,1150,1150]
[null,"PSR5",1080,{"$f":"C45+20","v":1100},1100,1100,1100,1100,1100,1100,1100,1100,1100,1100,1100,1100,1100,1100,1100,1100,1100,1100,1100,1100,1100,1100,1100,1100,1100,1100,1112,1125,1125,1125,1125,1125,1125,1125,1125,1125,1125,1125,1137,1137,1150,1150,1150,1150,1150,1150,1150,1150,1150,1150,1150,1150,1150,1150,1150,1150,1150,1150,1150,1150,1150,1150,1150,1150,1150,1150,1150,1150,1150,1150,1150,1150,1150,1150,1150,1150,1150,1150,1150,1150,1150,1150,1150,1150,1150,1150,1150,1150,1150,1150,1150,1150,1150,1150,1150,1150,1150,1150,{"$f":"CX45","v":1150},1150,1150,1150,1150,1150,1150,1150,1150,1150,1150,1150,1150,1150,1150,1150,1150,1150,1150,1150,1150]
[null,"PTF1",398,398,398,398,398,398,398,398,398,398,398,398,398,398,398,398,398,398,398,398,398,398,398,398,398,{"$f":"AA46","v":398},398,398,398,398,{"$f":"AF46","v":398},398,398,398,398,398,398,0,0,0,0,0,0,0,0,0,0,0,0,0,0,0,0,0,0,0,0,0,0,0,0,{"$f":"BK46","v":0},0,0,0,0,{"$f":"BP46","v":0},0,0,0,0,0,0,0,0,0,0,0,0,0,0,0,0,0,0,0,0,0,0,0,0,0,0,0,0,0,0,0,0,0,0,0,0,0,0,0,0,0,0,0,0,0,0,0,0,0,0,0,0,0,0]
[null,"PTF2",394,{"$f":"C47-394","v":0},0,0,0,0,0,0,0,0,0,0,0,0,0,0,0,0,0,0,0,0,0,0,0,0,0,0,0,0,0,0,0,0,0,0,0,0,0,0,0,0,0,0,0,0,0,0,0,0,0,0,0,0,0,0,0,0,0,0,0,0,0,0,0,0,0,0,0,0,0,0,0,0,0,0,0,0,0,0,0,0,0,0,0,0,0,0,0,{"$f":"CM47","v":0},0,0,0,0,0,0,0,0,0,0,0,0,0,0,0,0,0,0,0,0,0,0,0,0,0,0,0,0,0,0,0]
[null,"PTN3",839,839,839,839,839,839,839,839,839,839,839,839,839,839,839,839,839,839,839,839,839,839,839,839,839,839,839,839,839,839,839,839,839,839,839,839,839,839,839,839,839,839,839,839,839,839,839,839,839,839,839,839,839,839,839,839,839,839,839,839,839,839,839,839,839,839,839,839,839,839,839,839,839,839,839,839,839,839,839,839,839,839,839,839,839,839,839,839,839,839,839,839,839,839,839,839,839,839,839,839,839,839,839,839,839,839,839,839,839,839,839,839,839,839,839,839,839,839,839,839,839]
[null,"PTN4",848,848,848,848,848,848,848,848,848,848,848,848,848,848,848,848,848,848,848,848,848,848,848,848,848,848,848,848,848,848,848,848,848,848,848,848,848,848,848,848,848,848,848,848,848,848,848,848,848,848,848,848,848,848,848,848,848,848,848,848,848,848,848,848,848,848,848,848,848,848,848,848,848,848,848,848,848,848,848,848,848,848,848,848,848,848,848,848,848,848,848,848,848,848,848,848,848,848,848,848,848,848,848,848,848,848,848,848,848,848,848,848,848,848,848,848,848,848,848,848,848]
[null,"PTF5",1178,{"$f":"C50+16","v":1194},1194,{"$f":"E50+9+9","v":1212},1212,{"$f":"G50+11","v":1223},{"$f":"H50+14","v":1237},1237,1237,1237,1237,1237,1237,1237,1237,1237,1237,1237,1237,1237,1237,1237,1237,1237,1237,1237,1237,1237,1237,1237,1237,1237,1237,1237,1237,1237,1237,1237,1246,1251,1256,1256,1256,1256,1256,1256,1256,1256,1256,1256,1256,1256,1256,1256,1256,1256,1256,1256,1256,1256,1256,1256,1256,1256,1256,1256,1256,1256,1256,1256,1256,1256,1256,1256,1256,1256,1256,1256,1256,1256,1256,1256,1256,1256,1256,1256,1256,1256,1256,1256,1256,1256,1256,1256,1256,1256,1256,1256,1256,1256,1256,1256,1256,1256,1256,1256,1256,1256,1256,1256,1256,1256,1256,1256,1256,1256,1256,1256,1256,1256,1256]
[null,"PTN6",0,{"$f":"C51","v":0},{"$f":"D51","v":0},0,0,0,0,0,0,0,0,0,0,0,0,0,0,0,0,0,0,0,0,0,0,0,0,0,0,0,0,0,0,0,0,0,0,0,0,0,0,0,0,0,0,0,0,0,0,0,0,0,0,0,0,0,0,0,0,0,0,0,0,0,0,0,0,0,0,0,0,0,0,0,0,{"$f":"BY51","v":0},0,0,0,0,0,0,0,0,0,0,0,0,0,0,0,0,0,0,0,0,0,0,0,0,0,0,{"$f":"CZ51+1100","v":1100},1100,1100,1100,1100,1100,1100,1100,1100,1100,1100,1100,1100,1100,1100,1100,1100,1100,1100]
[null,"PTN7",0,0,0,0,0,0,0,0,0,0,0,0,0,0,0,0,0,0,0,0,0,0,0,0,0,0,0,0,0,0,0,0,0,0,0,0,0,0,0,0,0,0,0,0,0,0,0,0,0,0,0,0,0,0,0,0,0,0,0,0,0,0,0,0,{"$f":"BN52","v":0},0,0,0,0,0,0,0,0,0,0,0,0,0,0,0,0,0,0,0,0,0,0,0,0,0,0,0,0,0,0,0,0,0,0,0,0,0,{"$f":"CZ52","v":0},0,0,0,0,0,0,0,0,0,0,0,{"$f":"DL52+1100","v":1100},1100,1100,1100,1100,1100,1100]
[null,"PTFD",0,0,0,0,0,0,0,0,0,0,0,0,0,0,0,0,0,0,0,0,0,0,0,0,0,0,0,0,0,0,0,0,0,0,0,0,0,0,0,0,0,0,0,0,0,0,0,0,0,0,0,0,0,0,0,0,0,0,0,0,0,0,0,0,0,0,0,0,0,0,0,0,0,0,0,0,0,0,0,0,0,0,0,0,0,0,0,0,0,0,0,0,0,0,0,0,0,0,0,0,0,0,{"$f":"CZ53","v":0},0,0,0,0,0,0,0,0,0,0,0,{"$f":"DL53","v":0},0,0,0,0,0,0]
[null,"PVB",0,0,0,{"$f":"E54","v":0},0,0,0,0,0,0,0,0,0,{"$f":"O54","v":0},0,0,0,0,0,0,0,0,0,0,0,0,0,0,0,0,0,0,0,0,0,0,0,{"$f":"AM54+46","v":46},{"$f":"AN54","v":46},46,46,46,46,46,46,46,46,46,46,{"$f":"AY54","v":46},{"$f":"AZ54","v":46},46,46,46,46,46,46,46,46,46,{"$f":"BJ54-46","v":0},0,0,0,0,0,{"$f":"BP54","v":0},0,0,0,0,0,0,0,0,0,0,0,0,0,0,0,0,0,0,0,0,0,0,0,0,0,0,0,0,0,0,0,0,0,0,0,0,0,0,0,0,0,0,0,0,0,0,0,0,0,0,0,0,0,0]
[null,"PWC1",1335,{"$f":"C55","v":1335},1335,1335,1335,1335,1335,1335,1335,1335,1335,1335,1335,1335,1335,1335,1335,1335,1335,1335,1335,1335,1335,1335,1335,1335,1335,1335,1335,1335,1335,1335,1335,1335,1335,1335,1335,1335,1335,1335,1335,1335,1335,1335,1335,1335,1335,1335,1335,1335,1335,1335,1335,1335,1335,1335,1335,1335,1335,1335,1335,1335,1335,1335,1335,1335,1335,1335,1335,1335,1335,1335,1335,1335,1335,1335,1335,1335,1335,1335,1335,1335,1335,1335,1335,1335,1335,1335,1335,1335,1335,1335,1335,1335,1335,1335,1335,1335,1335,1335,1335,1335,{"$f":"CZ55","v":1335},1335,1335,1335,1335,1335,1335,1335,1335,1335,1335,1335,{"$f":"DL55","v":1335},1335,1335,1335,1335,1335,1335]
[null,"PWC2",1335,{"$f":"C56","v":1335},1335,1335,1335,1335,1335,1335,1335,1335,1335,1335,1335,1335,1335,1335,1335,1335,1335,1335,1335,1335,1335,1335,1335,1335,1335,1335,1335,1335,1335,1335,1335,{"$f":"AI56","v":1335},1335,1335,1335,1335,1335,1335,1335,1335,1335,1335,1335,1335,1335,1335,1335,1335,1335,1335,1335,1335,1335,1335,1335,1335,1335,1335,1335,1335,1335,1335,1335,1335,1335,1335,1335,1335,1335,1335,1335,1335,1335,1335,1335,1335,1335,1335,1335,1335,{"$f":"CF56","v":1335},1335,1335,1335,1335,1335,1335,1335,1335,1335,1335,1335,1335,1335,1335,1335,1335,1335,1335,1335,{"$f":"CZ56","v":1335},1335,1335,1335,1335,1335,1335,1335,1335,1335,1335,1335,{"$f":"DL56","v":1335},1335,1335,1335,1335,1335,1335]
[null,"PWC3",1335,1335,1335,1335,1335,1335,1335,1335,1335,1335,1335,1335,1335,1335,1335,1335,1335,1335,1335,1335,1335,{"$f":"W57","v":1335},1335,1335,1335,1335,1335,1335,1335,1335,1335,1335,1335,1335,1335,1335,1335,1335,1335,1335,1335,1335,1335,1335,1335,1335,1335,1335,1335,1335,1335,1335,1335,1335,1335,1335,1335,1335,1335,1335,1335,1335,1335,1335,1335,1335,1335,1335,1335,1335,1335,1335,1335,{"$f":"BW57","v":1335},1335,1335,1335,1335,1335,1335,1335,1335,1335,1335,1335,1335,1335,1335,1335,1335,1335,1335,1335,1335,1335,1335,1335,1335,1335,1335,1335,1335,{"$f":"CZ57","v":1335},1335,1335,1335,1335,1335,1335,1335,1335,1335,1335,1335,{"$f":"DL57","v":1335},1335,1335,1335,1335,1335,1335]
[]
[null,"Total",26085,{"$f":"SUM(D4:D57)","v":25767},{"$f":"SUM(E4:E57)","v":25767},25785,27129,27137,27181,27181,27186,27186,27186,27186,26668,{"$f":"SUM(P4:P57)","v":26668},{"$f":"SUM(Q4:Q57)","v":26665},{"$f":"SUM(R4:R57)","v":26665},26665,26701,26737,26773,26809,26881,26881,26881,26881,26881,26906,26931,26943,26956,28395,28400,28400,28401,28401,28401,28401,28049,28058,28063,28080,28081,28094,28099,28099,28099,28099,28099,28099,28099,28099,28099,28099,28099,{"$f":"SUM(BE4:BE57)","v":28099},28099,28099,28099,28099,28099,28053,28053,28053,28053,28053,28053,28053,28053,28053,28053,28053,28053,28053,28053,28053,28053,28053,28053,28053,28053,28053,28053,28053,28053,28053,28053,28053,28053,28053,28053,28053,28053,28053,28053,28053,28053,28053,28053,28053,28069,28069,28085,29185,29200,29200,29200,29200,29200,29200,29200,29200,29200,29200,29214,30314,30328,30328,30328,{"$f":"SUM(DQ4:DQ57)","v":30328},30342,30342]
[]
[null,"New Gen",null,null,null,null,{"$f":"(G38-D38)","v":1344},null,null,null,null,null,null,null,null,null,null,null,null,null,null,null,null,null,null,null,null,null,null,null,null,null,{"$f":"(AG32-AF32)","v":1429},null,null,null,null,null,null,{"$f":"AN54-AM54","v":46},null,null,null,null,null,null,null,null,null,null,null,null,null,null,null,null,null,null,null,null,null,null,null,null,null,null,null,null,null,null,null,null,null,null,null,null,null,null,null,null,null,null,null,null,null,null,null,null,null,null,null,null,null,null,null,null,null,null,null,null,null,null,null,null,{"$f":"(DA51-CZ51)","v":1100},null,null,null,null,null,null,null,null,null,null,null,{"$f":"(DM52-DL52)","v":1100}]
[null,"Repower"]
[null,"EPU"]
[null,"CT Upgrade",null,{"$f":"(D24-C24)+(D44-C44)+(D45-C45)","v":41},null,{"$f":"(F50-E50)","v":18},null,{"$f":"(H50-G50)","v":11},{"$f":"(I27-H27)+(I50-H50)","v":44},{"$f":"(J27-I27)","v":0},{"$f":"(K27-J27)","v":5},null,null,null,null,null,null,null,null,{"$f":"T15-S15","v":36},{"$f":"U15-T15","v":36},36,36,72,null,null,null,null,null,null,{"$f":"AE45-AD45","v":12},{"$f":"AF45-AE45","v":13},{"$f":"AG24-AF24","v":10},{"$f":"AH24-AG24","v":5},null,{"$f":"AJ27-AI27","v":1},null,null,null,null,{"$f":"AO50-AN50","v":9},{"$f":"AP50-AO50","v":5},{"$f":"(AQ45-AP45)+(AQ50-AP50)","v":17},{"$f":"AR27-AQ27","v":1},{"$f":"AS45-AR45","v":13},{"$f":"AT24-AS24","v":5},null,null,null,null,null,null,null,null,null,null,null,null,null,null,null,null,null,null,null,null,null,null,null,null,null,null,null,null,null,null,null,null,null,null,null,null,null,null,null,null,null,null,null,null,null,null,null,null,null,null,null,null,null,null,null,{"$f":"(CX6-CW6)","v":16},null,{"$f":"(CZ6-CY6)","v":16},null,{"$f":"(DB6-DA6)","v":15},null,null,null,null,null,null,null,null,null,{"$f":"(DL38-DK38)","v":14},null,{"$f":"(DN38-DM38)","v":14},null,null,null,{"$f":"(DR38-DQ38)","v":14}]
[null,"Capability",null,{"$f":"(D15-C15)+(D16-C16)+(D27-C27)+(D34-C34)+(D35-C35)+(D50-C50)","v":35},null,null,null,{"$f":"(H20-G20)","v":-3},null,null,null,null,null,null,null,null,{"$f":"(Q21-P21)","v":-3}]
[null,"Temp"]
[null,"Retired",null,{"$f":"(D47-C47)","v":-394},null,null,null,null,null,null,null,null,null,null,{"$f":"(O34-N34)+(O35-N35)","v":-518},null,null,null,null,null,null,null,null,null,null,null,null,null,null,null,null,null,null,null,null,null,null,null,null,-398,null,null,null,null,null,null,null,null,null,null,null,null,null,null,null,null,null,null,null,null,null,null,{"$f":"BK54-BJ54","v":-46}]
[null,"Cap Letter"]
[null,null,{"$f":"C59-SUM(C9,C39)","v":26050},25732,25732,25750,27094,27102,27146,27146,27151,27151,27151,27151,{"$f":"O59-SUM(O9,O39)","v":26633},26633,26630,26630,26630,26666,26702,26738,26774,26846,26846,26846,26846,26846,26871,26896,26908,26921,28360,28365,28365,28366,28366,28366,28366,28014,28023,28028,28045,28046,28059,28064,28064,28064,28064,28064,28064,28064,28064,28064,28064,28064,28064,28064,28064,28064,28064,28064,28018,28018,28018,28018,{"$f":"BO59-SUM(BO9,BO39)","v":28018},28018,28018,28018,28018,28018,28018,28018,28018,28018,28018,28018,28018,28018,28018,28018,28018,28018,28018,28018,28018,28018,28018,28018,28018,28018,28018,28018,28018,28018,28018,28018,28018,28018,28018,28034,28034,28050,29150,29165,29165,29165,29165,29165,29165,29165,29165,29165,29165,29179,30279,30293,30293,30293,30293,30307,30307]

{"sheet":"C. Winter Peak 2015-01-15","index":4,"n_rows":71,"n_cols":266,"rows_kept":71,"cut":false,"hidden":false,"merged":[[1,182,1,193],[1,194,1,205],[1,254,1,265],[1,242,1,253],[1,170,1,181],[1,230,1,241],[1,146,1,157],[1,158,1,169],[1,2,1,13],[1,206,1,217],[1,218,1,229],[1,14,1,25],[1,26,1,37],[1,86,1,97],[1,98,1,109],[1,110,1,121],[1,122,1,133],[1,38,1,49],[1,50,1,61],[1,62,1,73],[1,74,1,85],[1,134,1,145]]}
["OPC 006105","Long-Term Cold Winter Peak Capabilities"]
["FPL RC-16",null,2002,null,null,null,null,null,null,null,null,null,null,null,2003,null,null,null,null,null,null,null,null,null,null,null,2004,null,null,null,null,null,null,null,null,null,null,null,2005,null,null,null,null,null,null,null,null,null,null,null,2006,null,null,null,null,null,null,null,null,null,null,null,2007,null,null,null,null,null,null,null,null,null,null,null,2008,null,null,null,null,null,null,null,null,null,null,null,2009,null,null,null,null,null,null,null,null,null,null,null,2010,null,null,null,null,null,null,null,null,null,null,null,2011,null,null,null,null,null,null,null,null,null,null,null,2012,null,null,null,null,null,null,null,null,null,null,null,2013,null,null,null,null,null,null,null,null,null,null,null,2014,null,null,null,null,null,null,null,null,null,null,null,2015,null,null,null,null,null,null,null,null,null,null,null,2016,null,null,null,null,null,null,null,null,null,null,null,2017,null,null,null,null,null,null,null,null,null,null,null,2018,null,null,null,null,null,null,null,null,null,null,null,2019,null,null,null,null,null,null,null,null,null,null,null,2020,null,null,null,null,null,null,null,null,null,null,null,2021,null,null,null,null,null,null,null,null,null,null,null,2022,null,null,null,null,null,null,null,null,null,null,null,2023]
[null,"Unit","Jan","Feb","Mar","Apr","May","Jun","Jul","Aug","Sep","Oct","Nov","Dec","Jan","Feb","Mar","Apr","May","Jun","Jul","Aug","Sep","Oct","Nov","Dec","Jan","Feb","Mar","Apr","May","Jun","Jul","Aug","Sep","Oct","Nov","Dec","Jan","Feb","Mar","Apr","May","Jun","Jul","Aug","Sep","Oct","Nov","Dec","Jan","Feb","Mar","Apr","May","Jun","Jul","Aug","Sep","Oct","Nov","Dec","Jan","Feb","Mar","Apr","May","Jun","Jul","Aug","Sep","Oct","Nov","Dec","Jan","Feb","Mar","Apr","May","Jun","Jul","Aug","Sep","Oct","Nov","Dec","Jan","Feb","Mar","Apr","May","Jun","Jul","Aug","Sep","Oct","Nov","Dec","Jan","Feb","Mar","Apr","May","Jun","Jul","Aug","Sep","Oct","Nov","Dec","Jan","Feb","Mar","Apr","May","Jun","Jul","Aug","Sep","Oct","Nov","Dec","Jan","Feb","Mar","Apr","May","Jun","Jul","Aug","Sep","Oct","Nov","Dec","Jan","Feb","Mar","Apr","May","Jun","Jul","Aug","Sep","Oct","Nov","Dec","Jan","Feb","Mar","Apr","May","Jun","Jul","Aug","Sep","Oct","Nov","Dec","Jan","Feb","Mar","Apr","May","Jun","Jul","Aug","Sep","Oct","Nov","Dec","Jan","Feb","Mar","Apr","May","Jun","Jul","Aug","Sep","Oct","Nov","Dec","Jan","Feb","Mar","Apr","May","Jun","Jul","Aug","Sep","Oct","Nov","Dec","Jan","Feb","Mar","Apr","May","Jun","Jul","Aug","Sep","Oct","Nov","Dec","Jan","Feb","Mar","Apr","May","Jun","Jul","Aug","Sep","Oct","Nov","Dec","Jan","Feb","Mar","Apr","May","Jun","Jul","Aug","Sep","Oct","Nov","Dec","Jan","Feb","Mar","Apr","May","Jun","Jul","Aug","Sep","Oct","Nov","Dec","Jan","Feb","Mar","Apr","May","Jun","Jul","Aug","Sep","Oct","Nov","Dec","Jan","Feb","Mar","Apr","May","Jun","Jul","Aug","Sep","Oct","Nov","Dec"]
[null,"PCC1",406,{"$f":"C4","v":406},{"$f":"D4","v":406},406,406,406,406,406,406,406,406,406,{"$f":"N4","v":406},{"$f":"O4","v":406},406,406,406,406,406,406,406,406,406,406,{"$f":"Z4+4","v":410},{"$f":"AA4","v":410},410,410,410,410,410,410,410,410,410,410,{"$f":"AL4-12","v":398},{"$f":"AM4","v":398},398,398,398,398,398,398,398,398,398,398,{"$f":"AX4+5","v":403},{"$f":"AY4","v":403},403,403,403,403,403,403,403,403,403,{"$f":"BI4-5","v":398},{"$f":"BJ4","v":398},398,398,398,398,398,398,398,398,398,398,398,398,398,398,398,{"$f":"BZ4","v":398},398,398,398,398,398,398,398,398,398,398,398,398,398,398,398,{"$f":"CP4","v":398},398,398,398,398,398,398,398,398,{"$f":"CY4-398","v":0},{"$f":"CZ4","v":0},0,0,0,0,0,0,0,0,0,0,0,0,0,0,0,0,0,0,0,0,0,0,0,0,0,0,0,0,0,0,0,0,0,0,0,0,0,0,0,0,0,{"$f":"EP4","v":0},{"$f":"EQ4","v":0},{"$f":"ER4","v":0},{"$f":"ES4","v":0},0,0,0,0,0,0,0,0,{"$f":"FB4","v":0},{"$f":"FC4","v":0},0,0,0,0,0,0,0,0,0,0,0,0,0,0,0,{"$f":"FS4","v":0},0,0,0,0,0,0,{"$f":"FZ4","v":0},{"$f":"GA4","v":0},{"$f":"GB4","v":0},0,0,0,0,0,0,0,0,0,{"$f":"GL4","v":0},{"$f":"GM4","v":0},{"$f":"GN4","v":0},0,0,0,0,0,0,0,0,0,{"$f":"GX4","v":0},{"$f":"GY4","v":0},{"$f":"GZ4","v":0},0,0,0,0,0,0,0,0,0,{"$f":"HJ4","v":0},{"$f":"HK4","v":0},{"$f":"HL4","v":0},0,0,0,0,0,0,0,0,0,{"$f":"HV4","v":0},{"$f":"HW4","v":0},{"$f":"HX4","v":0},0,0,0,0,0,0,0,0,0,{"$f":"IH4","v":0},{"$f":"II4","v":0},{"$f":"IJ4","v":0},0,0,0,0,0,0,0,0,0,{"$f":"IT4","v":0},{"$f":"IU4","v":0},{"$f":"IV4","v":0},0,0,0,0,0,0,0,0,0]
[null,"PCC2",406,{"$f":"C5","v":406},406,406,406,406,406,406,406,406,406,406,{"$f":"N5","v":406},406,406,406,406,406,406,406,406,406,406,406,{"$f":"Z5+4","v":410},410,410,410,410,410,410,410,410,410,410,410,410,410,{"$f":"AN5","v":410},410,410,410,410,410,410,410,410,410,{"$f":"AX5-7","v":403},403,403,403,403,403,403,403,403,403,403,{"$f":"BI5-5","v":398},398,398,398,398,398,398,398,398,398,398,398,398,398,398,398,398,398,398,398,398,398,398,398,398,398,398,398,398,398,398,398,398,398,398,398,{"$f":"CS5","v":398},398,398,398,398,398,{"$f":"CY5-398","v":0},0,0,0,0,0,0,0,0,0,0,0,0,0,0,0,0,0,0,0,0,0,0,0,0,0,0,0,0,0,0,0,0,0,0,0,0,0,0,0,0,0,0,{"$f":"EP5","v":0},0,0,0,0,0,0,0,0,0,0,0,0,0,0,0,0,0,0,0,0,0,0,0,0,0,0,0,0,0,0,0,0,0,0,0,0,0,0,0,0,0,0,0,0,0,0,0,0,0,0,0,0,0,0,0,0,0,0,0,0,0,0,0,0,0,0,0,0,0,0,0,0,0,0,0,0,0,0,0,0,0,0,0,0,0,0,0,0,0,0,0,0,0,0,0,0,0,0,0,0,0,0,0,0,0,0,0,0,0,0,0,0,0,0,0,0,0,0,0]
[null,"PCC3",0,0,0,0,0,0,0,0,0,0,0,0,{"$f":"N6","v":0},0,0,0,0,0,0,0,0,0,0,0,{"$f":"Z6","v":0},0,0,0,0,0,0,0,0,0,0,0,0,0,{"$f":"AN6","v":0},0,0,0,0,0,0,0,0,0,{"$f":"AX6","v":0},0,0,0,0,0,0,0,0,0,0,{"$f":"BI6","v":0},0,0,0,0,0,0,0,0,0,0,0,0,0,0,0,0,0,0,0,0,0,0,0,0,0,0,0,0,0,0,0,0,0,0,0,0,0,0,0,0,0,0,0,0,0,0,0,0,0,0,0,0,0,0,0,0,0,0,0,0,0,0,0,0,0,0,0,0,0,0,{"$f":"EB6","v":0},{"$f":"EC6","v":0},{"$f":"ED6","v":0},{"$f":"EE6","v":0},{"$f":"EF6","v":0},{"$f":"EG6+1355","v":1355},1355,1355,1355,1355,1355,1355,1355,1355,1355,1355,1355,1355,1355,1355,1355,1355,1355,1355,1355,1355,1355,1355,1355,1355,1355,1355,1355,1355,1355,1355,1355,1355,1355,1355,1355,1355,1355,{"$f":"FS6","v":1355},1355,1355,1355,1355,1355,1355,1355,1355,1355,1355,1355,1355,1355,1355,1355,1355,1355,1355,1355,1355,1355,1355,1355,1355,1355,1355,1355,1355,1355,1355,1355,1355,1355,1355,1355,1355,1355,1355,1355,1355,1355,1355,1355,1355,1355,1355,1355,1355,1355,1355,1355,1355,1355,1355,1355,1355,1355,1355,1355,1355,1355,1355,1355,1355,1355,1355,1355,1355,{"$f":"IJ6+16","v":1371},{"$f":"IK6","v":1371},{"$f":"IL6+16","v":1387},{"$f":"IM6","v":1387},{"$f":"IN6+15","v":1402},{"$f":"IO6","v":1402},{"$f":"IP6","v":1402},1402,1402,1402,1402,1402,1402,1402,1402,1402,1402,1402,1402,1402,1402,1402]
[null,"PCU5",71,71,71,71,71,71,71,71,71,71,71,71,{"$f":"N7+1","v":72},72,72,72,72,72,72,72,72,72,72,72,{"$f":"Z7","v":72},72,72,72,72,72,72,72,72,72,72,72,72,72,72,72,72,72,72,72,72,72,72,72,{"$f":"AX7-3","v":69},69,69,69,69,69,69,69,69,69,69,{"$f":"BI7+2","v":71},71,71,71,71,71,71,71,71,71,71,71,71,71,71,71,71,71,71,71,71,71,71,71,71,71,71,71,71,71,71,71,71,71,71,71,71,71,71,71,71,71,71,71,71,71,71,71,71,71,71,71,71,71,71,71,71,71,71,71,71,71,71,71,71,71,71,71,71,71,71,71,{"$f":"EC7-71","v":0},{"$f":"ED7","v":0},0,0,0,0,0,0,0,0,0,0,0,0,0,0,0,0,0,0,0,0,0,0,0,0,0,0,0,0,0,0,0,0,0,0,0,0,0,0,0,0,0,0,0,0,0,0,0,0,0,0,0,0,0,0,0,0,0,0,0,0,0,0,0,0,0,0,0,0,0,0,0,0,0,0,0,0,0,0,0,0,0,0,0,0,0,0,0,0,0,0,0,0,0,0,0,0,0,0,0,0,0,0,0,0,0,0,0,0,0,0,0,0,0,0,0,0,0,0,0,0,0,0,0,0,0,0,0,0,0,0,0]
[null,"PCU6",144,144,144,144,144,144,144,144,144,144,144,144,{"$f":"N8-2","v":142},142,142,142,142,142,142,142,142,142,142,142,{"$f":"Z8","v":142},142,142,142,142,142,142,142,142,142,142,142,142,142,142,142,142,142,142,142,142,142,142,142,{"$f":"AX8-33","v":109},109,109,109,109,109,109,109,109,109,109,{"$f":"BI8+29","v":138},138,138,138,138,138,138,138,138,138,138,138,138,138,138,138,138,138,138,138,138,138,138,138,138,138,138,138,138,138,138,138,138,138,138,138,138,138,138,138,138,138,138,138,138,138,138,138,138,138,138,138,138,138,138,138,138,138,138,138,138,138,138,138,138,138,138,138,138,138,138,138,{"$f":"EC8-138","v":0},0,0,0,0,0,0,0,0,0,0,0,0,0,0,0,0,0,0,0,0,0,0,0,0,0,0,0,0,0,0,0,0,0,0,0,0,0,0,0,0,0,0,0,0,0,0,0,0,0,0,0,0,0,0,0,0,0,0,0,0,0,0,0,0,0,0,0,0,0,0,0,0,0,0,0,0,0,0,0,0,0,0,0,0,0,0,0,0,0,0,0,0,0,0,0,0,0,0,0,0,0,0,0,0,0,0,0,0,0,0,0,0,0,0,0,0,0,0,0,0,0,0,0,0,0,0,0,0,0,0,0,0]
[null,"PDO",0,0,0,0,0,0,0,0,0,0,0,0,0,0,0,0,0,0,0,0,0,0,0,0,{"$f":"Z9","v":0},0,0,0,0,0,0,0,0,0,0,0,0,0,0,0,0,0,0,0,0,0,0,0,0,0,0,0,0,0,0,0,0,0,0,{"$f":"BI9","v":0},0,0,0,0,0,0,0,0,0,0,0,0,0,0,0,0,0,0,0,0,0,0,0,0,0,0,0,0,0,0,0,0,0,{"$f":"CQ9+17","v":17},17,17,{"$f":"CT9+8","v":25},25,25,25,25,25,25,25,25,25,25,25,25,25,25,25,25,25,25,25,25,25,25,25,25,25,25,25,25,25,25,25,25,25,25,25,25,25,25,25,25,25,25,25,25,25,25,25,25,25,25,25,25,25,25,25,25,25,25,25,25,25,25,25,25,25,25,25,25,25,25,25,25,25,25,25,25,25,25,25,25,25,25,25,25,25,25,25,25,25,25,25,25,25,25,25,25,25,25,25,25,25,25,25,25,25,25,25,25,25,25,25,25,25,25,25,25,25,25,25,25,25,25,25,25,25,25,25,25,25,25,25,25,25,25,25,25,25,25,25,25,25,25,25,25,25,25,25,25,25,25,25,25,25,25,25,25,25,25,25,25,25,25,25,25,25,25,25]
[null,"PFL4",460,460,460,460,460,460,460,460,460,460,460,{"$f":"M10","v":460},460,460,460,460,460,460,460,460,460,460,460,{"$f":"Y10","v":460},{"$f":"Z10+5","v":465},465,465,465,465,465,465,465,465,465,465,465,465,465,465,465,465,465,465,465,465,465,465,465,465,465,465,465,465,465,465,465,465,465,465,{"$f":"BI10-1","v":464},464,464,464,464,464,464,464,464,464,464,464,464,{"$f":"BV10+21","v":485},485,485,485,485,485,485,485,485,485,485,{"$f":"CG10","v":485},485,485,485,485,485,485,485,485,485,485,485,485,485,485,485,485,485,485,485,485,485,485,485,485,{"$f":"DF10-2","v":483},483,483,483,483,483,483,483,483,483,483,483,483,483,483,483,483,483,483,483,483,483,483,483,483,483,483,483,483,483,483,483,483,483,483,483,483,483,483,483,483,483,483,483,483,483,483,483,483,483,483,483,483,483,483,483,483,483,483,483,483,483,483,483,483,483,483,483,483,483,483,483,483,483,483,483,483,483,483,483,483,483,483,483,483,483,483,483,483,483,483,483,483,483,483,483,483,483,483,483,483,483,483,483,483,483,483,483,483,483,483,483,483,483,483,483,483,483,483,483,483,483,483,483,483,483,483,483,483,483,483,483,483,483,483,483,483,483,483,483,483,483,483,483,483,483,483,483,483,483,483,483,483,483,483,483]
[null,"PFL5",464,464,464,464,464,464,464,464,464,464,464,464,464,464,464,464,464,464,464,464,464,464,464,464,{"$f":"Z11","v":464},464,464,464,464,464,464,464,464,464,464,464,464,464,464,464,464,464,464,464,464,464,464,464,464,464,464,464,464,464,464,464,464,464,464,{"$f":"BI11","v":464},464,464,464,464,464,464,464,464,464,464,464,464,{"$f":"BV11+21","v":485},485,485,485,485,485,485,485,485,485,485,{"$f":"CG11","v":485},485,485,485,485,485,485,485,485,485,485,485,485,485,485,485,485,485,485,485,485,485,485,485,485,{"$f":"DF11-2","v":483},483,483,483,483,483,483,483,483,483,483,483,483,483,483,{"$f":"DU11","v":483},483,483,483,483,483,483,483,483,483,483,483,483,483,483,483,483,483,483,483,483,483,483,483,483,483,483,483,483,483,483,483,483,483,483,483,483,483,483,483,483,483,483,483,483,483,483,483,483,483,483,483,483,483,483,483,483,483,483,483,483,483,483,483,483,483,483,483,483,483,483,483,483,483,483,483,483,483,483,483,483,483,483,483,483,483,483,483,483,483,483,483,483,483,483,483,483,483,483,483,483,483,483,483,483,483,483,483,483,483,483,483,483,483,483,483,483,483,483,483,483,483,483,483,483,483,483,483,483,483,483,483,483,483,483,483,483,483,483,483,483]
[null,"PFL GT1",509,509,509,509,509,509,509,509,509,509,509,509,509,509,509,509,509,509,509,509,509,509,509,509,{"$f":"Z12","v":509},509,509,509,509,509,509,509,509,509,509,509,509,509,509,509,509,509,509,509,509,509,509,509,509,509,509,509,509,509,509,509,509,509,509,{"$f":"BI12","v":509},509,509,509,509,509,509,509,509,509,509,509,509,509,509,509,509,509,509,509,509,509,509,509,{"$f":"CG12","v":509},509,509,509,509,509,509,509,509,509,509,509,{"$f":"CS12-29","v":480},480,480,480,480,480,480,480,480,480,{"$f":"DC12","v":480},480,480,{"$f":"DF12-21","v":459},{"$f":"DG12","v":459},459,459,459,459,459,459,459,459,459,459,459,459,459,459,459,459,459,459,459,459,459,459,459,459,459,459,459,459,459,459,459,459,459,459,459,459,459,459,459,459,459,459,459,459,459,459,459,459,459,459,459,459,459,459,459,459,459,459,459,459,459,459,459,459,459,459,459,459,459,459,459,459,459,459,459,459,459,459,459,459,459,459,459,459,459,459,459,459,459,459,459,459,459,459,{"$f":"GX12","v":459},459,459,459,459,459,459,459,459,459,459,459,459,459,459,459,459,459,459,459,459,459,459,459,459,459,459,459,459,459,459,459,459,459,459,459,459,459,459,459,459,459,459,459,459,459,459,459,459,459,459,459,459,459,459,459,459,459,459,459]
[null,"PFL GT2",509,509,509,509,509,509,509,509,509,509,509,509,509,509,509,509,509,509,509,509,509,509,509,509,{"$f":"Z13","v":509},509,509,509,509,509,509,509,509,509,509,509,509,509,509,509,509,509,509,509,509,509,509,509,509,509,509,509,509,509,509,509,509,509,509,{"$f":"BI13","v":509},509,509,509,509,509,509,509,509,509,509,509,509,509,509,509,509,509,509,509,509,509,509,509,{"$f":"CG13","v":509},509,509,509,509,509,509,509,509,509,509,509,{"$f":"CS13-29","v":480},480,480,480,480,480,480,480,480,480,480,480,480,{"$f":"DF13-21","v":459},459,459,459,459,459,459,459,459,459,459,459,459,459,459,459,459,459,459,459,459,459,459,459,459,459,459,459,459,459,459,459,459,459,459,459,459,459,459,459,459,459,459,459,459,459,459,459,459,459,459,459,459,459,459,459,459,459,459,459,459,459,459,459,459,459,459,459,459,459,459,459,459,459,459,459,459,459,459,459,459,459,459,459,459,459,459,459,459,459,459,459,459,459,459,459,{"$f":"GX13","v":459},459,459,459,459,459,459,459,459,459,459,459,459,459,459,459,459,459,459,459,459,459,459,459,459,459,459,459,459,459,459,459,459,459,459,459,459,459,459,459,459,459,459,459,459,459,459,459,459,459,459,459,459,459,459,459,459,459,459,459]
[null,"PFL CT",0,0,0,0,0,0,0,0,0,0,0,0,0,0,0,0,0,0,0,0,0,0,0,0,{"$f":"Z14","v":0},0,0,0,0,0,0,0,0,0,0,0,0,0,0,0,0,0,0,0,0,0,0,0,0,0,0,0,0,0,0,0,0,0,0,{"$f":"BI14","v":0},0,0,0,0,0,0,0,0,0,0,0,0,0,0,0,0,0,0,0,0,0,0,0,{"$f":"CG14","v":0},0,0,0,0,0,0,0,0,0,0,0,0,0,0,0,0,0,0,0,0,0,0,0,0,0,0,0,0,0,0,0,0,0,0,0,0,0,0,0,0,0,0,0,0,0,0,0,0,0,0,0,0,0,0,0,0,0,0,0,0,0,0,0,0,0,0,0,0,0,0,0,0,0,0,0,0,0,0,0,0,0,0,0,0,0,0,0,0,0,0,0,0,0,0,0,0,0,0,0,0,0,0,0,0,0,0,0,0,0,0,0,0,0,0,0,0,0,0,0,0,{"$f":"GX14","v":0},0,0,0,0,0,0,0,0,0,0,0,0,0,0,0,0,0,0,0,0,0,0,0,0,0,0,0,0,0,0,0,0,0,0,0,0,0,0,0,0,0,0,0,0,0,0,0,0,0,0,0,0,0,0,0,0,0,0,0]
[null,"PFM2",1086,1086,{"$f":"D15-1086","v":0},0,0,{"$f":"G15+1609","v":1609},1609,1609,1609,1609,1609,1609,{"$f":"N15-33","v":1576},1576,1576,1576,1576,1576,1576,1576,1576,1576,1576,1576,{"$f":"Z15+34","v":1610},1610,1610,1610,1610,1610,1610,1610,1610,1610,1610,1610,1610,1610,1610,1610,1610,1610,1610,1610,1610,1610,1610,1610,1610,1610,1610,1610,1610,1610,1610,1610,1610,1610,1610,{"$f":"BI15-11","v":1599},1599,1599,1599,1599,1599,1599,1599,1599,1599,1599,1599,1599,1599,1599,1599,1599,1599,1599,1599,1599,1599,1599,1599,{"$f":"CG15-29","v":1570},1570,1570,1570,1570,1570,1570,1570,1570,1570,1570,1570,1570,1570,1570,1570,1570,1570,1570,1570,1570,1570,1570,1570,{"$f":"DE15-15","v":1555},{"$f":"DF15-65","v":1490},1490,1490,1490,1490,{"$f":"DK15","v":1490},1490,1490,1490,1490,1490,1490,1490,1490,1490,1490,1490,1490,1490,1490,1490,1490,1490,1490,1490,1490,1490,1490,1490,1490,1490,1490,1490,1490,1490,1490,{"$f":"EP15+1","v":1491},1491,1491,1491,1491,1491,1491,1491,1491,1491,1491,{"$f":"FA15","v":1491},{"$f":"FB15","v":1491},1491,{"$f":"FD15","v":1491},1491,{"$f":"FF15+36","v":1527},{"$f":"FG15+36","v":1563},{"$f":"FH15+36","v":1599},{"$f":"FI15+36","v":1635},{"$f":"FJ15+72","v":1707},1707,1707,1707,1707,1707,1707,1707,1707,1707,1707,1707,1707,1707,1707,1707,1707,1707,1707,1707,1707,1707,1707,1707,1707,1707,1707,1707,1707,1707,1707,1707,1707,1707,1707,1707,1707,1707,1707,1707,1707,1707,1707,1707,1707,1707,1707,1707,1707,1707,1707,1707,1707,1707,1707,1707,1707,1707,1707,1707,1707,1707,1707,1707,1707,1707,1707,1707,1707,1707,1707,1707,1707,1707,1707,1707,1707,1707,1707,1707,1707,1707,1707,1707,1707,1707,1707,1707,1707,1707,1707,1707,1707,1707,1707,1707,1707,1707,1707,1707]
[null,"PFM3",0,0,0,0,0,0,0,0,0,0,0,0,{"$f":"N16","v":0},0,0,0,0,{"$f":"S16+362","v":362},362,362,362,362,362,362,{"$f":"Z16+18","v":380},380,380,380,380,380,380,380,380,380,380,380,380,380,380,380,380,380,380,380,380,380,380,380,380,380,380,380,380,380,380,380,380,380,380,{"$f":"BI16-8","v":372},372,372,372,372,372,372,372,372,372,372,372,372,372,372,372,372,372,372,{"$f":"CB16","v":372},372,372,372,372,{"$f":"CG16-2","v":370},370,370,370,370,370,370,370,370,370,370,370,370,370,370,370,370,370,370,370,370,370,370,370,{"$f":"DE16-7","v":363},{"$f":"DF16-11","v":352},352,352,352,352,352,352,352,352,352,352,352,352,352,352,352,352,352,352,352,352,352,352,352,352,352,352,352,352,352,352,352,352,352,352,352,352,352,352,352,352,352,352,352,352,352,352,352,352,352,352,352,352,352,352,352,352,352,352,352,352,352,352,352,352,352,352,352,352,352,352,352,352,352,352,352,352,352,352,352,352,352,352,352,352,352,352,352,352,352,352,352,352,352,352,352,352,352,352,352,352,352,352,352,352,352,352,352,352,352,352,352,352,352,352,352,352,352,352,352,352,352,352,352,352,352,352,352,352,352,352,352,352,352,352,352,352,352,352,352,352,352,352,352,352,352,352,352,352,352,352,352,352,352,352,352]
[null,"PFM GT",769,769,769,769,769,769,769,769,769,769,769,769,769,769,769,769,769,769,769,769,769,769,769,769,{"$f":"Z17","v":769},769,769,769,769,769,769,769,769,769,769,769,769,769,769,769,769,769,769,769,769,769,769,769,769,769,769,769,769,769,769,769,769,769,769,{"$f":"BI17","v":769},769,769,769,769,769,769,769,769,769,769,769,769,769,769,769,769,769,769,769,769,769,769,769,{"$f":"CG17","v":769},769,769,769,769,769,769,769,769,769,769,769,769,{"$f":"CT17-49","v":720},720,720,720,720,720,720,720,720,720,720,{"$f":"DE17","v":720},{"$f":"DF17-10","v":710},710,710,710,710,710,710,710,710,710,710,710,710,710,710,710,710,710,710,710,710,710,710,710,710,710,710,710,710,710,710,710,710,710,710,710,710,710,710,710,710,710,710,710,710,710,710,710,710,710,710,710,710,710,710,710,710,710,710,710,710,710,710,710,710,710,710,710,710,710,710,710,710,710,710,710,710,710,710,710,710,710,710,710,710,710,710,710,710,710,710,710,710,710,710,710,710,710,710,710,710,710,710,710,710,710,710,710,710,710,710,710,710,710,710,710,710,710,710,710,710,710,710,710,710,710,710,710,710,710,710,710,710,710,710,710,710,710,710,710,710,710,710,710,710,710,710,710,710,710,710,710,710,710,710,710]
[null,"PJK1",130,130,130,130,130,130,130,130,130,130,130,130,130,130,130,130,130,130,130,130,130,130,130,130,{"$f":"Z18","v":130},130,130,130,130,130,130,130,130,130,130,130,130,130,130,130,130,130,130,130,130,130,130,130,130,130,130,{"$f":"BA18","v":130},{"$f":"BB18","v":130},130,130,130,130,130,130,{"$f":"BI18-5","v":125},125,125,125,125,125,125,125,125,125,125,125,125,125,125,125,{"$f":"BY18+3","v":128},128,128,128,128,128,128,128,{"$f":"CG18-3","v":125},125,125,125,125,125,125,125,125,125,125,125,125,125,125,125,125,125,125,125,125,125,125,125,{"$f":"DE18","v":125},125,125,125,125,125,125,125,125,125,125,125,125,125,125,125,125,125,125,125,125,125,125,125,125,{"$f":"ED18+5","v":130},130,130,130,130,130,130,130,130,130,130,130,130,130,130,130,130,130,130,130,130,130,130,130,130,130,130,130,130,130,130,130,130,130,130,130,130,130,130,130,130,130,130,130,130,130,130,130,130,130,130,130,130,130,130,130,130,130,130,130,130,130,130,130,130,130,130,130,130,130,130,130,130,130,130,130,130,130,130,130,130,130,130,130,130,130,130,130,130,130,130,130,130,130,130,130,130,130,130,130,130,130,130,130,130,130,130,130,130,130,130,130,130,130,130,130,130,130,130,130,130,130,130,130,130,130,130,130,130,130,130,130]
[null,"PJK2",130,130,130,130,130,130,130,130,130,130,130,130,130,130,130,130,130,130,130,130,130,130,130,130,{"$f":"Z19","v":130},130,130,130,130,130,130,130,130,130,130,130,{"$f":"AL19-18","v":112},112,{"$f":"AN19","v":112},112,112,112,112,112,112,112,112,112,112,112,112,{"$f":"AY19+18","v":130},{"$f":"BB19","v":130},130,130,130,130,130,130,{"$f":"BI19-5","v":125},125,125,125,125,125,125,125,125,125,125,125,125,125,125,125,{"$f":"BY19+3","v":128},128,128,128,128,128,128,128,{"$f":"CG19-3","v":125},125,125,125,125,125,125,125,125,125,125,125,125,125,125,125,125,125,125,125,125,125,125,125,{"$f":"DE19","v":125},125,125,125,125,125,125,125,125,125,125,125,125,125,125,125,125,125,125,125,125,125,125,125,125,{"$f":"ED19+5","v":130},130,130,130,130,130,130,130,130,130,130,130,130,130,130,130,130,130,130,130,130,130,130,130,130,130,130,130,130,130,130,130,130,130,130,130,130,130,130,130,130,130,130,130,130,130,130,130,130,130,130,130,130,130,130,130,130,130,130,130,130,130,130,130,130,130,130,130,130,130,130,130,130,130,130,130,130,130,130,130,130,130,130,130,130,130,130,130,130,130,130,130,130,130,130,130,130,130,130,130,130,130,130,130,130,130,130,130,130,130,130,130,130,130,130,130,130,130,130,130,130,130,130,130,130,130,130,130,130,130,130,130]
[null,"PMR1",826,826,826,826,826,826,826,826,826,826,826,826,{"$f":"N20+4","v":830},830,830,830,830,830,830,830,830,830,830,830,{"$f":"Z20","v":830},{"$f":"AA20","v":830},830,830,830,830,830,830,830,830,830,830,{"$f":"AL20","v":830},{"$f":"AM20","v":830},{"$f":"AN20","v":830},{"$f":"AO20","v":830},830,830,830,830,830,830,830,830,830,830,830,{"$f":"AY20","v":830},830,830,830,830,{"$f":"BF20","v":830},830,830,{"$f":"BG20+14","v":844},844,844,844,{"$f":"BM20","v":844},844,844,844,844,844,844,844,844,844,844,844,{"$f":"BY20-10","v":834},834,834,834,834,834,834,834,{"$f":"CG20-2","v":832},832,832,832,832,832,832,832,832,832,832,832,832,832,832,832,832,832,832,832,832,832,832,832,{"$f":"DE20","v":832},832,832,832,832,832,832,832,832,832,832,832,832,832,832,832,832,832,832,832,832,832,832,832,832,832,832,832,832,832,832,832,832,832,832,832,832,832,832,{"$f":"ER20","v":832},832,{"$f":"ET20-3","v":829},829,829,829,829,829,829,829,829,829,829,829,829,829,829,829,829,829,829,829,829,829,829,829,829,829,829,829,829,829,829,829,829,829,{"$f":"GB20","v":829},829,829,829,829,829,829,829,829,829,829,829,829,829,829,829,829,829,829,829,829,829,829,829,{"$f":"GZ20","v":829},829,829,829,829,829,829,829,829,829,829,829,829,829,829,829,829,829,829,829,829,829,829,829,829,829,829,829,829,829,829,829,829,829,829,829,829,829,829,829,829,829,829,829,829,829,829,829,829,829,829,829,829,829,829,829,829,829]
[null,"PMR2",812,812,812,812,812,812,812,812,812,812,812,812,{"$f":"N21","v":812},{"$f":"O21","v":812},812,812,812,812,812,812,812,812,812,812,{"$f":"Z21+17","v":829},829,829,829,829,829,829,829,829,829,829,829,{"$f":"AL21","v":829},829,829,829,829,829,829,829,829,829,829,829,829,829,829,829,829,829,829,829,{"$f":"BF21","v":829},829,829,{"$f":"BG21+14","v":843},{"$f":"BJ21+1","v":844},{"$f":"BK21","v":844},844,844,844,844,844,844,844,844,844,844,844,844,844,{"$f":"BY21-10","v":834},834,834,834,834,834,834,834,{"$f":"CG21-2","v":832},{"$f":"CH21","v":832},832,832,832,832,832,832,832,832,832,832,832,832,832,832,832,{"$f":"CX21","v":832},832,832,832,832,832,832,832,832,832,832,832,832,832,832,832,832,832,832,832,832,832,832,832,832,832,832,832,832,832,832,832,832,832,832,832,832,832,832,832,832,832,832,832,832,832,832,832,832,832,832,832,832,832,832,832,832,{"$f":"FC21-3","v":829},829,829,829,829,829,{"$f":"FI21","v":829},829,829,829,829,829,829,829,829,829,829,829,829,829,829,829,{"$f":"FY21","v":829},829,829,829,829,829,829,829,829,829,829,829,829,829,829,829,{"$f":"GO21","v":829},829,829,829,829,829,829,829,829,829,829,829,829,829,829,829,{"$f":"HE21","v":829},829,829,829,829,829,829,829,829,829,829,829,829,829,829,829,{"$f":"HU21","v":829},829,829,829,829,829,829,829,829,829,829,829,829,829,829,829,829,829,829,829,829,829,829,829,829,829,829,829,829,829,829,829,829,829,829,829,829]
[null,"PMG3",495,495,495,495,495,495,495,495,495,495,495,495,495,495,495,495,495,495,495,495,495,495,495,495,{"$f":"Z22","v":495},495,495,495,495,495,495,495,495,495,{"$f":"AJ22","v":495},{"$f":"AK22","v":495},{"$f":"AL22","v":495},495,495,495,495,495,495,495,495,495,495,495,{"$f":"AX22-24","v":471},471,471,471,471,471,471,{"$f":"BE22","v":471},471,471,471,{"$f":"BI22+32","v":503},{"$f":"BJ22","v":503},503,503,503,503,503,503,503,503,503,503,503,503,503,503,503,503,503,503,503,503,503,503,{"$f":"CG22-5","v":498},498,498,498,498,498,498,498,498,498,498,498,{"$f":"CS22","v":498},498,498,498,498,498,498,498,498,498,498,498,{"$f":"DE22-5","v":493},{"$f":"DF22-4","v":489},489,489,489,489,489,489,489,489,489,489,489,489,489,489,489,489,489,489,489,489,489,489,489,489,489,489,489,489,489,489,489,489,489,489,489,489,489,489,489,{"$f":"ET22","v":489},489,489,489,489,489,489,489,489,489,489,489,489,489,489,489,489,489,489,489,489,489,489,489,489,489,489,489,489,489,489,489,489,489,489,489,489,489,489,489,489,489,489,489,489,489,489,489,489,489,489,489,489,489,489,489,489,489,489,489,489,489,489,489,489,489,489,489,489,489,489,489,489,489,489,489,489,489,489,489,489,489,489,489,489,489,489,489,489,489,489,489,489,489,489,489,489,489,489,489,489,489,489,489,489,489,489,489,489,489,489,489,489,489,489,489]
[null,"PMG4",496,496,496,496,496,496,496,496,496,496,496,496,496,496,496,496,496,496,496,496,496,496,496,496,{"$f":"Z23","v":496},496,496,496,496,496,496,496,496,496,{"$f":"AJ23","v":496},{"$f":"AK23","v":496},{"$f":"AL23","v":496},496,496,496,496,496,496,496,496,496,496,496,{"$f":"AX23-24","v":472},472,472,472,472,472,472,472,472,472,472,{"$f":"BI23+32","v":504},{"$f":"BJ23-1","v":503},503,503,503,503,503,503,503,503,503,503,503,503,503,503,503,503,503,503,503,503,503,503,{"$f":"CG23-5","v":498},498,498,498,498,498,498,498,498,498,498,498,{"$f":"CS23","v":498},498,498,498,498,498,498,498,498,498,498,498,{"$f":"DE23-5","v":493},{"$f":"DF23-4","v":489},489,489,489,489,489,489,489,489,489,489,489,489,489,489,489,489,489,489,489,489,489,489,489,489,{"$f":"EE23","v":489},489,489,489,489,489,489,489,489,489,489,489,489,489,489,489,489,489,489,489,489,489,489,489,489,489,489,489,489,489,489,489,489,489,489,489,489,489,489,489,489,489,489,489,489,489,489,489,489,489,489,489,489,489,489,489,489,489,489,489,489,489,489,489,489,489,489,489,489,489,489,489,489,489,489,489,489,489,489,489,489,489,489,489,489,489,489,489,489,489,489,489,489,489,489,489,489,489,489,489,489,489,489,489,489,489,489,489,489,489,489,489,489,489,489,489,489,489,489,489,489,489,489,489,489,489,489,489,489,489,489]
[null,"PMG8",362,362,362,362,362,362,362,362,362,362,362,362,362,362,362,362,362,362,362,362,362,362,362,362,{"$f":"Z24","v":362},362,362,362,362,362,362,362,362,362,362,362,{"$f":"AL24","v":362},362,362,362,362,{"$f":"AQ24+835","v":1197},1197,1197,1197,1197,1197,1197,1197,1197,1197,{"$f":"AY24+8","v":1205},1205,1205,1205,1205,1205,1205,1205,{"$f":"BI24-25","v":1180},{"$f":"BJ24","v":1180},1180,1180,1180,1180,1180,1180,1180,1180,1180,1180,1180,{"$f":"BV24-10","v":1170},1170,1170,1170,1170,1170,1170,1170,1170,1170,1170,{"$f":"CG24-3","v":1167},1167,1167,1167,1167,1167,1167,1167,1167,1167,1167,1167,{"$f":"CS24+13","v":1180},1180,1180,1180,1180,1180,1180,1180,1180,1180,1180,1180,{"$f":"DE24-2","v":1178},{"$f":"DF24-16","v":1162},1162,1162,1162,1162,1162,1162,1162,1162,1162,1162,{"$f":"DQ24+57","v":1219},1219,1219,1219,1219,1219,1219,1219,1219,1219,1219,{"$f":"EB24+9","v":1228},{"$f":"EC24","v":1228},1228,1228,1228,1228,1228,1228,1228,1228,1228,1228,1228,1228,{"$f":"EP24-1","v":1227},1227,1227,1227,1227,1227,1227,1227,1227,1227,1227,1227,1227,1227,1227,1227,1227,1227,1227,1227,1227,1227,1227,1227,1227,1227,1227,1227,1227,{"$f":"FS24+10","v":1237},{"$f":"FT24+5","v":1242},1242,1242,1242,1242,1242,1242,1242,1242,1242,1242,1242,{"$f":"GF24+5","v":1247},1247,1247,1247,1247,1247,1247,1247,1247,1247,1247,1247,1247,1247,1247,1247,1247,1247,1247,1247,1247,1247,1247,1247,1247,1247,1247,1247,1247,1247,1247,1247,1247,1247,1247,1247,1247,1247,1247,1247,1247,1247,1247,1247,1247,1247,1247,1247,1247,1247,1247,1247,1247,1247,1247,1247,1247,1247,1247,1247,1247,1247,1247,1247,1247,1247,1247,1247,1247,1247,1247,1247,1247,1247,1247,1247,1247,1247]
[null,"PMT1",816,816,816,816,816,816,816,816,816,816,816,816,{"$f":"N25+1","v":817},817,817,817,817,817,817,817,817,817,817,817,{"$f":"Z25+4","v":821},821,821,821,821,821,821,821,821,821,821,821,{"$f":"AL25-26","v":795},795,{"$f":"AN25","v":795},795,795,795,795,795,795,795,795,795,{"$f":"AX25+22","v":817},817,817,{"$f":"BA25","v":817},{"$f":"BB25","v":817},817,817,817,817,817,817,{"$f":"BI25+14","v":831},831,831,831,831,831,831,831,831,831,831,831,831,831,831,831,831,831,831,831,831,831,831,831,{"$f":"CG25-9","v":822},822,822,822,822,822,822,822,822,822,822,822,822,822,822,822,822,822,822,822,822,822,822,822,822,822,822,822,822,822,822,822,822,822,822,822,822,822,822,822,822,822,822,822,822,822,822,822,822,822,822,822,822,822,822,{"$f":"EJ25","v":822},{"$f":"EK25-3","v":819},819,819,819,819,819,819,819,819,819,819,819,819,819,819,819,819,819,819,819,819,819,819,819,819,819,819,819,819,819,819,819,819,819,819,819,819,819,819,819,819,819,819,819,819,819,819,819,819,819,819,819,819,819,819,819,819,819,819,819,819,819,819,819,819,819,819,819,819,819,819,819,819,819,819,819,819,819,819,819,819,819,819,819,819,819,819,819,819,819,819,819,819,819,819,819,819,819,819,819,819,819,819,819,819,819,819,819,819,819,819,819,819,819,819,819,819,819,819,819,819,819,819,819,819]
[null,"PMT2",817,817,817,817,817,817,817,817,817,817,817,817,{"$f":"N26","v":817},817,817,817,817,817,817,817,817,817,817,817,{"$f":"Z26+4","v":821},821,821,821,821,821,821,821,821,821,821,821,{"$f":"AL26-11","v":810},810,{"$f":"AN26","v":810},810,810,810,810,810,810,810,810,810,{"$f":"AX26+7","v":817},817,817,817,817,817,817,817,817,817,817,{"$f":"BI26+14","v":831},831,831,831,831,831,831,831,831,831,831,831,831,831,831,831,831,831,831,831,831,831,831,831,{"$f":"CG26-9","v":822},822,822,822,822,822,822,822,822,822,822,822,822,822,822,822,822,822,822,822,822,822,822,822,822,822,822,822,822,822,822,822,822,822,822,822,822,822,822,822,822,822,{"$f":"DW26","v":822},{"$f":"DX26-3","v":819},819,819,819,819,819,819,819,819,819,819,819,819,819,819,819,819,819,819,819,819,819,819,819,819,819,819,819,819,819,819,819,819,819,819,819,819,819,819,819,819,819,819,819,819,819,819,819,819,819,819,819,819,819,819,819,819,819,819,819,819,819,819,819,819,819,819,819,819,819,819,819,819,819,819,819,819,819,819,819,819,819,819,819,819,819,819,819,819,819,819,819,819,819,819,819,819,819,819,819,819,819,819,819,819,819,819,819,819,819,819,819,819,819,819,819,819,819,819,819,819,819,819,819,819,819,819,819,819,819,819,819,819,819,819,819,819,819]
[null,"PMT3",0,0,0,0,0,0,0,0,0,0,0,0,0,0,0,0,0,0,0,0,0,0,0,0,{"$f":"Z27","v":0},0,0,0,0,0,0,0,0,0,0,0,{"$f":"AL27","v":0},0,{"$f":"AN27","v":0},0,0,{"$f":"AQ27+1197","v":1197},1197,1197,1197,1197,1197,1197,1197,1197,1197,{"$f":"AY27+7","v":1204},1204,1204,1204,1204,1204,1204,1204,{"$f":"BI27-7","v":1197},1197,1197,1197,1197,1197,1197,1197,1197,1197,1197,1197,1197,1197,1197,1197,1197,1197,1197,1197,1197,1197,1197,1197,{"$f":"CG27-10","v":1187},1187,1187,1187,1187,1187,1187,1187,1187,1187,1187,1187,1187,1187,1187,1187,1187,1187,1187,1187,1187,1187,1187,1187,{"$f":"DE27-4","v":1183},{"$f":"DF27-15","v":1168},1168,1168,1168,1168,1168,1168,1168,1168,1168,1168,1168,1168,1168,1168,1168,1168,1168,1168,1168,1168,1168,1168,1168,1168,1168,1168,1168,1168,1168,1168,1168,1168,1168,1168,1168,{"$f":"EP27+30","v":1198},1198,{"$f":"ER27","v":1198},1198,1198,{"$f":"EU27+10+11+9","v":1228},{"$f":"EV27","v":1228},{"$f":"EW27+5","v":1233},1233,1233,1233,1233,1233,1233,1233,1233,1233,1233,1233,1233,1233,1233,1233,1233,1233,1233,1233,1233,1233,1233,1233,1233,{"$f":"FV27+1","v":1234},{"$f":"FW27","v":1234},1234,1234,1234,1234,1234,1234,{"$f":"GD27+1","v":1235},1235,1235,1235,1235,1235,1235,1235,1235,1235,1235,1235,1235,1235,1235,1235,1235,1235,1235,1235,1235,1235,1235,1235,1235,1235,1235,1235,1235,1235,1235,1235,1235,1235,1235,1235,1235,1235,1235,1235,1235,1235,1235,1235,1235,1235,1235,1235,1235,1235,1235,1235,1235,1235,1235,1235,1235,1235,1235,1235,1235,1235,1235,1235,1235,1235,1235,1235,1235,1235,1235,1235,1235,1235,1235,1235,1235,1235,1235,1235]
[null,"PPE1",222,222,222,222,222,222,222,{"$f":"I28","v":222},222,222,222,222,222,222,222,222,222,222,222,222,222,222,222,222,{"$f":"Z28","v":222},{"$f":"AA28","v":222},222,222,222,222,222,222,222,222,222,222,{"$f":"AL28-2","v":220},220,{"$f":"AN28","v":220},220,220,220,220,220,220,220,220,220,220,220,220,220,220,220,220,220,220,220,220,{"$f":"BI28+2","v":222},222,222,222,222,222,222,222,222,222,222,222,222,222,222,222,222,222,222,222,222,222,222,222,{"$f":"CG28-8","v":214},214,214,214,214,214,214,214,214,214,214,214,214,214,214,214,214,214,214,214,214,214,214,214,214,214,214,214,214,{"$f":"DJ28","v":214},214,214,214,214,214,214,214,214,214,214,214,214,214,214,214,{"$f":"DZ28","v":214},214,214,{"$f":"EC28-214","v":0},0,{"$f":"EE28","v":0},0,0,0,0,0,0,0,0,0,0,0,0,0,0,0,{"$f":"EU28","v":0},0,0,0,0,0,0,0,0,0,0,0,0,0,0,0,0,0,0,0,0,0,0,0,0,0,0,0,0,0,0,0,0,0,0,0,0,0,0,0,0,0,0,0,0,0,0,0,0,0,0,0,0,0,0,0,0,0,0,0,0,0,0,0,0,0,0,0,0,0,0,0,0,0,0,0,0,0,0,0,0,0,0,0,0,0,0,0,0,0,0,0,0,0,0,0,0,0,0,0,0,0,0,0,0,0,0,0,0,0,0,0,0,0,0]
[null,"PPE2",222,222,222,222,222,222,222,222,222,222,222,222,222,222,222,222,222,222,222,222,222,222,222,222,{"$f":"Z29","v":222},{"$f":"AA29","v":222},222,222,222,222,222,222,222,222,222,222,{"$f":"AL29-2","v":220},220,220,220,220,220,220,220,220,220,220,220,220,220,220,220,220,220,220,220,220,220,220,{"$f":"BI29+2","v":222},222,222,222,222,222,222,222,222,222,222,222,222,222,222,222,222,222,222,222,222,222,222,222,{"$f":"CG29-8","v":214},214,214,214,214,214,214,214,214,214,214,214,214,214,214,214,214,214,214,214,214,214,214,214,214,214,214,214,214,214,214,214,214,214,214,214,214,214,214,214,214,214,214,214,214,214,214,214,{"$f":"EC29-214","v":0},0,{"$f":"EE29","v":0},0,0,0,0,0,0,0,0,0,0,0,0,0,0,0,0,0,0,0,0,0,0,0,0,0,0,0,0,0,0,0,0,0,0,0,0,0,0,0,0,0,0,0,0,0,0,0,0,0,0,0,0,0,0,0,0,0,0,0,0,0,0,0,0,0,0,0,0,0,0,0,0,0,0,0,0,0,0,0,0,0,0,0,0,0,0,0,0,0,0,0,0,0,0,0,0,0,0,0,0,0,0,0,0,0,0,0,0,0,0,0,0,0,0,0,0,0,0,0,0,0,0,0,0,0,{"$f":"JA29","v":0},0,0,0,0]
[null,"PPE3",392,392,392,392,392,392,392,392,392,392,392,392,392,392,392,392,392,392,392,392,392,392,392,392,{"$f":"Z30","v":392},{"$f":"AA30","v":392},392,392,392,392,392,392,392,392,392,392,{"$f":"AL30-2","v":390},390,390,390,390,390,390,390,390,390,390,390,{"$f":"AX30-8","v":382},382,382,382,382,382,382,382,382,382,382,{"$f":"BI30+7","v":389},389,389,389,389,389,389,389,389,389,389,389,389,389,389,389,389,389,389,389,389,389,389,389,{"$f":"CG30","v":389},389,389,389,389,389,389,389,389,389,389,389,389,389,389,389,389,389,389,389,389,389,389,389,389,389,389,389,389,389,389,389,389,389,389,389,389,389,389,389,389,389,389,389,389,389,389,389,389,389,{"$f":"EE30-389","v":0},0,0,0,0,0,0,0,0,0,0,0,0,0,0,0,0,0,0,0,0,0,0,0,0,0,0,0,0,0,0,0,0,0,0,0,0,0,0,0,0,0,0,0,0,0,0,0,0,0,0,0,0,0,0,0,0,0,0,0,0,0,0,0,0,0,0,0,0,0,0,0,0,0,0,0,0,0,0,0,0,0,0,0,0,0,0,0,0,0,0,0,0,0,0,0,0,0,0,0,0,0,0,0,0,0,{"$f":"IG30","v":0},0,0,0,0,0,0,0,0,0,0,0,0,0,0,0,0,0,0,0,0,0,0,0,0]
[null,"PPE4",408,408,408,408,408,408,408,408,408,408,408,408,{"$f":"N31-28","v":380},380,380,380,380,380,380,380,380,380,380,380,{"$f":"Z31+23","v":403},{"$f":"AA31","v":403},403,403,403,403,403,403,403,403,403,403,{"$f":"AL31-13","v":390},390,390,390,390,390,390,390,390,390,390,390,390,390,390,390,390,390,390,390,390,390,390,{"$f":"BI31+4","v":394},394,394,394,394,394,394,394,394,394,394,394,394,394,394,394,394,394,394,394,394,394,394,394,394,394,394,394,394,394,394,394,394,394,394,394,394,394,394,394,394,394,394,394,394,394,394,394,{"$f":"DE31-18","v":376},376,376,376,376,376,376,376,376,376,376,376,376,376,376,376,376,376,376,376,376,376,376,376,376,376,{"$f":"EE31-376","v":0},0,0,0,0,0,0,0,0,0,0,0,0,0,0,0,0,0,0,0,0,0,0,0,0,0,0,0,0,0,0,0,0,0,0,0,0,0,0,0,0,0,0,0,0,0,0,0,0,0,0,0,0,0,0,0,0,0,0,0,0,0,0,0,0,0,0,0,0,0,0,0,0,0,0,0,0,0,0,0,0,0,0,0,0,0,0,0,0,0,0,0,0,0,{"$f":"HU31","v":0},0,0,0,0,0,0,0,0,0,0,0,0,0,0,0,0,0,0,0,0,0,0,0,0,0,0,0,0,0,0,0,0,0,0,0,0]
[null,"PPE5",0,{"$f":"C32","v":0},0,0,0,0,0,0,0,0,0,0,0,0,0,0,0,0,0,0,0,0,0,0,{"$f":"Z32","v":0},0,0,0,0,0,0,0,0,{"$f":"AI32","v":0},0,0,{"$f":"AL32","v":0},0,0,0,0,0,0,0,0,0,0,0,0,0,0,0,0,0,0,0,0,0,0,{"$f":"BI32","v":0},0,0,0,0,0,0,0,0,0,0,0,0,0,0,0,0,0,0,0,0,0,0,0,0,0,0,0,0,0,0,0,0,0,0,0,0,0,0,0,0,0,0,0,0,0,0,0,0,0,0,0,0,0,0,0,0,0,0,0,0,0,0,0,0,0,0,0,0,0,0,0,0,0,0,0,0,0,0,0,0,0,0,0,0,0,0,0,0,0,0,0,0,0,0,0,0,0,0,0,0,0,0,0,0,0,0,0,0,0,0,0,0,0,1346,1346,1346,1346,1346,1346,1346,1346,1346,1346,1346,1346,1346,1346,1346,1346,1346,1346,1346,1346,1346,1346,1346,1346,1346,1346,1346,1346,1346,1346,1346,1346,1346,1346,1346,1346,1346,1346,1346,1346,1346,1346,1346,1346,1346,1346,1346,1346,1346,1346,1346,1346,1346,1346,1346,1346,1346,1346,1346,1346,1346,1346,1346,1346,1346,1346,1346,1346,1346,1346,1346,1346,1346,1346,1346,1346,1346,1346,1346,1346,1346,1346,1346,1346,1346,1346,1346,1346,1346,1346,1346]
[null,"PPE GT",509,509,509,509,509,509,509,509,509,509,509,509,509,509,509,509,509,509,509,509,509,509,509,509,{"$f":"Z33","v":509},509,509,509,509,509,509,509,509,{"$f":"AI33","v":509},509,509,{"$f":"AL33","v":509},509,509,509,509,509,509,509,509,509,509,509,509,509,509,509,509,509,509,509,509,509,509,{"$f":"BI33","v":509},509,509,509,509,509,509,509,509,509,509,509,509,509,509,509,{"$f":"BY33","v":509},509,509,509,509,509,509,509,509,509,509,509,509,509,509,509,509,509,509,509,{"$f":"CS33-29","v":480},480,480,480,480,480,480,480,480,480,480,480,480,{"$f":"DF33-21","v":459},459,459,459,459,459,459,459,459,459,459,459,459,459,459,459,459,459,459,459,459,459,459,459,459,459,459,459,459,459,459,459,459,459,459,459,459,459,459,459,459,459,459,459,459,459,459,459,459,459,459,459,459,459,459,459,459,459,459,459,459,459,459,459,459,459,459,459,459,459,459,459,459,459,459,459,459,459,459,459,459,459,459,459,459,459,459,459,459,459,459,459,459,459,459,459,{"$f":"GX33","v":459},459,459,459,459,459,459,459,459,459,459,459,459,459,459,459,459,459,459,459,459,459,459,459,459,459,459,459,459,459,459,459,459,459,459,459,459,459,459,459,459,459,459,459,459,459,459,459,459,459,459,459,459,459,459,459,459,459,459,459]
[null,"PPN1",297,297,297,297,297,297,297,297,297,297,297,297,297,297,297,297,297,297,297,297,297,297,297,297,{"$f":"Z34-11","v":286},286,286,286,286,286,286,286,286,286,286,286,{"$f":"AL34","v":286},286,286,286,286,286,286,286,286,286,286,286,{"$f":"AX34-4","v":282},282,282,282,282,282,282,282,282,282,282,{"$f":"BI34+1","v":283},283,283,283,283,283,283,283,283,283,283,283,283,{"$f":"BV34+4","v":287},{"$f":"BW34","v":287},287,287,287,287,287,287,287,287,287,{"$f":"CG34-7","v":280},280,280,280,280,280,280,280,280,280,280,280,{"$f":"CS34-12","v":268},268,268,268,268,268,268,268,268,268,268,268,268,{"$f":"DF34-3","v":265},265,265,265,265,265,265,265,265,265,265,265,265,265,265,265,265,265,265,265,265,265,265,265,265,265,265,265,265,265,265,265,265,265,265,265,{"$f":"EP34-6","v":259},259,259,259,259,259,259,259,259,259,259,{"$f":"FA34-259","v":0},{"$f":"FB34","v":0},0,0,0,0,0,0,0,0,0,0,0,0,0,0,0,0,0,0,0,0,0,0,0,0,0,0,0,0,0,0,0,0,0,0,0,{"$f":"GL34","v":0},0,0,0,0,0,0,0,0,0,0,0,0,0,0,0,0,0,0,0,0,0,0,0,0,0,0,0,0,0,0,0,0,0,0,0,0,0,0,0,0,0,0,0,0,0,0,0,0,0,0,0,0,0,0,0,0,0,0,0,0,0,0,0,0,0,0,0,0,0,0,0]
[null,"PPN2",297,297,297,297,297,297,297,297,297,297,297,297,297,297,297,297,297,297,297,297,297,297,297,297,{"$f":"Z35-11","v":286},{"$f":"AA35","v":286},286,286,286,286,286,286,286,{"$f":"AI35","v":286},{"$f":"AJ35","v":286},{"$f":"AK35","v":286},{"$f":"AL35","v":286},286,286,286,286,286,286,286,286,286,286,286,286,286,286,286,286,286,286,286,286,286,286,{"$f":"BI35+1","v":287},{"$f":"BJ35-4","v":283},283,283,283,283,283,283,283,283,283,283,283,{"$f":"BV35+4","v":287},287,287,287,287,287,287,287,287,287,287,{"$f":"CG35-7","v":280},280,280,280,280,280,280,280,280,280,280,280,{"$f":"CS35-12","v":268},268,268,268,268,268,268,268,268,268,268,268,268,{"$f":"DF35-3","v":265},265,265,265,265,265,265,265,265,265,265,265,265,265,265,265,265,265,265,265,265,265,265,265,265,265,265,265,265,265,265,265,265,265,265,265,{"$f":"EP35-6","v":259},259,259,259,259,259,259,259,259,259,259,{"$f":"FA35-259","v":0},{"$f":"FB35","v":0},0,0,0,0,0,0,0,0,0,0,0,0,0,0,0,0,0,0,0,0,0,0,0,0,0,0,0,0,0,0,0,0,0,0,0,{"$f":"GL35","v":0},0,0,0,0,0,0,0,{"$f":"GT35","v":0},{"$f":"GU35","v":0},0,0,0,0,0,0,0,{"$f":"HC35","v":0},{"$f":"HD35","v":0},{"$f":"HE35","v":0},{"$f":"HF35","v":0},{"$f":"HG35","v":0},0,0,0,0,0,0,0,0,0,0,0,0,0,0,0,0,0,0,0,0,0,0,0,0,0,0,0,0,0,0,0,0,0,0,{"$f":"IP35","v":0},{"$f":"IQ35","v":0},0,0,0,0,0,0,0,0,0,0,{"$f":"JB35","v":0},{"$f":"JC35","v":0},0,0]
[null,"PRV3",283,283,283,283,283,283,283,283,283,283,283,283,283,283,283,283,283,283,283,283,283,283,283,283,283,283,283,283,283,283,283,283,283,283,283,283,{"$f":"AL36-9","v":274},274,274,274,274,274,274,274,274,274,274,274,274,274,274,274,274,274,274,274,274,274,274,{"$f":"BI36+6","v":280},{"$f":"BJ36","v":280},280,280,280,280,280,280,280,280,280,280,280,280,280,280,280,280,280,280,280,280,280,280,280,280,280,280,280,280,280,280,280,280,280,280,280,280,280,280,280,280,280,280,280,280,280,280,280,280,{"$f":"DG36-280","v":0},0,0,0,0,0,0,0,0,0,0,0,0,0,0,0,0,0,0,0,0,0,0,0,0,0,0,0,0,0,0,0,0,0,0,0,0,0,0,0,0,0,0,0,0,0,0,0,0,0,0,0,0,0,0,0,0,0,0,0,0,0,0,0,0,0,0,0,0,0,0,0,0,0,0,0,0,0,0,0,0,0,0,0,0,0,0,0,0,0,0,0,0,0,0,0,0,0,0,0,0,0,{"$f":"HE36","v":0},0,0,0,0,0,0,0,0,0,0,0,0,0,0,0,0,0,0,0,0,0,0,0,0,0,0,0,0,0,0,0,0,0,0,0,0,0,0,0,0,0,0,0,0,0,0,0,0,0,0,0,0]
[null,"PRV4",286,286,286,286,286,286,286,286,286,286,286,286,286,286,286,286,286,286,286,286,286,286,286,286,286,286,286,286,286,{"$f":"AE37","v":286},286,286,286,286,286,286,{"$f":"AL37","v":286},286,286,286,286,286,286,286,286,286,286,286,286,286,286,286,286,286,286,286,286,286,286,{"$f":"BI37+5","v":291},291,291,291,291,291,291,291,291,291,291,291,291,291,291,291,291,291,291,291,291,291,291,291,291,291,291,291,291,291,291,291,291,291,291,291,291,291,291,291,291,291,291,291,291,291,291,291,291,{"$f":"DF37","v":291},{"$f":"DG37-291","v":0},0,0,0,0,0,0,0,0,0,0,0,0,0,0,0,0,0,0,0,0,0,0,0,0,0,0,0,0,0,0,0,0,0,0,0,0,0,0,0,0,0,0,0,0,0,0,0,0,0,0,0,0,0,0,{"$f":"FJ37","v":0},0,0,0,0,0,0,0,0,0,0,0,0,0,0,0,{"$f":"FZ37","v":0},0,0,0,0,0,0,0,0,0,0,0,0,0,0,0,{"$f":"GP37","v":0},0,0,0,0,0,0,0,0,0,0,0,0,0,0,0,0,0,0,0,0,0,0,0,0,0,0,{"$f":"HQ37","v":0},0,0,0,0,0,0,0,0,0,0,0,0,0,0,0,0,0,0,0,0,0,0,0,0,0,0,0,0,0,0,0,0,0,0,0,0,0,0,0,0]
[null,"PRV5",0,0,0,0,0,0,0,0,0,0,0,0,0,0,0,0,0,0,{"$f":"T38","v":0},0,0,0,0,0,0,0,0,0,0,0,0,0,0,0,0,0,{"$f":"AL38","v":0},0,0,0,0,0,{"$f":"AR38","v":0},0,0,0,0,0,0,0,0,0,0,0,0,0,0,0,{"$f":"BH38","v":0},{"$f":"BI38","v":0},0,0,0,0,0,0,0,0,0,0,0,0,0,0,0,0,0,0,0,0,0,0,0,0,0,0,0,0,0,0,0,0,0,0,0,0,0,0,0,0,{"$f":"CX38","v":0},0,0,0,0,0,0,0,0,0,0,0,0,0,0,0,0,0,0,0,0,0,0,0,0,0,0,0,0,0,0,0,0,0,0,0,0,0,0,0,0,0,0,0,0,0,0,{"$f":"ES38+1344","v":1344},1344,1344,1344,1344,1344,1344,1344,1344,1344,1344,1344,1344,{"$f":"FF38","v":1344},1344,1344,1344,1344,1344,1344,1344,1344,1344,1344,1344,1344,1344,1344,1344,1344,1344,1344,1344,1344,1344,1344,1344,1344,1344,1344,1344,1344,1344,1344,1344,1344,1344,1344,1344,1344,1344,1344,1344,1344,1344,1344,1344,1344,1344,1344,1344,1344,1344,1344,1344,1344,1344,1344,1344,1344,1344,{"$f":"HL38","v":1344},1344,1344,1344,1344,1344,1344,1344,1344,1344,1344,1344,1344,1344,1344,1344,1344,1344,1344,1344,1344,1344,1344,1344,1344,1344,1344,1344,1344,1344,1344,1344,1344,1344,1344,1344,1344,1344,{"$f":"IX38+14","v":1358},1358,{"$f":"IZ38+14","v":1372},{"$f":"JA38","v":1372},{"$f":"JB38","v":1372},{"$f":"JC38","v":1372},{"$f":"JD38+14","v":1386},1386]
[null,"PSC",0,0,0,0,0,0,0,0,0,0,0,0,0,0,0,0,0,0,0,0,0,0,0,0,0,0,0,0,0,0,0,0,0,0,0,0,{"$f":"AL39","v":0},0,0,0,0,0,0,0,0,0,0,0,0,0,0,0,0,0,0,0,0,0,0,{"$f":"BI39","v":0},0,0,0,0,0,0,0,0,0,0,0,0,0,0,0,0,0,0,0,0,0,0,0,0,0,0,0,0,0,0,0,0,{"$f":"CP39","v":0},0,0,0,0,0,0,{"$f":"CW39+10","v":10},10,10,10,10,10,10,10,10,10,10,10,10,10,10,10,10,10,10,10,10,10,10,10,10,10,10,10,10,10,10,10,10,10,10,{"$f":"EF39","v":10},10,10,10,10,10,10,10,10,10,10,10,10,10,10,10,10,10,10,10,10,10,10,10,10,10,10,10,10,10,10,10,10,10,10,10,10,10,10,10,10,10,10,10,10,10,10,10,10,10,10,10,10,10,10,10,10,10,10,10,10,10,10,10,10,10,10,10,10,10,10,10,10,10,10,10,10,10,10,10,10,10,10,10,10,10,10,10,10,10,10,10,10,10,10,10,10,10,10,10,10,10,10,10,10,10,10,10,10,10,10,10,10,10,10,10,10,10,10,10,10,10,10,10,10,10,10,10,10,10]
[null,"PSH4",666,666,666,666,666,666,666,666,666,666,666,666,666,666,666,666,666,666,666,666,666,666,666,666,666,666,666,666,666,666,666,666,666,666,666,666,{"$f":"AL40-24","v":642},642,642,642,642,642,642,642,642,642,642,642,{"$f":"AX40","v":642},642,642,{"$f":"AY40-3","v":639},639,639,639,639,639,639,639,{"$f":"BI40+13","v":652},652,652,652,652,652,652,652,652,652,652,652,652,652,652,652,652,652,652,652,652,652,652,652,652,652,652,652,652,652,652,652,652,652,652,652,652,652,652,652,652,652,652,652,652,652,652,652,652,652,652,652,652,652,652,{"$f":"DL40+26","v":678},678,678,678,678,678,678,678,678,678,{"$f":"DV40-28","v":650},650,650,650,650,650,650,650,{"$f":"ED40+1","v":651},651,651,651,651,651,651,651,651,651,651,651,651,651,651,651,651,651,651,651,651,651,651,651,651,651,651,651,651,651,651,651,651,651,651,651,651,651,651,651,651,651,651,651,651,651,651,651,651,651,651,651,651,651,651,651,651,651,651,651,651,651,651,651,651,651,651,651,651,651,651,651,651,651,651,651,651,651,651,651,651,651,651,651,651,651,651,651,651,651,651,651,651,651,651,651,651,651,651,651,651,651,651,651,651,651,651,651,651,651,651,651,651,651,651,651,651,651,651,651,651,651,651,651,651,651,651,651,651,651,651,651]
[null,"PSL1",853,853,853,853,853,853,853,853,853,853,853,853,853,853,853,853,853,853,853,853,853,853,853,853,853,853,853,853,853,853,853,853,853,853,853,853,{"$f":"AL41","v":853},853,853,853,853,853,853,853,853,853,853,853,853,853,853,{"$f":"BA41","v":853},853,853,853,853,853,853,853,{"$f":"BI41","v":853},853,853,853,853,853,853,853,853,853,853,853,853,853,853,853,853,853,853,853,853,853,853,853,853,853,853,853,853,853,853,853,853,853,853,853,853,853,853,853,853,853,853,853,853,853,853,853,853,853,853,853,853,853,853,853,853,853,853,853,853,853,853,853,{"$f":"DU41","v":853},{"$f":"DV41","v":853},853,{"$f":"DX41","v":853},{"$f":"DY41+148","v":1001},1001,1001,1001,{"$f":"EC41+2","v":1003},1003,1003,1003,{"$f":"EG41","v":1003},1003,1003,1003,1003,1003,1003,1003,1003,1003,1003,1003,1003,1003,1003,1003,1003,1003,1003,1003,1003,1003,1003,1003,1003,1003,1003,1003,1003,1003,1003,1003,1003,1003,1003,1003,1003,1003,1003,1003,1003,1003,1003,1003,1003,1003,1003,1003,1003,1003,1003,1003,1003,1003,1003,1003,1003,1003,1003,1003,1003,1003,1003,1003,1003,1003,1003,1003,1003,1003,1003,1003,1003,1003,1003,1003,1003,1003,1003,1003,1003,1003,1003,1003,1003,1003,1003,1003,1003,1003,1003,1003,1003,1003,1003,1003,1003,1003,1003,1003,1003,1003,1003,1003,1003,1003,1003,1003,1003,1003,1003,1003,1003,1003,1003,1003,1003,1003,1003,1003,1003,1003,1003,1003,1003,1003,1003,1003,1003]
[null,"PSL2",726,726,726,726,726,726,726,726,726,726,726,726,726,726,726,726,726,726,726,726,726,726,726,726,726,726,726,726,726,726,726,726,726,726,726,726,{"$f":"AL42","v":726},726,726,726,726,726,726,726,726,726,726,726,726,726,726,{"$f":"BA42","v":726},726,726,726,726,726,726,726,{"$f":"BI42","v":726},726,726,726,726,726,726,726,726,726,726,726,726,726,726,726,726,726,726,726,726,726,726,726,726,726,726,726,726,726,726,726,726,726,726,726,726,726,726,726,726,726,726,726,726,726,726,726,726,726,726,726,{"$f":"DI42+29","v":755},755,755,755,755,755,755,755,{"$f":"DQ42+2","v":757},757,757,757,757,757,757,757,757,757,757,{"$f":"EB42","v":757},{"$f":"EC42+113-8","v":862},862,862,862,{"$f":"EG42-2","v":860},860,860,860,860,860,860,860,860,860,860,860,860,860,860,860,860,860,860,860,860,860,860,860,860,860,860,860,860,860,860,860,860,860,860,860,860,860,860,860,860,860,860,860,860,860,860,860,860,860,860,860,860,860,860,860,860,860,860,860,860,860,860,860,860,860,860,860,860,860,860,860,860,860,860,860,860,860,860,860,860,860,860,860,860,860,860,860,860,860,860,860,860,860,860,860,860,860,860,860,860,860,860,860,860,860,860,860,860,860,860,860,860,860,860,860,860,860,860,860,860,860,860,860,860,860,860,860,860]
[null,"PSN3",144,144,144,144,144,144,144,144,144,144,144,144,{"$f":"N43-2","v":142},142,142,142,142,142,142,142,142,142,142,142,142,142,142,142,142,142,142,142,142,142,142,142,{"$f":"AL43","v":142},142,142,142,142,142,142,142,142,142,142,142,142,142,142,{"$f":"BA43","v":142},142,142,142,142,142,142,142,{"$f":"BI43-2","v":140},140,140,140,140,140,140,140,140,140,140,140,140,140,140,140,140,140,140,140,140,140,140,140,140,140,140,140,140,140,140,140,140,140,140,140,140,140,140,140,140,140,140,140,140,140,140,140,140,140,140,140,140,140,140,140,140,140,140,140,140,140,140,140,140,140,140,140,140,140,140,140,{"$f":"EC43-140","v":0},0,0,0,0,0,0,0,0,0,0,0,0,0,0,0,0,0,0,0,0,0,0,0,0,0,0,0,0,0,0,0,0,0,0,0,0,0,0,0,0,0,0,0,0,0,0,0,0,0,0,0,0,0,0,0,0,0,0,0,0,0,0,0,0,0,0,0,0,0,0,0,0,0,0,0,0,0,0,0,0,0,0,0,0,0,0,0,0,0,0,0,0,0,0,0,0,0,0,0,0,0,0,0,0,0,0,0,0,0,0,0,0,0,0,0,0,0,0,0,0,0,0,0,0,0,0,0,0,0,0,0,0]
[null,"PSR4",374,374,374,{"$f":"E44-374","v":0},0,0,0,0,0,0,0,0,{"$f":"N44","v":0},0,0,0,{"$f":"R44+1065","v":1065},1065,1065,1065,1065,1065,1065,1065,{"$f":"Z44+9","v":1074},1074,1074,1074,1074,1074,1074,1074,1074,1074,1074,1074,{"$f":"AL44-29","v":1045},1045,1045,1045,1045,1045,1045,1045,1045,1045,1045,1045,{"$f":"AX44","v":1045},1045,1045,{"$f":"BA44","v":1045},1045,1045,{"$f":"BD44+14","v":1059},1059,1059,1059,1059,{"$f":"BI44+8","v":1067},1067,1067,1067,1067,1067,1067,1067,1067,1067,1067,1067,1067,1067,1067,1067,1067,1067,1067,1067,1067,1067,1067,1067,{"$f":"CG44-27","v":1040},1040,1040,1040,1040,1040,1040,1040,1040,1040,1040,1040,1040,1040,1040,1040,1040,1040,1040,1040,1040,1040,1040,1040,1040,1040,1040,1040,1040,1040,1040,1040,1040,{"$f":"DN44","v":1040},1040,1040,1040,1040,1040,1040,1040,1040,1040,1040,1040,1040,{"$f":"EA44+7","v":1047},{"$f":"EB44","v":1047},{"$f":"EC44+15","v":1062},1062,1062,{"$f":"EF44","v":1062},{"$f":"EG44+16","v":1078},1078,1078,1078,1078,1078,1078,1078,1078,{"$f":"EP44+22","v":1100},1100,1100,1100,1100,1100,1100,1100,1100,1100,1100,1100,1100,1100,1100,1100,1100,1100,1100,1100,1100,1100,1100,1100,1100,{"$f":"FO44+25","v":1125},{"$f":"FP44+25","v":1150},1150,1150,1150,1150,1150,1150,1150,1150,1150,1150,1150,1150,1150,1150,1150,1150,1150,1150,1150,1150,1150,1150,1150,1150,1150,1150,1150,1150,1150,1150,1150,1150,1150,1150,1150,1150,1150,1150,1150,1150,1150,1150,1150,1150,1150,1150,1150,1150,1150,1150,1150,1150,1150,1150,1150,1150,1150,1150,1150,1150,1150,1150,1150,1150,1150,1150,1150,1150,1150,1150,1150,1150,1150,1150,1150,1150,1150,1150,1150,1150,1150,1150,1150,1150,1150,1150,1150,1150,1150,1150,1150,1150,1150]
[null,"PSR5",0,0,0,0,0,1055,1055,1055,1055,1055,1055,1055,{"$f":"N45-36","v":1019},1019,1019,1019,1019,1019,1019,1019,1019,1019,1019,1019,{"$f":"Z45+55","v":1074},1074,1074,1074,1074,1074,1074,1074,1074,1074,1074,1074,{"$f":"AL45-29","v":1045},1045,1045,1045,1045,1045,1045,1045,1045,1045,1045,1045,{"$f":"AX45","v":1045},1045,1045,1045,1045,1045,1045,1045,1045,1045,1045,{"$f":"BI45+12","v":1057},{"$f":"BJ45+3","v":1060},1060,1060,1060,1060,1060,1060,1060,1060,1060,1060,1060,{"$f":"BV45+7","v":1067},1067,1067,1067,1067,1067,1067,1067,1067,1067,1067,{"$f":"CG45-30","v":1037},1037,1037,1037,1037,1037,1037,1037,1037,1037,1037,1037,1037,1037,1037,1037,1037,1037,1037,1037,1037,1037,1037,1037,1037,1037,1037,1037,1037,1037,1037,1037,1037,1037,1037,1037,1037,1037,1037,1037,{"$f":"DU45+19","v":1056},1056,1056,1056,1056,1056,1056,1056,1056,1056,1056,1056,1056,1056,{"$f":"EI45+14","v":1070},1070,1070,{"$f":"EL45+10","v":1080},{"$f":"EM45","v":1080},{"$f":"EN45","v":1080},1080,{"$f":"EP45+20","v":1100},1100,1100,1100,1100,1100,1100,1100,1100,1100,1100,1100,1100,1100,1100,1100,1100,1100,1100,1100,1100,1100,1100,1100,1100,1100,1100,{"$f":"FQ45+12","v":1112},{"$f":"FR45+13","v":1125},1125,1125,1125,1125,1125,1125,1125,1125,1125,1125,{"$f":"GC45+12","v":1137},1137,{"$f":"GE45+13","v":1150},1150,1150,1150,1150,1150,1150,1150,1150,1150,1150,1150,1150,1150,1150,1150,1150,1150,1150,1150,1150,1150,1150,1150,1150,1150,1150,1150,1150,1150,1150,1150,1150,1150,1150,1150,1150,1150,1150,1150,1150,1150,1150,1150,1150,1150,1150,1150,1150,1150,1150,1150,1150,1150,1150,1150,1150,1150,{"$f":"IK45","v":1150},1150,1150,1150,1150,1150,1150,1150,1150,1150,1150,1150,1150,1150,1150,1150,1150,1150,1150,1150,1150]
[null,"PTF1",406,406,406,406,406,406,406,406,406,406,406,406,{"$f":"N46","v":406},406,406,406,406,406,406,406,406,406,406,406,{"$f":"Z46+4","v":410},410,410,410,410,410,410,410,410,410,410,410,410,410,410,410,410,410,410,410,{"$f":"AT46","v":410},410,410,410,{"$f":"AX46-13","v":397},397,397,{"$f":"AY46+4","v":401},401,401,401,401,401,401,401,{"$f":"BI46-3","v":398},{"$f":"BJ46","v":398},398,398,398,398,398,398,398,398,398,398,398,{"$f":"BV46","v":398},398,398,398,398,398,398,398,398,398,398,398,398,398,398,398,398,398,398,{"$f":"CO46","v":398},398,398,398,398,398,398,398,398,398,398,398,398,398,398,398,398,398,398,398,398,398,398,398,398,398,398,398,398,398,398,398,398,398,398,398,398,398,398,398,398,398,398,398,398,398,398,398,398,398,398,398,398,398,398,398,398,398,398,398,398,398,398,398,398,398,398,398,398,398,398,398,398,398,398,398,398,{"$f":"FN46","v":398},398,398,398,398,{"$f":"FS46","v":398},398,398,398,398,398,398,0,0,0,0,0,0,0,0,0,0,0,0,0,0,0,0,0,0,0,0,0,0,0,0,{"$f":"GX46","v":0},0,0,0,0,{"$f":"HC46","v":0},0,0,0,0,0,0,{"$f":"HJ46","v":0},0,0,0,0,{"$f":"HO46","v":0},0,0,0,0,0,0,{"$f":"HV46","v":0},0,0,0,0,{"$f":"IA46","v":0},0,0,0,0,0,0,{"$f":"IH46","v":0},0,0,0,0,{"$f":"IM46","v":0},0,0,0,0,0,0,{"$f":"IT46","v":0},0,0,0,0,{"$f":"IY46","v":0},0,0,0,0,0,0]
[null,"PTF2",403,403,403,403,403,403,403,403,403,403,403,403,403,403,403,403,403,403,403,403,403,403,403,403,403,403,403,403,403,403,403,403,403,403,403,403,403,403,403,403,403,403,403,403,{"$f":"AT47","v":403},403,403,403,403,403,403,403,403,403,403,403,403,403,403,{"$f":"BI47-9","v":394},394,394,394,394,394,394,394,394,394,394,394,394,{"$f":"BV47","v":394},394,394,394,394,394,394,394,394,394,394,394,394,394,394,394,394,394,394,394,394,394,394,394,394,394,394,394,394,394,394,394,394,394,394,394,394,394,394,394,394,394,394,394,394,394,394,394,394,394,394,394,394,394,394,394,394,394,394,394,394,394,394,394,394,394,394,394,394,394,394,394,{"$f":"EP47-394","v":0},0,0,0,0,0,0,0,0,0,0,0,0,0,0,0,0,0,0,0,0,0,0,0,0,0,0,0,0,0,0,0,0,0,0,0,{"$f":"FZ47","v":0},0,0,0,0,0,0,0,0,0,0,0,0,0,0,0,0,0,0,0,0,0,0,0,0,0,0,0,0,0,0,0,0,0,0,0,0,0,0,0,0,0,0,0,0,0,0,0,0,0,0,0,{"$f":"HZ47","v":0},0,0,0,0,0,0,0,0,0,0,0,0,0,0,0,0,0,0,0,0,0,0,0,0,0,0,0,0,0,0,0]
[null,"PTN3",717,{"$f":"C48","v":717},717,717,717,717,717,717,717,717,717,717,717,717,717,717,717,717,717,717,717,717,717,717,717,717,717,717,717,717,717,717,717,717,717,717,717,717,717,717,717,717,717,717,717,717,717,717,717,717,717,717,717,717,717,717,717,717,717,717,717,717,717,717,717,717,717,717,717,717,717,717,{"$f":"BV48","v":717},717,717,717,717,717,717,717,717,717,717,717,717,717,717,717,717,717,717,717,717,717,717,717,717,717,717,717,717,717,717,717,717,717,717,717,717,717,717,717,717,717,717,717,717,717,717,717,717,717,717,717,717,717,{"$f":"DX48","v":717},717,717,{"$f":"EA48+115","v":832},832,{"$f":"EC48+1","v":833},833,833,833,833,833,833,833,833,{"$f":"EL48+6","v":839},839,839,839,839,839,839,839,839,839,839,839,839,839,839,839,839,839,839,839,839,839,839,839,839,839,839,839,839,839,839,839,839,839,839,839,839,839,839,839,839,839,839,839,839,839,839,839,839,839,839,839,839,839,839,839,839,839,839,839,839,839,839,839,839,839,839,839,839,839,839,839,839,839,839,839,839,839,839,839,839,839,839,839,839,839,839,839,839,839,839,839,839,839,839,839,839,839,839,839,839,839,839,839,839,839,839,839,839,839,839,839,839,839,839,839,839,839,839,839,839,839,839,839]
[null,"PTN4",717,717,717,717,717,717,717,717,717,717,717,717,717,717,717,717,717,717,717,717,717,717,717,717,717,717,717,717,717,717,717,717,717,717,717,717,717,717,717,717,717,717,717,717,717,717,717,717,717,717,717,717,717,717,717,717,717,717,717,717,717,717,717,717,717,717,717,717,717,717,717,717,{"$f":"BV49","v":717},717,717,717,717,717,717,717,717,717,717,717,717,717,717,717,717,717,717,717,717,717,717,717,717,717,717,717,717,717,717,717,717,717,717,717,717,717,717,717,717,717,717,717,717,717,717,717,717,717,717,717,717,717,717,717,717,717,717,717,717,{"$f":"EE49","v":717},{"$f":"EF49","v":717},{"$f":"EG49+116","v":833},833,{"$f":"EI49+10","v":843},843,843,{"$f":"EL49+5","v":848},848,848,848,848,848,848,848,848,848,848,848,848,848,848,848,848,848,848,848,848,848,848,848,848,848,848,848,848,848,848,848,848,848,848,848,848,848,848,848,848,848,848,848,848,848,848,848,848,848,848,848,848,848,848,848,848,848,848,848,848,848,848,848,848,848,848,848,848,848,848,848,848,848,848,848,848,848,848,848,848,848,848,848,848,848,848,848,848,848,848,848,848,848,848,848,848,848,848,848,848,848,848,848,848,848,848,848,848,848,848,848,848,848,848,848,848,848,848,848,848,848,848,848]
[null,"PTF5",0,0,0,0,0,0,0,0,0,0,0,0,0,0,0,0,0,0,0,0,0,0,0,0,0,0,0,0,0,0,0,0,0,0,0,0,0,0,0,0,0,0,0,0,0,0,0,0,0,0,0,0,0,0,0,0,0,0,0,0,0,0,0,0,{"$f":"BN50+1171","v":1171},1171,1171,1171,1171,1171,1171,1171,{"$f":"BV50+42","v":1213},1213,1213,1213,1213,1213,1213,1213,1213,1213,1213,1213,1213,1213,1213,1213,1213,1213,1213,1213,1213,1213,1213,{"$f":"CS50-34","v":1179},1179,1179,1179,1179,1179,1179,1179,1179,1179,1179,1179,{"$f":"DE50-1","v":1178},{"$f":"DF50-22","v":1156},1156,1156,1156,1156,1156,1156,1156,1156,1156,1156,1156,1156,1156,1156,1156,1156,1156,1156,1156,1156,1156,1156,1156,{"$f":"ED50+22","v":1178},1178,1178,1178,1178,1178,1178,1178,1178,1178,1178,1178,{"$f":"EP50+16","v":1194},1194,{"$f":"ER50+9+9","v":1212},1212,{"$f":"ET50+11","v":1223},{"$f":"EU50+14","v":1237},1237,1237,1237,1237,1237,1237,1237,1237,1237,1237,1237,1237,1237,1237,1237,1237,1237,1237,1237,1237,1237,1237,1237,1237,1237,1237,1237,1237,1237,1237,1237,{"$f":"GA50+9","v":1246},{"$f":"GB50+5","v":1251},{"$f":"GC50+5","v":1256},1256,1256,1256,1256,1256,1256,1256,1256,1256,1256,1256,1256,1256,1256,1256,1256,1256,1256,1256,1256,1256,1256,1256,1256,1256,1256,1256,1256,1256,1256,1256,1256,1256,1256,1256,1256,1256,1256,1256,1256,1256,1256,1256,1256,1256,1256,1256,1256,1256,1256,1256,1256,1256,1256,1256,1256,1256,1256,1256,1256,1256,1256,1256,1256,1256,1256,1256,1256,1256,1256,1256,1256,1256,1256,1256,1256,1256,1256,1256,1256]
[null,"PTN6",0,0,0,0,0,0,0,0,0,0,0,0,0,0,0,0,0,0,0,0,0,0,0,0,0,0,0,0,0,0,0,0,0,0,0,0,0,0,0,0,0,0,0,0,0,0,0,0,0,0,0,0,0,0,0,0,0,0,0,0,0,0,0,0,{"$f":"BN51","v":0},0,0,0,0,0,0,0,0,0,0,0,0,0,0,0,0,0,0,0,0,0,0,0,0,0,0,0,0,0,0,{"$f":"CS51","v":0},0,0,0,0,0,0,0,0,0,0,0,0,0,0,0,0,0,0,0,0,0,0,0,0,0,0,0,0,0,0,0,0,0,0,0,0,0,0,0,0,0,0,0,0,0,0,0,0,0,0,0,0,{"$f":"ET51","v":0},0,0,0,0,0,0,0,0,0,0,0,0,0,0,0,{"$f":"FJ51","v":0},{"$f":"FK51","v":0},{"$f":"FL51","v":0},{"$f":"FM51","v":0},0,0,0,0,0,0,0,0,0,0,0,0,0,0,0,0,0,0,0,0,0,0,0,0,0,0,0,0,0,0,0,0,0,0,0,0,0,0,0,0,0,0,0,0,0,0,0,0,0,0,0,0,0,0,0,0,0,0,0,0,0,0,0,0,0,0,0,0,0,0,0,0,0,0,0,0,0,{"$f":"IM51+1100","v":1100},1100,1100,1100,1100,1100,1100,1100,1100,1100,1100,1100,1100,1100,1100,1100,1100,1100,1100]
[null,"PTN7",0,0,0,0,0,0,0,0,0,0,0,0,0,0,0,0,0,0,0,0,0,0,0,0,0,0,0,0,0,0,0,0,0,0,0,0,0,0,0,0,0,0,0,0,0,0,0,0,0,0,0,0,0,0,0,0,0,{"$f":"BE52","v":0},0,{"$f":"BI52","v":0},{"$f":"BJ52","v":0},{"$f":"BK52","v":0},{"$f":"BL52","v":0},0,0,0,0,0,0,0,0,0,0,0,0,0,0,0,0,0,0,0,0,0,0,0,0,0,0,0,0,0,0,0,0,0,0,0,0,0,0,0,0,0,0,0,0,0,0,0,0,0,0,0,0,0,0,0,0,0,0,0,0,0,0,0,0,0,0,0,0,0,0,0,0,0,0,0,0,0,0,0,0,0,0,0,0,0,0,0,0,0,0,0,0,0,0,0,0,0,0,0,0,0,{"$f":"FJ52","v":0},0,0,0,0,0,0,0,0,0,0,0,0,0,0,0,0,0,0,0,0,0,0,0,0,0,0,0,0,0,0,0,0,0,0,0,0,0,0,0,0,0,0,0,0,0,0,0,0,0,0,0,0,0,0,0,0,0,0,0,0,0,0,0,0,0,0,0,0,0,0,0,0,0,0,0,0,0,0,0,0,{"$f":"IM52","v":0},0,0,0,0,0,0,0,0,0,0,0,{"$f":"IY52+1100","v":1100},1100,1100,1100,1100,1100,1100]
[null,"PTFD",12,12,12,12,12,12,12,12,12,12,12,12,12,12,12,12,12,12,12,12,12,12,12,12,12,12,12,12,12,12,12,12,12,12,{"$f":"AJ53","v":12},12,12,12,12,12,12,12,12,12,12,12,12,12,12,12,12,12,12,12,12,12,12,12,12,12,12,12,12,12,12,12,{"$f":"BP53","v":12},12,12,12,12,12,{"$f":"BV53","v":12},12,12,12,12,12,12,12,12,12,12,12,12,12,12,12,12,12,12,12,12,12,12,{"$f":"CS53-12","v":0},0,0,0,0,0,0,0,0,0,0,0,0,0,0,0,0,0,0,0,0,0,0,0,0,0,0,0,0,0,0,0,0,0,0,0,0,0,0,0,0,0,0,0,0,0,0,0,0,0,0,0,0,0,0,0,0,0,0,0,0,0,0,0,0,0,0,0,0,0,0,0,0,0,0,0,0,0,0,0,0,0,{"$f":"FW53","v":0},0,0,0,0,0,0,0,0,0,0,0,0,0,0,0,0,0,0,{"$f":"GP53","v":0},0,0,0,0,0,0,0,0,0,0,0,0,0,0,0,{"$f":"HF53","v":0},0,0,0,0,0,0,0,0,0,0,0,0,0,0,0,0,0,0,0,0,0,0,0,0,0,0,0,0,0,0,0,0,{"$f":"IM53","v":0},0,0,0,0,0,0,0,0,0,0,0,{"$f":"IY53","v":0},0,0,0,0,0,0]
[null,"PVB",0,0,0,0,0,0,0,0,0,0,0,0,0,0,0,0,0,0,0,0,0,0,0,0,0,0,0,0,0,0,0,0,0,0,0,0,0,0,0,0,0,0,0,0,0,0,0,0,0,0,0,0,0,{"$f":"BC54","v":0},0,0,0,{"$f":"BE54","v":0},0,0,0,0,0,0,{"$f":"BN54","v":0},0,0,0,0,0,0,0,{"$f":"BV54","v":0},{"$f":"BW54","v":0},0,0,0,0,0,0,0,0,0,0,0,0,0,0,0,0,0,0,0,0,0,{"$f":"CS54","v":0},0,0,0,0,0,0,0,0,0,0,0,0,0,0,0,0,0,0,0,0,0,0,0,0,0,0,0,0,0,0,0,0,0,0,0,0,0,0,0,0,0,0,0,0,0,0,0,0,0,0,{"$f":"ER54","v":0},0,0,0,0,0,0,0,0,0,{"$f":"FB54","v":0},0,0,0,0,0,0,0,{"$f":"FJ54","v":0},0,0,0,0,0,0,0,0,0,0,0,0,0,0,0,{"$f":"FZ54+46","v":46},46,46,46,46,46,46,46,46,46,46,{"$f":"GK54","v":46},{"$f":"GL54","v":46},46,46,46,46,46,46,46,46,46,46,{"$f":"GW54-46","v":0},0,0,0,0,0,0,0,0,0,0,0,0,0,0,0,0,0,0,0,0,0,0,0,0,0,0,0,0,0,0,0,0,0,0,0,0,0,0,0,0,0,0,0,0,0,0,0,0,0,0,0,0,0,0,0,0,0,0,0,0]
[null,"PWC1",0,0,0,0,0,0,0,0,0,0,0,0,0,0,0,0,0,{"$f":"S55","v":0},0,0,0,0,0,0,0,0,0,0,0,0,0,0,0,0,0,0,0,0,0,0,0,0,0,0,0,0,0,0,0,0,0,0,0,0,0,0,0,0,0,0,0,0,0,0,0,0,0,0,0,0,0,0,{"$f":"BV55","v":0},0,0,0,0,0,0,0,0,0,0,0,0,0,0,0,0,0,0,{"$f":"CO55+1313","v":1313},1313,1313,1313,{"$f":"CS55","v":1313},{"$f":"CT55+22","v":1335},1335,1335,1335,1335,1335,1335,1335,1335,1335,1335,1335,1335,1335,1335,1335,1335,1335,1335,1335,1335,1335,1335,1335,1335,1335,1335,1335,1335,1335,1335,1335,1335,1335,1335,1335,1335,1335,1335,1335,1335,1335,1335,1335,1335,1335,1335,1335,{"$f":"EP55","v":1335},1335,1335,1335,1335,1335,1335,1335,1335,1335,1335,1335,1335,1335,1335,1335,1335,1335,1335,1335,1335,1335,1335,1335,1335,1335,1335,1335,1335,1335,1335,1335,1335,1335,1335,1335,1335,1335,1335,1335,1335,1335,1335,1335,1335,1335,1335,1335,1335,1335,1335,1335,1335,1335,1335,1335,1335,1335,1335,1335,1335,1335,1335,1335,1335,1335,1335,1335,1335,1335,1335,1335,1335,1335,1335,1335,1335,1335,1335,1335,1335,1335,1335,1335,{"$f":"HV55","v":1335},1335,1335,1335,1335,1335,1335,1335,1335,1335,1335,1335,1335,1335,1335,1335,1335,{"$f":"IM55","v":1335},1335,1335,1335,1335,1335,1335,1335,1335,1335,1335,1335,{"$f":"IY55","v":1335},1335,1335,1335,1335,1335,1335]
[null,"PWC2",0,0,0,0,0,0,0,0,0,0,0,0,0,0,0,0,0,0,0,0,0,0,0,0,0,0,0,0,0,0,0,0,0,0,0,0,0,0,0,0,0,0,0,0,0,0,0,0,0,0,0,0,0,0,0,0,0,0,0,0,0,0,0,0,0,0,0,0,0,0,0,0,{"$f":"BV56","v":0},0,0,0,0,0,0,0,0,0,0,0,0,0,0,0,0,0,0,0,0,0,0,{"$f":"CS56+1313","v":1313},{"$f":"CT56+22","v":1335},1335,1335,1335,1335,1335,1335,1335,1335,1335,1335,1335,1335,1335,1335,1335,1335,1335,1335,1335,1335,1335,1335,1335,1335,1335,1335,1335,1335,1335,1335,1335,1335,1335,1335,1335,1335,1335,1335,1335,1335,1335,1335,1335,1335,1335,1335,1335,1335,1335,1335,1335,1335,1335,1335,1335,1335,1335,1335,1335,1335,1335,1335,1335,1335,1335,{"$f":"FH56","v":1335},1335,1335,1335,1335,1335,1335,1335,1335,1335,1335,1335,1335,1335,1335,1335,1335,1335,1335,1335,1335,1335,1335,1335,1335,1335,1335,1335,1335,1335,1335,1335,1335,1335,1335,1335,1335,1335,1335,1335,1335,1335,1335,1335,1335,1335,1335,1335,1335,1335,1335,1335,1335,1335,1335,1335,1335,1335,1335,1335,1335,1335,1335,1335,{"$f":"HT56","v":1335},1335,1335,1335,1335,1335,1335,1335,1335,1335,1335,1335,1335,1335,1335,1335,1335,1335,1335,{"$f":"IM56","v":1335},1335,1335,1335,1335,1335,1335,1335,1335,1335,1335,1335,{"$f":"IY56","v":1335},1335,1335,1335,1335,1335,1335]
[null,"PWC3",0,0,0,0,0,0,0,0,0,0,0,0,0,0,0,0,0,0,0,0,0,0,0,0,0,0,0,0,0,{"$f":"AE57","v":0},0,0,0,0,0,0,0,0,0,0,0,0,0,0,0,0,0,0,0,0,0,0,0,0,0,0,0,0,0,0,0,0,0,0,0,0,0,0,0,0,0,0,{"$f":"BV57","v":0},0,0,0,0,0,0,0,0,0,0,0,0,0,0,0,0,0,0,0,0,0,0,{"$f":"CS57","v":0},0,0,0,0,0,0,0,0,0,0,0,0,0,0,0,{"$f":"DI57","v":0},{"$f":"DH57+1335","v":1335},1335,1335,1335,1335,1335,1335,1335,1335,1335,1335,1335,1335,1335,{"$f":"DX57","v":1335},1335,1335,1335,1335,1335,1335,1335,1335,1335,{"$f":"EH57","v":1335},1335,1335,1335,1335,1335,1335,1335,1335,1335,1335,1335,1335,1335,1335,1335,1335,1335,1335,1335,1335,1335,1335,1335,1335,1335,1335,1335,1335,1335,1335,1335,1335,1335,1335,1335,1335,1335,1335,1335,1335,1335,1335,1335,1335,1335,1335,1335,1335,1335,1335,1335,1335,1335,1335,1335,1335,1335,1335,1335,1335,1335,1335,1335,1335,1335,1335,1335,1335,1335,1335,1335,1335,1335,1335,1335,1335,1335,1335,1335,1335,1335,1335,1335,1335,1335,1335,1335,1335,1335,1335,1335,1335,1335,1335,1335,1335,1335,1335,1335,1335,1335,1335,1335,1335,1335,1335,1335,1335,{"$f":"IM57","v":1335},1335,1335,1335,1335,1335,1335,1335,1335,1335,1335,1335,{"$f":"IY57","v":1335},1335,1335,1335,1335,1335,1335]
[]
[null,"Total",{"$f":"SUM(C4:C57)","v":17642},{"$f":"SUM(D4:D57)","v":17642},16556,16182,16182,18846,18846,18846,18846,18846,18846,18846,{"$f":"SUM(O4:O57)","v":18751},{"$f":"SUM(P4:P57)","v":18751},18751,18751,19816,20178,20178,20178,20178,20178,20178,20178,20337,20337,20337,20337,20337,20337,20337,20337,20337,20337,20337,20337,20160,20160,20160,20160,20160,22192,22192,22192,22192,22192,22192,22192,22110,22110,22110,22144,22144,22144,22158,22158,22158,22158,22158,22284,22283,22283,22283,22283,23454,23454,23454,23454,23454,23454,23454,23454,23543,23543,23543,23529,23529,{"$f":"SUM(CB4:CB57)","v":23529},23529,23529,23529,23529,23529,23360,23360,23360,23360,23360,23360,23360,23360,24673,24673,24690,24690,25859,25862,25862,25862,25872,25872,25076,25076,25076,25076,25076,25076,25019,24799,24228,24228,24257,25592,25592,25618,25618,25618,25618,25618,25677,25677,25677,25677,25696,25668,25668,25665,25813,25813,25935,25944,25290,25323,24558,24558,26043,26043,26067,26067,26064,26085,{"$f":"SUM(EN4:EN57)","v":26085},26085,{"$f":"SUM(EP4:EP57)","v":26085},{"$f":"SUM(EQ4:EQ57)","v":25767},25767,25785,27129,27137,27181,27181,27186,27186,27186,27186,26668,{"$f":"SUM(FC4:FC57)","v":26668},{"$f":"SUM(FD4:FD57)","v":26665},{"$f":"SUM(FE4:FE57)","v":26665},26665,26701,26737,26773,26809,26881,26881,26881,26881,26881,26906,26931,26943,26956,28312,28317,28317,28318,28318,28318,28318,27966,27975,27980,27997,27998,28011,28016,28016,28016,28016,28016,28016,28016,28016,28016,28016,28016,28016,28016,28016,28016,28016,28016,27970,27970,{"$f":"SUM(GZ4:GZ57)","v":27970},27970,27970,27970,27970,27970,27970,27970,27970,27970,27970,27970,27970,27970,27970,27970,27970,27970,27970,27970,27970,27970,27970,27970,27970,27970,27970,27970,27970,27970,27970,27970,27970,27970,27970,27970,27970,27986,27986,28002,29102,29117,29117,29117,29117,29117,29117,29117,29117,29117,29117,29131,30231,30245,30245,30245,30245,30259,30259]
[]
[null,"New Gen",null,null,null,null,null,null,null,null,null,null,null,null,null,null,null,null,null,{"$f":"(T16-S16)","v":362},null,null,null,null,null,null,null,null,null,null,null,null,null,null,null,null,null,null,null,null,null,null,null,{"$f":"(AR24-AQ24)+(AR27-AQ27)","v":2032},null,null,null,null,null,null,null,null,null,null,null,null,null,null,null,null,null,null,null,{"$f":"(BL50-BK50)","v":0},null,null,null,null,null,null,null,null,null,null,null,null,null,null,null,null,null,null,null,null,null,null,null,null,null,null,null,null,null,{"$f":"(CP55-CO55)","v":1313},null,{"$f":"(CR9-CQ9)","v":17},null,{"$f":"(CT56-CS56)","v":1313},null,null,null,null,null,{"$f":"(CX39-CY39)","v":0},null,null,null,null,null,null,null,null,null,null,{"$f":"(DK57-DJ57)","v":1335},null,null,null,null,null,null,null,null,null,null,null,null,null,null,null,null,null,null,null,null,null,null,{"$f":"(EH6-EG6)","v":1355},null,null,null,null,null,null,null,null,null,null,null,{"$f":"(ET38-EQ38)","v":1344},null,null,null,null,null,null,null,null,null,null,null,null,null,null,null,null,null,null,null,null,null,null,null,null,null,{"$f":"(FT32-FS32)","v":1346},null,null,null,null,null,null,{"$f":"GA54-FZ54","v":46},null,null,null,null,null,null,null,null,null,null,null,null,null,null,null,null,null,null,null,null,null,null,null,{"$f":"(GY14-GX14)","v":0},null,null,null,null,null,null,null,null,null,null,null,null,null,null,null,null,null,null,null,null,null,null,null,null,null,null,null,null,null,null,null,null,null,null,null,null,null,null,null,null,{"$f":"(IN51-IM51)","v":1100},null,null,null,null,null,null,null,null,null,null,null,{"$f":"(IZ52-IY52)","v":1100}]
[null,"Repower",null,null,{"$f":"(E15-D15)","v":-1086},{"$f":"(F44-E44)","v":-374},null,{"$f":"(H15-G15)+(H45-G45)","v":2664},null,null,null,null,null,null,null,null,null,null,{"$f":"(S44-R44)","v":1065}]
[null,"EPU",null,null,null,null,null,null,null,null,null,null,null,null,null,null,null,null,null,null,null,null,null,null,null,null,null,null,null,null,null,null,null,null,null,null,null,null,null,null,null,null,null,null,null,null,null,null,null,null,null,null,null,null,null,null,null,null,null,null,null,null,null,null,null,null,null,null,null,null,null,null,null,null,null,null,null,null,null,null,null,null,null,null,null,null,null,null,null,null,null,null,null,null,null,null,null,null,null,null,null,null,null,null,null,null,null,null,null,null,null,null,null,{"$f":"(DJ42-DI42)","v":29},null,null,null,null,null,null,null,{"$f":"(DR42-DO42)","v":2},null,null,null,null,null,null,null,{"$f":"(DZ48-DY48)+(DZ41-DY41)","v":148},null,{"$f":"(EB48-EA48)","v":115},null,{"$f":"(ED41-EC41)+(ED42-EC42)+(ED48-EC48)","v":108},null,null,null,{"$f":"(EH41-EG41)+(EH42-EG42)+(EH49-EG49)","v":114},null,{"$f":"(EJ49-EI49)","v":10},null,null,{"$f":"(EM48-EL48)+(EM49-EL49)","v":11}]
[null,"CT Upgrade",null,null,null,null,null,null,null,null,null,null,null,null,null,null,null,null,null,null,null,null,null,null,null,null,null,null,null,null,null,null,null,null,null,null,null,null,null,null,null,null,null,null,null,null,null,null,null,null,null,null,null,null,null,null,null,null,null,null,null,null,null,null,null,null,null,null,null,null,null,null,null,null,null,null,null,null,null,null,null,null,null,null,null,null,null,null,null,null,null,null,null,null,null,null,null,null,null,null,null,null,null,null,null,null,null,null,null,null,null,null,null,null,null,null,null,null,null,null,null,{"$f":"(DR24-DO24)","v":57},null,null,null,{"$f":"(DV45-DU45)","v":19},null,null,null,null,null,{"$f":"(EB44-EA44)","v":7},{"$f":"(EC24-EB24)","v":9},{"$f":"(ED44-EC44)","v":15},null,null,null,{"$f":"(EH44-EG44)","v":16},null,{"$f":"(EJ45-EI45)","v":14},null,null,{"$f":"(EM45-EL45)","v":10},null,null,null,{"$f":"(EQ24-EP24)+(EQ44-EP44)+(EQ45-EP45)","v":41},null,{"$f":"(ES50-ER50)","v":18},null,{"$f":"(EU50-ET50)","v":11},{"$f":"(EV27-EU27)+(EV50-EU50)","v":44},{"$f":"(EW27-EV27)","v":0},{"$f":"(EX27-EW27)","v":5},null,null,null,null,null,null,null,null,{"$f":"FG15-FF15","v":36},{"$f":"FH15-FG15","v":36},36,36,72,null,null,null,null,null,null,{"$f":"FR45-FQ45","v":12},{"$f":"FS45-FR45","v":13},{"$f":"FT24-FS24","v":10},{"$f":"FU24-FT24","v":5},null,{"$f":"FW27-FV27","v":1},null,null,null,null,{"$f":"GB50-GA50","v":9},{"$f":"GC50-GB50","v":5},{"$f":"(GD45-GC45)+(GD50-GC50)","v":17},{"$f":"GE27-GD27","v":1},{"$f":"GF45-GE45","v":13},{"$f":"GG24-GF24","v":5},null,null,null,null,null,null,null,null,null,null,null,null,null,null,null,null,null,null,null,null,null,null,null,null,null,null,null,null,null,null,null,null,null,null,null,null,null,null,null,null,null,null,null,null,null,null,null,null,null,null,null,null,null,null,null,{"$f":"(IK6-IJ6)","v":16},null,{"$f":"(IM6-IL6)","v":16},null,{"$f":"(IO6-IN6)","v":15},null,null,null,null,null,null,null,null,null,{"$f":"(IY38-IX38)","v":14},null,{"$f":"(JA38-IZ38)","v":14},null,null,null,{"$f":"(JE38-JD38)","v":14}]
[null,"Capability",null,null,null,null,null,null,null,null,null,null,null,null,{"$f":"(O7-N7)+(O8-N8)+(O15-N15)+(O20-N20)+(O25-N25)+(O31-N31)+(O43-N43)+(O45-N45)","v":-95},null,null,null,null,null,null,null,null,null,null,null,{"$f":"(AA4-Z4)+(AA5-Z5)+(AA10-Z10)+(AA15-Z15)+(AA16-Z16)+(AA21-Z21)+(AA25-Z25)+(AA26-Z26)+(AA31-Z31)+(AA34-Z34)+(AA35-Z35)+(AA44-Z44)+(AA45-Z45)+(AA46-Z46)","v":159},null,null,null,null,null,null,null,null,null,null,null,{"$f":"(AM4-AL4)+(AM19-AL19)+(AM25-AL25)+(AM26-AL26)+(AM28-AL28)+(AM29-AL29)+(AM30-AL30)+(AM31-AL31)+(AM36-AL36)+(AM40-AL40)+(AM44-AL44)+(AM45-AL45)","v":-177},null,null,null,null,null,null,null,null,null,null,null,{"$f":"(AY4-AX4)+(AY5-AX5)+(AY7-AX7)+(AY8-AX8)+(AY22-AX22)+(AY23-AX23)+(AY25-AX25)+(AY26-AX26)+(AY30-AX30)+(AY34-AX34)+(AY46-AX46)","v":-82},null,null,{"$f":"(BB19-BA19)+(BB24-BA24)+(BB27-BA27)+(BB40-BA40)+(BB46-BA46)","v":34},null,null,{"$f":"(BE44-BD44)","v":14},null,null,null,null,{"$f":"(BJ4-BI4)+(BJ5-BI5)+(BJ7-BI7)+(BJ8-BI8)+(BJ10-BI10)+(BJ15-BI15)+(BJ16-BI16)+(BJ18-BI18)+(BJ19-BI19)+(BJ20-BI20)+(BJ21-BI21)+(BJ22-BI22)+(BJ23-BI23)+(BJ24-BI24)+(BJ25-BI25)+(BJ26-BI26)+(BJ27-BI27)+(BJ28-BI28)+(BJ29-BI29)+(BJ30-BI30)+(BJ31-BI31)+(BJ34-BI34)+(BJ35-BI35)+(BJ36-BI36)+(BJ37-BI37)+(BJ40-BI40)+(BJ43-BI43)+(BJ44-BI44)+(BJ45-BI45)+(BJ46-BI46)+(BJ47-BI47)","v":126},{"$f":"(BK21-BJ21)+(BK23-BJ23)+(BK35-BJ35)+(BK45-BJ45)","v":-1},null,null,null,{"$f":"(BO10-BN10)+(BO11-BN11)+(BO24-BN24)+(BO34-BN34)+(BO35-BN35)+(BO45-BN45)+(BO50-BN50)","v":1171},null,null,null,null,null,null,null,{"$f":"(BW10-BV10)+(BW11-BV11)+(BW24-BV24)+(BW34-BV34)+(BW35-BV35)+(BW45-BV45)+(BW50-BV50)","v":89},null,null,{"$f":"(BZ18-BY18)+(BZ19-BY19)+(BZ20-BY20)+(BZ21-BY21)","v":-14},null,null,{"$f":"(CC16-CB16)","v":0},null,null,null,null,{"$f":"(CH15-CG15)+(CH16-CG16)+(CH18-CG18)+(CH19-CG19)+(CH20-CG20)+(CH21-CG21)+(CH22-CG22)+(CH23-CG23)+(CH24-CG24)+(CH25-CG25)+(CH26-CG26)+(CH27-CG27)+(CH28-CG28)+(CH29-CG29)+(CH34-CG34)+(CH35-CG35)+(CH44-CG44)+(CH45-CG45)","v":-169},null,null,null,null,null,null,null,null,null,null,null,{"$f":"(CT12-CS12)+(CT13-CS13)+(CT17-CS17)+(CT24-CS24)+(CT33-CS33)+(CT34-CS34)+(CT35-CS35)+(CT50-CS50)","v":-132},{"$f":"(CU9-CT9)+(CU55-CT55)+(CU56-CT56)","v":52},null,null,{"$f":"(CX39-CW39)","v":10},null,null,null,null,null,null,null,{"$f":"(DF15-DE15)+(DF16-DE16)+(DF22-DE22)+(DF23-DE23)+(DF24-DE24)+(DF27-DE27)+(DF31-DE31)+(DF50-DE50)","v":-57},{"$f":"(DG10-DF10)+(DG11-DF11)+(DG12-DF12)+(DG13-DF13)+(DG15-DF15)+(DG16-DF16)+(DG17-DF17)+(DG22-DF22)+(DG23-DF23)+(DG24-DF24)+(DG27-DF27)+(DG33-DF33)+(DG34-DF34)+(DG35-DF35)+(DG50-DF50)","v":-220},null,null,null,null,null,{"$f":"(DM40-DL40)","v":26},null,null,null,null,null,null,null,null,null,{"$f":"(DW40-DV40)","v":-28},null,{"$f":"(DY26-DX26)","v":-3},null,null,null,null,null,{"$f":"(EE18-ED18)+(EE19-ED19)+(EE40-ED40)+(EE50-ED50)","v":33},null,null,null,null,null,null,{"$f":"(EL25-EK25)","v":-3},null,null,null,null,{"$f":"(EQ15-EP15)+(EQ16-EP16)+(EQ27-EP27)+(EQ34-EP34)+(EQ35-EP35)+(EQ50-EP50)","v":35},null,null,null,{"$f":"(EU20-ET20)","v":-3},null,null,null,null,null,null,null,null,{"$f":"(FD21-FC21)","v":-3}]
[null,"Temp"]
[null,"Retired",null,null,null,null,null,null,null,null,null,null,null,null,null,null,null,null,null,null,null,null,null,null,null,null,null,null,null,null,null,null,null,null,null,null,null,null,null,null,null,null,null,null,null,null,null,null,null,null,null,null,null,null,null,null,null,null,null,null,null,null,null,null,null,null,null,null,null,null,null,null,null,null,null,null,null,null,null,null,null,null,null,null,null,null,null,null,null,null,null,null,null,null,null,null,null,{"$f":"(CT53-CS53)","v":-12},null,null,null,null,null,{"$f":"(CZ4-CY4)+(CZ5-CY5)","v":-796},null,null,null,null,null,null,null,{"$f":"(DH36-DG36)+(DH37-DG37)","v":-571},null,null,null,null,null,null,null,null,null,null,null,null,null,null,null,null,null,null,null,null,null,{"$f":"(ED7-EC7)+(ED8-EC8)+(ED28-EC28)+(ED29-EC29)+(ED43-EC43)","v":-777},null,{"$f":"(EF30-EE30)+(EF31-EE31)","v":-765},null,null,null,null,null,null,null,null,null,null,{"$f":"(EQ47-EP47)","v":-394},null,null,null,null,null,null,null,null,null,null,{"$f":"(FB34-FA34)+(FB35-FA35)","v":-518},null,null,null,null,null,null,null,null,null,null,null,null,null,null,null,null,null,null,null,null,null,null,null,null,-398,null,null,null,null,null,null,null,null,null,null,null,{"$f":"(GM34-GL34)+(GM35-GL35)","v":0},null,null,null,null,null,null,null,null,null,null,{"$f":"GX54-GW54","v":-46},{"$f":"(GY12-GX12)+(GY13-GX13)+(GY33-GX33)","v":0}]
[null,null,null,null,null,null,null,null,null,null,0,null,null,null,null,null,null,null,null,null,null,null,-2,null,null,null,null,null,null,null,null,null,null,null,-2,null,null,null,null,null,null,null,null,null,null,null,-2,null,null,null,null,null,null,null,null,null,null,null,148,null,null,null,null,null,null,null,null,null,null,null,5,null,null,null,null,null,null,null,null,null,null,null,12,null,null,null,null,null,null,null,null,null,null,null,-2,null,null,null,null,null,null,null,null,null,null,null,715,null,null,null,null,null,null,null,null,null,null,null,-14,null,null,null,null,null,null,null,null,null,null,null,-243,null,null,null,null,null,null,null,null,null,null,null,-19]
[null,"Cap Letter",null,null,null,null,null,null,null,null,18846,null,null,null,null,null,null,null,null,null,null,null,20176,null,null,null,null,null,null,null,null,null,null,null,20335,null,null,null,null,null,null,null,null,null,null,null,22190,null,null,null,null,null,null,null,null,null,null,null,22306,null,null,null,null,null,null,null,null,null,null,null,23459,null,null,null,null,null,null,null,null,null,null,null,23541,null,null,null,null,null,null,null,null,null,null,null,24671,null,null,null,null,null,null,null,null,null,null,null,25791,null,null,null,null,null,null,null,null,null,null,null,25604,null,null,null,null,null,null,null,null,null,null,null,25570,null,null,null,null,null,null,null,null,null,null,null,26066]
[null,null,null,null,null,null,null,null,null,null,null,null,null,null,null,null,null,null,null,null,null,null,null,null,null,null,null,null,null,null,null,null,null,null,null,null,null,null,null,null,null,null,null,null,null,null,null,null,null,null,null,null,null,null,null,null,null,null,150,null,null,null,null,null,null,null,null,null,null,null,7,null,null,null,null,null,null,null,null,null,null,null,14,null,null,null,null,null,null,null,null,null,null,null,null,null,null,null,null,null,null,null,null,null,null,null,717,null,null,null,null,null,null,null,null,null,null,null,-12,null,null,null,null,null,null,null,null,null,null,null,-241,null,null,null,null,null,null,null,null,null,null,null,7]
[null,null,null,null,null,null,null,null,null,null,null,null,null,null,null,null,null,null,null,null,null,null,null,null,null,null,null,null,null,null,null,null,null,null,null,null,null,null,null,null,null,null,null,null,null,null,null,null,null,null,null,null,null,null,null,null,null,null,null,null,null,null,null,null,null,null,null,null,null,null,null,null,null,null,null,null,null,null,null,null,null,null,null,null,null,null,null,null,null,null,null,null,null,null,null,null,null,null,null,null,null,null,null,null,null,null,null,null,null,null,null,null,null,null,null,null,null,null,null,null,null,null,null,null,null,null,null,null,null,null,null,null,null,null,null,null,null,null,null,null,null,null,null,null,null,{"$f":"EP59-EP47","v":25691},null,null,null,null,null,null,null,null,null,null,null,20937,null,null,null,null,null,null,null,null,null,null,null,20632,null,null,null,null,null,null,null,null,null,null,null,22069,null,null,null,null,null,null,null,null,null,null,null,20421,null,null,null,null,null,null,null,null,null,null,null,20375,null,null,null,null,null,null,null,null,null,null,null,20003,null,null,null,null,null,null,null,null,null,null,null,20003,null,null,null,null,null,null,null,null,null,null,null,20003,null,null,null,null,null,null,null,null,null,null,null,21103,null,null,null,null,null,null,null,null,null,null,null,22203]

{"sheet":"C. Winter Check Differences","index":5,"n_rows":71,"n_cols":124,"rows_kept":71,"cut":false,"hidden":false,"merged":[[1,75,1,86],[1,87,1,98],[1,99,1,110],[1,111,1,122],[1,3,1,14],[1,15,1,26],[1,27,1,38],[1,39,1,50],[1,51,1,62],[1,63,1,74]]}
["OPC 006106","Long-Term Cold Winter Peak Capabilities"]
["FPL RC-16",null,null,2014,null,null,null,null,null,null,null,null,null,null,null,2015,null,null,null,null,null,null,null,null,null,null,null,2016,null,null,null,null,null,null,null,null,null,null,null,2017,null,null,null,null,null,null,null,null,null,null,null,2018,null,null,null,null,null,null,null,null,null,null,null,2019,null,null,null,null,null,null,null,null,null,null,null,2020,null,null,null,null,null,null,null,null,null,null,null,2021,null,null,null,null,null,null,null,null,null,null,null,2022,null,null,null,null,null,null,null,null,null,null,null,2023]
[null,"Unit","Dec","Jan","Feb","Mar","Apr","May","Jun","Jul","Aug","Sep","Oct","Nov","Dec","Jan","Feb","Mar","Apr","May","Jun","Jul","Aug","Sep","Oct","Nov","Dec","Jan","Feb","Mar","Apr","May","Jun","Jul","Aug","Sep","Oct","Nov","Dec","Jan","Feb","Mar","Apr","May","Jun","Jul","Aug","Sep","Oct","Nov","Dec","Jan","Feb","Mar","Apr","May","Jun","Jul","Aug","Sep","Oct","Nov","Dec","Jan","Feb","Mar","Apr","May","Jun","Jul","Aug","Sep","Oct","Nov","Dec","Jan","Feb","Mar","Apr","May","Jun","Jul","Aug","Sep","Oct","Nov","Dec","Jan","Feb","Mar","Apr","May","Jun","Jul","Aug","Sep","Oct","Nov","Dec","Jan","Feb","Mar","Apr","May","Jun","Jul","Aug","Sep","Oct","Nov","Dec","Jan","Feb","Mar","Apr","May","Jun","Jul","Aug","Sep","Oct","Nov","Dec"]
[null,"PCC1",{"$f":"ColdWinter!C4-'C. Winter Peak 2015-01-15'!EP4","v":0},{"$f":"ColdWinter!D4-'C. Winter Peak 2015-01-15'!EQ4","v":0},{"$f":"ColdWinter!E4-'C. Winter Peak 2015-01-15'!ER4","v":0},{"$f":"ColdWinter!F4-'C. Winter Peak 2015-01-15'!ES4","v":0},{"$f":"ColdWinter!G4-'C. Winter Peak 2015-01-15'!ET4","v":0},{"$f":"ColdWinter!H4-'C. Winter Peak 2015-01-15'!EU4","v":0},{"$f":"ColdWinter!I4-'C. Winter Peak 2015-01-15'!EV4","v":0},{"$f":"ColdWinter!J4-'C. Winter Peak 2015-01-15'!EW4","v":0},{"$f":"ColdWinter!K4-'C. Winter Peak 2015-01-15'!EX4","v":0},{"$f":"ColdWinter!L4-'C. Winter Peak 2015-01-15'!EY4","v":0},{"$f":"ColdWinter!M4-'C. Winter Peak 2015-01-15'!EZ4","v":0},{"$f":"ColdWinter!N4-'C. Winter Peak 2015-01-15'!FA4","v":0},{"$f":"ColdWinter!O4-'C. Winter Peak 2015-01-15'!FB4","v":0},{"$f":"ColdWinter!P4-'C. Winter Peak 2015-01-15'!FC4","v":0},{"$f":"ColdWinter!Q4-'C. Winter Peak 2015-01-15'!FD4","v":0},{"$f":"ColdWinter!R4-'C. Winter Peak 2015-01-15'!FE4","v":0},{"$f":"ColdWinter!S4-'C. Winter Peak 2015-01-15'!FF4","v":0},{"$f":"ColdWinter!T4-'C. Winter Peak 2015-01-15'!FG4","v":0},{"$f":"ColdWinter!U4-'C. Winter Peak 2015-01-15'!FH4","v":0},{"$f":"ColdWinter!V4-'C. Winter Peak 2015-01-15'!FI4","v":0},{"$f":"ColdWinter!W4-'C. Winter Peak 2015-01-15'!FJ4","v":0},{"$f":"ColdWinter!X4-'C. Winter Peak 2015-01-15'!FK4","v":0},{"$f":"ColdWinter!Y4-'C. Winter Peak 2015-01-15'!FL4","v":0},{"$f":"ColdWinter!Z4-'C. Winter Peak 2015-01-15'!FM4","v":0},{"$f":"ColdWinter!AA4-'C. Winter Peak 2015-01-15'!FN4","v":0},{"$f":"ColdWinter!AB4-'C. Winter Peak 2015-01-15'!FO4","v":0},{"$f":"ColdWinter!AC4-'C. Winter Peak 2015-01-15'!FP4","v":0},{"$f":"ColdWinter!AD4-'C. Winter Peak 2015-01-15'!FQ4","v":0},{"$f":"ColdWinter!AE4-'C. Winter Peak 2015-01-15'!FR4","v":0},{"$f":"ColdWinter!AF4-'C. Winter Peak 2015-01-15'!FS4","v":0},{"$f":"ColdWinter!AG4-'C. Winter Peak 2015-01-15'!FT4","v":0},{"$f":"ColdWinter!AH4-'C. Winter Peak 2015-01-15'!FU4","v":0},{"$f":"ColdWinter!AI4-'C. Winter Peak 2015-01-15'!FV4","v":0},{"$f":"ColdWinter!AJ4-'C. Winter Peak 2015-01-15'!FW4","v":0},{"$f":"ColdWinter!AK4-'C. Winter Peak 2015-01-15'!FX4","v":0},{"$f":"ColdWinter!AL4-'C. Winter Peak 2015-01-15'!FY4","v":0},{"$f":"ColdWinter!AM4-'C. Winter Peak 2015-01-15'!FZ4","v":0},{"$f":"ColdWinter!AN4-'C. Winter Peak 2015-01-15'!GA4","v":0},{"$f":"ColdWinter!AO4-'C. Winter Peak 2015-01-15'!GB4","v":0},{"$f":"ColdWinter!AP4-'C. Winter Peak 2015-01-15'!GC4","v":0},{"$f":"ColdWinter!AQ4-'C. Winter Peak 2015-01-15'!GD4","v":0},{"$f":"ColdWinter!AR4-'C. Winter Peak 2015-01-15'!GE4","v":0},{"$f":"ColdWinter!AS4-'C. Winter Peak 2015-01-15'!GF4","v":0},{"$f":"ColdWinter!AT4-'C. Winter Peak 2015-01-15'!GG4","v":0},{"$f":"ColdWinter!AU4-'C. Winter Peak 2015-01-15'!GH4","v":0},{"$f":"ColdWinter!AV4-'C. Winter Peak 2015-01-15'!GI4","v":0},{"$f":"ColdWinter!AW4-'C. Winter Peak 2015-01-15'!GJ4","v":0},{"$f":"ColdWinter!AX4-'C. Winter Peak 2015-01-15'!GK4","v":0},{"$f":"ColdWinter!AY4-'C. Winter Peak 2015-01-15'!GL4","v":0},{"$f":"ColdWinter!AZ4-'C. Winter Peak 2015-01-15'!GM4","v":0},{"$f":"ColdWinter!BA4-'C. Winter Peak 2015-01-15'!GN4","v":0},{"$f":"ColdWinter!BB4-'C. Winter Peak 2015-01-15'!GO4","v":0},{"$f":"ColdWinter!BC4-'C. Winter Peak 2015-01-15'!GP4","v":0},{"$f":"ColdWinter!BD4-'C. Winter Peak 2015-01-15'!GQ4","v":0},{"$f":"ColdWinter!BE4-'C. Winter Peak 2015-01-15'!GR4","v":0},{"$f":"ColdWinter!BF4-'C. Winter Peak 2015-01-15'!GS4","v":0},{"$f":"ColdWinter!BG4-'C. Winter Peak 2015-01-15'!GT4","v":0},{"$f":"ColdWinter!BH4-'C. Winter Peak 2015-01-15'!GU4","v":0},{"$f":"ColdWinter!BI4-'C. Winter Peak 2015-01-15'!GV4","v":0},{"$f":"ColdWinter!BJ4-'C. Winter Peak 2015-01-15'!GW4","v":0},{"$f":"ColdWinter!BK4-'C. Winter Peak 2015-01-15'!GX4","v":0},{"$f":"ColdWinter!BL4-'C. Winter Peak 2015-01-15'!GY4","v":0},{"$f":"ColdWinter!BM4-'C. Winter Peak 2015-01-15'!GZ4","v":0},{"$f":"ColdWinter!BN4-'C. Winter Peak 2015-01-15'!HA4","v":0},{"$f":"ColdWinter!BO4-'C. Winter Peak 2015-01-15'!HB4","v":0},{"$f":"ColdWinter!BP4-'C. Winter Peak 2015-01-15'!HC4","v":0},{"$f":"ColdWinter!BQ4-'C. Winter Peak 2015-01-15'!HD4","v":0},{"$f":"ColdWinter!BR4-'C. Winter Peak 2015-01-15'!HE4","v":0},{"$f":"ColdWinter!BS4-'C. Winter Peak 2015-01-15'!HF4","v":0},{"$f":"ColdWinter!BT4-'C. Winter Peak 2015-01-15'!HG4","v":0},{"$f":"ColdWinter!BU4-'C. Winter Peak 2015-01-15'!HH4","v":0},{"$f":"ColdWinter!BV4-'C. Winter Peak 2015-01-15'!HI4","v":0},{"$f":"ColdWinter!BW4-'C. Winter Peak 2015-01-15'!HJ4","v":0},{"$f":"ColdWinter!BX4-'C. Winter Peak 2015-01-15'!HK4","v":0},{"$f":"ColdWinter!BY4-'C. Winter Peak 2015-01-15'!HL4","v":0},{"$f":"ColdWinter!BZ4-'C. Winter Peak 2015-01-15'!HM4","v":0},{"$f":"ColdWinter!CA4-'C. Winter Peak 2015-01-15'!HN4","v":0},{"$f":"ColdWinter!CB4-'C. Winter Peak 2015-01-15'!HO4","v":0},{"$f":"ColdWinter!CC4-'C. Winter Peak 2015-01-15'!HP4","v":0},{"$f":"ColdWinter!CD4-'C. Winter Peak 2015-01-15'!HQ4","v":0},{"$f":"ColdWinter!CE4-'C. Winter Peak 2015-01-15'!HR4","v":0},{"$f":"ColdWinter!CF4-'C. Winter Peak 2015-01-15'!HS4","v":0},{"$f":"ColdWinter!CG4-'C. Winter Peak 2015-01-15'!HT4","v":0},{"$f":"ColdWinter!CH4-'C. Winter Peak 2015-01-15'!HU4","v":0},{"$f":"ColdWinter!CI4-'C. Winter Peak 2015-01-15'!HV4","v":0},{"$f":"ColdWinter!CJ4-'C. Winter Peak 2015-01-15'!HW4","v":0},{"$f":"ColdWinter!CK4-'C. Winter Peak 2015-01-15'!HX4","v":0},{"$f":"ColdWinter!CL4-'C. Winter Peak 2015-01-15'!HY4","v":0},{"$f":"ColdWinter!CM4-'C. Winter Peak 2015-01-15'!HZ4","v":0},{"$f":"ColdWinter!CN4-'C. Winter Peak 2015-01-15'!IA4","v":0},{"$f":"ColdWinter!CO4-'C. Winter Peak 2015-01-15'!IB4","v":0},{"$f":"ColdWinter!CP4-'C. Winter Peak 2015-01-15'!IC4","v":0},{"$f":"ColdWinter!CQ4-'C. Winter Peak 2015-01-15'!ID4","v":0},{"$f":"ColdWinter!CR4-'C. Winter Peak 2015-01-15'!IE4","v":0},{"$f":"ColdWinter!CS4-'C. Winter Peak 2015-01-15'!IF4","v":0},{"$f":"ColdWinter!CT4-'C. Winter Peak 2015-01-15'!IG4","v":0},{"$f":"ColdWinter!CU4-'C. Winter Peak 2015-01-15'!IH4","v":0},{"$f":"ColdWinter!CV4-'C. Winter Peak 2015-01-15'!II4","v":0},{"$f":"ColdWinter!CW4-'C. Winter Peak 2015-01-15'!IJ4","v":0},{"$f":"ColdWinter!CX4-'C. Winter Peak 2015-01-15'!IK4","v":0},{"$f":"ColdWinter!CY4-'C. Winter Peak 2015-01-15'!IL4","v":0},{"$f":"ColdWinter!CZ4-'C. Winter Peak 2015-01-15'!IM4","v":0},{"$f":"ColdWinter!DA4-'C. Winter Peak 2015-01-15'!IN4","v":0},{"$f":"ColdWinter!DB4-'C. Winter Peak 2015-01-15'!IO4","v":0},{"$f":"ColdWinter!DC4-'C. Winter Peak 2015-01-15'!IP4","v":0},{"$f":"ColdWinter!DD4-'C. Winter Peak 2015-01-15'!IQ4","v":0},{"$f":"ColdWinter!DE4-'C. Winter Peak 2015-01-15'!IR4","v":0},{"$f":"ColdWinter!DF4-'C. Winter Peak 2015-01-15'!IS4","v":0},{"$f":"ColdWinter!DG4-'C. Winter Peak 2015-01-15'!IT4","v":0},{"$f":"ColdWinter!DH4-'C. Winter Peak 2015-01-15'!IU4","v":0},{"$f":"ColdWinter!DI4-'C. Winter Peak 2015-01-15'!IV4","v":0},{"$f":"ColdWinter!DJ4-'C. Winter Peak 2015-01-15'!IW4","v":0},{"$f":"ColdWinter!DK4-'C. Winter Peak 2015-01-15'!IX4","v":0},{"$f":"ColdWinter!DL4-'C. Winter Peak 2015-01-15'!IY4","v":0},{"$f":"ColdWinter!DM4-'C. Winter Peak 2015-01-15'!IZ4","v":0},{"$f":"ColdWinter!DN4-'C. Winter Peak 2015-01-15'!JA4","v":0},{"$f":"ColdWinter!DO4-'C. Winter Peak 2015-01-15'!JB4","v":0},{"$f":"ColdWinter!DP4-'C. Winter Peak 2015-01-15'!JC4","v":0},{"$f":"ColdWinter!DQ4-'C. Winter Peak 2015-01-15'!JD4","v":0},{"$f":"ColdWinter!DR4-'C. Winter Peak 2015-01-15'!JE4","v":0},{"$f":"ColdWinter!DS4-'C. Winter Peak 2015-01-15'!JF4","v":0}]
[null,"PCC2",{"$f":"ColdWinter!C5-'C. Winter Peak 2015-01-15'!EP5","v":0},{"$f":"ColdWinter!D5-'C. Winter Peak 2015-01-15'!EQ5","v":0},{"$f":"ColdWinter!E5-'C. Winter Peak 2015-01-15'!ER5","v":0},{"$f":"ColdWinter!F5-'C. Winter Peak 2015-01-15'!ES5","v":0},{"$f":"ColdWinter!G5-'C. Winter Peak 2015-01-15'!ET5","v":0},{"$f":"ColdWinter!H5-'C. Winter Peak 2015-01-15'!EU5","v":0},{"$f":"ColdWinter!I5-'C. Winter Peak 2015-01-15'!EV5","v":0},{"$f":"ColdWinter!J5-'C. Winter Peak 2015-01-15'!EW5","v":0},{"$f":"ColdWinter!K5-'C. Winter Peak 2015-01-15'!EX5","v":0},{"$f":"ColdWinter!L5-'C. Winter Peak 2015-01-15'!EY5","v":0},{"$f":"ColdWinter!M5-'C. Winter Peak 2015-01-15'!EZ5","v":0},{"$f":"ColdWinter!N5-'C. Winter Peak 2015-01-15'!FA5","v":0},{"$f":"ColdWinter!O5-'C. Winter Peak 2015-01-15'!FB5","v":0},{"$f":"ColdWinter!P5-'C. Winter Peak 2015-01-15'!FC5","v":0},{"$f":"ColdWinter!Q5-'C. Winter Peak 2015-01-15'!FD5","v":0},{"$f":"ColdWinter!R5-'C. Winter Peak 2015-01-15'!FE5","v":0},{"$f":"ColdWinter!S5-'C. Winter Peak 2015-01-15'!FF5","v":0},{"$f":"ColdWinter!T5-'C. Winter Peak 2015-01-15'!FG5","v":0},{"$f":"ColdWinter!U5-'C. Winter Peak 2015-01-15'!FH5","v":0},{"$f":"ColdWinter!V5-'C. Winter Peak 2015-01-15'!FI5","v":0},{"$f":"ColdWinter!W5-'C. Winter Peak 2015-01-15'!FJ5","v":0},{"$f":"ColdWinter!X5-'C. Winter Peak 2015-01-15'!FK5","v":0},{"$f":"ColdWinter!Y5-'C. Winter Peak 2015-01-15'!FL5","v":0},{"$f":"ColdWinter!Z5-'C. Winter Peak 2015-01-15'!FM5","v":0},{"$f":"ColdWinter!AA5-'C. Winter Peak 2015-01-15'!FN5","v":0},{"$f":"ColdWinter!AB5-'C. Winter Peak 2015-01-15'!FO5","v":0},{"$f":"ColdWinter!AC5-'C. Winter Peak 2015-01-15'!FP5","v":0},{"$f":"ColdWinter!AD5-'C. Winter Peak 2015-01-15'!FQ5","v":0},{"$f":"ColdWinter!AE5-'C. Winter Peak 2015-01-15'!FR5","v":0},{"$f":"ColdWinter!AF5-'C. Winter Peak 2015-01-15'!FS5","v":0},{"$f":"ColdWinter!AG5-'C. Winter Peak 2015-01-15'!FT5","v":0},{"$f":"ColdWinter!AH5-'C. Winter Peak 2015-01-15'!FU5","v":0},{"$f":"ColdWinter!AI5-'C. Winter Peak 2015-01-15'!FV5","v":0},{"$f":"ColdWinter!AJ5-'C. Winter Peak 2015-01-15'!FW5","v":0},{"$f":"ColdWinter!AK5-'C. Winter Peak 2015-01-15'!FX5","v":0},{"$f":"ColdWinter!AL5-'C. Winter Peak 2015-01-15'!FY5","v":0},{"$f":"ColdWinter!AM5-'C. Winter Peak 2015-01-15'!FZ5","v":0},{"$f":"ColdWinter!AN5-'C. Winter Peak 2015-01-15'!GA5","v":0},{"$f":"ColdWinter!AO5-'C. Winter Peak 2015-01-15'!GB5","v":0},{"$f":"ColdWinter!AP5-'C. Winter Peak 2015-01-15'!GC5","v":0},{"$f":"ColdWinter!AQ5-'C. Winter Peak 2015-01-15'!GD5","v":0},{"$f":"ColdWinter!AR5-'C. Winter Peak 2015-01-15'!GE5","v":0},{"$f":"ColdWinter!AS5-'C. Winter Peak 2015-01-15'!GF5","v":0},{"$f":"ColdWinter!AT5-'C. Winter Peak 2015-01-15'!GG5","v":0},{"$f":"ColdWinter!AU5-'C. Winter Peak 2015-01-15'!GH5","v":0},{"$f":"ColdWinter!AV5-'C. Winter Peak 2015-01-15'!GI5","v":0},{"$f":"ColdWinter!AW5-'C. Winter Peak 2015-01-15'!GJ5","v":0},{"$f":"ColdWinter!AX5-'C. Winter Peak 2015-01-15'!GK5","v":0},{"$f":"ColdWinter!AY5-'C. Winter Peak 2015-01-15'!GL5","v":0},{"$f":"ColdWinter!AZ5-'C. Winter Peak 2015-01-15'!GM5","v":0},{"$f":"ColdWinter!BA5-'C. Winter Peak 2015-01-15'!GN5","v":0},{"$f":"ColdWinter!BB5-'C. Winter Peak 2015-01-15'!GO5","v":0},{"$f":"ColdWinter!BC5-'C. Winter Peak 2015-01-15'!GP5","v":0},{"$f":"ColdWinter!BD5-'C. Winter Peak 2015-01-15'!GQ5","v":0},{"$f":"ColdWinter!BE5-'C. Winter Peak 2015-01-15'!GR5","v":0},{"$f":"ColdWinter!BF5-'C. Winter Peak 2015-01-15'!GS5","v":0},{"$f":"ColdWinter!BG5-'C. Winter Peak 2015-01-15'!GT5","v":0},{"$f":"ColdWinter!BH5-'C. Winter Peak 2015-01-15'!GU5","v":0},{"$f":"ColdWinter!BI5-'C. Winter Peak 2015-01-15'!GV5","v":0},{"$f":"ColdWinter!BJ5-'C. Winter Peak 2015-01-15'!GW5","v":0},{"$f":"ColdWinter!BK5-'C. Winter Peak 2015-01-15'!GX5","v":0},{"$f":"ColdWinter!BL5-'C. Winter Peak 2015-01-15'!GY5","v":0},{"$f":"ColdWinter!BM5-'C. Winter Peak 2015-01-15'!GZ5","v":0},{"$f":"ColdWinter!BN5-'C. Winter Peak 2015-01-15'!HA5","v":0},{"$f":"ColdWinter!BO5-'C. Winter Peak 2015-01-15'!HB5","v":0},{"$f":"ColdWinter!BP5-'C. Winter Peak 2015-01-15'!HC5","v":0},{"$f":"ColdWinter!BQ5-'C. Winter Peak 2015-01-15'!HD5","v":0},{"$f":"ColdWinter!BR5-'C. Winter Peak 2015-01-15'!HE5","v":0},{"$f":"ColdWinter!BS5-'C. Winter Peak 2015-01-15'!HF5","v":0},{"$f":"ColdWinter!BT5-'C. Winter Peak 2015-01-15'!HG5","v":0},{"$f":"ColdWinter!BU5-'C. Winter Peak 2015-01-15'!HH5","v":0},{"$f":"ColdWinter!BV5-'C. Winter Peak 2015-01-15'!HI5","v":0},{"$f":"ColdWinter!BW5-'C. Winter Peak 2015-01-15'!HJ5","v":0},{"$f":"ColdWinter!BX5-'C. Winter Peak 2015-01-15'!HK5","v":0},{"$f":"ColdWinter!BY5-'C. Winter Peak 2015-01-15'!HL5","v":0},{"$f":"ColdWinter!BZ5-'C. Winter Peak 2015-01-15'!HM5","v":0},{"$f":"ColdWinter!CA5-'C. Winter Peak 2015-01-15'!HN5","v":0},{"$f":"ColdWinter!CB5-'C. Winter Peak 2015-01-15'!HO5","v":0},{"$f":"ColdWinter!CC5-'C. Winter Peak 2015-01-15'!HP5","v":0},{"$f":"ColdWinter!CD5-'C. Winter Peak 2015-01-15'!HQ5","v":0},{"$f":"ColdWinter!CE5-'C. Winter Peak 2015-01-15'!HR5","v":0},{"$f":"ColdWinter!CF5-'C. Winter Peak 2015-01-15'!HS5","v":0},{"$f":"ColdWinter!CG5-'C. Winter Peak 2015-01-15'!HT5","v":0},{"$f":"ColdWinter!CH5-'C. Winter Peak 2015-01-15'!HU5","v":0},{"$f":"ColdWinter!CI5-'C. Winter Peak 2015-01-15'!HV5","v":0},{"$f":"ColdWinter!CJ5-'C. Winter Peak 2015-01-15'!HW5","v":0},{"$f":"ColdWinter!CK5-'C. Winter Peak 2015-01-15'!HX5","v":0},{"$f":"ColdWinter!CL5-'C. Winter Peak 2015-01-15'!HY5","v":0},{"$f":"ColdWinter!CM5-'C. Winter Peak 2015-01-15'!HZ5","v":0},{"$f":"ColdWinter!CN5-'C. Winter Peak 2015-01-15'!IA5","v":0},{"$f":"ColdWinter!CO5-'C. Winter Peak 2015-01-15'!IB5","v":0},{"$f":"ColdWinter!CP5-'C. Winter Peak 2015-01-15'!IC5","v":0},{"$f":"ColdWinter!CQ5-'C. Winter Peak 2015-01-15'!ID5","v":0},{"$f":"ColdWinter!CR5-'C. Winter Peak 2015-01-15'!IE5","v":0},{"$f":"ColdWinter!CS5-'C. Winter Peak 2015-01-15'!IF5","v":0},{"$f":"ColdWinter!CT5-'C. Winter Peak 2015-01-15'!IG5","v":0},{"$f":"ColdWinter!CU5-'C. Winter Peak 2015-01-15'!IH5","v":0},{"$f":"ColdWinter!CV5-'C. Winter Peak 2015-01-15'!II5","v":0},{"$f":"ColdWinter!CW5-'C. Winter Peak 2015-01-15'!IJ5","v":0},{"$f":"ColdWinter!CX5-'C. Winter Peak 2015-01-15'!IK5","v":0},{"$f":"ColdWinter!CY5-'C. Winter Peak 2015-01-15'!IL5","v":0},{"$f":"ColdWinter!CZ5-'C. Winter Peak 2015-01-15'!IM5","v":0},{"$f":"ColdWinter!DA5-'C. Winter Peak 2015-01-15'!IN5","v":0},{"$f":"ColdWinter!DB5-'C. Winter Peak 2015-01-15'!IO5","v":0},{"$f":"ColdWinter!DC5-'C. Winter Peak 2015-01-15'!IP5","v":0},{"$f":"ColdWinter!DD5-'C. Winter Peak 2015-01-15'!IQ5","v":0},{"$f":"ColdWinter!DE5-'C. Winter Peak 2015-01-15'!IR5","v":0},{"$f":"ColdWinter!DF5-'C. Winter Peak 2015-01-15'!IS5","v":0},{"$f":"ColdWinter!DG5-'C. Winter Peak 2015-01-15'!IT5","v":0},{"$f":"ColdWinter!DH5-'C. Winter Peak 2015-01-15'!IU5","v":0},{"$f":"ColdWinter!DI5-'C. Winter Peak 2015-01-15'!IV5","v":0},{"$f":"ColdWinter!DJ5-'C. Winter Peak 2015-01-15'!IW5","v":0},{"$f":"ColdWinter!DK5-'C. Winter Peak 2015-01-15'!IX5","v":0},{"$f":"ColdWinter!DL5-'C. Winter Peak 2015-01-15'!IY5","v":0},{"$f":"ColdWinter!DM5-'C. Winter Peak 2015-01-15'!IZ5","v":0},{"$f":"ColdWinter!DN5-'C. Winter Peak 2015-01-15'!JA5","v":0},{"$f":"ColdWinter!DO5-'C. Winter Peak 2015-01-15'!JB5","v":0},{"$f":"ColdWinter!DP5-'C. Winter Peak 2015-01-15'!JC5","v":0},{"$f":"ColdWinter!DQ5-'C. Winter Peak 2015-01-15'!JD5","v":0},{"$f":"ColdWinter!DR5-'C. Winter Peak 2015-01-15'!JE5","v":0},{"$f":"ColdWinter!DS5-'C. Winter Peak 2015-01-15'!JF5","v":0}]
[null,"PCC3",{"$f":"ColdWinter!C6-'C. Winter Peak 2015-01-15'!EP6","v":0},{"$f":"ColdWinter!D6-'C. Winter Peak 2015-01-15'!EQ6","v":0},{"$f":"ColdWinter!E6-'C. Winter Peak 2015-01-15'!ER6","v":0},{"$f":"ColdWinter!F6-'C. Winter Peak 2015-01-15'!ES6","v":0},{"$f":"ColdWinter!G6-'C. Winter Peak 2015-01-15'!ET6","v":0},{"$f":"ColdWinter!H6-'C. Winter Peak 2015-01-15'!EU6","v":0},{"$f":"ColdWinter!I6-'C. Winter Peak 2015-01-15'!EV6","v":0},{"$f":"ColdWinter!J6-'C. Winter Peak 2015-01-15'!EW6","v":0},{"$f":"ColdWinter!K6-'C. Winter Peak 2015-01-15'!EX6","v":0},{"$f":"ColdWinter!L6-'C. Winter Peak 2015-01-15'!EY6","v":0},{"$f":"ColdWinter!M6-'C. Winter Peak 2015-01-15'!EZ6","v":0},{"$f":"ColdWinter!N6-'C. Winter Peak 2015-01-15'!FA6","v":0},{"$f":"ColdWinter!O6-'C. Winter Peak 2015-01-15'!FB6","v":0},{"$f":"ColdWinter!P6-'C. Winter Peak 2015-01-15'!FC6","v":0},{"$f":"ColdWinter!Q6-'C. Winter Peak 2015-01-15'!FD6","v":0},{"$f":"ColdWinter!R6-'C. Winter Peak 2015-01-15'!FE6","v":0},{"$f":"ColdWinter!S6-'C. Winter Peak 2015-01-15'!FF6","v":0},{"$f":"ColdWinter!T6-'C. Winter Peak 2015-01-15'!FG6","v":0},{"$f":"ColdWinter!U6-'C. Winter Peak 2015-01-15'!FH6","v":0},{"$f":"ColdWinter!V6-'C. Winter Peak 2015-01-15'!FI6","v":0},{"$f":"ColdWinter!W6-'C. Winter Peak 2015-01-15'!FJ6","v":0},{"$f":"ColdWinter!X6-'C. Winter Peak 2015-01-15'!FK6","v":0},{"$f":"ColdWinter!Y6-'C. Winter Peak 2015-01-15'!FL6","v":0},{"$f":"ColdWinter!Z6-'C. Winter Peak 2015-01-15'!FM6","v":0},{"$f":"ColdWinter!AA6-'C. Winter Peak 2015-01-15'!FN6","v":0},{"$f":"ColdWinter!AB6-'C. Winter Peak 2015-01-15'!FO6","v":0},{"$f":"ColdWinter!AC6-'C. Winter Peak 2015-01-15'!FP6","v":0},{"$f":"ColdWinter!AD6-'C. Winter Peak 2015-01-15'!FQ6","v":0},{"$f":"ColdWinter!AE6-'C. Winter Peak 2015-01-15'!FR6","v":0},{"$f":"ColdWinter!AF6-'C. Winter Peak 2015-01-15'!FS6","v":0},{"$f":"ColdWinter!AG6-'C. Winter Peak 2015-01-15'!FT6","v":0},{"$f":"ColdWinter!AH6-'C. Winter Peak 2015-01-15'!FU6","v":0},{"$f":"ColdWinter!AI6-'C. Winter Peak 2015-01-15'!FV6","v":0},{"$f":"ColdWinter!AJ6-'C. Winter Peak 2015-01-15'!FW6","v":0},{"$f":"ColdWinter!AK6-'C. Winter Peak 2015-01-15'!FX6","v":0},{"$f":"ColdWinter!AL6-'C. Winter Peak 2015-01-15'!FY6","v":0},{"$f":"ColdWinter!AM6-'C. Winter Peak 2015-01-15'!FZ6","v":0},{"$f":"ColdWinter!AN6-'C. Winter Peak 2015-01-15'!GA6","v":0},{"$f":"ColdWinter!AO6-'C. Winter Peak 2015-01-15'!GB6","v":0},{"$f":"ColdWinter!AP6-'C. Winter Peak 2015-01-15'!GC6","v":0},{"$f":"ColdWinter!AQ6-'C. Winter Peak 2015-01-15'!GD6","v":0},{"$f":"ColdWinter!AR6-'C. Winter Peak 2015-01-15'!GE6","v":0},{"$f":"ColdWinter!AS6-'C. Winter Peak 2015-01-15'!GF6","v":0},{"$f":"ColdWinter!AT6-'C. Winter Peak 2015-01-15'!GG6","v":0},{"$f":"ColdWinter!AU6-'C. Winter Peak 2015-01-15'!GH6","v":0},{"$f":"ColdWinter!AV6-'C. Winter Peak 2015-01-15'!GI6","v":0},{"$f":"ColdWinter!AW6-'C. Winter Peak 2015-01-15'!GJ6","v":0},{"$f":"ColdWinter!AX6-'C. Winter Peak 2015-01-15'!GK6","v":0},{"$f":"ColdWinter!AY6-'C. Winter Peak 2015-01-15'!GL6","v":0},{"$f":"ColdWinter!AZ6-'C. Winter Peak 2015-01-15'!GM6","v":0},{"$f":"ColdWinter!BA6-'C. Winter Peak 2015-01-15'!GN6","v":0},{"$f":"ColdWinter!BB6-'C. Winter Peak 2015-01-15'!GO6","v":0},{"$f":"ColdWinter!BC6-'C. Winter Peak 2015-01-15'!GP6","v":0},{"$f":"ColdWinter!BD6-'C. Winter Peak 2015-01-15'!GQ6","v":0},{"$f":"ColdWinter!BE6-'C. Winter Peak 2015-01-15'!GR6","v":0},{"$f":"ColdWinter!BF6-'C. Winter Peak 2015-01-15'!GS6","v":0},{"$f":"ColdWinter!BG6-'C. Winter Peak 2015-01-15'!GT6","v":0},{"$f":"ColdWinter!BH6-'C. Winter Peak 2015-01-15'!GU6","v":0},{"$f":"ColdWinter!BI6-'C. Winter Peak 2015-01-15'!GV6","v":0},{"$f":"ColdWinter!BJ6-'C. Winter Peak 2015-01-15'!GW6","v":0},{"$f":"ColdWinter!BK6-'C. Winter Peak 2015-01-15'!GX6","v":0},{"$f":"ColdWinter!BL6-'C. Winter Peak 2015-01-15'!GY6","v":0},{"$f":"ColdWinter!BM6-'C. Winter Peak 2015-01-15'!GZ6","v":0},{"$f":"ColdWinter!BN6-'C. Winter Peak 2015-01-15'!HA6","v":0},{"$f":"ColdWinter!BO6-'C. Winter Peak 2015-01-15'!HB6","v":0},{"$f":"ColdWinter!BP6-'C. Winter Peak 2015-01-15'!HC6","v":0},{"$f":"ColdWinter!BQ6-'C. Winter Peak 2015-01-15'!HD6","v":0},{"$f":"ColdWinter!BR6-'C. Winter Peak 2015-01-15'!HE6","v":0},{"$f":"ColdWinter!BS6-'C. Winter Peak 2015-01-15'!HF6","v":0},{"$f":"ColdWinter!BT6-'C. Winter Peak 2015-01-15'!HG6","v":0},{"$f":"ColdWinter!BU6-'C. Winter Peak 2015-01-15'!HH6","v":0},{"$f":"ColdWinter!BV6-'C. Winter Peak 2015-01-15'!HI6","v":0},{"$f":"ColdWinter!BW6-'C. Winter Peak 2015-01-15'!HJ6","v":0},{"$f":"ColdWinter!BX6-'C. Winter Peak 2015-01-15'!HK6","v":0},{"$f":"ColdWinter!BY6-'C. Winter Peak 2015-01-15'!HL6","v":0},{"$f":"ColdWinter!BZ6-'C. Winter Peak 2015-01-15'!HM6","v":0},{"$f":"ColdWinter!CA6-'C. Winter Peak 2015-01-15'!HN6","v":0},{"$f":"ColdWinter!CB6-'C. Winter Peak 2015-01-15'!HO6","v":0},{"$f":"ColdWinter!CC6-'C. Winter Peak 2015-01-15'!HP6","v":0},{"$f":"ColdWinter!CD6-'C. Winter Peak 2015-01-15'!HQ6","v":0},{"$f":"ColdWinter!CE6-'C. Winter Peak 2015-01-15'!HR6","v":0},{"$f":"ColdWinter!CF6-'C. Winter Peak 2015-01-15'!HS6","v":0},{"$f":"ColdWinter!CG6-'C. Winter Peak 2015-01-15'!HT6","v":0},{"$f":"ColdWinter!CH6-'C. Winter Peak 2015-01-15'!HU6","v":0},{"$f":"ColdWinter!CI6-'C. Winter Peak 2015-01-15'!HV6","v":0},{"$f":"ColdWinter!CJ6-'C. Winter Peak 2015-01-15'!HW6","v":0},{"$f":"ColdWinter!CK6-'C. Winter Peak 2015-01-15'!HX6","v":0},{"$f":"ColdWinter!CL6-'C. Winter Peak 2015-01-15'!HY6","v":0},{"$f":"ColdWinter!CM6-'C. Winter Peak 2015-01-15'!HZ6","v":0},{"$f":"ColdWinter!CN6-'C. Winter Peak 2015-01-15'!IA6","v":0},{"$f":"ColdWinter!CO6-'C. Winter Peak 2015-01-15'!IB6","v":0},{"$f":"ColdWinter!CP6-'C. Winter Peak 2015-01-15'!IC6","v":0},{"$f":"ColdWinter!CQ6-'C. Winter Peak 2015-01-15'!ID6","v":0},{"$f":"ColdWinter!CR6-'C. Winter Peak 2015-01-15'!IE6","v":0},{"$f":"ColdWinter!CS6-'C. Winter Peak 2015-01-15'!IF6","v":0},{"$f":"ColdWinter!CT6-'C. Winter Peak 2015-01-15'!IG6","v":0},{"$f":"ColdWinter!CU6-'C. Winter Peak 2015-01-15'!IH6","v":0},{"$f":"ColdWinter!CV6-'C. Winter Peak 2015-01-15'!II6","v":0},{"$f":"ColdWinter!CW6-'C. Winter Peak 2015-01-15'!IJ6","v":0},{"$f":"ColdWinter!CX6-'C. Winter Peak 2015-01-15'!IK6","v":0},{"$f":"ColdWinter!CY6-'C. Winter Peak 2015-01-15'!IL6","v":0},{"$f":"ColdWinter!CZ6-'C. Winter Peak 2015-01-15'!IM6","v":0},{"$f":"ColdWinter!DA6-'C. Winter Peak 2015-01-15'!IN6","v":0},{"$f":"ColdWinter!DB6-'C. Winter Peak 2015-01-15'!IO6","v":0},{"$f":"ColdWinter!DC6-'C. Winter Peak 2015-01-15'!IP6","v":0},{"$f":"ColdWinter!DD6-'C. Winter Peak 2015-01-15'!IQ6","v":0},{"$f":"ColdWinter!DE6-'C. Winter Peak 2015-01-15'!IR6","v":0},{"$f":"ColdWinter!DF6-'C. Winter Peak 2015-01-15'!IS6","v":0},{"$f":"ColdWinter!DG6-'C. Winter Peak 2015-01-15'!IT6","v":0},{"$f":"ColdWinter!DH6-'C. Winter Peak 2015-01-15'!IU6","v":0},{"$f":"ColdWinter!DI6-'C. Winter Peak 2015-01-15'!IV6","v":0},{"$f":"ColdWinter!DJ6-'C. Winter Peak 2015-01-15'!IW6","v":0},{"$f":"ColdWinter!DK6-'C. Winter Peak 2015-01-15'!IX6","v":0},{"$f":"ColdWinter!DL6-'C. Winter Peak 2015-01-15'!IY6","v":0},{"$f":"ColdWinter!DM6-'C. Winter Peak 2015-01-15'!IZ6","v":0},{"$f":"ColdWinter!DN6-'C. Winter Peak 2015-01-15'!JA6","v":0},{"$f":"ColdWinter!DO6-'C. Winter Peak 2015-01-15'!JB6","v":0},{"$f":"ColdWinter!DP6-'C. Winter Peak 2015-01-15'!JC6","v":0},{"$f":"ColdWinter!DQ6-'C. Winter Peak 2015-01-15'!JD6","v":0},{"$f":"ColdWinter!DR6-'C. Winter Peak 2015-01-15'!JE6","v":0},{"$f":"ColdWinter!DS6-'C. Winter Peak 2015-01-15'!JF6","v":0}]
[null,"PCU5",{"$f":"ColdWinter!C7-'C. Winter Peak 2015-01-15'!EP7","v":0},{"$f":"ColdWinter!D7-'C. Winter Peak 2015-01-15'!EQ7","v":0},{"$f":"ColdWinter!E7-'C. Winter Peak 2015-01-15'!ER7","v":0},{"$f":"ColdWinter!F7-'C. Winter Peak 2015-01-15'!ES7","v":0},{"$f":"ColdWinter!G7-'C. Winter Peak 2015-01-15'!ET7","v":0},{"$f":"ColdWinter!H7-'C. Winter Peak 2015-01-15'!EU7","v":0},{"$f":"ColdWinter!I7-'C. Winter Peak 2015-01-15'!EV7","v":0},{"$f":"ColdWinter!J7-'C. Winter Peak 2015-01-15'!EW7","v":0},{"$f":"ColdWinter!K7-'C. Winter Peak 2015-01-15'!EX7","v":0},{"$f":"ColdWinter!L7-'C. Winter Peak 2015-01-15'!EY7","v":0},{"$f":"ColdWinter!M7-'C. Winter Peak 2015-01-15'!EZ7","v":0},{"$f":"ColdWinter!N7-'C. Winter Peak 2015-01-15'!FA7","v":0},{"$f":"ColdWinter!O7-'C. Winter Peak 2015-01-15'!FB7","v":0},{"$f":"ColdWinter!P7-'C. Winter Peak 2015-01-15'!FC7","v":0},{"$f":"ColdWinter!Q7-'C. Winter Peak 2015-01-15'!FD7","v":0},{"$f":"ColdWinter!R7-'C. Winter Peak 2015-01-15'!FE7","v":0},{"$f":"ColdWinter!S7-'C. Winter Peak 2015-01-15'!FF7","v":0},{"$f":"ColdWinter!T7-'C. Winter Peak 2015-01-15'!FG7","v":0},{"$f":"ColdWinter!U7-'C. Winter Peak 2015-01-15'!FH7","v":0},{"$f":"ColdWinter!V7-'C. Winter Peak 2015-01-15'!FI7","v":0},{"$f":"ColdWinter!W7-'C. Winter Peak 2015-01-15'!FJ7","v":0},{"$f":"ColdWinter!X7-'C. Winter Peak 2015-01-15'!FK7","v":0},{"$f":"ColdWinter!Y7-'C. Winter Peak 2015-01-15'!FL7","v":0},{"$f":"ColdWinter!Z7-'C. Winter Peak 2015-01-15'!FM7","v":0},{"$f":"ColdWinter!AA7-'C. Winter Peak 2015-01-15'!FN7","v":0},{"$f":"ColdWinter!AB7-'C. Winter Peak 2015-01-15'!FO7","v":0},{"$f":"ColdWinter!AC7-'C. Winter Peak 2015-01-15'!FP7","v":0},{"$f":"ColdWinter!AD7-'C. Winter Peak 2015-01-15'!FQ7","v":0},{"$f":"ColdWinter!AE7-'C. Winter Peak 2015-01-15'!FR7","v":0},{"$f":"ColdWinter!AF7-'C. Winter Peak 2015-01-15'!FS7","v":0},{"$f":"ColdWinter!AG7-'C. Winter Peak 2015-01-15'!FT7","v":0},{"$f":"ColdWinter!AH7-'C. Winter Peak 2015-01-15'!FU7","v":0},{"$f":"ColdWinter!AI7-'C. Winter Peak 2015-01-15'!FV7","v":0},{"$f":"ColdWinter!AJ7-'C. Winter Peak 2015-01-15'!FW7","v":0},{"$f":"ColdWinter!AK7-'C. Winter Peak 2015-01-15'!FX7","v":0},{"$f":"ColdWinter!AL7-'C. Winter Peak 2015-01-15'!FY7","v":0},{"$f":"ColdWinter!AM7-'C. Winter Peak 2015-01-15'!FZ7","v":0},{"$f":"ColdWinter!AN7-'C. Winter Peak 2015-01-15'!GA7","v":0},{"$f":"ColdWinter!AO7-'C. Winter Peak 2015-01-15'!GB7","v":0},{"$f":"ColdWinter!AP7-'C. Winter Peak 2015-01-15'!GC7","v":0},{"$f":"ColdWinter!AQ7-'C. Winter Peak 2015-01-15'!GD7","v":0},{"$f":"ColdWinter!AR7-'C. Winter Peak 2015-01-15'!GE7","v":0},{"$f":"ColdWinter!AS7-'C. Winter Peak 2015-01-15'!GF7","v":0},{"$f":"ColdWinter!AT7-'C. Winter Peak 2015-01-15'!GG7","v":0},{"$f":"ColdWinter!AU7-'C. Winter Peak 2015-01-15'!GH7","v":0},{"$f":"ColdWinter!AV7-'C. Winter Peak 2015-01-15'!GI7","v":0},{"$f":"ColdWinter!AW7-'C. Winter Peak 2015-01-15'!GJ7","v":0},{"$f":"ColdWinter!AX7-'C. Winter Peak 2015-01-15'!GK7","v":0},{"$f":"ColdWinter!AY7-'C. Winter Peak 2015-01-15'!GL7","v":0},{"$f":"ColdWinter!AZ7-'C. Winter Peak 2015-01-15'!GM7","v":0},{"$f":"ColdWinter!BA7-'C. Winter Peak 2015-01-15'!GN7","v":0},{"$f":"ColdWinter!BB7-'C. Winter Peak 2015-01-15'!GO7","v":0},{"$f":"ColdWinter!BC7-'C. Winter Peak 2015-01-15'!GP7","v":0},{"$f":"ColdWinter!BD7-'C. Winter Peak 2015-01-15'!GQ7","v":0},{"$f":"ColdWinter!BE7-'C. Winter Peak 2015-01-15'!GR7","v":0},{"$f":"ColdWinter!BF7-'C. Winter Peak 2015-01-15'!GS7","v":0},{"$f":"ColdWinter!BG7-'C. Winter Peak 2015-01-15'!GT7","v":0},{"$f":"ColdWinter!BH7-'C. Winter Peak 2015-01-15'!GU7","v":0},{"$f":"ColdWinter!BI7-'C. Winter Peak 2015-01-15'!GV7","v":0},{"$f":"ColdWinter!BJ7-'C. Winter Peak 2015-01-15'!GW7","v":0},{"$f":"ColdWinter!BK7-'C. Winter Peak 2015-01-15'!GX7","v":0},{"$f":"ColdWinter!BL7-'C. Winter Peak 2015-01-15'!GY7","v":0},{"$f":"ColdWinter!BM7-'C. Winter Peak 2015-01-15'!GZ7","v":0},{"$f":"ColdWinter!BN7-'C. Winter Peak 2015-01-15'!HA7","v":0},{"$f":"ColdWinter!BO7-'C. Winter Peak 2015-01-15'!HB7","v":0},{"$f":"ColdWinter!BP7-'C. Winter Peak 2015-01-15'!HC7","v":0},{"$f":"ColdWinter!BQ7-'C. Winter Peak 2015-01-15'!HD7","v":0},{"$f":"ColdWinter!BR7-'C. Winter Peak 2015-01-15'!HE7","v":0},{"$f":"ColdWinter!BS7-'C. Winter Peak 2015-01-15'!HF7","v":0},{"$f":"ColdWinter!BT7-'C. Winter Peak 2015-01-15'!HG7","v":0},{"$f":"ColdWinter!BU7-'C. Winter Peak 2015-01-15'!HH7","v":0},{"$f":"ColdWinter!BV7-'C. Winter Peak 2015-01-15'!HI7","v":0},{"$f":"ColdWinter!BW7-'C. Winter Peak 2015-01-15'!HJ7","v":0},{"$f":"ColdWinter!BX7-'C. Winter Peak 2015-01-15'!HK7","v":0},{"$f":"ColdWinter!BY7-'C. Winter Peak 2015-01-15'!HL7","v":0},{"$f":"ColdWinter!BZ7-'C. Winter Peak 2015-01-15'!HM7","v":0},{"$f":"ColdWinter!CA7-'C. Winter Peak 2015-01-15'!HN7","v":0},{"$f":"ColdWinter!CB7-'C. Winter Peak 2015-01-15'!HO7","v":0},{"$f":"ColdWinter!CC7-'C. Winter Peak 2015-01-15'!HP7","v":0},{"$f":"ColdWinter!CD7-'C. Winter Peak 2015-01-15'!HQ7","v":0},{"$f":"ColdWinter!CE7-'C. Winter Peak 2015-01-15'!HR7","v":0},{"$f":"ColdWinter!CF7-'C. Winter Peak 2015-01-15'!HS7","v":0},{"$f":"ColdWinter!CG7-'C. Winter Peak 2015-01-15'!HT7","v":0},{"$f":"ColdWinter!CH7-'C. Winter Peak 2015-01-15'!HU7","v":0},{"$f":"ColdWinter!CI7-'C. Winter Peak 2015-01-15'!HV7","v":0},{"$f":"ColdWinter!CJ7-'C. Winter Peak 2015-01-15'!HW7","v":0},{"$f":"ColdWinter!CK7-'C. Winter Peak 2015-01-15'!HX7","v":0},{"$f":"ColdWinter!CL7-'C. Winter Peak 2015-01-15'!HY7","v":0},{"$f":"ColdWinter!CM7-'C. Winter Peak 2015-01-15'!HZ7","v":0},{"$f":"ColdWinter!CN7-'C. Winter Peak 2015-01-15'!IA7","v":0},{"$f":"ColdWinter!CO7-'C. Winter Peak 2015-01-15'!IB7","v":0},{"$f":"ColdWinter!CP7-'C. Winter Peak 2015-01-15'!IC7","v":0},{"$f":"ColdWinter!CQ7-'C. Winter Peak 2015-01-15'!ID7","v":0},{"$f":"ColdWinter!CR7-'C. Winter Peak 2015-01-15'!IE7","v":0},{"$f":"ColdWinter!CS7-'C. Winter Peak 2015-01-15'!IF7","v":0},{"$f":"ColdWinter!CT7-'C. Winter Peak 2015-01-15'!IG7","v":0},{"$f":"ColdWinter!CU7-'C. Winter Peak 2015-01-15'!IH7","v":0},{"$f":"ColdWinter!CV7-'C. Winter Peak 2015-01-15'!II7","v":0},{"$f":"ColdWinter!CW7-'C. Winter Peak 2015-01-15'!IJ7","v":0},{"$f":"ColdWinter!CX7-'C. Winter Peak 2015-01-15'!IK7","v":0},{"$f":"ColdWinter!CY7-'C. Winter Peak 2015-01-15'!IL7","v":0},{"$f":"ColdWinter!CZ7-'C. Winter Peak 2015-01-15'!IM7","v":0},{"$f":"ColdWinter!DA7-'C. Winter Peak 2015-01-15'!IN7","v":0},{"$f":"ColdWinter!DB7-'C. Winter Peak 2015-01-15'!IO7","v":0},{"$f":"ColdWinter!DC7-'C. Winter Peak 2015-01-15'!IP7","v":0},{"$f":"ColdWinter!DD7-'C. Winter Peak 2015-01-15'!IQ7","v":0},{"$f":"ColdWinter!DE7-'C. Winter Peak 2015-01-15'!IR7","v":0},{"$f":"ColdWinter!DF7-'C. Winter Peak 2015-01-15'!IS7","v":0},{"$f":"ColdWinter!DG7-'C. Winter Peak 2015-01-15'!IT7","v":0},{"$f":"ColdWinter!DH7-'C. Winter Peak 2015-01-15'!IU7","v":0},{"$f":"ColdWinter!DI7-'C. Winter Peak 2015-01-15'!IV7","v":0},{"$f":"ColdWinter!DJ7-'C. Winter Peak 2015-01-15'!IW7","v":0},{"$f":"ColdWinter!DK7-'C. Winter Peak 2015-01-15'!IX7","v":0},{"$f":"ColdWinter!DL7-'C. Winter Peak 2015-01-15'!IY7","v":0},{"$f":"ColdWinter!DM7-'C. Winter Peak 2015-01-15'!IZ7","v":0},{"$f":"ColdWinter!DN7-'C. Winter Peak 2015-01-15'!JA7","v":0},{"$f":"ColdWinter!DO7-'C. Winter Peak 2015-01-15'!JB7","v":0},{"$f":"ColdWinter!DP7-'C. Winter Peak 2015-01-15'!JC7","v":0},{"$f":"ColdWinter!DQ7-'C. Winter Peak 2015-01-15'!JD7","v":0},{"$f":"ColdWinter!DR7-'C. Winter Peak 2015-01-15'!JE7","v":0},{"$f":"ColdWinter!DS7-'C. Winter Peak 2015-01-15'!JF7","v":0}]
[null,"PCU6",{"$f":"ColdWinter!C8-'C. Winter Peak 2015-01-15'!EP8","v":0},{"$f":"ColdWinter!D8-'C. Winter Peak 2015-01-15'!EQ8","v":0},{"$f":"ColdWinter!E8-'C. Winter Peak 2015-01-15'!ER8","v":0},{"$f":"ColdWinter!F8-'C. Winter Peak 2015-01-15'!ES8","v":0},{"$f":"ColdWinter!G8-'C. Winter Peak 2015-01-15'!ET8","v":0},{"$f":"ColdWinter!H8-'C. Winter Peak 2015-01-15'!EU8","v":0},{"$f":"ColdWinter!I8-'C. Winter Peak 2015-01-15'!EV8","v":0},{"$f":"ColdWinter!J8-'C. Winter Peak 2015-01-15'!EW8","v":0},{"$f":"ColdWinter!K8-'C. Winter Peak 2015-01-15'!EX8","v":0},{"$f":"ColdWinter!L8-'C. Winter Peak 2015-01-15'!EY8","v":0},{"$f":"ColdWinter!M8-'C. Winter Peak 2015-01-15'!EZ8","v":0},{"$f":"ColdWinter!N8-'C. Winter Peak 2015-01-15'!FA8","v":0},{"$f":"ColdWinter!O8-'C. Winter Peak 2015-01-15'!FB8","v":0},{"$f":"ColdWinter!P8-'C. Winter Peak 2015-01-15'!FC8","v":0},{"$f":"ColdWinter!Q8-'C. Winter Peak 2015-01-15'!FD8","v":0},{"$f":"ColdWinter!R8-'C. Winter Peak 2015-01-15'!FE8","v":0},{"$f":"ColdWinter!S8-'C. Winter Peak 2015-01-15'!FF8","v":0},{"$f":"ColdWinter!T8-'C. Winter Peak 2015-01-15'!FG8","v":0},{"$f":"ColdWinter!U8-'C. Winter Peak 2015-01-15'!FH8","v":0},{"$f":"ColdWinter!V8-'C. Winter Peak 2015-01-15'!FI8","v":0},{"$f":"ColdWinter!W8-'C. Winter Peak 2015-01-15'!FJ8","v":0},{"$f":"ColdWinter!X8-'C. Winter Peak 2015-01-15'!FK8","v":0},{"$f":"ColdWinter!Y8-'C. Winter Peak 2015-01-15'!FL8","v":0},{"$f":"ColdWinter!Z8-'C. Winter Peak 2015-01-15'!FM8","v":0},{"$f":"ColdWinter!AA8-'C. Winter Peak 2015-01-15'!FN8","v":0},{"$f":"ColdWinter!AB8-'C. Winter Peak 2015-01-15'!FO8","v":0},{"$f":"ColdWinter!AC8-'C. Winter Peak 2015-01-15'!FP8","v":0},{"$f":"ColdWinter!AD8-'C. Winter Peak 2015-01-15'!FQ8","v":0},{"$f":"ColdWinter!AE8-'C. Winter Peak 2015-01-15'!FR8","v":0},{"$f":"ColdWinter!AF8-'C. Winter Peak 2015-01-15'!FS8","v":0},{"$f":"ColdWinter!AG8-'C. Winter Peak 2015-01-15'!FT8","v":0},{"$f":"ColdWinter!AH8-'C. Winter Peak 2015-01-15'!FU8","v":0},{"$f":"ColdWinter!AI8-'C. Winter Peak 2015-01-15'!FV8","v":0},{"$f":"ColdWinter!AJ8-'C. Winter Peak 2015-01-15'!FW8","v":0},{"$f":"ColdWinter!AK8-'C. Winter Peak 2015-01-15'!FX8","v":0},{"$f":"ColdWinter!AL8-'C. Winter Peak 2015-01-15'!FY8","v":0},{"$f":"ColdWinter!AM8-'C. Winter Peak 2015-01-15'!FZ8","v":0},{"$f":"ColdWinter!AN8-'C. Winter Peak 2015-01-15'!GA8","v":0},{"$f":"ColdWinter!AO8-'C. Winter Peak 2015-01-15'!GB8","v":0},{"$f":"ColdWinter!AP8-'C. Winter Peak 2015-01-15'!GC8","v":0},{"$f":"ColdWinter!AQ8-'C. Winter Peak 2015-01-15'!GD8","v":0},{"$f":"ColdWinter!AR8-'C. Winter Peak 2015-01-15'!GE8","v":0},{"$f":"ColdWinter!AS8-'C. Winter Peak 2015-01-15'!GF8","v":0},{"$f":"ColdWinter!AT8-'C. Winter Peak 2015-01-15'!GG8","v":0},{"$f":"ColdWinter!AU8-'C. Winter Peak 2015-01-15'!GH8","v":0},{"$f":"ColdWinter!AV8-'C. Winter Peak 2015-01-15'!GI8","v":0},{"$f":"ColdWinter!AW8-'C. Winter Peak 2015-01-15'!GJ8","v":0},{"$f":"ColdWinter!AX8-'C. Winter Peak 2015-01-15'!GK8","v":0},{"$f":"ColdWinter!AY8-'C. Winter Peak 2015-01-15'!GL8","v":0},{"$f":"ColdWinter!AZ8-'C. Winter Peak 2015-01-15'!GM8","v":0},{"$f":"ColdWinter!BA8-'C. Winter Peak 2015-01-15'!GN8","v":0},{"$f":"ColdWinter!BB8-'C. Winter Peak 2015-01-15'!GO8","v":0},{"$f":"ColdWinter!BC8-'C. Winter Peak 2015-01-15'!GP8","v":0},{"$f":"ColdWinter!BD8-'C. Winter Peak 2015-01-15'!GQ8","v":0},{"$f":"ColdWinter!BE8-'C. Winter Peak 2015-01-15'!GR8","v":0},{"$f":"ColdWinter!BF8-'C. Winter Peak 2015-01-15'!GS8","v":0},{"$f":"ColdWinter!BG8-'C. Winter Peak 2015-01-15'!GT8","v":0},{"$f":"ColdWinter!BH8-'C. Winter Peak 2015-01-15'!GU8","v":0},{"$f":"ColdWinter!BI8-'C. Winter Peak 2015-01-15'!GV8","v":0},{"$f":"ColdWinter!BJ8-'C. Winter Peak 2015-01-15'!GW8","v":0},{"$f":"ColdWinter!BK8-'C. Winter Peak 2015-01-15'!GX8","v":0},{"$f":"ColdWinter!BL8-'C. Winter Peak 2015-01-15'!GY8","v":0},{"$f":"ColdWinter!BM8-'C. Winter Peak 2015-01-15'!GZ8","v":0},{"$f":"ColdWinter!BN8-'C. Winter Peak 2015-01-15'!HA8","v":0},{"$f":"ColdWinter!BO8-'C. Winter Peak 2015-01-15'!HB8","v":0},{"$f":"ColdWinter!BP8-'C. Winter Peak 2015-01-15'!HC8","v":0},{"$f":"ColdWinter!BQ8-'C. Winter Peak 2015-01-15'!HD8","v":0},{"$f":"ColdWinter!BR8-'C. Winter Peak 2015-01-15'!HE8","v":0},{"$f":"ColdWinter!BS8-'C. Winter Peak 2015-01-15'!HF8","v":0},{"$f":"ColdWinter!BT8-'C. Winter Peak 2015-01-15'!HG8","v":0},{"$f":"ColdWinter!BU8-'C. Winter Peak 2015-01-15'!HH8","v":0},{"$f":"ColdWinter!BV8-'C. Winter Peak 2015-01-15'!HI8","v":0},{"$f":"ColdWinter!BW8-'C. Winter Peak 2015-01-15'!HJ8","v":0},{"$f":"ColdWinter!BX8-'C. Winter Peak 2015-01-15'!HK8","v":0},{"$f":"ColdWinter!BY8-'C. Winter Peak 2015-01-15'!HL8","v":0},{"$f":"ColdWinter!BZ8-'C. Winter Peak 2015-01-15'!HM8","v":0},{"$f":"ColdWinter!CA8-'C. Winter Peak 2015-01-15'!HN8","v":0},{"$f":"ColdWinter!CB8-'C. Winter Peak 2015-01-15'!HO8","v":0},{"$f":"ColdWinter!CC8-'C. Winter Peak 2015-01-15'!HP8","v":0},{"$f":"ColdWinter!CD8-'C. Winter Peak 2015-01-15'!HQ8","v":0},{"$f":"ColdWinter!CE8-'C. Winter Peak 2015-01-15'!HR8","v":0},{"$f":"ColdWinter!CF8-'C. Winter Peak 2015-01-15'!HS8","v":0},{"$f":"ColdWinter!CG8-'C. Winter Peak 2015-01-15'!HT8","v":0},{"$f":"ColdWinter!CH8-'C. Winter Peak 2015-01-15'!HU8","v":0},{"$f":"ColdWinter!CI8-'C. Winter Peak 2015-01-15'!HV8","v":0},{"$f":"ColdWinter!CJ8-'C. Winter Peak 2015-01-15'!HW8","v":0},{"$f":"ColdWinter!CK8-'C. Winter Peak 2015-01-15'!HX8","v":0},{"$f":"ColdWinter!CL8-'C. Winter Peak 2015-01-15'!HY8","v":0},{"$f":"ColdWinter!CM8-'C. Winter Peak 2015-01-15'!HZ8","v":0},{"$f":"ColdWinter!CN8-'C. Winter Peak 2015-01-15'!IA8","v":0},{"$f":"ColdWinter!CO8-'C. Winter Peak 2015-01-15'!IB8","v":0},{"$f":"ColdWinter!CP8-'C. Winter Peak 2015-01-15'!IC8","v":0},{"$f":"ColdWinter!CQ8-'C. Winter Peak 2015-01-15'!ID8","v":0},{"$f":"ColdWinter!CR8-'C. Winter Peak 2015-01-15'!IE8","v":0},{"$f":"ColdWinter!CS8-'C. Winter Peak 2015-01-15'!IF8","v":0},{"$f":"ColdWinter!CT8-'C. Winter Peak 2015-01-15'!IG8","v":0},{"$f":"ColdWinter!CU8-'C. Winter Peak 2015-01-15'!IH8","v":0},{"$f":"ColdWinter!CV8-'C. Winter Peak 2015-01-15'!II8","v":0},{"$f":"ColdWinter!CW8-'C. Winter Peak 2015-01-15'!IJ8","v":0},{"$f":"ColdWinter!CX8-'C. Winter Peak 2015-01-15'!IK8","v":0},{"$f":"ColdWinter!CY8-'C. Winter Peak 2015-01-15'!IL8","v":0},{"$f":"ColdWinter!CZ8-'C. Winter Peak 2015-01-15'!IM8","v":0},{"$f":"ColdWinter!DA8-'C. Winter Peak 2015-01-15'!IN8","v":0},{"$f":"ColdWinter!DB8-'C. Winter Peak 2015-01-15'!IO8","v":0},{"$f":"ColdWinter!DC8-'C. Winter Peak 2015-01-15'!IP8","v":0},{"$f":"ColdWinter!DD8-'C. Winter Peak 2015-01-15'!IQ8","v":0},{"$f":"ColdWinter!DE8-'C. Winter Peak 2015-01-15'!IR8","v":0},{"$f":"ColdWinter!DF8-'C. Winter Peak 2015-01-15'!IS8","v":0},{"$f":"ColdWinter!DG8-'C. Winter Peak 2015-01-15'!IT8","v":0},{"$f":"ColdWinter!DH8-'C. Winter Peak 2015-01-15'!IU8","v":0},{"$f":"ColdWinter!DI8-'C. Winter Peak 2015-01-15'!IV8","v":0},{"$f":"ColdWinter!DJ8-'C. Winter Peak 2015-01-15'!IW8","v":0},{"$f":"ColdWinter!DK8-'C. Winter Peak 2015-01-15'!IX8","v":0},{"$f":"ColdWinter!DL8-'C. Winter Peak 2015-01-15'!IY8","v":0},{"$f":"ColdWinter!DM8-'C. Winter Peak 2015-01-15'!IZ8","v":0},{"$f":"ColdWinter!DN8-'C. Winter Peak 2015-01-15'!JA8","v":0},{"$f":"ColdWinter!DO8-'C. Winter Peak 2015-01-15'!JB8","v":0},{"$f":"ColdWinter!DP8-'C. Winter Peak 2015-01-15'!JC8","v":0},{"$f":"ColdWinter!DQ8-'C. Winter Peak 2015-01-15'!JD8","v":0},{"$f":"ColdWinter!DR8-'C. Winter Peak 2015-01-15'!JE8","v":0},{"$f":"ColdWinter!DS8-'C. Winter Peak 2015-01-15'!JF8","v":0}]
[null,"PDO",{"$f":"ColdWinter!C9-'C. Winter Peak 2015-01-15'!EP9","v":0},{"$f":"ColdWinter!D9-'C. Winter Peak 2015-01-15'!EQ9","v":0},{"$f":"ColdWinter!E9-'C. Winter Peak 2015-01-15'!ER9","v":0},{"$f":"ColdWinter!F9-'C. Winter Peak 2015-01-15'!ES9","v":0},{"$f":"ColdWinter!G9-'C. Winter Peak 2015-01-15'!ET9","v":0},{"$f":"ColdWinter!H9-'C. Winter Peak 2015-01-15'!EU9","v":0},{"$f":"ColdWinter!I9-'C. Winter Peak 2015-01-15'!EV9","v":0},{"$f":"ColdWinter!J9-'C. Winter Peak 2015-01-15'!EW9","v":0},{"$f":"ColdWinter!K9-'C. Winter Peak 2015-01-15'!EX9","v":0},{"$f":"ColdWinter!L9-'C. Winter Peak 2015-01-15'!EY9","v":0},{"$f":"ColdWinter!M9-'C. Winter Peak 2015-01-15'!EZ9","v":0},{"$f":"ColdWinter!N9-'C. Winter Peak 2015-01-15'!FA9","v":0},{"$f":"ColdWinter!O9-'C. Winter Peak 2015-01-15'!FB9","v":0},{"$f":"ColdWinter!P9-'C. Winter Peak 2015-01-15'!FC9","v":0},{"$f":"ColdWinter!Q9-'C. Winter Peak 2015-01-15'!FD9","v":0},{"$f":"ColdWinter!R9-'C. Winter Peak 2015-01-15'!FE9","v":0},{"$f":"ColdWinter!S9-'C. Winter Peak 2015-01-15'!FF9","v":0},{"$f":"ColdWinter!T9-'C. Winter Peak 2015-01-15'!FG9","v":0},{"$f":"ColdWinter!U9-'C. Winter Peak 2015-01-15'!FH9","v":0},{"$f":"ColdWinter!V9-'C. Winter Peak 2015-01-15'!FI9","v":0},{"$f":"ColdWinter!W9-'C. Winter Peak 2015-01-15'!FJ9","v":0},{"$f":"ColdWinter!X9-'C. Winter Peak 2015-01-15'!FK9","v":0},{"$f":"ColdWinter!Y9-'C. Winter Peak 2015-01-15'!FL9","v":0},{"$f":"ColdWinter!Z9-'C. Winter Peak 2015-01-15'!FM9","v":0},{"$f":"ColdWinter!AA9-'C. Winter Peak 2015-01-15'!FN9","v":0},{"$f":"ColdWinter!AB9-'C. Winter Peak 2015-01-15'!FO9","v":0},{"$f":"ColdWinter!AC9-'C. Winter Peak 2015-01-15'!FP9","v":0},{"$f":"ColdWinter!AD9-'C. Winter Peak 2015-01-15'!FQ9","v":0},{"$f":"ColdWinter!AE9-'C. Winter Peak 2015-01-15'!FR9","v":0},{"$f":"ColdWinter!AF9-'C. Winter Peak 2015-01-15'!FS9","v":0},{"$f":"ColdWinter!AG9-'C. Winter Peak 2015-01-15'!FT9","v":0},{"$f":"ColdWinter!AH9-'C. Winter Peak 2015-01-15'!FU9","v":0},{"$f":"ColdWinter!AI9-'C. Winter Peak 2015-01-15'!FV9","v":0},{"$f":"ColdWinter!AJ9-'C. Winter Peak 2015-01-15'!FW9","v":0},{"$f":"ColdWinter!AK9-'C. Winter Peak 2015-01-15'!FX9","v":0},{"$f":"ColdWinter!AL9-'C. Winter Peak 2015-01-15'!FY9","v":0},{"$f":"ColdWinter!AM9-'C. Winter Peak 2015-01-15'!FZ9","v":0},{"$f":"ColdWinter!AN9-'C. Winter Peak 2015-01-15'!GA9","v":0},{"$f":"ColdWinter!AO9-'C. Winter Peak 2015-01-15'!GB9","v":0},{"$f":"ColdWinter!AP9-'C. Winter Peak 2015-01-15'!GC9","v":0},{"$f":"ColdWinter!AQ9-'C. Winter Peak 2015-01-15'!GD9","v":0},{"$f":"ColdWinter!AR9-'C. Winter Peak 2015-01-15'!GE9","v":0},{"$f":"ColdWinter!AS9-'C. Winter Peak 2015-01-15'!GF9","v":0},{"$f":"ColdWinter!AT9-'C. Winter Peak 2015-01-15'!GG9","v":0},{"$f":"ColdWinter!AU9-'C. Winter Peak 2015-01-15'!GH9","v":0},{"$f":"ColdWinter!AV9-'C. Winter Peak 2015-01-15'!GI9","v":0},{"$f":"ColdWinter!AW9-'C. Winter Peak 2015-01-15'!GJ9","v":0},{"$f":"ColdWinter!AX9-'C. Winter Peak 2015-01-15'!GK9","v":0},{"$f":"ColdWinter!AY9-'C. Winter Peak 2015-01-15'!GL9","v":0},{"$f":"ColdWinter!AZ9-'C. Winter Peak 2015-01-15'!GM9","v":0},{"$f":"ColdWinter!BA9-'C. Winter Peak 2015-01-15'!GN9","v":0},{"$f":"ColdWinter!BB9-'C. Winter Peak 2015-01-15'!GO9","v":0},{"$f":"ColdWinter!BC9-'C. Winter Peak 2015-01-15'!GP9","v":0},{"$f":"ColdWinter!BD9-'C. Winter Peak 2015-01-15'!GQ9","v":0},{"$f":"ColdWinter!BE9-'C. Winter Peak 2015-01-15'!GR9","v":0},{"$f":"ColdWinter!BF9-'C. Winter Peak 2015-01-15'!GS9","v":0},{"$f":"ColdWinter!BG9-'C. Winter Peak 2015-01-15'!GT9","v":0},{"$f":"ColdWinter!BH9-'C. Winter Peak 2015-01-15'!GU9","v":0},{"$f":"ColdWinter!BI9-'C. Winter Peak 2015-01-15'!GV9","v":0},{"$f":"ColdWinter!BJ9-'C. Winter Peak 2015-01-15'!GW9","v":0},{"$f":"ColdWinter!BK9-'C. Winter Peak 2015-01-15'!GX9","v":0},{"$f":"ColdWinter!BL9-'C. Winter Peak 2015-01-15'!GY9","v":0},{"$f":"ColdWinter!BM9-'C. Winter Peak 2015-01-15'!GZ9","v":0},{"$f":"ColdWinter!BN9-'C. Winter Peak 2015-01-15'!HA9","v":0},{"$f":"ColdWinter!BO9-'C. Winter Peak 2015-01-15'!HB9","v":0},{"$f":"ColdWinter!BP9-'C. Winter Peak 2015-01-15'!HC9","v":0},{"$f":"ColdWinter!BQ9-'C. Winter Peak 2015-01-15'!HD9","v":0},{"$f":"ColdWinter!BR9-'C. Winter Peak 2015-01-15'!HE9","v":0},{"$f":"ColdWinter!BS9-'C. Winter Peak 2015-01-15'!HF9","v":0},{"$f":"ColdWinter!BT9-'C. Winter Peak 2015-01-15'!HG9","v":0},{"$f":"ColdWinter!BU9-'C. Winter Peak 2015-01-15'!HH9","v":0},{"$f":"ColdWinter!BV9-'C. Winter Peak 2015-01-15'!HI9","v":0},{"$f":"ColdWinter!BW9-'C. Winter Peak 2015-01-15'!HJ9","v":0},{"$f":"ColdWinter!BX9-'C. Winter Peak 2015-01-15'!HK9","v":0},{"$f":"ColdWinter!BY9-'C. Winter Peak 2015-01-15'!HL9","v":0},{"$f":"ColdWinter!BZ9-'C. Winter Peak 2015-01-15'!HM9","v":0},{"$f":"ColdWinter!CA9-'C. Winter Peak 2015-01-15'!HN9","v":0},{"$f":"ColdWinter!CB9-'C. Winter Peak 2015-01-15'!HO9","v":0},{"$f":"ColdWinter!CC9-'C. Winter Peak 2015-01-15'!HP9","v":0},{"$f":"ColdWinter!CD9-'C. Winter Peak 2015-01-15'!HQ9","v":0},{"$f":"ColdWinter!CE9-'C. Winter Peak 2015-01-15'!HR9","v":0},{"$f":"ColdWinter!CF9-'C. Winter Peak 2015-01-15'!HS9","v":0},{"$f":"ColdWinter!CG9-'C. Winter Peak 2015-01-15'!HT9","v":0},{"$f":"ColdWinter!CH9-'C. Winter Peak 2015-01-15'!HU9","v":0},{"$f":"ColdWinter!CI9-'C. Winter Peak 2015-01-15'!HV9","v":0},{"$f":"ColdWinter!CJ9-'C. Winter Peak 2015-01-15'!HW9","v":0},{"$f":"ColdWinter!CK9-'C. Winter Peak 2015-01-15'!HX9","v":0},{"$f":"ColdWinter!CL9-'C. Winter Peak 2015-01-15'!HY9","v":0},{"$f":"ColdWinter!CM9-'C. Winter Peak 2015-01-15'!HZ9","v":0},{"$f":"ColdWinter!CN9-'C. Winter Peak 2015-01-15'!IA9","v":0},{"$f":"ColdWinter!CO9-'C. Winter Peak 2015-01-15'!IB9","v":0},{"$f":"ColdWinter!CP9-'C. Winter Peak 2015-01-15'!IC9","v":0},{"$f":"ColdWinter!CQ9-'C. Winter Peak 2015-01-15'!ID9","v":0},{"$f":"ColdWinter!CR9-'C. Winter Peak 2015-01-15'!IE9","v":0},{"$f":"ColdWinter!CS9-'C. Winter Peak 2015-01-15'!IF9","v":0},{"$f":"ColdWinter!CT9-'C. Winter Peak 2015-01-15'!IG9","v":0},{"$f":"ColdWinter!CU9-'C. Winter Peak 2015-01-15'!IH9","v":0},{"$f":"ColdWinter!CV9-'C. Winter Peak 2015-01-15'!II9","v":0},{"$f":"ColdWinter!CW9-'C. Winter Peak 2015-01-15'!IJ9","v":0},{"$f":"ColdWinter!CX9-'C. Winter Peak 2015-01-15'!IK9","v":0},{"$f":"ColdWinter!CY9-'C. Winter Peak 2015-01-15'!IL9","v":0},{"$f":"ColdWinter!CZ9-'C. Winter Peak 2015-01-15'!IM9","v":0},{"$f":"ColdWinter!DA9-'C. Winter Peak 2015-01-15'!IN9","v":0},{"$f":"ColdWinter!DB9-'C. Winter Peak 2015-01-15'!IO9","v":0},{"$f":"ColdWinter!DC9-'C. Winter Peak 2015-01-15'!IP9","v":0},{"$f":"ColdWinter!DD9-'C. Winter Peak 2015-01-15'!IQ9","v":0},{"$f":"ColdWinter!DE9-'C. Winter Peak 2015-01-15'!IR9","v":0},{"$f":"ColdWinter!DF9-'C. Winter Peak 2015-01-15'!IS9","v":0},{"$f":"ColdWinter!DG9-'C. Winter Peak 2015-01-15'!IT9","v":0},{"$f":"ColdWinter!DH9-'C. Winter Peak 2015-01-15'!IU9","v":0},{"$f":"ColdWinter!DI9-'C. Winter Peak 2015-01-15'!IV9","v":0},{"$f":"ColdWinter!DJ9-'C. Winter Peak 2015-01-15'!IW9","v":0},{"$f":"ColdWinter!DK9-'C. Winter Peak 2015-01-15'!IX9","v":0},{"$f":"ColdWinter!DL9-'C. Winter Peak 2015-01-15'!IY9","v":0},{"$f":"ColdWinter!DM9-'C. Winter Peak 2015-01-15'!IZ9","v":0},{"$f":"ColdWinter!DN9-'C. Winter Peak 2015-01-15'!JA9","v":0},{"$f":"ColdWinter!DO9-'C. Winter Peak 2015-01-15'!JB9","v":0},{"$f":"ColdWinter!DP9-'C. Winter Peak 2015-01-15'!JC9","v":0},{"$f":"ColdWinter!DQ9-'C. Winter Peak 2015-01-15'!JD9","v":0},{"$f":"ColdWinter!DR9-'C. Winter Peak 2015-01-15'!JE9","v":0},{"$f":"ColdWinter!DS9-'C. Winter Peak 2015-01-15'!JF9","v":0}]
[null,"PFL4",{"$f":"ColdWinter!C10-'C. Winter Peak 2015-01-15'!EP10","v":0},{"$f":"ColdWinter!D10-'C. Winter Peak 2015-01-15'!EQ10","v":0},{"$f":"ColdWinter!E10-'C. Winter Peak 2015-01-15'!ER10","v":0},{"$f":"ColdWinter!F10-'C. Winter Peak 2015-01-15'!ES10","v":0},{"$f":"ColdWinter!G10-'C. Winter Peak 2015-01-15'!ET10","v":0},{"$f":"ColdWinter!H10-'C. Winter Peak 2015-01-15'!EU10","v":0},{"$f":"ColdWinter!I10-'C. Winter Peak 2015-01-15'!EV10","v":0},{"$f":"ColdWinter!J10-'C. Winter Peak 2015-01-15'!EW10","v":0},{"$f":"ColdWinter!K10-'C. Winter Peak 2015-01-15'!EX10","v":0},{"$f":"ColdWinter!L10-'C. Winter Peak 2015-01-15'!EY10","v":0},{"$f":"ColdWinter!M10-'C. Winter Peak 2015-01-15'!EZ10","v":0},{"$f":"ColdWinter!N10-'C. Winter Peak 2015-01-15'!FA10","v":0},{"$f":"ColdWinter!O10-'C. Winter Peak 2015-01-15'!FB10","v":0},{"$f":"ColdWinter!P10-'C. Winter Peak 2015-01-15'!FC10","v":0},{"$f":"ColdWinter!Q10-'C. Winter Peak 2015-01-15'!FD10","v":0},{"$f":"ColdWinter!R10-'C. Winter Peak 2015-01-15'!FE10","v":0},{"$f":"ColdWinter!S10-'C. Winter Peak 2015-01-15'!FF10","v":0},{"$f":"ColdWinter!T10-'C. Winter Peak 2015-01-15'!FG10","v":0},{"$f":"ColdWinter!U10-'C. Winter Peak 2015-01-15'!FH10","v":0},{"$f":"ColdWinter!V10-'C. Winter Peak 2015-01-15'!FI10","v":0},{"$f":"ColdWinter!W10-'C. Winter Peak 2015-01-15'!FJ10","v":0},{"$f":"ColdWinter!X10-'C. Winter Peak 2015-01-15'!FK10","v":0},{"$f":"ColdWinter!Y10-'C. Winter Peak 2015-01-15'!FL10","v":0},{"$f":"ColdWinter!Z10-'C. Winter Peak 2015-01-15'!FM10","v":0},{"$f":"ColdWinter!AA10-'C. Winter Peak 2015-01-15'!FN10","v":0},{"$f":"ColdWinter!AB10-'C. Winter Peak 2015-01-15'!FO10","v":0},{"$f":"ColdWinter!AC10-'C. Winter Peak 2015-01-15'!FP10","v":0},{"$f":"ColdWinter!AD10-'C. Winter Peak 2015-01-15'!FQ10","v":0},{"$f":"ColdWinter!AE10-'C. Winter Peak 2015-01-15'!FR10","v":0},{"$f":"ColdWinter!AF10-'C. Winter Peak 2015-01-15'!FS10","v":0},{"$f":"ColdWinter!AG10-'C. Winter Peak 2015-01-15'!FT10","v":0},{"$f":"ColdWinter!AH10-'C. Winter Peak 2015-01-15'!FU10","v":0},{"$f":"ColdWinter!AI10-'C. Winter Peak 2015-01-15'!FV10","v":0},{"$f":"ColdWinter!AJ10-'C. Winter Peak 2015-01-15'!FW10","v":0},{"$f":"ColdWinter!AK10-'C. Winter Peak 2015-01-15'!FX10","v":0},{"$f":"ColdWinter!AL10-'C. Winter Peak 2015-01-15'!FY10","v":0},{"$f":"ColdWinter!AM10-'C. Winter Peak 2015-01-15'!FZ10","v":0},{"$f":"ColdWinter!AN10-'C. Winter Peak 2015-01-15'!GA10","v":0},{"$f":"ColdWinter!AO10-'C. Winter Peak 2015-01-15'!GB10","v":0},{"$f":"ColdWinter!AP10-'C. Winter Peak 2015-01-15'!GC10","v":0},{"$f":"ColdWinter!AQ10-'C. Winter Peak 2015-01-15'!GD10","v":0},{"$f":"ColdWinter!AR10-'C. Winter Peak 2015-01-15'!GE10","v":0},{"$f":"ColdWinter!AS10-'C. Winter Peak 2015-01-15'!GF10","v":0},{"$f":"ColdWinter!AT10-'C. Winter Peak 2015-01-15'!GG10","v":0},{"$f":"ColdWinter!AU10-'C. Winter Peak 2015-01-15'!GH10","v":0},{"$f":"ColdWinter!AV10-'C. Winter Peak 2015-01-15'!GI10","v":0},{"$f":"ColdWinter!AW10-'C. Winter Peak 2015-01-15'!GJ10","v":0},{"$f":"ColdWinter!AX10-'C. Winter Peak 2015-01-15'!GK10","v":0},{"$f":"ColdWinter!AY10-'C. Winter Peak 2015-01-15'!GL10","v":0},{"$f":"ColdWinter!AZ10-'C. Winter Peak 2015-01-15'!GM10","v":0},{"$f":"ColdWinter!BA10-'C. Winter Peak 2015-01-15'!GN10","v":0},{"$f":"ColdWinter!BB10-'C. Winter Peak 2015-01-15'!GO10","v":0},{"$f":"ColdWinter!BC10-'C. Winter Peak 2015-01-15'!GP10","v":0},{"$f":"ColdWinter!BD10-'C. Winter Peak 2015-01-15'!GQ10","v":0},{"$f":"ColdWinter!BE10-'C. Winter Peak 2015-01-15'!GR10","v":0},{"$f":"ColdWinter!BF10-'C. Winter Peak 2015-01-15'!GS10","v":0},{"$f":"ColdWinter!BG10-'C. Winter Peak 2015-01-15'!GT10","v":0},{"$f":"ColdWinter!BH10-'C. Winter Peak 2015-01-15'!GU10","v":0},{"$f":"ColdWinter!BI10-'C. Winter Peak 2015-01-15'!GV10","v":0},{"$f":"ColdWinter!BJ10-'C. Winter Peak 2015-01-15'!GW10","v":0},{"$f":"ColdWinter!BK10-'C. Winter Peak 2015-01-15'!GX10","v":0},{"$f":"ColdWinter!BL10-'C. Winter Peak 2015-01-15'!GY10","v":0},{"$f":"ColdWinter!BM10-'C. Winter Peak 2015-01-15'!GZ10","v":0},{"$f":"ColdWinter!BN10-'C. Winter Peak 2015-01-15'!HA10","v":0},{"$f":"ColdWinter!BO10-'C. Winter Peak 2015-01-15'!HB10","v":0},{"$f":"ColdWinter!BP10-'C. Winter Peak 2015-01-15'!HC10","v":0},{"$f":"ColdWinter!BQ10-'C. Winter Peak 2015-01-15'!HD10","v":0},{"$f":"ColdWinter!BR10-'C. Winter Peak 2015-01-15'!HE10","v":0},{"$f":"ColdWinter!BS10-'C. Winter Peak 2015-01-15'!HF10","v":0},{"$f":"ColdWinter!BT10-'C. Winter Peak 2015-01-15'!HG10","v":0},{"$f":"ColdWinter!BU10-'C. Winter Peak 2015-01-15'!HH10","v":0},{"$f":"ColdWinter!BV10-'C. Winter Peak 2015-01-15'!HI10","v":0},{"$f":"ColdWinter!BW10-'C. Winter Peak 2015-01-15'!HJ10","v":0},{"$f":"ColdWinter!BX10-'C. Winter Peak 2015-01-15'!HK10","v":0},{"$f":"ColdWinter!BY10-'C. Winter Peak 2015-01-15'!HL10","v":0},{"$f":"ColdWinter!BZ10-'C. Winter Peak 2015-01-15'!HM10","v":0},{"$f":"ColdWinter!CA10-'C. Winter Peak 2015-01-15'!HN10","v":0},{"$f":"ColdWinter!CB10-'C. Winter Peak 2015-01-15'!HO10","v":0},{"$f":"ColdWinter!CC10-'C. Winter Peak 2015-01-15'!HP10","v":0},{"$f":"ColdWinter!CD10-'C. Winter Peak 2015-01-15'!HQ10","v":0},{"$f":"ColdWinter!CE10-'C. Winter Peak 2015-01-15'!HR10","v":0},{"$f":"ColdWinter!CF10-'C. Winter Peak 2015-01-15'!HS10","v":0},{"$f":"ColdWinter!CG10-'C. Winter Peak 2015-01-15'!HT10","v":0},{"$f":"ColdWinter!CH10-'C. Winter Peak 2015-01-15'!HU10","v":0},{"$f":"ColdWinter!CI10-'C. Winter Peak 2015-01-15'!HV10","v":0},{"$f":"ColdWinter!CJ10-'C. Winter Peak 2015-01-15'!HW10","v":0},{"$f":"ColdWinter!CK10-'C. Winter Peak 2015-01-15'!HX10","v":0},{"$f":"ColdWinter!CL10-'C. Winter Peak 2015-01-15'!HY10","v":0},{"$f":"ColdWinter!CM10-'C. Winter Peak 2015-01-15'!HZ10","v":0},{"$f":"ColdWinter!CN10-'C. Winter Peak 2015-01-15'!IA10","v":0},{"$f":"ColdWinter!CO10-'C. Winter Peak 2015-01-15'!IB10","v":0},{"$f":"ColdWinter!CP10-'C. Winter Peak 2015-01-15'!IC10","v":0},{"$f":"ColdWinter!CQ10-'C. Winter Peak 2015-01-15'!ID10","v":0},{"$f":"ColdWinter!CR10-'C. Winter Peak 2015-01-15'!IE10","v":0},{"$f":"ColdWinter!CS10-'C. Winter Peak 2015-01-15'!IF10","v":0},{"$f":"ColdWinter!CT10-'C. Winter Peak 2015-01-15'!IG10","v":0},{"$f":"ColdWinter!CU10-'C. Winter Peak 2015-01-15'!IH10","v":0},{"$f":"ColdWinter!CV10-'C. Winter Peak 2015-01-15'!II10","v":0},{"$f":"ColdWinter!CW10-'C. Winter Peak 2015-01-15'!IJ10","v":0},{"$f":"ColdWinter!CX10-'C. Winter Peak 2015-01-15'!IK10","v":0},{"$f":"ColdWinter!CY10-'C. Winter Peak 2015-01-15'!IL10","v":0},{"$f":"ColdWinter!CZ10-'C. Winter Peak 2015-01-15'!IM10","v":0},{"$f":"ColdWinter!DA10-'C. Winter Peak 2015-01-15'!IN10","v":0},{"$f":"ColdWinter!DB10-'C. Winter Peak 2015-01-15'!IO10","v":0},{"$f":"ColdWinter!DC10-'C. Winter Peak 2015-01-15'!IP10","v":0},{"$f":"ColdWinter!DD10-'C. Winter Peak 2015-01-15'!IQ10","v":0},{"$f":"ColdWinter!DE10-'C. Winter Peak 2015-01-15'!IR10","v":0},{"$f":"ColdWinter!DF10-'C. Winter Peak 2015-01-15'!IS10","v":0},{"$f":"ColdWinter!DG10-'C. Winter Peak 2015-01-15'!IT10","v":0},{"$f":"ColdWinter!DH10-'C. Winter Peak 2015-01-15'!IU10","v":0},{"$f":"ColdWinter!DI10-'C. Winter Peak 2015-01-15'!IV10","v":0},{"$f":"ColdWinter!DJ10-'C. Winter Peak 2015-01-15'!IW10","v":0},{"$f":"ColdWinter!DK10-'C. Winter Peak 2015-01-15'!IX10","v":0},{"$f":"ColdWinter!DL10-'C. Winter Peak 2015-01-15'!IY10","v":0},{"$f":"ColdWinter!DM10-'C. Winter Peak 2015-01-15'!IZ10","v":0},{"$f":"ColdWinter!DN10-'C. Winter Peak 2015-01-15'!JA10","v":0},{"$f":"ColdWinter!DO10-'C. Winter Peak 2015-01-15'!JB10","v":0},{"$f":"ColdWinter!DP10-'C. Winter Peak 2015-01-15'!JC10","v":0},{"$f":"ColdWinter!DQ10-'C. Winter Peak 2015-01-15'!JD10","v":0},{"$f":"ColdWinter!DR10-'C. Winter Peak 2015-01-15'!JE10","v":0},{"$f":"ColdWinter!DS10-'C. Winter Peak 2015-01-15'!JF10","v":0}]
[null,"PFL5",{"$f":"ColdWinter!C11-'C. Winter Peak 2015-01-15'!EP11","v":0},{"$f":"ColdWinter!D11-'C. Winter Peak 2015-01-15'!EQ11","v":0},{"$f":"ColdWinter!E11-'C. Winter Peak 2015-01-15'!ER11","v":0},{"$f":"ColdWinter!F11-'C. Winter Peak 2015-01-15'!ES11","v":0},{"$f":"ColdWinter!G11-'C. Winter Peak 2015-01-15'!ET11","v":0},{"$f":"ColdWinter!H11-'C. Winter Peak 2015-01-15'!EU11","v":0},{"$f":"ColdWinter!I11-'C. Winter Peak 2015-01-15'!EV11","v":0},{"$f":"ColdWinter!J11-'C. Winter Peak 2015-01-15'!EW11","v":0},{"$f":"ColdWinter!K11-'C. Winter Peak 2015-01-15'!EX11","v":0},{"$f":"ColdWinter!L11-'C. Winter Peak 2015-01-15'!EY11","v":0},{"$f":"ColdWinter!M11-'C. Winter Peak 2015-01-15'!EZ11","v":0},{"$f":"ColdWinter!N11-'C. Winter Peak 2015-01-15'!FA11","v":0},{"$f":"ColdWinter!O11-'C. Winter Peak 2015-01-15'!FB11","v":0},{"$f":"ColdWinter!P11-'C. Winter Peak 2015-01-15'!FC11","v":0},{"$f":"ColdWinter!Q11-'C. Winter Peak 2015-01-15'!FD11","v":0},{"$f":"ColdWinter!R11-'C. Winter Peak 2015-01-15'!FE11","v":0},{"$f":"ColdWinter!S11-'C. Winter Peak 2015-01-15'!FF11","v":0},{"$f":"ColdWinter!T11-'C. Winter Peak 2015-01-15'!FG11","v":0},{"$f":"ColdWinter!U11-'C. Winter Peak 2015-01-15'!FH11","v":0},{"$f":"ColdWinter!V11-'C. Winter Peak 2015-01-15'!FI11","v":0},{"$f":"ColdWinter!W11-'C. Winter Peak 2015-01-15'!FJ11","v":0},{"$f":"ColdWinter!X11-'C. Winter Peak 2015-01-15'!FK11","v":0},{"$f":"ColdWinter!Y11-'C. Winter Peak 2015-01-15'!FL11","v":0},{"$f":"ColdWinter!Z11-'C. Winter Peak 2015-01-15'!FM11","v":0},{"$f":"ColdWinter!AA11-'C. Winter Peak 2015-01-15'!FN11","v":0},{"$f":"ColdWinter!AB11-'C. Winter Peak 2015-01-15'!FO11","v":0},{"$f":"ColdWinter!AC11-'C. Winter Peak 2015-01-15'!FP11","v":0},{"$f":"ColdWinter!AD11-'C. Winter Peak 2015-01-15'!FQ11","v":0},{"$f":"ColdWinter!AE11-'C. Winter Peak 2015-01-15'!FR11","v":0},{"$f":"ColdWinter!AF11-'C. Winter Peak 2015-01-15'!FS11","v":0},{"$f":"ColdWinter!AG11-'C. Winter Peak 2015-01-15'!FT11","v":0},{"$f":"ColdWinter!AH11-'C. Winter Peak 2015-01-15'!FU11","v":0},{"$f":"ColdWinter!AI11-'C. Winter Peak 2015-01-15'!FV11","v":0},{"$f":"ColdWinter!AJ11-'C. Winter Peak 2015-01-15'!FW11","v":0},{"$f":"ColdWinter!AK11-'C. Winter Peak 2015-01-15'!FX11","v":0},{"$f":"ColdWinter!AL11-'C. Winter Peak 2015-01-15'!FY11","v":0},{"$f":"ColdWinter!AM11-'C. Winter Peak 2015-01-15'!FZ11","v":0},{"$f":"ColdWinter!AN11-'C. Winter Peak 2015-01-15'!GA11","v":0},{"$f":"ColdWinter!AO11-'C. Winter Peak 2015-01-15'!GB11","v":0},{"$f":"ColdWinter!AP11-'C. Winter Peak 2015-01-15'!GC11","v":0},{"$f":"ColdWinter!AQ11-'C. Winter Peak 2015-01-15'!GD11","v":0},{"$f":"ColdWinter!AR11-'C. Winter Peak 2015-01-15'!GE11","v":0},{"$f":"ColdWinter!AS11-'C. Winter Peak 2015-01-15'!GF11","v":0},{"$f":"ColdWinter!AT11-'C. Winter Peak 2015-01-15'!GG11","v":0},{"$f":"ColdWinter!AU11-'C. Winter Peak 2015-01-15'!GH11","v":0},{"$f":"ColdWinter!AV11-'C. Winter Peak 2015-01-15'!GI11","v":0},{"$f":"ColdWinter!AW11-'C. Winter Peak 2015-01-15'!GJ11","v":0},{"$f":"ColdWinter!AX11-'C. Winter Peak 2015-01-15'!GK11","v":0},{"$f":"ColdWinter!AY11-'C. Winter Peak 2015-01-15'!GL11","v":0},{"$f":"ColdWinter!AZ11-'C. Winter Peak 2015-01-15'!GM11","v":0},{"$f":"ColdWinter!BA11-'C. Winter Peak 2015-01-15'!GN11","v":0},{"$f":"ColdWinter!BB11-'C. Winter Peak 2015-01-15'!GO11","v":0},{"$f":"ColdWinter!BC11-'C. Winter Peak 2015-01-15'!GP11","v":0},{"$f":"ColdWinter!BD11-'C. Winter Peak 2015-01-15'!GQ11","v":0},{"$f":"ColdWinter!BE11-'C. Winter Peak 2015-01-15'!GR11","v":0},{"$f":"ColdWinter!BF11-'C. Winter Peak 2015-01-15'!GS11","v":0},{"$f":"ColdWinter!BG11-'C. Winter Peak 2015-01-15'!GT11","v":0},{"$f":"ColdWinter!BH11-'C. Winter Peak 2015-01-15'!GU11","v":0},{"$f":"ColdWinter!BI11-'C. Winter Peak 2015-01-15'!GV11","v":0},{"$f":"ColdWinter!BJ11-'C. Winter Peak 2015-01-15'!GW11","v":0},{"$f":"ColdWinter!BK11-'C. Winter Peak 2015-01-15'!GX11","v":0},{"$f":"ColdWinter!BL11-'C. Winter Peak 2015-01-15'!GY11","v":0},{"$f":"ColdWinter!BM11-'C. Winter Peak 2015-01-15'!GZ11","v":0},{"$f":"ColdWinter!BN11-'C. Winter Peak 2015-01-15'!HA11","v":0},{"$f":"ColdWinter!BO11-'C. Winter Peak 2015-01-15'!HB11","v":0},{"$f":"ColdWinter!BP11-'C. Winter Peak 2015-01-15'!HC11","v":0},{"$f":"ColdWinter!BQ11-'C. Winter Peak 2015-01-15'!HD11","v":0},{"$f":"ColdWinter!BR11-'C. Winter Peak 2015-01-15'!HE11","v":0},{"$f":"ColdWinter!BS11-'C. Winter Peak 2015-01-15'!HF11","v":0},{"$f":"ColdWinter!BT11-'C. Winter Peak 2015-01-15'!HG11","v":0},{"$f":"ColdWinter!BU11-'C. Winter Peak 2015-01-15'!HH11","v":0},{"$f":"ColdWinter!BV11-'C. Winter Peak 2015-01-15'!HI11","v":0},{"$f":"ColdWinter!BW11-'C. Winter Peak 2015-01-15'!HJ11","v":0},{"$f":"ColdWinter!BX11-'C. Winter Peak 2015-01-15'!HK11","v":0},{"$f":"ColdWinter!BY11-'C. Winter Peak 2015-01-15'!HL11","v":0},{"$f":"ColdWinter!BZ11-'C. Winter Peak 2015-01-15'!HM11","v":0},{"$f":"ColdWinter!CA11-'C. Winter Peak 2015-01-15'!HN11","v":0},{"$f":"ColdWinter!CB11-'C. Winter Peak 2015-01-15'!HO11","v":0},{"$f":"ColdWinter!CC11-'C. Winter Peak 2015-01-15'!HP11","v":0},{"$f":"ColdWinter!CD11-'C. Winter Peak 2015-01-15'!HQ11","v":0},{"$f":"ColdWinter!CE11-'C. Winter Peak 2015-01-15'!HR11","v":0},{"$f":"ColdWinter!CF11-'C. Winter Peak 2015-01-15'!HS11","v":0},{"$f":"ColdWinter!CG11-'C. Winter Peak 2015-01-15'!HT11","v":0},{"$f":"ColdWinter!CH11-'C. Winter Peak 2015-01-15'!HU11","v":0},{"$f":"ColdWinter!CI11-'C. Winter Peak 2015-01-15'!HV11","v":0},{"$f":"ColdWinter!CJ11-'C. Winter Peak 2015-01-15'!HW11","v":0},{"$f":"ColdWinter!CK11-'C. Winter Peak 2015-01-15'!HX11","v":0},{"$f":"ColdWinter!CL11-'C. Winter Peak 2015-01-15'!HY11","v":0},{"$f":"ColdWinter!CM11-'C. Winter Peak 2015-01-15'!HZ11","v":0},{"$f":"ColdWinter!CN11-'C. Winter Peak 2015-01-15'!IA11","v":0},{"$f":"ColdWinter!CO11-'C. Winter Peak 2015-01-15'!IB11","v":0},{"$f":"ColdWinter!CP11-'C. Winter Peak 2015-01-15'!IC11","v":0},{"$f":"ColdWinter!CQ11-'C. Winter Peak 2015-01-15'!ID11","v":0},{"$f":"ColdWinter!CR11-'C. Winter Peak 2015-01-15'!IE11","v":0},{"$f":"ColdWinter!CS11-'C. Winter Peak 2015-01-15'!IF11","v":0},{"$f":"ColdWinter!CT11-'C. Winter Peak 2015-01-15'!IG11","v":0},{"$f":"ColdWinter!CU11-'C. Winter Peak 2015-01-15'!IH11","v":0},{"$f":"ColdWinter!CV11-'C. Winter Peak 2015-01-15'!II11","v":0},{"$f":"ColdWinter!CW11-'C. Winter Peak 2015-01-15'!IJ11","v":0},{"$f":"ColdWinter!CX11-'C. Winter Peak 2015-01-15'!IK11","v":0},{"$f":"ColdWinter!CY11-'C. Winter Peak 2015-01-15'!IL11","v":0},{"$f":"ColdWinter!CZ11-'C. Winter Peak 2015-01-15'!IM11","v":0},{"$f":"ColdWinter!DA11-'C. Winter Peak 2015-01-15'!IN11","v":0},{"$f":"ColdWinter!DB11-'C. Winter Peak 2015-01-15'!IO11","v":0},{"$f":"ColdWinter!DC11-'C. Winter Peak 2015-01-15'!IP11","v":0},{"$f":"ColdWinter!DD11-'C. Winter Peak 2015-01-15'!IQ11","v":0},{"$f":"ColdWinter!DE11-'C. Winter Peak 2015-01-15'!IR11","v":0},{"$f":"ColdWinter!DF11-'C. Winter Peak 2015-01-15'!IS11","v":0},{"$f":"ColdWinter!DG11-'C. Winter Peak 2015-01-15'!IT11","v":0},{"$f":"ColdWinter!DH11-'C. Winter Peak 2015-01-15'!IU11","v":0},{"$f":"ColdWinter!DI11-'C. Winter Peak 2015-01-15'!IV11","v":0},{"$f":"ColdWinter!DJ11-'C. Winter Peak 2015-01-15'!IW11","v":0},{"$f":"ColdWinter!DK11-'C. Winter Peak 2015-01-15'!IX11","v":0},{"$f":"ColdWinter!DL11-'C. Winter Peak 2015-01-15'!IY11","v":0},{"$f":"ColdWinter!DM11-'C. Winter Peak 2015-01-15'!IZ11","v":0},{"$f":"ColdWinter!DN11-'C. Winter Peak 2015-01-15'!JA11","v":0},{"$f":"ColdWinter!DO11-'C. Winter Peak 2015-01-15'!JB11","v":0},{"$f":"ColdWinter!DP11-'C. Winter Peak 2015-01-15'!JC11","v":0},{"$f":"ColdWinter!DQ11-'C. Winter Peak 2015-01-15'!JD11","v":0},{"$f":"ColdWinter!DR11-'C. Winter Peak 2015-01-15'!JE11","v":0},{"$f":"ColdWinter!DS11-'C. Winter Peak 2015-01-15'!JF11","v":0}]
[null,"PFL GT1",{"$f":"ColdWinter!C12-'C. Winter Peak 2015-01-15'!EP12","v":0},{"$f":"ColdWinter!D12-'C. Winter Peak 2015-01-15'!EQ12","v":0},{"$f":"ColdWinter!E12-'C. Winter Peak 2015-01-15'!ER12","v":0},{"$f":"ColdWinter!F12-'C. Winter Peak 2015-01-15'!ES12","v":0},{"$f":"ColdWinter!G12-'C. Winter Peak 2015-01-15'!ET12","v":0},{"$f":"ColdWinter!H12-'C. Winter Peak 2015-01-15'!EU12","v":0},{"$f":"ColdWinter!I12-'C. Winter Peak 2015-01-15'!EV12","v":0},{"$f":"ColdWinter!J12-'C. Winter Peak 2015-01-15'!EW12","v":0},{"$f":"ColdWinter!K12-'C. Winter Peak 2015-01-15'!EX12","v":0},{"$f":"ColdWinter!L12-'C. Winter Peak 2015-01-15'!EY12","v":0},{"$f":"ColdWinter!M12-'C. Winter Peak 2015-01-15'!EZ12","v":0},{"$f":"ColdWinter!N12-'C. Winter Peak 2015-01-15'!FA12","v":0},{"$f":"ColdWinter!O12-'C. Winter Peak 2015-01-15'!FB12","v":0},{"$f":"ColdWinter!P12-'C. Winter Peak 2015-01-15'!FC12","v":0},{"$f":"ColdWinter!Q12-'C. Winter Peak 2015-01-15'!FD12","v":0},{"$f":"ColdWinter!R12-'C. Winter Peak 2015-01-15'!FE12","v":0},{"$f":"ColdWinter!S12-'C. Winter Peak 2015-01-15'!FF12","v":0},{"$f":"ColdWinter!T12-'C. Winter Peak 2015-01-15'!FG12","v":0},{"$f":"ColdWinter!U12-'C. Winter Peak 2015-01-15'!FH12","v":0},{"$f":"ColdWinter!V12-'C. Winter Peak 2015-01-15'!FI12","v":0},{"$f":"ColdWinter!W12-'C. Winter Peak 2015-01-15'!FJ12","v":0},{"$f":"ColdWinter!X12-'C. Winter Peak 2015-01-15'!FK12","v":0},{"$f":"ColdWinter!Y12-'C. Winter Peak 2015-01-15'!FL12","v":0},{"$f":"ColdWinter!Z12-'C. Winter Peak 2015-01-15'!FM12","v":0},{"$f":"ColdWinter!AA12-'C. Winter Peak 2015-01-15'!FN12","v":0},{"$f":"ColdWinter!AB12-'C. Winter Peak 2015-01-15'!FO12","v":0},{"$f":"ColdWinter!AC12-'C. Winter Peak 2015-01-15'!FP12","v":0},{"$f":"ColdWinter!AD12-'C. Winter Peak 2015-01-15'!FQ12","v":0},{"$f":"ColdWinter!AE12-'C. Winter Peak 2015-01-15'!FR12","v":0},{"$f":"ColdWinter!AF12-'C. Winter Peak 2015-01-15'!FS12","v":0},{"$f":"ColdWinter!AG12-'C. Winter Peak 2015-01-15'!FT12","v":0},{"$f":"ColdWinter!AH12-'C. Winter Peak 2015-01-15'!FU12","v":0},{"$f":"ColdWinter!AI12-'C. Winter Peak 2015-01-15'!FV12","v":0},{"$f":"ColdWinter!AJ12-'C. Winter Peak 2015-01-15'!FW12","v":0},{"$f":"ColdWinter!AK12-'C. Winter Peak 2015-01-15'!FX12","v":0},{"$f":"ColdWinter!AL12-'C. Winter Peak 2015-01-15'!FY12","v":0},{"$f":"ColdWinter!AM12-'C. Winter Peak 2015-01-15'!FZ12","v":0},{"$f":"ColdWinter!AN12-'C. Winter Peak 2015-01-15'!GA12","v":0},{"$f":"ColdWinter!AO12-'C. Winter Peak 2015-01-15'!GB12","v":0},{"$f":"ColdWinter!AP12-'C. Winter Peak 2015-01-15'!GC12","v":0},{"$f":"ColdWinter!AQ12-'C. Winter Peak 2015-01-15'!GD12","v":0},{"$f":"ColdWinter!AR12-'C. Winter Peak 2015-01-15'!GE12","v":0},{"$f":"ColdWinter!AS12-'C. Winter Peak 2015-01-15'!GF12","v":0},{"$f":"ColdWinter!AT12-'C. Winter Peak 2015-01-15'!GG12","v":0},{"$f":"ColdWinter!AU12-'C. Winter Peak 2015-01-15'!GH12","v":0},{"$f":"ColdWinter!AV12-'C. Winter Peak 2015-01-15'!GI12","v":0},{"$f":"ColdWinter!AW12-'C. Winter Peak 2015-01-15'!GJ12","v":0},{"$f":"ColdWinter!AX12-'C. Winter Peak 2015-01-15'!GK12","v":0},{"$f":"ColdWinter!AY12-'C. Winter Peak 2015-01-15'!GL12","v":0},{"$f":"ColdWinter!AZ12-'C. Winter Peak 2015-01-15'!GM12","v":0},{"$f":"ColdWinter!BA12-'C. Winter Peak 2015-01-15'!GN12","v":0},{"$f":"ColdWinter!BB12-'C. Winter Peak 2015-01-15'!GO12","v":0},{"$f":"ColdWinter!BC12-'C. Winter Peak 2015-01-15'!GP12","v":0},{"$f":"ColdWinter!BD12-'C. Winter Peak 2015-01-15'!GQ12","v":0},{"$f":"ColdWinter!BE12-'C. Winter Peak 2015-01-15'!GR12","v":0},{"$f":"ColdWinter!BF12-'C. Winter Peak 2015-01-15'!GS12","v":0},{"$f":"ColdWinter!BG12-'C. Winter Peak 2015-01-15'!GT12","v":0},{"$f":"ColdWinter!BH12-'C. Winter Peak 2015-01-15'!GU12","v":0},{"$f":"ColdWinter!BI12-'C. Winter Peak 2015-01-15'!GV12","v":0},{"$f":"ColdWinter!BJ12-'C. Winter Peak 2015-01-15'!GW12","v":0},{"$f":"ColdWinter!BK12-'C. Winter Peak 2015-01-15'!GX12","v":0},{"$f":"ColdWinter!BL12-'C. Winter Peak 2015-01-15'!GY12","v":0},{"$f":"ColdWinter!BM12-'C. Winter Peak 2015-01-15'!GZ12","v":0},{"$f":"ColdWinter!BN12-'C. Winter Peak 2015-01-15'!HA12","v":0},{"$f":"ColdWinter!BO12-'C. Winter Peak 2015-01-15'!HB12","v":0},{"$f":"ColdWinter!BP12-'C. Winter Peak 2015-01-15'!HC12","v":0},{"$f":"ColdWinter!BQ12-'C. Winter Peak 2015-01-15'!HD12","v":0},{"$f":"ColdWinter!BR12-'C. Winter Peak 2015-01-15'!HE12","v":0},{"$f":"ColdWinter!BS12-'C. Winter Peak 2015-01-15'!HF12","v":0},{"$f":"ColdWinter!BT12-'C. Winter Peak 2015-01-15'!HG12","v":0},{"$f":"ColdWinter!BU12-'C. Winter Peak 2015-01-15'!HH12","v":0},{"$f":"ColdWinter!BV12-'C. Winter Peak 2015-01-15'!HI12","v":0},{"$f":"ColdWinter!BW12-'C. Winter Peak 2015-01-15'!HJ12","v":0},{"$f":"ColdWinter!BX12-'C. Winter Peak 2015-01-15'!HK12","v":0},{"$f":"ColdWinter!BY12-'C. Winter Peak 2015-01-15'!HL12","v":0},{"$f":"ColdWinter!BZ12-'C. Winter Peak 2015-01-15'!HM12","v":0},{"$f":"ColdWinter!CA12-'C. Winter Peak 2015-01-15'!HN12","v":0},{"$f":"ColdWinter!CB12-'C. Winter Peak 2015-01-15'!HO12","v":0},{"$f":"ColdWinter!CC12-'C. Winter Peak 2015-01-15'!HP12","v":0},{"$f":"ColdWinter!CD12-'C. Winter Peak 2015-01-15'!HQ12","v":0},{"$f":"ColdWinter!CE12-'C. Winter Peak 2015-01-15'!HR12","v":0},{"$f":"ColdWinter!CF12-'C. Winter Peak 2015-01-15'!HS12","v":0},{"$f":"ColdWinter!CG12-'C. Winter Peak 2015-01-15'!HT12","v":0},{"$f":"ColdWinter!CH12-'C. Winter Peak 2015-01-15'!HU12","v":0},{"$f":"ColdWinter!CI12-'C. Winter Peak 2015-01-15'!HV12","v":0},{"$f":"ColdWinter!CJ12-'C. Winter Peak 2015-01-15'!HW12","v":0},{"$f":"ColdWinter!CK12-'C. Winter Peak 2015-01-15'!HX12","v":0},{"$f":"ColdWinter!CL12-'C. Winter Peak 2015-01-15'!HY12","v":0},{"$f":"ColdWinter!CM12-'C. Winter Peak 2015-01-15'!HZ12","v":0},{"$f":"ColdWinter!CN12-'C. Winter Peak 2015-01-15'!IA12","v":0},{"$f":"ColdWinter!CO12-'C. Winter Peak 2015-01-15'!IB12","v":0},{"$f":"ColdWinter!CP12-'C. Winter Peak 2015-01-15'!IC12","v":0},{"$f":"ColdWinter!CQ12-'C. Winter Peak 2015-01-15'!ID12","v":0},{"$f":"ColdWinter!CR12-'C. Winter Peak 2015-01-15'!IE12","v":0},{"$f":"ColdWinter!CS12-'C. Winter Peak 2015-01-15'!IF12","v":0},{"$f":"ColdWinter!CT12-'C. Winter Peak 2015-01-15'!IG12","v":0},{"$f":"ColdWinter!CU12-'C. Winter Peak 2015-01-15'!IH12","v":0},{"$f":"ColdWinter!CV12-'C. Winter Peak 2015-01-15'!II12","v":0},{"$f":"ColdWinter!CW12-'C. Winter Peak 2015-01-15'!IJ12","v":0},{"$f":"ColdWinter!CX12-'C. Winter Peak 2015-01-15'!IK12","v":0},{"$f":"ColdWinter!CY12-'C. Winter Peak 2015-01-15'!IL12","v":0},{"$f":"ColdWinter!CZ12-'C. Winter Peak 2015-01-15'!IM12","v":0},{"$f":"ColdWinter!DA12-'C. Winter Peak 2015-01-15'!IN12","v":0},{"$f":"ColdWinter!DB12-'C. Winter Peak 2015-01-15'!IO12","v":0},{"$f":"ColdWinter!DC12-'C. Winter Peak 2015-01-15'!IP12","v":0},{"$f":"ColdWinter!DD12-'C. Winter Peak 2015-01-15'!IQ12","v":0},{"$f":"ColdWinter!DE12-'C. Winter Peak 2015-01-15'!IR12","v":0},{"$f":"ColdWinter!DF12-'C. Winter Peak 2015-01-15'!IS12","v":0},{"$f":"ColdWinter!DG12-'C. Winter Peak 2015-01-15'!IT12","v":0},{"$f":"ColdWinter!DH12-'C. Winter Peak 2015-01-15'!IU12","v":0},{"$f":"ColdWinter!DI12-'C. Winter Peak 2015-01-15'!IV12","v":0},{"$f":"ColdWinter!DJ12-'C. Winter Peak 2015-01-15'!IW12","v":0},{"$f":"ColdWinter!DK12-'C. Winter Peak 2015-01-15'!IX12","v":0},{"$f":"ColdWinter!DL12-'C. Winter Peak 2015-01-15'!IY12","v":0},{"$f":"ColdWinter!DM12-'C. Winter Peak 2015-01-15'!IZ12","v":0},{"$f":"ColdWinter!DN12-'C. Winter Peak 2015-01-15'!JA12","v":0},{"$f":"ColdWinter!DO12-'C. Winter Peak 2015-01-15'!JB12","v":0},{"$f":"ColdWinter!DP12-'C. Winter Peak 2015-01-15'!JC12","v":0},{"$f":"ColdWinter!DQ12-'C. Winter Peak 2015-01-15'!JD12","v":0},{"$f":"ColdWinter!DR12-'C. Winter Peak 2015-01-15'!JE12","v":0},{"$f":"ColdWinter!DS12-'C. Winter Peak 2015-01-15'!JF12","v":0}]
[null,"PFL GT2",{"$f":"ColdWinter!C13-'C. Winter Peak 2015-01-15'!EP13","v":0},{"$f":"ColdWinter!D13-'C. Winter Peak 2015-01-15'!EQ13","v":0},{"$f":"ColdWinter!E13-'C. Winter Peak 2015-01-15'!ER13","v":0},{"$f":"ColdWinter!F13-'C. Winter Peak 2015-01-15'!ES13","v":0},{"$f":"ColdWinter!G13-'C. Winter Peak 2015-01-15'!ET13","v":0},{"$f":"ColdWinter!H13-'C. Winter Peak 2015-01-15'!EU13","v":0},{"$f":"ColdWinter!I13-'C. Winter Peak 2015-01-15'!EV13","v":0},{"$f":"ColdWinter!J13-'C. Winter Peak 2015-01-15'!EW13","v":0},{"$f":"ColdWinter!K13-'C. Winter Peak 2015-01-15'!EX13","v":0},{"$f":"ColdWinter!L13-'C. Winter Peak 2015-01-15'!EY13","v":0},{"$f":"ColdWinter!M13-'C. Winter Peak 2015-01-15'!EZ13","v":0},{"$f":"ColdWinter!N13-'C. Winter Peak 2015-01-15'!FA13","v":0},{"$f":"ColdWinter!O13-'C. Winter Peak 2015-01-15'!FB13","v":0},{"$f":"ColdWinter!P13-'C. Winter Peak 2015-01-15'!FC13","v":0},{"$f":"ColdWinter!Q13-'C. Winter Peak 2015-01-15'!FD13","v":0},{"$f":"ColdWinter!R13-'C. Winter Peak 2015-01-15'!FE13","v":0},{"$f":"ColdWinter!S13-'C. Winter Peak 2015-01-15'!FF13","v":0},{"$f":"ColdWinter!T13-'C. Winter Peak 2015-01-15'!FG13","v":0},{"$f":"ColdWinter!U13-'C. Winter Peak 2015-01-15'!FH13","v":0},{"$f":"ColdWinter!V13-'C. Winter Peak 2015-01-15'!FI13","v":0},{"$f":"ColdWinter!W13-'C. Winter Peak 2015-01-15'!FJ13","v":0},{"$f":"ColdWinter!X13-'C. Winter Peak 2015-01-15'!FK13","v":0},{"$f":"ColdWinter!Y13-'C. Winter Peak 2015-01-15'!FL13","v":0},{"$f":"ColdWinter!Z13-'C. Winter Peak 2015-01-15'!FM13","v":0},{"$f":"ColdWinter!AA13-'C. Winter Peak 2015-01-15'!FN13","v":0},{"$f":"ColdWinter!AB13-'C. Winter Peak 2015-01-15'!FO13","v":0},{"$f":"ColdWinter!AC13-'C. Winter Peak 2015-01-15'!FP13","v":0},{"$f":"ColdWinter!AD13-'C. Winter Peak 2015-01-15'!FQ13","v":0},{"$f":"ColdWinter!AE13-'C. Winter Peak 2015-01-15'!FR13","v":0},{"$f":"ColdWinter!AF13-'C. Winter Peak 2015-01-15'!FS13","v":0},{"$f":"ColdWinter!AG13-'C. Winter Peak 2015-01-15'!FT13","v":0},{"$f":"ColdWinter!AH13-'C. Winter Peak 2015-01-15'!FU13","v":0},{"$f":"ColdWinter!AI13-'C. Winter Peak 2015-01-15'!FV13","v":0},{"$f":"ColdWinter!AJ13-'C. Winter Peak 2015-01-15'!FW13","v":0},{"$f":"ColdWinter!AK13-'C. Winter Peak 2015-01-15'!FX13","v":0},{"$f":"ColdWinter!AL13-'C. Winter Peak 2015-01-15'!FY13","v":0},{"$f":"ColdWinter!AM13-'C. Winter Peak 2015-01-15'!FZ13","v":0},{"$f":"ColdWinter!AN13-'C. Winter Peak 2015-01-15'!GA13","v":0},{"$f":"ColdWinter!AO13-'C. Winter Peak 2015-01-15'!GB13","v":0},{"$f":"ColdWinter!AP13-'C. Winter Peak 2015-01-15'!GC13","v":0},{"$f":"ColdWinter!AQ13-'C. Winter Peak 2015-01-15'!GD13","v":0},{"$f":"ColdWinter!AR13-'C. Winter Peak 2015-01-15'!GE13","v":0},{"$f":"ColdWinter!AS13-'C. Winter Peak 2015-01-15'!GF13","v":0},{"$f":"ColdWinter!AT13-'C. Winter Peak 2015-01-15'!GG13","v":0},{"$f":"ColdWinter!AU13-'C. Winter Peak 2015-01-15'!GH13","v":0},{"$f":"ColdWinter!AV13-'C. Winter Peak 2015-01-15'!GI13","v":0},{"$f":"ColdWinter!AW13-'C. Winter Peak 2015-01-15'!GJ13","v":0},{"$f":"ColdWinter!AX13-'C. Winter Peak 2015-01-15'!GK13","v":0},{"$f":"ColdWinter!AY13-'C. Winter Peak 2015-01-15'!GL13","v":0},{"$f":"ColdWinter!AZ13-'C. Winter Peak 2015-01-15'!GM13","v":0},{"$f":"ColdWinter!BA13-'C. Winter Peak 2015-01-15'!GN13","v":0},{"$f":"ColdWinter!BB13-'C. Winter Peak 2015-01-15'!GO13","v":0},{"$f":"ColdWinter!BC13-'C. Winter Peak 2015-01-15'!GP13","v":0},{"$f":"ColdWinter!BD13-'C. Winter Peak 2015-01-15'!GQ13","v":0},{"$f":"ColdWinter!BE13-'C. Winter Peak 2015-01-15'!GR13","v":0},{"$f":"ColdWinter!BF13-'C. Winter Peak 2015-01-15'!GS13","v":0},{"$f":"ColdWinter!BG13-'C. Winter Peak 2015-01-15'!GT13","v":0},{"$f":"ColdWinter!BH13-'C. Winter Peak 2015-01-15'!GU13","v":0},{"$f":"ColdWinter!BI13-'C. Winter Peak 2015-01-15'!GV13","v":0},{"$f":"ColdWinter!BJ13-'C. Winter Peak 2015-01-15'!GW13","v":0},{"$f":"ColdWinter!BK13-'C. Winter Peak 2015-01-15'!GX13","v":0},{"$f":"ColdWinter!BL13-'C. Winter Peak 2015-01-15'!GY13","v":0},{"$f":"ColdWinter!BM13-'C. Winter Peak 2015-01-15'!GZ13","v":0},{"$f":"ColdWinter!BN13-'C. Winter Peak 2015-01-15'!HA13","v":0},{"$f":"ColdWinter!BO13-'C. Winter Peak 2015-01-15'!HB13","v":0},{"$f":"ColdWinter!BP13-'C. Winter Peak 2015-01-15'!HC13","v":0},{"$f":"ColdWinter!BQ13-'C. Winter Peak 2015-01-15'!HD13","v":0},{"$f":"ColdWinter!BR13-'C. Winter Peak 2015-01-15'!HE13","v":0},{"$f":"ColdWinter!BS13-'C. Winter Peak 2015-01-15'!HF13","v":0},{"$f":"ColdWinter!BT13-'C. Winter Peak 2015-01-15'!HG13","v":0},{"$f":"ColdWinter!BU13-'C. Winter Peak 2015-01-15'!HH13","v":0},{"$f":"ColdWinter!BV13-'C. Winter Peak 2015-01-15'!HI13","v":0},{"$f":"ColdWinter!BW13-'C. Winter Peak 2015-01-15'!HJ13","v":0},{"$f":"ColdWinter!BX13-'C. Winter Peak 2015-01-15'!HK13","v":0},{"$f":"ColdWinter!BY13-'C. Winter Peak 2015-01-15'!HL13","v":0},{"$f":"ColdWinter!BZ13-'C. Winter Peak 2015-01-15'!HM13","v":0},{"$f":"ColdWinter!CA13-'C. Winter Peak 2015-01-15'!HN13","v":0},{"$f":"ColdWinter!CB13-'C. Winter Peak 2015-01-15'!HO13","v":0},{"$f":"ColdWinter!CC13-'C. Winter Peak 2015-01-15'!HP13","v":0},{"$f":"ColdWinter!CD13-'C. Winter Peak 2015-01-15'!HQ13","v":0},{"$f":"ColdWinter!CE13-'C. Winter Peak 2015-01-15'!HR13","v":0},{"$f":"ColdWinter!CF13-'C. Winter Peak 2015-01-15'!HS13","v":0},{"$f":"ColdWinter!CG13-'C. Winter Peak 2015-01-15'!HT13","v":0},{"$f":"ColdWinter!CH13-'C. Winter Peak 2015-01-15'!HU13","v":0},{"$f":"ColdWinter!CI13-'C. Winter Peak 2015-01-15'!HV13","v":0},{"$f":"ColdWinter!CJ13-'C. Winter Peak 2015-01-15'!HW13","v":0},{"$f":"ColdWinter!CK13-'C. Winter Peak 2015-01-15'!HX13","v":0},{"$f":"ColdWinter!CL13-'C. Winter Peak 2015-01-15'!HY13","v":0},{"$f":"ColdWinter!CM13-'C. Winter Peak 2015-01-15'!HZ13","v":0},{"$f":"ColdWinter!CN13-'C. Winter Peak 2015-01-15'!IA13","v":0},{"$f":"ColdWinter!CO13-'C. Winter Peak 2015-01-15'!IB13","v":0},{"$f":"ColdWinter!CP13-'C. Winter Peak 2015-01-15'!IC13","v":0},{"$f":"ColdWinter!CQ13-'C. Winter Peak 2015-01-15'!ID13","v":0},{"$f":"ColdWinter!CR13-'C. Winter Peak 2015-01-15'!IE13","v":0},{"$f":"ColdWinter!CS13-'C. Winter Peak 2015-01-15'!IF13","v":0},{"$f":"ColdWinter!CT13-'C. Winter Peak 2015-01-15'!IG13","v":0},{"$f":"ColdWinter!CU13-'C. Winter Peak 2015-01-15'!IH13","v":0},{"$f":"ColdWinter!CV13-'C. Winter Peak 2015-01-15'!II13","v":0},{"$f":"ColdWinter!CW13-'C. Winter Peak 2015-01-15'!IJ13","v":0},{"$f":"ColdWinter!CX13-'C. Winter Peak 2015-01-15'!IK13","v":0},{"$f":"ColdWinter!CY13-'C. Winter Peak 2015-01-15'!IL13","v":0},{"$f":"ColdWinter!CZ13-'C. Winter Peak 2015-01-15'!IM13","v":0},{"$f":"ColdWinter!DA13-'C. Winter Peak 2015-01-15'!IN13","v":0},{"$f":"ColdWinter!DB13-'C. Winter Peak 2015-01-15'!IO13","v":0},{"$f":"ColdWinter!DC13-'C. Winter Peak 2015-01-15'!IP13","v":0},{"$f":"ColdWinter!DD13-'C. Winter Peak 2015-01-15'!IQ13","v":0},{"$f":"ColdWinter!DE13-'C. Winter Peak 2015-01-15'!IR13","v":0},{"$f":"ColdWinter!DF13-'C. Winter Peak 2015-01-15'!IS13","v":0},{"$f":"ColdWinter!DG13-'C. Winter Peak 2015-01-15'!IT13","v":0},{"$f":"ColdWinter!DH13-'C. Winter Peak 2015-01-15'!IU13","v":0},{"$f":"ColdWinter!DI13-'C. Winter Peak 2015-01-15'!IV13","v":0},{"$f":"ColdWinter!DJ13-'C. Winter Peak 2015-01-15'!IW13","v":0},{"$f":"ColdWinter!DK13-'C. Winter Peak 2015-01-15'!IX13","v":0},{"$f":"ColdWinter!DL13-'C. Winter Peak 2015-01-15'!IY13","v":0},{"$f":"ColdWinter!DM13-'C. Winter Peak 2015-01-15'!IZ13","v":0},{"$f":"ColdWinter!DN13-'C. Winter Peak 2015-01-15'!JA13","v":0},{"$f":"ColdWinter!DO13-'C. Winter Peak 2015-01-15'!JB13","v":0},{"$f":"ColdWinter!DP13-'C. Winter Peak 2015-01-15'!JC13","v":0},{"$f":"ColdWinter!DQ13-'C. Winter Peak 2015-01-15'!JD13","v":0},{"$f":"ColdWinter!DR13-'C. Winter Peak 2015-01-15'!JE13","v":0},{"$f":"ColdWinter!DS13-'C. Winter Peak 2015-01-15'!JF13","v":0}]
[null,"PFL CT",{"$f":"ColdWinter!C14-'C. Winter Peak 2015-01-15'!EP14","v":0},{"$f":"ColdWinter!D14-'C. Winter Peak 2015-01-15'!EQ14","v":0},{"$f":"ColdWinter!E14-'C. Winter Peak 2015-01-15'!ER14","v":0},{"$f":"ColdWinter!F14-'C. Winter Peak 2015-01-15'!ES14","v":0},{"$f":"ColdWinter!G14-'C. Winter Peak 2015-01-15'!ET14","v":0},{"$f":"ColdWinter!H14-'C. Winter Peak 2015-01-15'!EU14","v":0},{"$f":"ColdWinter!I14-'C. Winter Peak 2015-01-15'!EV14","v":0},{"$f":"ColdWinter!J14-'C. Winter Peak 2015-01-15'!EW14","v":0},{"$f":"ColdWinter!K14-'C. Winter Peak 2015-01-15'!EX14","v":0},{"$f":"ColdWinter!L14-'C. Winter Peak 2015-01-15'!EY14","v":0},{"$f":"ColdWinter!M14-'C. Winter Peak 2015-01-15'!EZ14","v":0},{"$f":"ColdWinter!N14-'C. Winter Peak 2015-01-15'!FA14","v":0},{"$f":"ColdWinter!O14-'C. Winter Peak 2015-01-15'!FB14","v":0},{"$f":"ColdWinter!P14-'C. Winter Peak 2015-01-15'!FC14","v":0},{"$f":"ColdWinter!Q14-'C. Winter Peak 2015-01-15'!FD14","v":0},{"$f":"ColdWinter!R14-'C. Winter Peak 2015-01-15'!FE14","v":0},{"$f":"ColdWinter!S14-'C. Winter Peak 2015-01-15'!FF14","v":0},{"$f":"ColdWinter!T14-'C. Winter Peak 2015-01-15'!FG14","v":0},{"$f":"ColdWinter!U14-'C. Winter Peak 2015-01-15'!FH14","v":0},{"$f":"ColdWinter!V14-'C. Winter Peak 2015-01-15'!FI14","v":0},{"$f":"ColdWinter!W14-'C. Winter Peak 2015-01-15'!FJ14","v":0},{"$f":"ColdWinter!X14-'C. Winter Peak 2015-01-15'!FK14","v":0},{"$f":"ColdWinter!Y14-'C. Winter Peak 2015-01-15'!FL14","v":0},{"$f":"ColdWinter!Z14-'C. Winter Peak 2015-01-15'!FM14","v":0},{"$f":"ColdWinter!AA14-'C. Winter Peak 2015-01-15'!FN14","v":0},{"$f":"ColdWinter!AB14-'C. Winter Peak 2015-01-15'!FO14","v":0},{"$f":"ColdWinter!AC14-'C. Winter Peak 2015-01-15'!FP14","v":0},{"$f":"ColdWinter!AD14-'C. Winter Peak 2015-01-15'!FQ14","v":0},{"$f":"ColdWinter!AE14-'C. Winter Peak 2015-01-15'!FR14","v":0},{"$f":"ColdWinter!AF14-'C. Winter Peak 2015-01-15'!FS14","v":0},{"$f":"ColdWinter!AG14-'C. Winter Peak 2015-01-15'!FT14","v":0},{"$f":"ColdWinter!AH14-'C. Winter Peak 2015-01-15'!FU14","v":0},{"$f":"ColdWinter!AI14-'C. Winter Peak 2015-01-15'!FV14","v":0},{"$f":"ColdWinter!AJ14-'C. Winter Peak 2015-01-15'!FW14","v":0},{"$f":"ColdWinter!AK14-'C. Winter Peak 2015-01-15'!FX14","v":0},{"$f":"ColdWinter!AL14-'C. Winter Peak 2015-01-15'!FY14","v":0},{"$f":"ColdWinter!AM14-'C. Winter Peak 2015-01-15'!FZ14","v":0},{"$f":"ColdWinter!AN14-'C. Winter Peak 2015-01-15'!GA14","v":0},{"$f":"ColdWinter!AO14-'C. Winter Peak 2015-01-15'!GB14","v":0},{"$f":"ColdWinter!AP14-'C. Winter Peak 2015-01-15'!GC14","v":0},{"$f":"ColdWinter!AQ14-'C. Winter Peak 2015-01-15'!GD14","v":0},{"$f":"ColdWinter!AR14-'C. Winter Peak 2015-01-15'!GE14","v":0},{"$f":"ColdWinter!AS14-'C. Winter Peak 2015-01-15'!GF14","v":0},{"$f":"ColdWinter!AT14-'C. Winter Peak 2015-01-15'!GG14","v":0},{"$f":"ColdWinter!AU14-'C. Winter Peak 2015-01-15'!GH14","v":0},{"$f":"ColdWinter!AV14-'C. Winter Peak 2015-01-15'!GI14","v":0},{"$f":"ColdWinter!AW14-'C. Winter Peak 2015-01-15'!GJ14","v":0},{"$f":"ColdWinter!AX14-'C. Winter Peak 2015-01-15'!GK14","v":0},{"$f":"ColdWinter!AY14-'C. Winter Peak 2015-01-15'!GL14","v":0},{"$f":"ColdWinter!AZ14-'C. Winter Peak 2015-01-15'!GM14","v":0},{"$f":"ColdWinter!BA14-'C. Winter Peak 2015-01-15'!GN14","v":0},{"$f":"ColdWinter!BB14-'C. Winter Peak 2015-01-15'!GO14","v":0},{"$f":"ColdWinter!BC14-'C. Winter Peak 2015-01-15'!GP14","v":0},{"$f":"ColdWinter!BD14-'C. Winter Peak 2015-01-15'!GQ14","v":0},{"$f":"ColdWinter!BE14-'C. Winter Peak 2015-01-15'!GR14","v":0},{"$f":"ColdWinter!BF14-'C. Winter Peak 2015-01-15'!GS14","v":0},{"$f":"ColdWinter!BG14-'C. Winter Peak 2015-01-15'!GT14","v":0},{"$f":"ColdWinter!BH14-'C. Winter Peak 2015-01-15'!GU14","v":0},{"$f":"ColdWinter!BI14-'C. Winter Peak 2015-01-15'!GV14","v":0},{"$f":"ColdWinter!BJ14-'C. Winter Peak 2015-01-15'!GW14","v":0},{"$f":"ColdWinter!BK14-'C. Winter Peak 2015-01-15'!GX14","v":0},{"$f":"ColdWinter!BL14-'C. Winter Peak 2015-01-15'!GY14","v":0},{"$f":"ColdWinter!BM14-'C. Winter Peak 2015-01-15'!GZ14","v":0},{"$f":"ColdWinter!BN14-'C. Winter Peak 2015-01-15'!HA14","v":0},{"$f":"ColdWinter!BO14-'C. Winter Peak 2015-01-15'!HB14","v":0},{"$f":"ColdWinter!BP14-'C. Winter Peak 2015-01-15'!HC14","v":0},{"$f":"ColdWinter!BQ14-'C. Winter Peak 2015-01-15'!HD14","v":0},{"$f":"ColdWinter!BR14-'C. Winter Peak 2015-01-15'!HE14","v":0},{"$f":"ColdWinter!BS14-'C. Winter Peak 2015-01-15'!HF14","v":0},{"$f":"ColdWinter!BT14-'C. Winter Peak 2015-01-15'!HG14","v":0},{"$f":"ColdWinter!BU14-'C. Winter Peak 2015-01-15'!HH14","v":0},{"$f":"ColdWinter!BV14-'C. Winter Peak 2015-01-15'!HI14","v":0},{"$f":"ColdWinter!BW14-'C. Winter Peak 2015-01-15'!HJ14","v":0},{"$f":"ColdWinter!BX14-'C. Winter Peak 2015-01-15'!HK14","v":0},{"$f":"ColdWinter!BY14-'C. Winter Peak 2015-01-15'!HL14","v":0},{"$f":"ColdWinter!BZ14-'C. Winter Peak 2015-01-15'!HM14","v":0},{"$f":"ColdWinter!CA14-'C. Winter Peak 2015-01-15'!HN14","v":0},{"$f":"ColdWinter!CB14-'C. Winter Peak 2015-01-15'!HO14","v":0},{"$f":"ColdWinter!CC14-'C. Winter Peak 2015-01-15'!HP14","v":0},{"$f":"ColdWinter!CD14-'C. Winter Peak 2015-01-15'!HQ14","v":0},{"$f":"ColdWinter!CE14-'C. Winter Peak 2015-01-15'!HR14","v":0},{"$f":"ColdWinter!CF14-'C. Winter Peak 2015-01-15'!HS14","v":0},{"$f":"ColdWinter!CG14-'C. Winter Peak 2015-01-15'!HT14","v":0},{"$f":"ColdWinter!CH14-'C. Winter Peak 2015-01-15'!HU14","v":0},{"$f":"ColdWinter!CI14-'C. Winter Peak 2015-01-15'!HV14","v":0},{"$f":"ColdWinter!CJ14-'C. Winter Peak 2015-01-15'!HW14","v":0},{"$f":"ColdWinter!CK14-'C. Winter Peak 2015-01-15'!HX14","v":0},{"$f":"ColdWinter!CL14-'C. Winter Peak 2015-01-15'!HY14","v":0},{"$f":"ColdWinter!CM14-'C. Winter Peak 2015-01-15'!HZ14","v":0},{"$f":"ColdWinter!CN14-'C. Winter Peak 2015-01-15'!IA14","v":0},{"$f":"ColdWinter!CO14-'C. Winter Peak 2015-01-15'!IB14","v":0},{"$f":"ColdWinter!CP14-'C. Winter Peak 2015-01-15'!IC14","v":0},{"$f":"ColdWinter!CQ14-'C. Winter Peak 2015-01-15'!ID14","v":0},{"$f":"ColdWinter!CR14-'C. Winter Peak 2015-01-15'!IE14","v":0},{"$f":"ColdWinter!CS14-'C. Winter Peak 2015-01-15'!IF14","v":0},{"$f":"ColdWinter!CT14-'C. Winter Peak 2015-01-15'!IG14","v":0},{"$f":"ColdWinter!CU14-'C. Winter Peak 2015-01-15'!IH14","v":0},{"$f":"ColdWinter!CV14-'C. Winter Peak 2015-01-15'!II14","v":0},{"$f":"ColdWinter!CW14-'C. Winter Peak 2015-01-15'!IJ14","v":0},{"$f":"ColdWinter!CX14-'C. Winter Peak 2015-01-15'!IK14","v":0},{"$f":"ColdWinter!CY14-'C. Winter Peak 2015-01-15'!IL14","v":0},{"$f":"ColdWinter!CZ14-'C. Winter Peak 2015-01-15'!IM14","v":0},{"$f":"ColdWinter!DA14-'C. Winter Peak 2015-01-15'!IN14","v":0},{"$f":"ColdWinter!DB14-'C. Winter Peak 2015-01-15'!IO14","v":0},{"$f":"ColdWinter!DC14-'C. Winter Peak 2015-01-15'!IP14","v":0},{"$f":"ColdWinter!DD14-'C. Winter Peak 2015-01-15'!IQ14","v":0},{"$f":"ColdWinter!DE14-'C. Winter Peak 2015-01-15'!IR14","v":0},{"$f":"ColdWinter!DF14-'C. Winter Peak 2015-01-15'!IS14","v":0},{"$f":"ColdWinter!DG14-'C. Winter Peak 2015-01-15'!IT14","v":0},{"$f":"ColdWinter!DH14-'C. Winter Peak 2015-01-15'!IU14","v":0},{"$f":"ColdWinter!DI14-'C. Winter Peak 2015-01-15'!IV14","v":0},{"$f":"ColdWinter!DJ14-'C. Winter Peak 2015-01-15'!IW14","v":0},{"$f":"ColdWinter!DK14-'C. Winter Peak 2015-01-15'!IX14","v":0},{"$f":"ColdWinter!DL14-'C. Winter Peak 2015-01-15'!IY14","v":0},{"$f":"ColdWinter!DM14-'C. Winter Peak 2015-01-15'!IZ14","v":0},{"$f":"ColdWinter!DN14-'C. Winter Peak 2015-01-15'!JA14","v":0},{"$f":"ColdWinter!DO14-'C. Winter Peak 2015-01-15'!JB14","v":0},{"$f":"ColdWinter!DP14-'C. Winter Peak 2015-01-15'!JC14","v":0},{"$f":"ColdWinter!DQ14-'C. Winter Peak 2015-01-15'!JD14","v":0},{"$f":"ColdWinter!DR14-'C. Winter Peak 2015-01-15'!JE14","v":0},{"$f":"ColdWinter!DS14-'C. Winter Peak 2015-01-15'!JF14","v":0}]
[null,"PFM2",{"$f":"ColdWinter!C15-'C. Winter Peak 2015-01-15'!EP15","v":0},{"$f":"ColdWinter!D15-'C. Winter Peak 2015-01-15'!EQ15","v":0},{"$f":"ColdWinter!E15-'C. Winter Peak 2015-01-15'!ER15","v":0},{"$f":"ColdWinter!F15-'C. Winter Peak 2015-01-15'!ES15","v":0},{"$f":"ColdWinter!G15-'C. Winter Peak 2015-01-15'!ET15","v":0},{"$f":"ColdWinter!H15-'C. Winter Peak 2015-01-15'!EU15","v":0},{"$f":"ColdWinter!I15-'C. Winter Peak 2015-01-15'!EV15","v":0},{"$f":"ColdWinter!J15-'C. Winter Peak 2015-01-15'!EW15","v":0},{"$f":"ColdWinter!K15-'C. Winter Peak 2015-01-15'!EX15","v":0},{"$f":"ColdWinter!L15-'C. Winter Peak 2015-01-15'!EY15","v":0},{"$f":"ColdWinter!M15-'C. Winter Peak 2015-01-15'!EZ15","v":0},{"$f":"ColdWinter!N15-'C. Winter Peak 2015-01-15'!FA15","v":0},{"$f":"ColdWinter!O15-'C. Winter Peak 2015-01-15'!FB15","v":0},{"$f":"ColdWinter!P15-'C. Winter Peak 2015-01-15'!FC15","v":0},{"$f":"ColdWinter!Q15-'C. Winter Peak 2015-01-15'!FD15","v":0},{"$f":"ColdWinter!R15-'C. Winter Peak 2015-01-15'!FE15","v":0},{"$f":"ColdWinter!S15-'C. Winter Peak 2015-01-15'!FF15","v":0},{"$f":"ColdWinter!T15-'C. Winter Peak 2015-01-15'!FG15","v":0},{"$f":"ColdWinter!U15-'C. Winter Peak 2015-01-15'!FH15","v":0},{"$f":"ColdWinter!V15-'C. Winter Peak 2015-01-15'!FI15","v":0},{"$f":"ColdWinter!W15-'C. Winter Peak 2015-01-15'!FJ15","v":0},{"$f":"ColdWinter!X15-'C. Winter Peak 2015-01-15'!FK15","v":0},{"$f":"ColdWinter!Y15-'C. Winter Peak 2015-01-15'!FL15","v":0},{"$f":"ColdWinter!Z15-'C. Winter Peak 2015-01-15'!FM15","v":0},{"$f":"ColdWinter!AA15-'C. Winter Peak 2015-01-15'!FN15","v":0},{"$f":"ColdWinter!AB15-'C. Winter Peak 2015-01-15'!FO15","v":0},{"$f":"ColdWinter!AC15-'C. Winter Peak 2015-01-15'!FP15","v":0},{"$f":"ColdWinter!AD15-'C. Winter Peak 2015-01-15'!FQ15","v":0},{"$f":"ColdWinter!AE15-'C. Winter Peak 2015-01-15'!FR15","v":0},{"$f":"ColdWinter!AF15-'C. Winter Peak 2015-01-15'!FS15","v":0},{"$f":"ColdWinter!AG15-'C. Winter Peak 2015-01-15'!FT15","v":0},{"$f":"ColdWinter!AH15-'C. Winter Peak 2015-01-15'!FU15","v":0},{"$f":"ColdWinter!AI15-'C. Winter Peak 2015-01-15'!FV15","v":0},{"$f":"ColdWinter!AJ15-'C. Winter Peak 2015-01-15'!FW15","v":0},{"$f":"ColdWinter!AK15-'C. Winter Peak 2015-01-15'!FX15","v":0},{"$f":"ColdWinter!AL15-'C. Winter Peak 2015-01-15'!FY15","v":0},{"$f":"ColdWinter!AM15-'C. Winter Peak 2015-01-15'!FZ15","v":0},{"$f":"ColdWinter!AN15-'C. Winter Peak 2015-01-15'!GA15","v":0},{"$f":"ColdWinter!AO15-'C. Winter Peak 2015-01-15'!GB15","v":0},{"$f":"ColdWinter!AP15-'C. Winter Peak 2015-01-15'!GC15","v":0},{"$f":"ColdWinter!AQ15-'C. Winter Peak 2015-01-15'!GD15","v":0},{"$f":"ColdWinter!AR15-'C. Winter Peak 2015-01-15'!GE15","v":0},{"$f":"ColdWinter!AS15-'C. Winter Peak 2015-01-15'!GF15","v":0},{"$f":"ColdWinter!AT15-'C. Winter Peak 2015-01-15'!GG15","v":0},{"$f":"ColdWinter!AU15-'C. Winter Peak 2015-01-15'!GH15","v":0},{"$f":"ColdWinter!AV15-'C. Winter Peak 2015-01-15'!GI15","v":0},{"$f":"ColdWinter!AW15-'C. Winter Peak 2015-01-15'!GJ15","v":0},{"$f":"ColdWinter!AX15-'C. Winter Peak 2015-01-15'!GK15","v":0},{"$f":"ColdWinter!AY15-'C. Winter Peak 2015-01-15'!GL15","v":0},{"$f":"ColdWinter!AZ15-'C. Winter Peak 2015-01-15'!GM15","v":0},{"$f":"ColdWinter!BA15-'C. Winter Peak 2015-01-15'!GN15","v":0},{"$f":"ColdWinter!BB15-'C. Winter Peak 2015-01-15'!GO15","v":0},{"$f":"ColdWinter!BC15-'C. Winter Peak 2015-01-15'!GP15","v":0},{"$f":"ColdWinter!BD15-'C. Winter Peak 2015-01-15'!GQ15","v":0},{"$f":"ColdWinter!BE15-'C. Winter Peak 2015-01-15'!GR15","v":0},{"$f":"ColdWinter!BF15-'C. Winter Peak 2015-01-15'!GS15","v":0},{"$f":"ColdWinter!BG15-'C. Winter Peak 2015-01-15'!GT15","v":0},{"$f":"ColdWinter!BH15-'C. Winter Peak 2015-01-15'!GU15","v":0},{"$f":"ColdWinter!BI15-'C. Winter Peak 2015-01-15'!GV15","v":0},{"$f":"ColdWinter!BJ15-'C. Winter Peak 2015-01-15'!GW15","v":0},{"$f":"ColdWinter!BK15-'C. Winter Peak 2015-01-15'!GX15","v":0},{"$f":"ColdWinter!BL15-'C. Winter Peak 2015-01-15'!GY15","v":0},{"$f":"ColdWinter!BM15-'C. Winter Peak 2015-01-15'!GZ15","v":0},{"$f":"ColdWinter!BN15-'C. Winter Peak 2015-01-15'!HA15","v":0},{"$f":"ColdWinter!BO15-'C. Winter Peak 2015-01-15'!HB15","v":0},{"$f":"ColdWinter!BP15-'C. Winter Peak 2015-01-15'!HC15","v":0},{"$f":"ColdWinter!BQ15-'C. Winter Peak 2015-01-15'!HD15","v":0},{"$f":"ColdWinter!BR15-'C. Winter Peak 2015-01-15'!HE15","v":0},{"$f":"ColdWinter!BS15-'C. Winter Peak 2015-01-15'!HF15","v":0},{"$f":"ColdWinter!BT15-'C. Winter Peak 2015-01-15'!HG15","v":0},{"$f":"ColdWinter!BU15-'C. Winter Peak 2015-01-15'!HH15","v":0},{"$f":"ColdWinter!BV15-'C. Winter Peak 2015-01-15'!HI15","v":0},{"$f":"ColdWinter!BW15-'C. Winter Peak 2015-01-15'!HJ15","v":0},{"$f":"ColdWinter!BX15-'C. Winter Peak 2015-01-15'!HK15","v":0},{"$f":"ColdWinter!BY15-'C. Winter Peak 2015-01-15'!HL15","v":0},{"$f":"ColdWinter!BZ15-'C. Winter Peak 2015-01-15'!HM15","v":0},{"$f":"ColdWinter!CA15-'C. Winter Peak 2015-01-15'!HN15","v":0},{"$f":"ColdWinter!CB15-'C. Winter Peak 2015-01-15'!HO15","v":0},{"$f":"ColdWinter!CC15-'C. Winter Peak 2015-01-15'!HP15","v":0},{"$f":"ColdWinter!CD15-'C. Winter Peak 2015-01-15'!HQ15","v":0},{"$f":"ColdWinter!CE15-'C. Winter Peak 2015-01-15'!HR15","v":0},{"$f":"ColdWinter!CF15-'C. Winter Peak 2015-01-15'!HS15","v":0},{"$f":"ColdWinter!CG15-'C. Winter Peak 2015-01-15'!HT15","v":0},{"$f":"ColdWinter!CH15-'C. Winter Peak 2015-01-15'!HU15","v":0},{"$f":"ColdWinter!CI15-'C. Winter Peak 2015-01-15'!HV15","v":0},{"$f":"ColdWinter!CJ15-'C. Winter Peak 2015-01-15'!HW15","v":0},{"$f":"ColdWinter!CK15-'C. Winter Peak 2015-01-15'!HX15","v":0},{"$f":"ColdWinter!CL15-'C. Winter Peak 2015-01-15'!HY15","v":0},{"$f":"ColdWinter!CM15-'C. Winter Peak 2015-01-15'!HZ15","v":0},{"$f":"ColdWinter!CN15-'C. Winter Peak 2015-01-15'!IA15","v":0},{"$f":"ColdWinter!CO15-'C. Winter Peak 2015-01-15'!IB15","v":0},{"$f":"ColdWinter!CP15-'C. Winter Peak 2015-01-15'!IC15","v":0},{"$f":"ColdWinter!CQ15-'C. Winter Peak 2015-01-15'!ID15","v":0},{"$f":"ColdWinter!CR15-'C. Winter Peak 2015-01-15'!IE15","v":0},{"$f":"ColdWinter!CS15-'C. Winter Peak 2015-01-15'!IF15","v":0},{"$f":"ColdWinter!CT15-'C. Winter Peak 2015-01-15'!IG15","v":0},{"$f":"ColdWinter!CU15-'C. Winter Peak 2015-01-15'!IH15","v":0},{"$f":"ColdWinter!CV15-'C. Winter Peak 2015-01-15'!II15","v":0},{"$f":"ColdWinter!CW15-'C. Winter Peak 2015-01-15'!IJ15","v":0},{"$f":"ColdWinter!CX15-'C. Winter Peak 2015-01-15'!IK15","v":0},{"$f":"ColdWinter!CY15-'C. Winter Peak 2015-01-15'!IL15","v":0},{"$f":"ColdWinter!CZ15-'C. Winter Peak 2015-01-15'!IM15","v":0},{"$f":"ColdWinter!DA15-'C. Winter Peak 2015-01-15'!IN15","v":0},{"$f":"ColdWinter!DB15-'C. Winter Peak 2015-01-15'!IO15","v":0},{"$f":"ColdWinter!DC15-'C. Winter Peak 2015-01-15'!IP15","v":0},{"$f":"ColdWinter!DD15-'C. Winter Peak 2015-01-15'!IQ15","v":0},{"$f":"ColdWinter!DE15-'C. Winter Peak 2015-01-15'!IR15","v":0},{"$f":"ColdWinter!DF15-'C. Winter Peak 2015-01-15'!IS15","v":0},{"$f":"ColdWinter!DG15-'C. Winter Peak 2015-01-15'!IT15","v":0},{"$f":"ColdWinter!DH15-'C. Winter Peak 2015-01-15'!IU15","v":0},{"$f":"ColdWinter!DI15-'C. Winter Peak 2015-01-15'!IV15","v":0},{"$f":"ColdWinter!DJ15-'C. Winter Peak 2015-01-15'!IW15","v":0},{"$f":"ColdWinter!DK15-'C. Winter Peak 2015-01-15'!IX15","v":0},{"$f":"ColdWinter!DL15-'C. Winter Peak 2015-01-15'!IY15","v":0},{"$f":"ColdWinter!DM15-'C. Winter Peak 2015-01-15'!IZ15","v":0},{"$f":"ColdWinter!DN15-'C. Winter Peak 2015-01-15'!JA15","v":0},{"$f":"ColdWinter!DO15-'C. Winter Peak 2015-01-15'!JB15","v":0},{"$f":"ColdWinter!DP15-'C. Winter Peak 2015-01-15'!JC15","v":0},{"$f":"ColdWinter!DQ15-'C. Winter Peak 2015-01-15'!JD15","v":0},{"$f":"ColdWinter!DR15-'C. Winter Peak 2015-01-15'!JE15","v":0},{"$f":"ColdWinter!DS15-'C. Winter Peak 2015-01-15'!JF15","v":0}]
[null,"PFM3",{"$f":"ColdWinter!C16-'C. Winter Peak 2015-01-15'!EP16","v":0},{"$f":"ColdWinter!D16-'C. Winter Peak 2015-01-15'!EQ16","v":0},{"$f":"ColdWinter!E16-'C. Winter Peak 2015-01-15'!ER16","v":0},{"$f":"ColdWinter!F16-'C. Winter Peak 2015-01-15'!ES16","v":0},{"$f":"ColdWinter!G16-'C. Winter Peak 2015-01-15'!ET16","v":0},{"$f":"ColdWinter!H16-'C. Winter Peak 2015-01-15'!EU16","v":0},{"$f":"ColdWinter!I16-'C. Winter Peak 2015-01-15'!EV16","v":0},{"$f":"ColdWinter!J16-'C. Winter Peak 2015-01-15'!EW16","v":0},{"$f":"ColdWinter!K16-'C. Winter Peak 2015-01-15'!EX16","v":0},{"$f":"ColdWinter!L16-'C. Winter Peak 2015-01-15'!EY16","v":0},{"$f":"ColdWinter!M16-'C. Winter Peak 2015-01-15'!EZ16","v":0},{"$f":"ColdWinter!N16-'C. Winter Peak 2015-01-15'!FA16","v":0},{"$f":"ColdWinter!O16-'C. Winter Peak 2015-01-15'!FB16","v":0},{"$f":"ColdWinter!P16-'C. Winter Peak 2015-01-15'!FC16","v":0},{"$f":"ColdWinter!Q16-'C. Winter Peak 2015-01-15'!FD16","v":0},{"$f":"ColdWinter!R16-'C. Winter Peak 2015-01-15'!FE16","v":0},{"$f":"ColdWinter!S16-'C. Winter Peak 2015-01-15'!FF16","v":0},{"$f":"ColdWinter!T16-'C. Winter Peak 2015-01-15'!FG16","v":0},{"$f":"ColdWinter!U16-'C. Winter Peak 2015-01-15'!FH16","v":0},{"$f":"ColdWinter!V16-'C. Winter Peak 2015-01-15'!FI16","v":0},{"$f":"ColdWinter!W16-'C. Winter Peak 2015-01-15'!FJ16","v":0},{"$f":"ColdWinter!X16-'C. Winter Peak 2015-01-15'!FK16","v":0},{"$f":"ColdWinter!Y16-'C. Winter Peak 2015-01-15'!FL16","v":0},{"$f":"ColdWinter!Z16-'C. Winter Peak 2015-01-15'!FM16","v":0},{"$f":"ColdWinter!AA16-'C. Winter Peak 2015-01-15'!FN16","v":0},{"$f":"ColdWinter!AB16-'C. Winter Peak 2015-01-15'!FO16","v":0},{"$f":"ColdWinter!AC16-'C. Winter Peak 2015-01-15'!FP16","v":0},{"$f":"ColdWinter!AD16-'C. Winter Peak 2015-01-15'!FQ16","v":0},{"$f":"ColdWinter!AE16-'C. Winter Peak 2015-01-15'!FR16","v":0},{"$f":"ColdWinter!AF16-'C. Winter Peak 2015-01-15'!FS16","v":0},{"$f":"ColdWinter!AG16-'C. Winter Peak 2015-01-15'!FT16","v":0},{"$f":"ColdWinter!AH16-'C. Winter Peak 2015-01-15'!FU16","v":0},{"$f":"ColdWinter!AI16-'C. Winter Peak 2015-01-15'!FV16","v":0},{"$f":"ColdWinter!AJ16-'C. Winter Peak 2015-01-15'!FW16","v":0},{"$f":"ColdWinter!AK16-'C. Winter Peak 2015-01-15'!FX16","v":0},{"$f":"ColdWinter!AL16-'C. Winter Peak 2015-01-15'!FY16","v":0},{"$f":"ColdWinter!AM16-'C. Winter Peak 2015-01-15'!FZ16","v":0},{"$f":"ColdWinter!AN16-'C. Winter Peak 2015-01-15'!GA16","v":0},{"$f":"ColdWinter!AO16-'C. Winter Peak 2015-01-15'!GB16","v":0},{"$f":"ColdWinter!AP16-'C. Winter Peak 2015-01-15'!GC16","v":0},{"$f":"ColdWinter!AQ16-'C. Winter Peak 2015-01-15'!GD16","v":0},{"$f":"ColdWinter!AR16-'C. Winter Peak 2015-01-15'!GE16","v":0},{"$f":"ColdWinter!AS16-'C. Winter Peak 2015-01-15'!GF16","v":0},{"$f":"ColdWinter!AT16-'C. Winter Peak 2015-01-15'!GG16","v":0},{"$f":"ColdWinter!AU16-'C. Winter Peak 2015-01-15'!GH16","v":0},{"$f":"ColdWinter!AV16-'C. Winter Peak 2015-01-15'!GI16","v":0},{"$f":"ColdWinter!AW16-'C. Winter Peak 2015-01-15'!GJ16","v":0},{"$f":"ColdWinter!AX16-'C. Winter Peak 2015-01-15'!GK16","v":0},{"$f":"ColdWinter!AY16-'C. Winter Peak 2015-01-15'!GL16","v":0},{"$f":"ColdWinter!AZ16-'C. Winter Peak 2015-01-15'!GM16","v":0},{"$f":"ColdWinter!BA16-'C. Winter Peak 2015-01-15'!GN16","v":0},{"$f":"ColdWinter!BB16-'C. Winter Peak 2015-01-15'!GO16","v":0},{"$f":"ColdWinter!BC16-'C. Winter Peak 2015-01-15'!GP16","v":0},{"$f":"ColdWinter!BD16-'C. Winter Peak 2015-01-15'!GQ16","v":0},{"$f":"ColdWinter!BE16-'C. Winter Peak 2015-01-15'!GR16","v":0},{"$f":"ColdWinter!BF16-'C. Winter Peak 2015-01-15'!GS16","v":0},{"$f":"ColdWinter!BG16-'C. Winter Peak 2015-01-15'!GT16","v":0},{"$f":"ColdWinter!BH16-'C. Winter Peak 2015-01-15'!GU16","v":0},{"$f":"ColdWinter!BI16-'C. Winter Peak 2015-01-15'!GV16","v":0},{"$f":"ColdWinter!BJ16-'C. Winter Peak 2015-01-15'!GW16","v":0},{"$f":"ColdWinter!BK16-'C. Winter Peak 2015-01-15'!GX16","v":0},{"$f":"ColdWinter!BL16-'C. Winter Peak 2015-01-15'!GY16","v":0},{"$f":"ColdWinter!BM16-'C. Winter Peak 2015-01-15'!GZ16","v":0},{"$f":"ColdWinter!BN16-'C. Winter Peak 2015-01-15'!HA16","v":0},{"$f":"ColdWinter!BO16-'C. Winter Peak 2015-01-15'!HB16","v":0},{"$f":"ColdWinter!BP16-'C. Winter Peak 2015-01-15'!HC16","v":0},{"$f":"ColdWinter!BQ16-'C. Winter Peak 2015-01-15'!HD16","v":0},{"$f":"ColdWinter!BR16-'C. Winter Peak 2015-01-15'!HE16","v":0},{"$f":"ColdWinter!BS16-'C. Winter Peak 2015-01-15'!HF16","v":0},{"$f":"ColdWinter!BT16-'C. Winter Peak 2015-01-15'!HG16","v":0},{"$f":"ColdWinter!BU16-'C. Winter Peak 2015-01-15'!HH16","v":0},{"$f":"ColdWinter!BV16-'C. Winter Peak 2015-01-15'!HI16","v":0},{"$f":"ColdWinter!BW16-'C. Winter Peak 2015-01-15'!HJ16","v":0},{"$f":"ColdWinter!BX16-'C. Winter Peak 2015-01-15'!HK16","v":0},{"$f":"ColdWinter!BY16-'C. Winter Peak 2015-01-15'!HL16","v":0},{"$f":"ColdWinter!BZ16-'C. Winter Peak 2015-01-15'!HM16","v":0},{"$f":"ColdWinter!CA16-'C. Winter Peak 2015-01-15'!HN16","v":0},{"$f":"ColdWinter!CB16-'C. Winter Peak 2015-01-15'!HO16","v":0},{"$f":"ColdWinter!CC16-'C. Winter Peak 2015-01-15'!HP16","v":0},{"$f":"ColdWinter!CD16-'C. Winter Peak 2015-01-15'!HQ16","v":0},{"$f":"ColdWinter!CE16-'C. Winter Peak 2015-01-15'!HR16","v":0},{"$f":"ColdWinter!CF16-'C. Winter Peak 2015-01-15'!HS16","v":0},{"$f":"ColdWinter!CG16-'C. Winter Peak 2015-01-15'!HT16","v":0},{"$f":"ColdWinter!CH16-'C. Winter Peak 2015-01-15'!HU16","v":0},{"$f":"ColdWinter!CI16-'C. Winter Peak 2015-01-15'!HV16","v":0},{"$f":"ColdWinter!CJ16-'C. Winter Peak 2015-01-15'!HW16","v":0},{"$f":"ColdWinter!CK16-'C. Winter Peak 2015-01-15'!HX16","v":0},{"$f":"ColdWinter!CL16-'C. Winter Peak 2015-01-15'!HY16","v":0},{"$f":"ColdWinter!CM16-'C. Winter Peak 2015-01-15'!HZ16","v":0},{"$f":"ColdWinter!CN16-'C. Winter Peak 2015-01-15'!IA16","v":0},{"$f":"ColdWinter!CO16-'C. Winter Peak 2015-01-15'!IB16","v":0},{"$f":"ColdWinter!CP16-'C. Winter Peak 2015-01-15'!IC16","v":0},{"$f":"ColdWinter!CQ16-'C. Winter Peak 2015-01-15'!ID16","v":0},{"$f":"ColdWinter!CR16-'C. Winter Peak 2015-01-15'!IE16","v":0},{"$f":"ColdWinter!CS16-'C. Winter Peak 2015-01-15'!IF16","v":0},{"$f":"ColdWinter!CT16-'C. Winter Peak 2015-01-15'!IG16","v":0},{"$f":"ColdWinter!CU16-'C. Winter Peak 2015-01-15'!IH16","v":0},{"$f":"ColdWinter!CV16-'C. Winter Peak 2015-01-15'!II16","v":0},{"$f":"ColdWinter!CW16-'C. Winter Peak 2015-01-15'!IJ16","v":0},{"$f":"ColdWinter!CX16-'C. Winter Peak 2015-01-15'!IK16","v":0},{"$f":"ColdWinter!CY16-'C. Winter Peak 2015-01-15'!IL16","v":0},{"$f":"ColdWinter!CZ16-'C. Winter Peak 2015-01-15'!IM16","v":0},{"$f":"ColdWinter!DA16-'C. Winter Peak 2015-01-15'!IN16","v":0},{"$f":"ColdWinter!DB16-'C. Winter Peak 2015-01-15'!IO16","v":0},{"$f":"ColdWinter!DC16-'C. Winter Peak 2015-01-15'!IP16","v":0},{"$f":"ColdWinter!DD16-'C. Winter Peak 2015-01-15'!IQ16","v":0},{"$f":"ColdWinter!DE16-'C. Winter Peak 2015-01-15'!IR16","v":0},{"$f":"ColdWinter!DF16-'C. Winter Peak 2015-01-15'!IS16","v":0},{"$f":"ColdWinter!DG16-'C. Winter Peak 2015-01-15'!IT16","v":0},{"$f":"ColdWinter!DH16-'C. Winter Peak 2015-01-15'!IU16","v":0},{"$f":"ColdWinter!DI16-'C. Winter Peak 2015-01-15'!IV16","v":0},{"$f":"ColdWinter!DJ16-'C. Winter Peak 2015-01-15'!IW16","v":0},{"$f":"ColdWinter!DK16-'C. Winter Peak 2015-01-15'!IX16","v":0},{"$f":"ColdWinter!DL16-'C. Winter Peak 2015-01-15'!IY16","v":0},{"$f":"ColdWinter!DM16-'C. Winter Peak 2015-01-15'!IZ16","v":0},{"$f":"ColdWinter!DN16-'C. Winter Peak 2015-01-15'!JA16","v":0},{"$f":"ColdWinter!DO16-'C. Winter Peak 2015-01-15'!JB16","v":0},{"$f":"ColdWinter!DP16-'C. Winter Peak 2015-01-15'!JC16","v":0},{"$f":"ColdWinter!DQ16-'C. Winter Peak 2015-01-15'!JD16","v":0},{"$f":"ColdWinter!DR16-'C. Winter Peak 2015-01-15'!JE16","v":0},{"$f":"ColdWinter!DS16-'C. Winter Peak 2015-01-15'!JF16","v":0}]
[null,"PFM GT",{"$f":"ColdWinter!C17-'C. Winter Peak 2015-01-15'!EP17","v":0},{"$f":"ColdWinter!D17-'C. Winter Peak 2015-01-15'!EQ17","v":0},{"$f":"ColdWinter!E17-'C. Winter Peak 2015-01-15'!ER17","v":0},{"$f":"ColdWinter!F17-'C. Winter Peak 2015-01-15'!ES17","v":0},{"$f":"ColdWinter!G17-'C. Winter Peak 2015-01-15'!ET17","v":0},{"$f":"ColdWinter!H17-'C. Winter Peak 2015-01-15'!EU17","v":0},{"$f":"ColdWinter!I17-'C. Winter Peak 2015-01-15'!EV17","v":0},{"$f":"ColdWinter!J17-'C. Winter Peak 2015-01-15'!EW17","v":0},{"$f":"ColdWinter!K17-'C. Winter Peak 2015-01-15'!EX17","v":0},{"$f":"ColdWinter!L17-'C. Winter Peak 2015-01-15'!EY17","v":0},{"$f":"ColdWinter!M17-'C. Winter Peak 2015-01-15'!EZ17","v":0},{"$f":"ColdWinter!N17-'C. Winter Peak 2015-01-15'!FA17","v":0},{"$f":"ColdWinter!O17-'C. Winter Peak 2015-01-15'!FB17","v":0},{"$f":"ColdWinter!P17-'C. Winter Peak 2015-01-15'!FC17","v":0},{"$f":"ColdWinter!Q17-'C. Winter Peak 2015-01-15'!FD17","v":0},{"$f":"ColdWinter!R17-'C. Winter Peak 2015-01-15'!FE17","v":0},{"$f":"ColdWinter!S17-'C. Winter Peak 2015-01-15'!FF17","v":0},{"$f":"ColdWinter!T17-'C. Winter Peak 2015-01-15'!FG17","v":0},{"$f":"ColdWinter!U17-'C. Winter Peak 2015-01-15'!FH17","v":0},{"$f":"ColdWinter!V17-'C. Winter Peak 2015-01-15'!FI17","v":0},{"$f":"ColdWinter!W17-'C. Winter Peak 2015-01-15'!FJ17","v":0},{"$f":"ColdWinter!X17-'C. Winter Peak 2015-01-15'!FK17","v":0},{"$f":"ColdWinter!Y17-'C. Winter Peak 2015-01-15'!FL17","v":0},{"$f":"ColdWinter!Z17-'C. Winter Peak 2015-01-15'!FM17","v":0},{"$f":"ColdWinter!AA17-'C. Winter Peak 2015-01-15'!FN17","v":0},{"$f":"ColdWinter!AB17-'C. Winter Peak 2015-01-15'!FO17","v":0},{"$f":"ColdWinter!AC17-'C. Winter Peak 2015-01-15'!FP17","v":0},{"$f":"ColdWinter!AD17-'C. Winter Peak 2015-01-15'!FQ17","v":0},{"$f":"ColdWinter!AE17-'C. Winter Peak 2015-01-15'!FR17","v":0},{"$f":"ColdWinter!AF17-'C. Winter Peak 2015-01-15'!FS17","v":0},{"$f":"ColdWinter!AG17-'C. Winter Peak 2015-01-15'!FT17","v":0},{"$f":"ColdWinter!AH17-'C. Winter Peak 2015-01-15'!FU17","v":0},{"$f":"ColdWinter!AI17-'C. Winter Peak 2015-01-15'!FV17","v":0},{"$f":"ColdWinter!AJ17-'C. Winter Peak 2015-01-15'!FW17","v":0},{"$f":"ColdWinter!AK17-'C. Winter Peak 2015-01-15'!FX17","v":0},{"$f":"ColdWinter!AL17-'C. Winter Peak 2015-01-15'!FY17","v":0},{"$f":"ColdWinter!AM17-'C. Winter Peak 2015-01-15'!FZ17","v":0},{"$f":"ColdWinter!AN17-'C. Winter Peak 2015-01-15'!GA17","v":0},{"$f":"ColdWinter!AO17-'C. Winter Peak 2015-01-15'!GB17","v":0},{"$f":"ColdWinter!AP17-'C. Winter Peak 2015-01-15'!GC17","v":0},{"$f":"ColdWinter!AQ17-'C. Winter Peak 2015-01-15'!GD17","v":0},{"$f":"ColdWinter!AR17-'C. Winter Peak 2015-01-15'!GE17","v":0},{"$f":"ColdWinter!AS17-'C. Winter Peak 2015-01-15'!GF17","v":0},{"$f":"ColdWinter!AT17-'C. Winter Peak 2015-01-15'!GG17","v":0},{"$f":"ColdWinter!AU17-'C. Winter Peak 2015-01-15'!GH17","v":0},{"$f":"ColdWinter!AV17-'C. Winter Peak 2015-01-15'!GI17","v":0},{"$f":"ColdWinter!AW17-'C. Winter Peak 2015-01-15'!GJ17","v":0},{"$f":"ColdWinter!AX17-'C. Winter Peak 2015-01-15'!GK17","v":0},{"$f":"ColdWinter!AY17-'C. Winter Peak 2015-01-15'!GL17","v":0},{"$f":"ColdWinter!AZ17-'C. Winter Peak 2015-01-15'!GM17","v":0},{"$f":"ColdWinter!BA17-'C. Winter Peak 2015-01-15'!GN17","v":0},{"$f":"ColdWinter!BB17-'C. Winter Peak 2015-01-15'!GO17","v":0},{"$f":"ColdWinter!BC17-'C. Winter Peak 2015-01-15'!GP17","v":0},{"$f":"ColdWinter!BD17-'C. Winter Peak 2015-01-15'!GQ17","v":0},{"$f":"ColdWinter!BE17-'C. Winter Peak 2015-01-15'!GR17","v":0},{"$f":"ColdWinter!BF17-'C. Winter Peak 2015-01-15'!GS17","v":0},{"$f":"ColdWinter!BG17-'C. Winter Peak 2015-01-15'!GT17","v":0},{"$f":"ColdWinter!BH17-'C. Winter Peak 2015-01-15'!GU17","v":0},{"$f":"ColdWinter!BI17-'C. Winter Peak 2015-01-15'!GV17","v":0},{"$f":"ColdWinter!BJ17-'C. Winter Peak 2015-01-15'!GW17","v":0},{"$f":"ColdWinter!BK17-'C. Winter Peak 2015-01-15'!GX17","v":0},{"$f":"ColdWinter!BL17-'C. Winter Peak 2015-01-15'!GY17","v":0},{"$f":"ColdWinter!BM17-'C. Winter Peak 2015-01-15'!GZ17","v":0},{"$f":"ColdWinter!BN17-'C. Winter Peak 2015-01-15'!HA17","v":0},{"$f":"ColdWinter!BO17-'C. Winter Peak 2015-01-15'!HB17","v":0},{"$f":"ColdWinter!BP17-'C. Winter Peak 2015-01-15'!HC17","v":0},{"$f":"ColdWinter!BQ17-'C. Winter Peak 2015-01-15'!HD17","v":0},{"$f":"ColdWinter!BR17-'C. Winter Peak 2015-01-15'!HE17","v":0},{"$f":"ColdWinter!BS17-'C. Winter Peak 2015-01-15'!HF17","v":0},{"$f":"ColdWinter!BT17-'C. Winter Peak 2015-01-15'!HG17","v":0},{"$f":"ColdWinter!BU17-'C. Winter Peak 2015-01-15'!HH17","v":0},{"$f":"ColdWinter!BV17-'C. Winter Peak 2015-01-15'!HI17","v":0},{"$f":"ColdWinter!BW17-'C. Winter Peak 2015-01-15'!HJ17","v":0},{"$f":"ColdWinter!BX17-'C. Winter Peak 2015-01-15'!HK17","v":0},{"$f":"ColdWinter!BY17-'C. Winter Peak 2015-01-15'!HL17","v":0},{"$f":"ColdWinter!BZ17-'C. Winter Peak 2015-01-15'!HM17","v":0},{"$f":"ColdWinter!CA17-'C. Winter Peak 2015-01-15'!HN17","v":0},{"$f":"ColdWinter!CB17-'C. Winter Peak 2015-01-15'!HO17","v":0},{"$f":"ColdWinter!CC17-'C. Winter Peak 2015-01-15'!HP17","v":0},{"$f":"ColdWinter!CD17-'C. Winter Peak 2015-01-15'!HQ17","v":0},{"$f":"ColdWinter!CE17-'C. Winter Peak 2015-01-15'!HR17","v":0},{"$f":"ColdWinter!CF17-'C. Winter Peak 2015-01-15'!HS17","v":0},{"$f":"ColdWinter!CG17-'C. Winter Peak 2015-01-15'!HT17","v":0},{"$f":"ColdWinter!CH17-'C. Winter Peak 2015-01-15'!HU17","v":0},{"$f":"ColdWinter!CI17-'C. Winter Peak 2015-01-15'!HV17","v":0},{"$f":"ColdWinter!CJ17-'C. Winter Peak 2015-01-15'!HW17","v":0},{"$f":"ColdWinter!CK17-'C. Winter Peak 2015-01-15'!HX17","v":0},{"$f":"ColdWinter!CL17-'C. Winter Peak 2015-01-15'!HY17","v":0},{"$f":"ColdWinter!CM17-'C. Winter Peak 2015-01-15'!HZ17","v":0},{"$f":"ColdWinter!CN17-'C. Winter Peak 2015-01-15'!IA17","v":0},{"$f":"ColdWinter!CO17-'C. Winter Peak 2015-01-15'!IB17","v":0},{"$f":"ColdWinter!CP17-'C. Winter Peak 2015-01-15'!IC17","v":0},{"$f":"ColdWinter!CQ17-'C. Winter Peak 2015-01-15'!ID17","v":0},{"$f":"ColdWinter!CR17-'C. Winter Peak 2015-01-15'!IE17","v":0},{"$f":"ColdWinter!CS17-'C. Winter Peak 2015-01-15'!IF17","v":0},{"$f":"ColdWinter!CT17-'C. Winter Peak 2015-01-15'!IG17","v":0},{"$f":"ColdWinter!CU17-'C. Winter Peak 2015-01-15'!IH17","v":0},{"$f":"ColdWinter!CV17-'C. Winter Peak 2015-01-15'!II17","v":0},{"$f":"ColdWinter!CW17-'C. Winter Peak 2015-01-15'!IJ17","v":0},{"$f":"ColdWinter!CX17-'C. Winter Peak 2015-01-15'!IK17","v":0},{"$f":"ColdWinter!CY17-'C. Winter Peak 2015-01-15'!IL17","v":0},{"$f":"ColdWinter!CZ17-'C. Winter Peak 2015-01-15'!IM17","v":0},{"$f":"ColdWinter!DA17-'C. Winter Peak 2015-01-15'!IN17","v":0},{"$f":"ColdWinter!DB17-'C. Winter Peak 2015-01-15'!IO17","v":0},{"$f":"ColdWinter!DC17-'C. Winter Peak 2015-01-15'!IP17","v":0},{"$f":"ColdWinter!DD17-'C. Winter Peak 2015-01-15'!IQ17","v":0},{"$f":"ColdWinter!DE17-'C. Winter Peak 2015-01-15'!IR17","v":0},{"$f":"ColdWinter!DF17-'C. Winter Peak 2015-01-15'!IS17","v":0},{"$f":"ColdWinter!DG17-'C. Winter Peak 2015-01-15'!IT17","v":0},{"$f":"ColdWinter!DH17-'C. Winter Peak 2015-01-15'!IU17","v":0},{"$f":"ColdWinter!DI17-'C. Winter Peak 2015-01-15'!IV17","v":0},{"$f":"ColdWinter!DJ17-'C. Winter Peak 2015-01-15'!IW17","v":0},{"$f":"ColdWinter!DK17-'C. Winter Peak 2015-01-15'!IX17","v":0},{"$f":"ColdWinter!DL17-'C. Winter Peak 2015-01-15'!IY17","v":0},{"$f":"ColdWinter!DM17-'C. Winter Peak 2015-01-15'!IZ17","v":0},{"$f":"ColdWinter!DN17-'C. Winter Peak 2015-01-15'!JA17","v":0},{"$f":"ColdWinter!DO17-'C. Winter Peak 2015-01-15'!JB17","v":0},{"$f":"ColdWinter!DP17-'C. Winter Peak 2015-01-15'!JC17","v":0},{"$f":"ColdWinter!DQ17-'C. Winter Peak 2015-01-15'!JD17","v":0},{"$f":"ColdWinter!DR17-'C. Winter Peak 2015-01-15'!JE17","v":0},{"$f":"ColdWinter!DS17-'C. Winter Peak 2015-01-15'!JF17","v":0}]
[null,"PJK1",{"$f":"ColdWinter!C18-'C. Winter Peak 2015-01-15'!EP18","v":0},{"$f":"ColdWinter!D18-'C. Winter Peak 2015-01-15'!EQ18","v":0},{"$f":"ColdWinter!E18-'C. Winter Peak 2015-01-15'!ER18","v":0},{"$f":"ColdWinter!F18-'C. Winter Peak 2015-01-15'!ES18","v":0},{"$f":"ColdWinter!G18-'C. Winter Peak 2015-01-15'!ET18","v":0},{"$f":"ColdWinter!H18-'C. Winter Peak 2015-01-15'!EU18","v":0},{"$f":"ColdWinter!I18-'C. Winter Peak 2015-01-15'!EV18","v":0},{"$f":"ColdWinter!J18-'C. Winter Peak 2015-01-15'!EW18","v":0},{"$f":"ColdWinter!K18-'C. Winter Peak 2015-01-15'!EX18","v":0},{"$f":"ColdWinter!L18-'C. Winter Peak 2015-01-15'!EY18","v":0},{"$f":"ColdWinter!M18-'C. Winter Peak 2015-01-15'!EZ18","v":0},{"$f":"ColdWinter!N18-'C. Winter Peak 2015-01-15'!FA18","v":0},{"$f":"ColdWinter!O18-'C. Winter Peak 2015-01-15'!FB18","v":0},{"$f":"ColdWinter!P18-'C. Winter Peak 2015-01-15'!FC18","v":0},{"$f":"ColdWinter!Q18-'C. Winter Peak 2015-01-15'!FD18","v":0},{"$f":"ColdWinter!R18-'C. Winter Peak 2015-01-15'!FE18","v":0},{"$f":"ColdWinter!S18-'C. Winter Peak 2015-01-15'!FF18","v":0},{"$f":"ColdWinter!T18-'C. Winter Peak 2015-01-15'!FG18","v":0},{"$f":"ColdWinter!U18-'C. Winter Peak 2015-01-15'!FH18","v":0},{"$f":"ColdWinter!V18-'C. Winter Peak 2015-01-15'!FI18","v":0},{"$f":"ColdWinter!W18-'C. Winter Peak 2015-01-15'!FJ18","v":0},{"$f":"ColdWinter!X18-'C. Winter Peak 2015-01-15'!FK18","v":0},{"$f":"ColdWinter!Y18-'C. Winter Peak 2015-01-15'!FL18","v":0},{"$f":"ColdWinter!Z18-'C. Winter Peak 2015-01-15'!FM18","v":0},{"$f":"ColdWinter!AA18-'C. Winter Peak 2015-01-15'!FN18","v":0},{"$f":"ColdWinter!AB18-'C. Winter Peak 2015-01-15'!FO18","v":0},{"$f":"ColdWinter!AC18-'C. Winter Peak 2015-01-15'!FP18","v":0},{"$f":"ColdWinter!AD18-'C. Winter Peak 2015-01-15'!FQ18","v":0},{"$f":"ColdWinter!AE18-'C. Winter Peak 2015-01-15'!FR18","v":0},{"$f":"ColdWinter!AF18-'C. Winter Peak 2015-01-15'!FS18","v":0},{"$f":"ColdWinter!AG18-'C. Winter Peak 2015-01-15'!FT18","v":0},{"$f":"ColdWinter!AH18-'C. Winter Peak 2015-01-15'!FU18","v":0},{"$f":"ColdWinter!AI18-'C. Winter Peak 2015-01-15'!FV18","v":0},{"$f":"ColdWinter!AJ18-'C. Winter Peak 2015-01-15'!FW18","v":0},{"$f":"ColdWinter!AK18-'C. Winter Peak 2015-01-15'!FX18","v":0},{"$f":"ColdWinter!AL18-'C. Winter Peak 2015-01-15'!FY18","v":0},{"$f":"ColdWinter!AM18-'C. Winter Peak 2015-01-15'!FZ18","v":0},{"$f":"ColdWinter!AN18-'C. Winter Peak 2015-01-15'!GA18","v":0},{"$f":"ColdWinter!AO18-'C. Winter Peak 2015-01-15'!GB18","v":0},{"$f":"ColdWinter!AP18-'C. Winter Peak 2015-01-15'!GC18","v":0},{"$f":"ColdWinter!AQ18-'C. Winter Peak 2015-01-15'!GD18","v":0},{"$f":"ColdWinter!AR18-'C. Winter Peak 2015-01-15'!GE18","v":0},{"$f":"ColdWinter!AS18-'C. Winter Peak 2015-01-15'!GF18","v":0},{"$f":"ColdWinter!AT18-'C. Winter Peak 2015-01-15'!GG18","v":0},{"$f":"ColdWinter!AU18-'C. Winter Peak 2015-01-15'!GH18","v":0},{"$f":"ColdWinter!AV18-'C. Winter Peak 2015-01-15'!GI18","v":0},{"$f":"ColdWinter!AW18-'C. Winter Peak 2015-01-15'!GJ18","v":0},{"$f":"ColdWinter!AX18-'C. Winter Peak 2015-01-15'!GK18","v":0},{"$f":"ColdWinter!AY18-'C. Winter Peak 2015-01-15'!GL18","v":0},{"$f":"ColdWinter!AZ18-'C. Winter Peak 2015-01-15'!GM18","v":0},{"$f":"ColdWinter!BA18-'C. Winter Peak 2015-01-15'!GN18","v":0},{"$f":"ColdWinter!BB18-'C. Winter Peak 2015-01-15'!GO18","v":0},{"$f":"ColdWinter!BC18-'C. Winter Peak 2015-01-15'!GP18","v":0},{"$f":"ColdWinter!BD18-'C. Winter Peak 2015-01-15'!GQ18","v":0},{"$f":"ColdWinter!BE18-'C. Winter Peak 2015-01-15'!GR18","v":0},{"$f":"ColdWinter!BF18-'C. Winter Peak 2015-01-15'!GS18","v":0},{"$f":"ColdWinter!BG18-'C. Winter Peak 2015-01-15'!GT18","v":0},{"$f":"ColdWinter!BH18-'C. Winter Peak 2015-01-15'!GU18","v":0},{"$f":"ColdWinter!BI18-'C. Winter Peak 2015-01-15'!GV18","v":0},{"$f":"ColdWinter!BJ18-'C. Winter Peak 2015-01-15'!GW18","v":0},{"$f":"ColdWinter!BK18-'C. Winter Peak 2015-01-15'!GX18","v":0},{"$f":"ColdWinter!BL18-'C. Winter Peak 2015-01-15'!GY18","v":0},{"$f":"ColdWinter!BM18-'C. Winter Peak 2015-01-15'!GZ18","v":0},{"$f":"ColdWinter!BN18-'C. Winter Peak 2015-01-15'!HA18","v":0},{"$f":"ColdWinter!BO18-'C. Winter Peak 2015-01-15'!HB18","v":0},{"$f":"ColdWinter!BP18-'C. Winter Peak 2015-01-15'!HC18","v":0},{"$f":"ColdWinter!BQ18-'C. Winter Peak 2015-01-15'!HD18","v":0},{"$f":"ColdWinter!BR18-'C. Winter Peak 2015-01-15'!HE18","v":0},{"$f":"ColdWinter!BS18-'C. Winter Peak 2015-01-15'!HF18","v":0},{"$f":"ColdWinter!BT18-'C. Winter Peak 2015-01-15'!HG18","v":0},{"$f":"ColdWinter!BU18-'C. Winter Peak 2015-01-15'!HH18","v":0},{"$f":"ColdWinter!BV18-'C. Winter Peak 2015-01-15'!HI18","v":0},{"$f":"ColdWinter!BW18-'C. Winter Peak 2015-01-15'!HJ18","v":0},{"$f":"ColdWinter!BX18-'C. Winter Peak 2015-01-15'!HK18","v":0},{"$f":"ColdWinter!BY18-'C. Winter Peak 2015-01-15'!HL18","v":0},{"$f":"ColdWinter!BZ18-'C. Winter Peak 2015-01-15'!HM18","v":0},{"$f":"ColdWinter!CA18-'C. Winter Peak 2015-01-15'!HN18","v":0},{"$f":"ColdWinter!CB18-'C. Winter Peak 2015-01-15'!HO18","v":0},{"$f":"ColdWinter!CC18-'C. Winter Peak 2015-01-15'!HP18","v":0},{"$f":"ColdWinter!CD18-'C. Winter Peak 2015-01-15'!HQ18","v":0},{"$f":"ColdWinter!CE18-'C. Winter Peak 2015-01-15'!HR18","v":0},{"$f":"ColdWinter!CF18-'C. Winter Peak 2015-01-15'!HS18","v":0},{"$f":"ColdWinter!CG18-'C. Winter Peak 2015-01-15'!HT18","v":0},{"$f":"ColdWinter!CH18-'C. Winter Peak 2015-01-15'!HU18","v":0},{"$f":"ColdWinter!CI18-'C. Winter Peak 2015-01-15'!HV18","v":0},{"$f":"ColdWinter!CJ18-'C. Winter Peak 2015-01-15'!HW18","v":0},{"$f":"ColdWinter!CK18-'C. Winter Peak 2015-01-15'!HX18","v":0},{"$f":"ColdWinter!CL18-'C. Winter Peak 2015-01-15'!HY18","v":0},{"$f":"ColdWinter!CM18-'C. Winter Peak 2015-01-15'!HZ18","v":0},{"$f":"ColdWinter!CN18-'C. Winter Peak 2015-01-15'!IA18","v":0},{"$f":"ColdWinter!CO18-'C. Winter Peak 2015-01-15'!IB18","v":0},{"$f":"ColdWinter!CP18-'C. Winter Peak 2015-01-15'!IC18","v":0},{"$f":"ColdWinter!CQ18-'C. Winter Peak 2015-01-15'!ID18","v":0},{"$f":"ColdWinter!CR18-'C. Winter Peak 2015-01-15'!IE18","v":0},{"$f":"ColdWinter!CS18-'C. Winter Peak 2015-01-15'!IF18","v":0},{"$f":"ColdWinter!CT18-'C. Winter Peak 2015-01-15'!IG18","v":0},{"$f":"ColdWinter!CU18-'C. Winter Peak 2015-01-15'!IH18","v":0},{"$f":"ColdWinter!CV18-'C. Winter Peak 2015-01-15'!II18","v":0},{"$f":"ColdWinter!CW18-'C. Winter Peak 2015-01-15'!IJ18","v":0},{"$f":"ColdWinter!CX18-'C. Winter Peak 2015-01-15'!IK18","v":0},{"$f":"ColdWinter!CY18-'C. Winter Peak 2015-01-15'!IL18","v":0},{"$f":"ColdWinter!CZ18-'C. Winter Peak 2015-01-15'!IM18","v":0},{"$f":"ColdWinter!DA18-'C. Winter Peak 2015-01-15'!IN18","v":0},{"$f":"ColdWinter!DB18-'C. Winter Peak 2015-01-15'!IO18","v":0},{"$f":"ColdWinter!DC18-'C. Winter Peak 2015-01-15'!IP18","v":0},{"$f":"ColdWinter!DD18-'C. Winter Peak 2015-01-15'!IQ18","v":0},{"$f":"ColdWinter!DE18-'C. Winter Peak 2015-01-15'!IR18","v":0},{"$f":"ColdWinter!DF18-'C. Winter Peak 2015-01-15'!IS18","v":0},{"$f":"ColdWinter!DG18-'C. Winter Peak 2015-01-15'!IT18","v":0},{"$f":"ColdWinter!DH18-'C. Winter Peak 2015-01-15'!IU18","v":0},{"$f":"ColdWinter!DI18-'C. Winter Peak 2015-01-15'!IV18","v":0},{"$f":"ColdWinter!DJ18-'C. Winter Peak 2015-01-15'!IW18","v":0},{"$f":"ColdWinter!DK18-'C. Winter Peak 2015-01-15'!IX18","v":0},{"$f":"ColdWinter!DL18-'C. Winter Peak 2015-01-15'!IY18","v":0},{"$f":"ColdWinter!DM18-'C. Winter Peak 2015-01-15'!IZ18","v":0},{"$f":"ColdWinter!DN18-'C. Winter Peak 2015-01-15'!JA18","v":0},{"$f":"ColdWinter!DO18-'C. Winter Peak 2015-01-15'!JB18","v":0},{"$f":"ColdWinter!DP18-'C. Winter Peak 2015-01-15'!JC18","v":0},{"$f":"ColdWinter!DQ18-'C. Winter Peak 2015-01-15'!JD18","v":0},{"$f":"ColdWinter!DR18-'C. Winter Peak 2015-01-15'!JE18","v":0},{"$f":"ColdWinter!DS18-'C. Winter Peak 2015-01-15'!JF18","v":0}]
[null,"PJK2",{"$f":"ColdWinter!C19-'C. Winter Peak 2015-01-15'!EP19","v":0},{"$f":"ColdWinter!D19-'C. Winter Peak 2015-01-15'!EQ19","v":0},{"$f":"ColdWinter!E19-'C. Winter Peak 2015-01-15'!ER19","v":0},{"$f":"ColdWinter!F19-'C. Winter Peak 2015-01-15'!ES19","v":0},{"$f":"ColdWinter!G19-'C. Winter Peak 2015-01-15'!ET19","v":0},{"$f":"ColdWinter!H19-'C. Winter Peak 2015-01-15'!EU19","v":0},{"$f":"ColdWinter!I19-'C. Winter Peak 2015-01-15'!EV19","v":0},{"$f":"ColdWinter!J19-'C. Winter Peak 2015-01-15'!EW19","v":0},{"$f":"ColdWinter!K19-'C. Winter Peak 2015-01-15'!EX19","v":0},{"$f":"ColdWinter!L19-'C. Winter Peak 2015-01-15'!EY19","v":0},{"$f":"ColdWinter!M19-'C. Winter Peak 2015-01-15'!EZ19","v":0},{"$f":"ColdWinter!N19-'C. Winter Peak 2015-01-15'!FA19","v":0},{"$f":"ColdWinter!O19-'C. Winter Peak 2015-01-15'!FB19","v":0},{"$f":"ColdWinter!P19-'C. Winter Peak 2015-01-15'!FC19","v":0},{"$f":"ColdWinter!Q19-'C. Winter Peak 2015-01-15'!FD19","v":0},{"$f":"ColdWinter!R19-'C. Winter Peak 2015-01-15'!FE19","v":0},{"$f":"ColdWinter!S19-'C. Winter Peak 2015-01-15'!FF19","v":0},{"$f":"ColdWinter!T19-'C. Winter Peak 2015-01-15'!FG19","v":0},{"$f":"ColdWinter!U19-'C. Winter Peak 2015-01-15'!FH19","v":0},{"$f":"ColdWinter!V19-'C. Winter Peak 2015-01-15'!FI19","v":0},{"$f":"ColdWinter!W19-'C. Winter Peak 2015-01-15'!FJ19","v":0},{"$f":"ColdWinter!X19-'C. Winter Peak 2015-01-15'!FK19","v":0},{"$f":"ColdWinter!Y19-'C. Winter Peak 2015-01-15'!FL19","v":0},{"$f":"ColdWinter!Z19-'C. Winter Peak 2015-01-15'!FM19","v":0},{"$f":"ColdWinter!AA19-'C. Winter Peak 2015-01-15'!FN19","v":0},{"$f":"ColdWinter!AB19-'C. Winter Peak 2015-01-15'!FO19","v":0},{"$f":"ColdWinter!AC19-'C. Winter Peak 2015-01-15'!FP19","v":0},{"$f":"ColdWinter!AD19-'C. Winter Peak 2015-01-15'!FQ19","v":0},{"$f":"ColdWinter!AE19-'C. Winter Peak 2015-01-15'!FR19","v":0},{"$f":"ColdWinter!AF19-'C. Winter Peak 2015-01-15'!FS19","v":0},{"$f":"ColdWinter!AG19-'C. Winter Peak 2015-01-15'!FT19","v":0},{"$f":"ColdWinter!AH19-'C. Winter Peak 2015-01-15'!FU19","v":0},{"$f":"ColdWinter!AI19-'C. Winter Peak 2015-01-15'!FV19","v":0},{"$f":"ColdWinter!AJ19-'C. Winter Peak 2015-01-15'!FW19","v":0},{"$f":"ColdWinter!AK19-'C. Winter Peak 2015-01-15'!FX19","v":0},{"$f":"ColdWinter!AL19-'C. Winter Peak 2015-01-15'!FY19","v":0},{"$f":"ColdWinter!AM19-'C. Winter Peak 2015-01-15'!FZ19","v":0},{"$f":"ColdWinter!AN19-'C. Winter Peak 2015-01-15'!GA19","v":0},{"$f":"ColdWinter!AO19-'C. Winter Peak 2015-01-15'!GB19","v":0},{"$f":"ColdWinter!AP19-'C. Winter Peak 2015-01-15'!GC19","v":0},{"$f":"ColdWinter!AQ19-'C. Winter Peak 2015-01-15'!GD19","v":0},{"$f":"ColdWinter!AR19-'C. Winter Peak 2015-01-15'!GE19","v":0},{"$f":"ColdWinter!AS19-'C. Winter Peak 2015-01-15'!GF19","v":0},{"$f":"ColdWinter!AT19-'C. Winter Peak 2015-01-15'!GG19","v":0},{"$f":"ColdWinter!AU19-'C. Winter Peak 2015-01-15'!GH19","v":0},{"$f":"ColdWinter!AV19-'C. Winter Peak 2015-01-15'!GI19","v":0},{"$f":"ColdWinter!AW19-'C. Winter Peak 2015-01-15'!GJ19","v":0},{"$f":"ColdWinter!AX19-'C. Winter Peak 2015-01-15'!GK19","v":0},{"$f":"ColdWinter!AY19-'C. Winter Peak 2015-01-15'!GL19","v":0},{"$f":"ColdWinter!AZ19-'C. Winter Peak 2015-01-15'!GM19","v":0},{"$f":"ColdWinter!BA19-'C. Winter Peak 2015-01-15'!GN19","v":0},{"$f":"ColdWinter!BB19-'C. Winter Peak 2015-01-15'!GO19","v":0},{"$f":"ColdWinter!BC19-'C. Winter Peak 2015-01-15'!GP19","v":0},{"$f":"ColdWinter!BD19-'C. Winter Peak 2015-01-15'!GQ19","v":0},{"$f":"ColdWinter!BE19-'C. Winter Peak 2015-01-15'!GR19","v":0},{"$f":"ColdWinter!BF19-'C. Winter Peak 2015-01-15'!GS19","v":0},{"$f":"ColdWinter!BG19-'C. Winter Peak 2015-01-15'!GT19","v":0},{"$f":"ColdWinter!BH19-'C. Winter Peak 2015-01-15'!GU19","v":0},{"$f":"ColdWinter!BI19-'C. Winter Peak 2015-01-15'!GV19","v":0},{"$f":"ColdWinter!BJ19-'C. Winter Peak 2015-01-15'!GW19","v":0},{"$f":"ColdWinter!BK19-'C. Winter Peak 2015-01-15'!GX19","v":0},{"$f":"ColdWinter!BL19-'C. Winter Peak 2015-01-15'!GY19","v":0},{"$f":"ColdWinter!BM19-'C. Winter Peak 2015-01-15'!GZ19","v":0},{"$f":"ColdWinter!BN19-'C. Winter Peak 2015-01-15'!HA19","v":0},{"$f":"ColdWinter!BO19-'C. Winter Peak 2015-01-15'!HB19","v":0},{"$f":"ColdWinter!BP19-'C. Winter Peak 2015-01-15'!HC19","v":0},{"$f":"ColdWinter!BQ19-'C. Winter Peak 2015-01-15'!HD19","v":0},{"$f":"ColdWinter!BR19-'C. Winter Peak 2015-01-15'!HE19","v":0},{"$f":"ColdWinter!BS19-'C. Winter Peak 2015-01-15'!HF19","v":0},{"$f":"ColdWinter!BT19-'C. Winter Peak 2015-01-15'!HG19","v":0},{"$f":"ColdWinter!BU19-'C. Winter Peak 2015-01-15'!HH19","v":0},{"$f":"ColdWinter!BV19-'C. Winter Peak 2015-01-15'!HI19","v":0},{"$f":"ColdWinter!BW19-'C. Winter Peak 2015-01-15'!HJ19","v":0},{"$f":"ColdWinter!BX19-'C. Winter Peak 2015-01-15'!HK19","v":0},{"$f":"ColdWinter!BY19-'C. Winter Peak 2015-01-15'!HL19","v":0},{"$f":"ColdWinter!BZ19-'C. Winter Peak 2015-01-15'!HM19","v":0},{"$f":"ColdWinter!CA19-'C. Winter Peak 2015-01-15'!HN19","v":0},{"$f":"ColdWinter!CB19-'C. Winter Peak 2015-01-15'!HO19","v":0},{"$f":"ColdWinter!CC19-'C. Winter Peak 2015-01-15'!HP19","v":0},{"$f":"ColdWinter!CD19-'C. Winter Peak 2015-01-15'!HQ19","v":0},{"$f":"ColdWinter!CE19-'C. Winter Peak 2015-01-15'!HR19","v":0},{"$f":"ColdWinter!CF19-'C. Winter Peak 2015-01-15'!HS19","v":0},{"$f":"ColdWinter!CG19-'C. Winter Peak 2015-01-15'!HT19","v":0},{"$f":"ColdWinter!CH19-'C. Winter Peak 2015-01-15'!HU19","v":0},{"$f":"ColdWinter!CI19-'C. Winter Peak 2015-01-15'!HV19","v":0},{"$f":"ColdWinter!CJ19-'C. Winter Peak 2015-01-15'!HW19","v":0},{"$f":"ColdWinter!CK19-'C. Winter Peak 2015-01-15'!HX19","v":0},{"$f":"ColdWinter!CL19-'C. Winter Peak 2015-01-15'!HY19","v":0},{"$f":"ColdWinter!CM19-'C. Winter Peak 2015-01-15'!HZ19","v":0},{"$f":"ColdWinter!CN19-'C. Winter Peak 2015-01-15'!IA19","v":0},{"$f":"ColdWinter!CO19-'C. Winter Peak 2015-01-15'!IB19","v":0},{"$f":"ColdWinter!CP19-'C. Winter Peak 2015-01-15'!IC19","v":0},{"$f":"ColdWinter!CQ19-'C. Winter Peak 2015-01-15'!ID19","v":0},{"$f":"ColdWinter!CR19-'C. Winter Peak 2015-01-15'!IE19","v":0},{"$f":"ColdWinter!CS19-'C. Winter Peak 2015-01-15'!IF19","v":0},{"$f":"ColdWinter!CT19-'C. Winter Peak 2015-01-15'!IG19","v":0},{"$f":"ColdWinter!CU19-'C. Winter Peak 2015-01-15'!IH19","v":0},{"$f":"ColdWinter!CV19-'C. Winter Peak 2015-01-15'!II19","v":0},{"$f":"ColdWinter!CW19-'C. Winter Peak 2015-01-15'!IJ19","v":0},{"$f":"ColdWinter!CX19-'C. Winter Peak 2015-01-15'!IK19","v":0},{"$f":"ColdWinter!CY19-'C. Winter Peak 2015-01-15'!IL19","v":0},{"$f":"ColdWinter!CZ19-'C. Winter Peak 2015-01-15'!IM19","v":0},{"$f":"ColdWinter!DA19-'C. Winter Peak 2015-01-15'!IN19","v":0},{"$f":"ColdWinter!DB19-'C. Winter Peak 2015-01-15'!IO19","v":0},{"$f":"ColdWinter!DC19-'C. Winter Peak 2015-01-15'!IP19","v":0},{"$f":"ColdWinter!DD19-'C. Winter Peak 2015-01-15'!IQ19","v":0},{"$f":"ColdWinter!DE19-'C. Winter Peak 2015-01-15'!IR19","v":0},{"$f":"ColdWinter!DF19-'C. Winter Peak 2015-01-15'!IS19","v":0},{"$f":"ColdWinter!DG19-'C. Winter Peak 2015-01-15'!IT19","v":0},{"$f":"ColdWinter!DH19-'C. Winter Peak 2015-01-15'!IU19","v":0},{"$f":"ColdWinter!DI19-'C. Winter Peak 2015-01-15'!IV19","v":0},{"$f":"ColdWinter!DJ19-'C. Winter Peak 2015-01-15'!IW19","v":0},{"$f":"ColdWinter!DK19-'C. Winter Peak 2015-01-15'!IX19","v":0},{"$f":"ColdWinter!DL19-'C. Winter Peak 2015-01-15'!IY19","v":0},{"$f":"ColdWinter!DM19-'C. Winter Peak 2015-01-15'!IZ19","v":0},{"$f":"ColdWinter!DN19-'C. Winter Peak 2015-01-15'!JA19","v":0},{"$f":"ColdWinter!DO19-'C. Winter Peak 2015-01-15'!JB19","v":0},{"$f":"ColdWinter!DP19-'C. Winter Peak 2015-01-15'!JC19","v":0},{"$f":"ColdWinter!DQ19-'C. Winter Peak 2015-01-15'!JD19","v":0},{"$f":"ColdWinter!DR19-'C. Winter Peak 2015-01-15'!JE19","v":0},{"$f":"ColdWinter!DS19-'C. Winter Peak 2015-01-15'!JF19","v":0}]
[null,"PMR1",{"$f":"ColdWinter!C20-'C. Winter Peak 2015-01-15'!EP20","v":0},{"$f":"ColdWinter!D20-'C. Winter Peak 2015-01-15'!EQ20","v":0},{"$f":"ColdWinter!E20-'C. Winter Peak 2015-01-15'!ER20","v":0},{"$f":"ColdWinter!F20-'C. Winter Peak 2015-01-15'!ES20","v":0},{"$f":"ColdWinter!G20-'C. Winter Peak 2015-01-15'!ET20","v":0},{"$f":"ColdWinter!H20-'C. Winter Peak 2015-01-15'!EU20","v":0},{"$f":"ColdWinter!I20-'C. Winter Peak 2015-01-15'!EV20","v":0},{"$f":"ColdWinter!J20-'C. Winter Peak 2015-01-15'!EW20","v":0},{"$f":"ColdWinter!K20-'C. Winter Peak 2015-01-15'!EX20","v":0},{"$f":"ColdWinter!L20-'C. Winter Peak 2015-01-15'!EY20","v":0},{"$f":"ColdWinter!M20-'C. Winter Peak 2015-01-15'!EZ20","v":0},{"$f":"ColdWinter!N20-'C. Winter Peak 2015-01-15'!FA20","v":0},{"$f":"ColdWinter!O20-'C. Winter Peak 2015-01-15'!FB20","v":0},{"$f":"ColdWinter!P20-'C. Winter Peak 2015-01-15'!FC20","v":0},{"$f":"ColdWinter!Q20-'C. Winter Peak 2015-01-15'!FD20","v":0},{"$f":"ColdWinter!R20-'C. Winter Peak 2015-01-15'!FE20","v":0},{"$f":"ColdWinter!S20-'C. Winter Peak 2015-01-15'!FF20","v":0},{"$f":"ColdWinter!T20-'C. Winter Peak 2015-01-15'!FG20","v":0},{"$f":"ColdWinter!U20-'C. Winter Peak 2015-01-15'!FH20","v":0},{"$f":"ColdWinter!V20-'C. Winter Peak 2015-01-15'!FI20","v":0},{"$f":"ColdWinter!W20-'C. Winter Peak 2015-01-15'!FJ20","v":0},{"$f":"ColdWinter!X20-'C. Winter Peak 2015-01-15'!FK20","v":0},{"$f":"ColdWinter!Y20-'C. Winter Peak 2015-01-15'!FL20","v":0},{"$f":"ColdWinter!Z20-'C. Winter Peak 2015-01-15'!FM20","v":0},{"$f":"ColdWinter!AA20-'C. Winter Peak 2015-01-15'!FN20","v":0},{"$f":"ColdWinter!AB20-'C. Winter Peak 2015-01-15'!FO20","v":0},{"$f":"ColdWinter!AC20-'C. Winter Peak 2015-01-15'!FP20","v":0},{"$f":"ColdWinter!AD20-'C. Winter Peak 2015-01-15'!FQ20","v":0},{"$f":"ColdWinter!AE20-'C. Winter Peak 2015-01-15'!FR20","v":0},{"$f":"ColdWinter!AF20-'C. Winter Peak 2015-01-15'!FS20","v":0},{"$f":"ColdWinter!AG20-'C. Winter Peak 2015-01-15'!FT20","v":0},{"$f":"ColdWinter!AH20-'C. Winter Peak 2015-01-15'!FU20","v":0},{"$f":"ColdWinter!AI20-'C. Winter Peak 2015-01-15'!FV20","v":0},{"$f":"ColdWinter!AJ20-'C. Winter Peak 2015-01-15'!FW20","v":0},{"$f":"ColdWinter!AK20-'C. Winter Peak 2015-01-15'!FX20","v":0},{"$f":"ColdWinter!AL20-'C. Winter Peak 2015-01-15'!FY20","v":0},{"$f":"ColdWinter!AM20-'C. Winter Peak 2015-01-15'!FZ20","v":0},{"$f":"ColdWinter!AN20-'C. Winter Peak 2015-01-15'!GA20","v":0},{"$f":"ColdWinter!AO20-'C. Winter Peak 2015-01-15'!GB20","v":0},{"$f":"ColdWinter!AP20-'C. Winter Peak 2015-01-15'!GC20","v":0},{"$f":"ColdWinter!AQ20-'C. Winter Peak 2015-01-15'!GD20","v":0},{"$f":"ColdWinter!AR20-'C. Winter Peak 2015-01-15'!GE20","v":0},{"$f":"ColdWinter!AS20-'C. Winter Peak 2015-01-15'!GF20","v":0},{"$f":"ColdWinter!AT20-'C. Winter Peak 2015-01-15'!GG20","v":0},{"$f":"ColdWinter!AU20-'C. Winter Peak 2015-01-15'!GH20","v":0},{"$f":"ColdWinter!AV20-'C. Winter Peak 2015-01-15'!GI20","v":0},{"$f":"ColdWinter!AW20-'C. Winter Peak 2015-01-15'!GJ20","v":0},{"$f":"ColdWinter!AX20-'C. Winter Peak 2015-01-15'!GK20","v":0},{"$f":"ColdWinter!AY20-'C. Winter Peak 2015-01-15'!GL20","v":0},{"$f":"ColdWinter!AZ20-'C. Winter Peak 2015-01-15'!GM20","v":0},{"$f":"ColdWinter!BA20-'C. Winter Peak 2015-01-15'!GN20","v":0},{"$f":"ColdWinter!BB20-'C. Winter Peak 2015-01-15'!GO20","v":0},{"$f":"ColdWinter!BC20-'C. Winter Peak 2015-01-15'!GP20","v":0},{"$f":"ColdWinter!BD20-'C. Winter Peak 2015-01-15'!GQ20","v":0},{"$f":"ColdWinter!BE20-'C. Winter Peak 2015-01-15'!GR20","v":0},{"$f":"ColdWinter!BF20-'C. Winter Peak 2015-01-15'!GS20","v":0},{"$f":"ColdWinter!BG20-'C. Winter Peak 2015-01-15'!GT20","v":0},{"$f":"ColdWinter!BH20-'C. Winter Peak 2015-01-15'!GU20","v":0},{"$f":"ColdWinter!BI20-'C. Winter Peak 2015-01-15'!GV20","v":0},{"$f":"ColdWinter!BJ20-'C. Winter Peak 2015-01-15'!GW20","v":0},{"$f":"ColdWinter!BK20-'C. Winter Peak 2015-01-15'!GX20","v":0},{"$f":"ColdWinter!BL20-'C. Winter Peak 2015-01-15'!GY20","v":0},{"$f":"ColdWinter!BM20-'C. Winter Peak 2015-01-15'!GZ20","v":0},{"$f":"ColdWinter!BN20-'C. Winter Peak 2015-01-15'!HA20","v":0},{"$f":"ColdWinter!BO20-'C. Winter Peak 2015-01-15'!HB20","v":0},{"$f":"ColdWinter!BP20-'C. Winter Peak 2015-01-15'!HC20","v":0},{"$f":"ColdWinter!BQ20-'C. Winter Peak 2015-01-15'!HD20","v":0},{"$f":"ColdWinter!BR20-'C. Winter Peak 2015-01-15'!HE20","v":0},{"$f":"ColdWinter!BS20-'C. Winter Peak 2015-01-15'!HF20","v":0},{"$f":"ColdWinter!BT20-'C. Winter Peak 2015-01-15'!HG20","v":0},{"$f":"ColdWinter!BU20-'C. Winter Peak 2015-01-15'!HH20","v":0},{"$f":"ColdWinter!BV20-'C. Winter Peak 2015-01-15'!HI20","v":0},{"$f":"ColdWinter!BW20-'C. Winter Peak 2015-01-15'!HJ20","v":0},{"$f":"ColdWinter!BX20-'C. Winter Peak 2015-01-15'!HK20","v":0},{"$f":"ColdWinter!BY20-'C. Winter Peak 2015-01-15'!HL20","v":0},{"$f":"ColdWinter!BZ20-'C. Winter Peak 2015-01-15'!HM20","v":0},{"$f":"ColdWinter!CA20-'C. Winter Peak 2015-01-15'!HN20","v":0},{"$f":"ColdWinter!CB20-'C. Winter Peak 2015-01-15'!HO20","v":0},{"$f":"ColdWinter!CC20-'C. Winter Peak 2015-01-15'!HP20","v":0},{"$f":"ColdWinter!CD20-'C. Winter Peak 2015-01-15'!HQ20","v":0},{"$f":"ColdWinter!CE20-'C. Winter Peak 2015-01-15'!HR20","v":0},{"$f":"ColdWinter!CF20-'C. Winter Peak 2015-01-15'!HS20","v":0},{"$f":"ColdWinter!CG20-'C. Winter Peak 2015-01-15'!HT20","v":0},{"$f":"ColdWinter!CH20-'C. Winter Peak 2015-01-15'!HU20","v":0},{"$f":"ColdWinter!CI20-'C. Winter Peak 2015-01-15'!HV20","v":0},{"$f":"ColdWinter!CJ20-'C. Winter Peak 2015-01-15'!HW20","v":0},{"$f":"ColdWinter!CK20-'C. Winter Peak 2015-01-15'!HX20","v":0},{"$f":"ColdWinter!CL20-'C. Winter Peak 2015-01-15'!HY20","v":0},{"$f":"ColdWinter!CM20-'C. Winter Peak 2015-01-15'!HZ20","v":0},{"$f":"ColdWinter!CN20-'C. Winter Peak 2015-01-15'!IA20","v":0},{"$f":"ColdWinter!CO20-'C. Winter Peak 2015-01-15'!IB20","v":0},{"$f":"ColdWinter!CP20-'C. Winter Peak 2015-01-15'!IC20","v":0},{"$f":"ColdWinter!CQ20-'C. Winter Peak 2015-01-15'!ID20","v":0},{"$f":"ColdWinter!CR20-'C. Winter Peak 2015-01-15'!IE20","v":0},{"$f":"ColdWinter!CS20-'C. Winter Peak 2015-01-15'!IF20","v":0},{"$f":"ColdWinter!CT20-'C. Winter Peak 2015-01-15'!IG20","v":0},{"$f":"ColdWinter!CU20-'C. Winter Peak 2015-01-15'!IH20","v":0},{"$f":"ColdWinter!CV20-'C. Winter Peak 2015-01-15'!II20","v":0},{"$f":"ColdWinter!CW20-'C. Winter Peak 2015-01-15'!IJ20","v":0},{"$f":"ColdWinter!CX20-'C. Winter Peak 2015-01-15'!IK20","v":0},{"$f":"ColdWinter!CY20-'C. Winter Peak 2015-01-15'!IL20","v":0},{"$f":"ColdWinter!CZ20-'C. Winter Peak 2015-01-15'!IM20","v":0},{"$f":"ColdWinter!DA20-'C. Winter Peak 2015-01-15'!IN20","v":0},{"$f":"ColdWinter!DB20-'C. Winter Peak 2015-01-15'!IO20","v":0},{"$f":"ColdWinter!DC20-'C. Winter Peak 2015-01-15'!IP20","v":0},{"$f":"ColdWinter!DD20-'C. Winter Peak 2015-01-15'!IQ20","v":0},{"$f":"ColdWinter!DE20-'C. Winter Peak 2015-01-15'!IR20","v":0},{"$f":"ColdWinter!DF20-'C. Winter Peak 2015-01-15'!IS20","v":0},{"$f":"ColdWinter!DG20-'C. Winter Peak 2015-01-15'!IT20","v":0},{"$f":"ColdWinter!DH20-'C. Winter Peak 2015-01-15'!IU20","v":0},{"$f":"ColdWinter!DI20-'C. Winter Peak 2015-01-15'!IV20","v":0},{"$f":"ColdWinter!DJ20-'C. Winter Peak 2015-01-15'!IW20","v":0},{"$f":"ColdWinter!DK20-'C. Winter Peak 2015-01-15'!IX20","v":0},{"$f":"ColdWinter!DL20-'C. Winter Peak 2015-01-15'!IY20","v":0},{"$f":"ColdWinter!DM20-'C. Winter Peak 2015-01-15'!IZ20","v":0},{"$f":"ColdWinter!DN20-'C. Winter Peak 2015-01-15'!JA20","v":0},{"$f":"ColdWinter!DO20-'C. Winter Peak 2015-01-15'!JB20","v":0},{"$f":"ColdWinter!DP20-'C. Winter Peak 2015-01-15'!JC20","v":0},{"$f":"ColdWinter!DQ20-'C. Winter Peak 2015-01-15'!JD20","v":0},{"$f":"ColdWinter!DR20-'C. Winter Peak 2015-01-15'!JE20","v":0},{"$f":"ColdWinter!DS20-'C. Winter Peak 2015-01-15'!JF20","v":0}]
[null,"PMR2",{"$f":"ColdWinter!C21-'C. Winter Peak 2015-01-15'!EP21","v":0},{"$f":"ColdWinter!D21-'C. Winter Peak 2015-01-15'!EQ21","v":0},{"$f":"ColdWinter!E21-'C. Winter Peak 2015-01-15'!ER21","v":0},{"$f":"ColdWinter!F21-'C. Winter Peak 2015-01-15'!ES21","v":0},{"$f":"ColdWinter!G21-'C. Winter Peak 2015-01-15'!ET21","v":0},{"$f":"ColdWinter!H21-'C. Winter Peak 2015-01-15'!EU21","v":0},{"$f":"ColdWinter!I21-'C. Winter Peak 2015-01-15'!EV21","v":0},{"$f":"ColdWinter!J21-'C. Winter Peak 2015-01-15'!EW21","v":0},{"$f":"ColdWinter!K21-'C. Winter Peak 2015-01-15'!EX21","v":0},{"$f":"ColdWinter!L21-'C. Winter Peak 2015-01-15'!EY21","v":0},{"$f":"ColdWinter!M21-'C. Winter Peak 2015-01-15'!EZ21","v":0},{"$f":"ColdWinter!N21-'C. Winter Peak 2015-01-15'!FA21","v":0},{"$f":"ColdWinter!O21-'C. Winter Peak 2015-01-15'!FB21","v":0},{"$f":"ColdWinter!P21-'C. Winter Peak 2015-01-15'!FC21","v":0},{"$f":"ColdWinter!Q21-'C. Winter Peak 2015-01-15'!FD21","v":0},{"$f":"ColdWinter!R21-'C. Winter Peak 2015-01-15'!FE21","v":0},{"$f":"ColdWinter!S21-'C. Winter Peak 2015-01-15'!FF21","v":0},{"$f":"ColdWinter!T21-'C. Winter Peak 2015-01-15'!FG21","v":0},{"$f":"ColdWinter!U21-'C. Winter Peak 2015-01-15'!FH21","v":0},{"$f":"ColdWinter!V21-'C. Winter Peak 2015-01-15'!FI21","v":0},{"$f":"ColdWinter!W21-'C. Winter Peak 2015-01-15'!FJ21","v":0},{"$f":"ColdWinter!X21-'C. Winter Peak 2015-01-15'!FK21","v":0},{"$f":"ColdWinter!Y21-'C. Winter Peak 2015-01-15'!FL21","v":0},{"$f":"ColdWinter!Z21-'C. Winter Peak 2015-01-15'!FM21","v":0},{"$f":"ColdWinter!AA21-'C. Winter Peak 2015-01-15'!FN21","v":0},{"$f":"ColdWinter!AB21-'C. Winter Peak 2015-01-15'!FO21","v":0},{"$f":"ColdWinter!AC21-'C. Winter Peak 2015-01-15'!FP21","v":0},{"$f":"ColdWinter!AD21-'C. Winter Peak 2015-01-15'!FQ21","v":0},{"$f":"ColdWinter!AE21-'C. Winter Peak 2015-01-15'!FR21","v":0},{"$f":"ColdWinter!AF21-'C. Winter Peak 2015-01-15'!FS21","v":0},{"$f":"ColdWinter!AG21-'C. Winter Peak 2015-01-15'!FT21","v":0},{"$f":"ColdWinter!AH21-'C. Winter Peak 2015-01-15'!FU21","v":0},{"$f":"ColdWinter!AI21-'C. Winter Peak 2015-01-15'!FV21","v":0},{"$f":"ColdWinter!AJ21-'C. Winter Peak 2015-01-15'!FW21","v":0},{"$f":"ColdWinter!AK21-'C. Winter Peak 2015-01-15'!FX21","v":0},{"$f":"ColdWinter!AL21-'C. Winter Peak 2015-01-15'!FY21","v":0},{"$f":"ColdWinter!AM21-'C. Winter Peak 2015-01-15'!FZ21","v":0},{"$f":"ColdWinter!AN21-'C. Winter Peak 2015-01-15'!GA21","v":0},{"$f":"ColdWinter!AO21-'C. Winter Peak 2015-01-15'!GB21","v":0},{"$f":"ColdWinter!AP21-'C. Winter Peak 2015-01-15'!GC21","v":0},{"$f":"ColdWinter!AQ21-'C. Winter Peak 2015-01-15'!GD21","v":0},{"$f":"ColdWinter!AR21-'C. Winter Peak 2015-01-15'!GE21","v":0},{"$f":"ColdWinter!AS21-'C. Winter Peak 2015-01-15'!GF21","v":0},{"$f":"ColdWinter!AT21-'C. Winter Peak 2015-01-15'!GG21","v":0},{"$f":"ColdWinter!AU21-'C. Winter Peak 2015-01-15'!GH21","v":0},{"$f":"ColdWinter!AV21-'C. Winter Peak 2015-01-15'!GI21","v":0},{"$f":"ColdWinter!AW21-'C. Winter Peak 2015-01-15'!GJ21","v":0},{"$f":"ColdWinter!AX21-'C. Winter Peak 2015-01-15'!GK21","v":0},{"$f":"ColdWinter!AY21-'C. Winter Peak 2015-01-15'!GL21","v":0},{"$f":"ColdWinter!AZ21-'C. Winter Peak 2015-01-15'!GM21","v":0},{"$f":"ColdWinter!BA21-'C. Winter Peak 2015-01-15'!GN21","v":0},{"$f":"ColdWinter!BB21-'C. Winter Peak 2015-01-15'!GO21","v":0},{"$f":"ColdWinter!BC21-'C. Winter Peak 2015-01-15'!GP21","v":0},{"$f":"ColdWinter!BD21-'C. Winter Peak 2015-01-15'!GQ21","v":0},{"$f":"ColdWinter!BE21-'C. Winter Peak 2015-01-15'!GR21","v":0},{"$f":"ColdWinter!BF21-'C. Winter Peak 2015-01-15'!GS21","v":0},{"$f":"ColdWinter!BG21-'C. Winter Peak 2015-01-15'!GT21","v":0},{"$f":"ColdWinter!BH21-'C. Winter Peak 2015-01-15'!GU21","v":0},{"$f":"ColdWinter!BI21-'C. Winter Peak 2015-01-15'!GV21","v":0},{"$f":"ColdWinter!BJ21-'C. Winter Peak 2015-01-15'!GW21","v":0},{"$f":"ColdWinter!BK21-'C. Winter Peak 2015-01-15'!GX21","v":0},{"$f":"ColdWinter!BL21-'C. Winter Peak 2015-01-15'!GY21","v":0},{"$f":"ColdWinter!BM21-'C. Winter Peak 2015-01-15'!GZ21","v":0},{"$f":"ColdWinter!BN21-'C. Winter Peak 2015-01-15'!HA21","v":0},{"$f":"ColdWinter!BO21-'C. Winter Peak 2015-01-15'!HB21","v":0},{"$f":"ColdWinter!BP21-'C. Winter Peak 2015-01-15'!HC21","v":0},{"$f":"ColdWinter!BQ21-'C. Winter Peak 2015-01-15'!HD21","v":0},{"$f":"ColdWinter!BR21-'C. Winter Peak 2015-01-15'!HE21","v":0},{"$f":"ColdWinter!BS21-'C. Winter Peak 2015-01-15'!HF21","v":0},{"$f":"ColdWinter!BT21-'C. Winter Peak 2015-01-15'!HG21","v":0},{"$f":"ColdWinter!BU21-'C. Winter Peak 2015-01-15'!HH21","v":0},{"$f":"ColdWinter!BV21-'C. Winter Peak 2015-01-15'!HI21","v":0},{"$f":"ColdWinter!BW21-'C. Winter Peak 2015-01-15'!HJ21","v":0},{"$f":"ColdWinter!BX21-'C. Winter Peak 2015-01-15'!HK21","v":0},{"$f":"ColdWinter!BY21-'C. Winter Peak 2015-01-15'!HL21","v":0},{"$f":"ColdWinter!BZ21-'C. Winter Peak 2015-01-15'!HM21","v":0},{"$f":"ColdWinter!CA21-'C. Winter Peak 2015-01-15'!HN21","v":0},{"$f":"ColdWinter!CB21-'C. Winter Peak 2015-01-15'!HO21","v":0},{"$f":"ColdWinter!CC21-'C. Winter Peak 2015-01-15'!HP21","v":0},{"$f":"ColdWinter!CD21-'C. Winter Peak 2015-01-15'!HQ21","v":0},{"$f":"ColdWinter!CE21-'C. Winter Peak 2015-01-15'!HR21","v":0},{"$f":"ColdWinter!CF21-'C. Winter Peak 2015-01-15'!HS21","v":0},{"$f":"ColdWinter!CG21-'C. Winter Peak 2015-01-15'!HT21","v":0},{"$f":"ColdWinter!CH21-'C. Winter Peak 2015-01-15'!HU21","v":0},{"$f":"ColdWinter!CI21-'C. Winter Peak 2015-01-15'!HV21","v":0},{"$f":"ColdWinter!CJ21-'C. Winter Peak 2015-01-15'!HW21","v":0},{"$f":"ColdWinter!CK21-'C. Winter Peak 2015-01-15'!HX21","v":0},{"$f":"ColdWinter!CL21-'C. Winter Peak 2015-01-15'!HY21","v":0},{"$f":"ColdWinter!CM21-'C. Winter Peak 2015-01-15'!HZ21","v":0},{"$f":"ColdWinter!CN21-'C. Winter Peak 2015-01-15'!IA21","v":0},{"$f":"ColdWinter!CO21-'C. Winter Peak 2015-01-15'!IB21","v":0},{"$f":"ColdWinter!CP21-'C. Winter Peak 2015-01-15'!IC21","v":0},{"$f":"ColdWinter!CQ21-'C. Winter Peak 2015-01-15'!ID21","v":0},{"$f":"ColdWinter!CR21-'C. Winter Peak 2015-01-15'!IE21","v":0},{"$f":"ColdWinter!CS21-'C. Winter Peak 2015-01-15'!IF21","v":0},{"$f":"ColdWinter!CT21-'C. Winter Peak 2015-01-15'!IG21","v":0},{"$f":"ColdWinter!CU21-'C. Winter Peak 2015-01-15'!IH21","v":0},{"$f":"ColdWinter!CV21-'C. Winter Peak 2015-01-15'!II21","v":0},{"$f":"ColdWinter!CW21-'C. Winter Peak 2015-01-15'!IJ21","v":0},{"$f":"ColdWinter!CX21-'C. Winter Peak 2015-01-15'!IK21","v":0},{"$f":"ColdWinter!CY21-'C. Winter Peak 2015-01-15'!IL21","v":0},{"$f":"ColdWinter!CZ21-'C. Winter Peak 2015-01-15'!IM21","v":0},{"$f":"ColdWinter!DA21-'C. Winter Peak 2015-01-15'!IN21","v":0},{"$f":"ColdWinter!DB21-'C. Winter Peak 2015-01-15'!IO21","v":0},{"$f":"ColdWinter!DC21-'C. Winter Peak 2015-01-15'!IP21","v":0},{"$f":"ColdWinter!DD21-'C. Winter Peak 2015-01-15'!IQ21","v":0},{"$f":"ColdWinter!DE21-'C. Winter Peak 2015-01-15'!IR21","v":0},{"$f":"ColdWinter!DF21-'C. Winter Peak 2015-01-15'!IS21","v":0},{"$f":"ColdWinter!DG21-'C. Winter Peak 2015-01-15'!IT21","v":0},{"$f":"ColdWinter!DH21-'C. Winter Peak 2015-01-15'!IU21","v":0},{"$f":"ColdWinter!DI21-'C. Winter Peak 2015-01-15'!IV21","v":0},{"$f":"ColdWinter!DJ21-'C. Winter Peak 2015-01-15'!IW21","v":0},{"$f":"ColdWinter!DK21-'C. Winter Peak 2015-01-15'!IX21","v":0},{"$f":"ColdWinter!DL21-'C. Winter Peak 2015-01-15'!IY21","v":0},{"$f":"ColdWinter!DM21-'C. Winter Peak 2015-01-15'!IZ21","v":0},{"$f":"ColdWinter!DN21-'C. Winter Peak 2015-01-15'!JA21","v":0},{"$f":"ColdWinter!DO21-'C. Winter Peak 2015-01-15'!JB21","v":0},{"$f":"ColdWinter!DP21-'C. Winter Peak 2015-01-15'!JC21","v":0},{"$f":"ColdWinter!DQ21-'C. Winter Peak 2015-01-15'!JD21","v":0},{"$f":"ColdWinter!DR21-'C. Winter Peak 2015-01-15'!JE21","v":0},{"$f":"ColdWinter!DS21-'C. Winter Peak 2015-01-15'!JF21","v":0}]
[null,"PMG3",{"$f":"ColdWinter!C22-'C. Winter Peak 2015-01-15'!EP22","v":0},{"$f":"ColdWinter!D22-'C. Winter Peak 2015-01-15'!EQ22","v":0},{"$f":"ColdWinter!E22-'C. Winter Peak 2015-01-15'!ER22","v":0},{"$f":"ColdWinter!F22-'C. Winter Peak 2015-01-15'!ES22","v":0},{"$f":"ColdWinter!G22-'C. Winter Peak 2015-01-15'!ET22","v":0},{"$f":"ColdWinter!H22-'C. Winter Peak 2015-01-15'!EU22","v":0},{"$f":"ColdWinter!I22-'C. Winter Peak 2015-01-15'!EV22","v":0},{"$f":"ColdWinter!J22-'C. Winter Peak 2015-01-15'!EW22","v":0},{"$f":"ColdWinter!K22-'C. Winter Peak 2015-01-15'!EX22","v":0},{"$f":"ColdWinter!L22-'C. Winter Peak 2015-01-15'!EY22","v":0},{"$f":"ColdWinter!M22-'C. Winter Peak 2015-01-15'!EZ22","v":0},{"$f":"ColdWinter!N22-'C. Winter Peak 2015-01-15'!FA22","v":0},{"$f":"ColdWinter!O22-'C. Winter Peak 2015-01-15'!FB22","v":0},{"$f":"ColdWinter!P22-'C. Winter Peak 2015-01-15'!FC22","v":0},{"$f":"ColdWinter!Q22-'C. Winter Peak 2015-01-15'!FD22","v":0},{"$f":"ColdWinter!R22-'C. Winter Peak 2015-01-15'!FE22","v":0},{"$f":"ColdWinter!S22-'C. Winter Peak 2015-01-15'!FF22","v":0},{"$f":"ColdWinter!T22-'C. Winter Peak 2015-01-15'!FG22","v":0},{"$f":"ColdWinter!U22-'C. Winter Peak 2015-01-15'!FH22","v":0},{"$f":"ColdWinter!V22-'C. Winter Peak 2015-01-15'!FI22","v":0},{"$f":"ColdWinter!W22-'C. Winter Peak 2015-01-15'!FJ22","v":0},{"$f":"ColdWinter!X22-'C. Winter Peak 2015-01-15'!FK22","v":0},{"$f":"ColdWinter!Y22-'C. Winter Peak 2015-01-15'!FL22","v":0},{"$f":"ColdWinter!Z22-'C. Winter Peak 2015-01-15'!FM22","v":0},{"$f":"ColdWinter!AA22-'C. Winter Peak 2015-01-15'!FN22","v":0},{"$f":"ColdWinter!AB22-'C. Winter Peak 2015-01-15'!FO22","v":0},{"$f":"ColdWinter!AC22-'C. Winter Peak 2015-01-15'!FP22","v":0},{"$f":"ColdWinter!AD22-'C. Winter Peak 2015-01-15'!FQ22","v":0},{"$f":"ColdWinter!AE22-'C. Winter Peak 2015-01-15'!FR22","v":0},{"$f":"ColdWinter!AF22-'C. Winter Peak 2015-01-15'!FS22","v":0},{"$f":"ColdWinter!AG22-'C. Winter Peak 2015-01-15'!FT22","v":0},{"$f":"ColdWinter!AH22-'C. Winter Peak 2015-01-15'!FU22","v":0},{"$f":"ColdWinter!AI22-'C. Winter Peak 2015-01-15'!FV22","v":0},{"$f":"ColdWinter!AJ22-'C. Winter Peak 2015-01-15'!FW22","v":0},{"$f":"ColdWinter!AK22-'C. Winter Peak 2015-01-15'!FX22","v":0},{"$f":"ColdWinter!AL22-'C. Winter Peak 2015-01-15'!FY22","v":0},{"$f":"ColdWinter!AM22-'C. Winter Peak 2015-01-15'!FZ22","v":0},{"$f":"ColdWinter!AN22-'C. Winter Peak 2015-01-15'!GA22","v":0},{"$f":"ColdWinter!AO22-'C. Winter Peak 2015-01-15'!GB22","v":0},{"$f":"ColdWinter!AP22-'C. Winter Peak 2015-01-15'!GC22","v":0},{"$f":"ColdWinter!AQ22-'C. Winter Peak 2015-01-15'!GD22","v":0},{"$f":"ColdWinter!AR22-'C. Winter Peak 2015-01-15'!GE22","v":0},{"$f":"ColdWinter!AS22-'C. Winter Peak 2015-01-15'!GF22","v":0},{"$f":"ColdWinter!AT22-'C. Winter Peak 2015-01-15'!GG22","v":0},{"$f":"ColdWinter!AU22-'C. Winter Peak 2015-01-15'!GH22","v":0},{"$f":"ColdWinter!AV22-'C. Winter Peak 2015-01-15'!GI22","v":0},{"$f":"ColdWinter!AW22-'C. Winter Peak 2015-01-15'!GJ22","v":0},{"$f":"ColdWinter!AX22-'C. Winter Peak 2015-01-15'!GK22","v":0},{"$f":"ColdWinter!AY22-'C. Winter Peak 2015-01-15'!GL22","v":0},{"$f":"ColdWinter!AZ22-'C. Winter Peak 2015-01-15'!GM22","v":0},{"$f":"ColdWinter!BA22-'C. Winter Peak 2015-01-15'!GN22","v":0},{"$f":"ColdWinter!BB22-'C. Winter Peak 2015-01-15'!GO22","v":0},{"$f":"ColdWinter!BC22-'C. Winter Peak 2015-01-15'!GP22","v":0},{"$f":"ColdWinter!BD22-'C. Winter Peak 2015-01-15'!GQ22","v":0},{"$f":"ColdWinter!BE22-'C. Winter Peak 2015-01-15'!GR22","v":0},{"$f":"ColdWinter!BF22-'C. Winter Peak 2015-01-15'!GS22","v":0},{"$f":"ColdWinter!BG22-'C. Winter Peak 2015-01-15'!GT22","v":0},{"$f":"ColdWinter!BH22-'C. Winter Peak 2015-01-15'!GU22","v":0},{"$f":"ColdWinter!BI22-'C. Winter Peak 2015-01-15'!GV22","v":0},{"$f":"ColdWinter!BJ22-'C. Winter Peak 2015-01-15'!GW22","v":0},{"$f":"ColdWinter!BK22-'C. Winter Peak 2015-01-15'!GX22","v":0},{"$f":"ColdWinter!BL22-'C. Winter Peak 2015-01-15'!GY22","v":0},{"$f":"ColdWinter!BM22-'C. Winter Peak 2015-01-15'!GZ22","v":0},{"$f":"ColdWinter!BN22-'C. Winter Peak 2015-01-15'!HA22","v":0},{"$f":"ColdWinter!BO22-'C. Winter Peak 2015-01-15'!HB22","v":0},{"$f":"ColdWinter!BP22-'C. Winter Peak 2015-01-15'!HC22","v":0},{"$f":"ColdWinter!BQ22-'C. Winter Peak 2015-01-15'!HD22","v":0},{"$f":"ColdWinter!BR22-'C. Winter Peak 2015-01-15'!HE22","v":0},{"$f":"ColdWinter!BS22-'C. Winter Peak 2015-01-15'!HF22","v":0},{"$f":"ColdWinter!BT22-'C. Winter Peak 2015-01-15'!HG22","v":0},{"$f":"ColdWinter!BU22-'C. Winter Peak 2015-01-15'!HH22","v":0},{"$f":"ColdWinter!BV22-'C. Winter Peak 2015-01-15'!HI22","v":0},{"$f":"ColdWinter!BW22-'C. Winter Peak 2015-01-15'!HJ22","v":0},{"$f":"ColdWinter!BX22-'C. Winter Peak 2015-01-15'!HK22","v":0},{"$f":"ColdWinter!BY22-'C. Winter Peak 2015-01-15'!HL22","v":0},{"$f":"ColdWinter!BZ22-'C. Winter Peak 2015-01-15'!HM22","v":0},{"$f":"ColdWinter!CA22-'C. Winter Peak 2015-01-15'!HN22","v":0},{"$f":"ColdWinter!CB22-'C. Winter Peak 2015-01-15'!HO22","v":0},{"$f":"ColdWinter!CC22-'C. Winter Peak 2015-01-15'!HP22","v":0},{"$f":"ColdWinter!CD22-'C. Winter Peak 2015-01-15'!HQ22","v":0},{"$f":"ColdWinter!CE22-'C. Winter Peak 2015-01-15'!HR22","v":0},{"$f":"ColdWinter!CF22-'C. Winter Peak 2015-01-15'!HS22","v":0},{"$f":"ColdWinter!CG22-'C. Winter Peak 2015-01-15'!HT22","v":0},{"$f":"ColdWinter!CH22-'C. Winter Peak 2015-01-15'!HU22","v":0},{"$f":"ColdWinter!CI22-'C. Winter Peak 2015-01-15'!HV22","v":0},{"$f":"ColdWinter!CJ22-'C. Winter Peak 2015-01-15'!HW22","v":0},{"$f":"ColdWinter!CK22-'C. Winter Peak 2015-01-15'!HX22","v":0},{"$f":"ColdWinter!CL22-'C. Winter Peak 2015-01-15'!HY22","v":0},{"$f":"ColdWinter!CM22-'C. Winter Peak 2015-01-15'!HZ22","v":0},{"$f":"ColdWinter!CN22-'C. Winter Peak 2015-01-15'!IA22","v":0},{"$f":"ColdWinter!CO22-'C. Winter Peak 2015-01-15'!IB22","v":0},{"$f":"ColdWinter!CP22-'C. Winter Peak 2015-01-15'!IC22","v":0},{"$f":"ColdWinter!CQ22-'C. Winter Peak 2015-01-15'!ID22","v":0},{"$f":"ColdWinter!CR22-'C. Winter Peak 2015-01-15'!IE22","v":0},{"$f":"ColdWinter!CS22-'C. Winter Peak 2015-01-15'!IF22","v":0},{"$f":"ColdWinter!CT22-'C. Winter Peak 2015-01-15'!IG22","v":0},{"$f":"ColdWinter!CU22-'C. Winter Peak 2015-01-15'!IH22","v":0},{"$f":"ColdWinter!CV22-'C. Winter Peak 2015-01-15'!II22","v":0},{"$f":"ColdWinter!CW22-'C. Winter Peak 2015-01-15'!IJ22","v":0},{"$f":"ColdWinter!CX22-'C. Winter Peak 2015-01-15'!IK22","v":0},{"$f":"ColdWinter!CY22-'C. Winter Peak 2015-01-15'!IL22","v":0},{"$f":"ColdWinter!CZ22-'C. Winter Peak 2015-01-15'!IM22","v":0},{"$f":"ColdWinter!DA22-'C. Winter Peak 2015-01-15'!IN22","v":0},{"$f":"ColdWinter!DB22-'C. Winter Peak 2015-01-15'!IO22","v":0},{"$f":"ColdWinter!DC22-'C. Winter Peak 2015-01-15'!IP22","v":0},{"$f":"ColdWinter!DD22-'C. Winter Peak 2015-01-15'!IQ22","v":0},{"$f":"ColdWinter!DE22-'C. Winter Peak 2015-01-15'!IR22","v":0},{"$f":"ColdWinter!DF22-'C. Winter Peak 2015-01-15'!IS22","v":0},{"$f":"ColdWinter!DG22-'C. Winter Peak 2015-01-15'!IT22","v":0},{"$f":"ColdWinter!DH22-'C. Winter Peak 2015-01-15'!IU22","v":0},{"$f":"ColdWinter!DI22-'C. Winter Peak 2015-01-15'!IV22","v":0},{"$f":"ColdWinter!DJ22-'C. Winter Peak 2015-01-15'!IW22","v":0},{"$f":"ColdWinter!DK22-'C. Winter Peak 2015-01-15'!IX22","v":0},{"$f":"ColdWinter!DL22-'C. Winter Peak 2015-01-15'!IY22","v":0},{"$f":"ColdWinter!DM22-'C. Winter Peak 2015-01-15'!IZ22","v":0},{"$f":"ColdWinter!DN22-'C. Winter Peak 2015-01-15'!JA22","v":0},{"$f":"ColdWinter!DO22-'C. Winter Peak 2015-01-15'!JB22","v":0},{"$f":"ColdWinter!DP22-'C. Winter Peak 2015-01-15'!JC22","v":0},{"$f":"ColdWinter!DQ22-'C. Winter Peak 2015-01-15'!JD22","v":0},{"$f":"ColdWinter!DR22-'C. Winter Peak 2015-01-15'!JE22","v":0},{"$f":"ColdWinter!DS22-'C. Winter Peak 2015-01-15'!JF22","v":0}]
[null,"PMG4",{"$f":"ColdWinter!C23-'C. Winter Peak 2015-01-15'!EP23","v":0},{"$f":"ColdWinter!D23-'C. Winter Peak 2015-01-15'!EQ23","v":0},{"$f":"ColdWinter!E23-'C. Winter Peak 2015-01-15'!ER23","v":0},{"$f":"ColdWinter!F23-'C. Winter Peak 2015-01-15'!ES23","v":0},{"$f":"ColdWinter!G23-'C. Winter Peak 2015-01-15'!ET23","v":0},{"$f":"ColdWinter!H23-'C. Winter Peak 2015-01-15'!EU23","v":0},{"$f":"ColdWinter!I23-'C. Winter Peak 2015-01-15'!EV23","v":0},{"$f":"ColdWinter!J23-'C. Winter Peak 2015-01-15'!EW23","v":0},{"$f":"ColdWinter!K23-'C. Winter Peak 2015-01-15'!EX23","v":0},{"$f":"ColdWinter!L23-'C. Winter Peak 2015-01-15'!EY23","v":0},{"$f":"ColdWinter!M23-'C. Winter Peak 2015-01-15'!EZ23","v":0},{"$f":"ColdWinter!N23-'C. Winter Peak 2015-01-15'!FA23","v":0},{"$f":"ColdWinter!O23-'C. Winter Peak 2015-01-15'!FB23","v":0},{"$f":"ColdWinter!P23-'C. Winter Peak 2015-01-15'!FC23","v":0},{"$f":"ColdWinter!Q23-'C. Winter Peak 2015-01-15'!FD23","v":0},{"$f":"ColdWinter!R23-'C. Winter Peak 2015-01-15'!FE23","v":0},{"$f":"ColdWinter!S23-'C. Winter Peak 2015-01-15'!FF23","v":0},{"$f":"ColdWinter!T23-'C. Winter Peak 2015-01-15'!FG23","v":0},{"$f":"ColdWinter!U23-'C. Winter Peak 2015-01-15'!FH23","v":0},{"$f":"ColdWinter!V23-'C. Winter Peak 2015-01-15'!FI23","v":0},{"$f":"ColdWinter!W23-'C. Winter Peak 2015-01-15'!FJ23","v":0},{"$f":"ColdWinter!X23-'C. Winter Peak 2015-01-15'!FK23","v":0},{"$f":"ColdWinter!Y23-'C. Winter Peak 2015-01-15'!FL23","v":0},{"$f":"ColdWinter!Z23-'C. Winter Peak 2015-01-15'!FM23","v":0},{"$f":"ColdWinter!AA23-'C. Winter Peak 2015-01-15'!FN23","v":0},{"$f":"ColdWinter!AB23-'C. Winter Peak 2015-01-15'!FO23","v":0},{"$f":"ColdWinter!AC23-'C. Winter Peak 2015-01-15'!FP23","v":0},{"$f":"ColdWinter!AD23-'C. Winter Peak 2015-01-15'!FQ23","v":0},{"$f":"ColdWinter!AE23-'C. Winter Peak 2015-01-15'!FR23","v":0},{"$f":"ColdWinter!AF23-'C. Winter Peak 2015-01-15'!FS23","v":0},{"$f":"ColdWinter!AG23-'C. Winter Peak 2015-01-15'!FT23","v":0},{"$f":"ColdWinter!AH23-'C. Winter Peak 2015-01-15'!FU23","v":0},{"$f":"ColdWinter!AI23-'C. Winter Peak 2015-01-15'!FV23","v":0},{"$f":"ColdWinter!AJ23-'C. Winter Peak 2015-01-15'!FW23","v":0},{"$f":"ColdWinter!AK23-'C. Winter Peak 2015-01-15'!FX23","v":0},{"$f":"ColdWinter!AL23-'C. Winter Peak 2015-01-15'!FY23","v":0},{"$f":"ColdWinter!AM23-'C. Winter Peak 2015-01-15'!FZ23","v":0},{"$f":"ColdWinter!AN23-'C. Winter Peak 2015-01-15'!GA23","v":0},{"$f":"ColdWinter!AO23-'C. Winter Peak 2015-01-15'!GB23","v":0},{"$f":"ColdWinter!AP23-'C. Winter Peak 2015-01-15'!GC23","v":0},{"$f":"ColdWinter!AQ23-'C. Winter Peak 2015-01-15'!GD23","v":0},{"$f":"ColdWinter!AR23-'C. Winter Peak 2015-01-15'!GE23","v":0},{"$f":"ColdWinter!AS23-'C. Winter Peak 2015-01-15'!GF23","v":0},{"$f":"ColdWinter!AT23-'C. Winter Peak 2015-01-15'!GG23","v":0},{"$f":"ColdWinter!AU23-'C. Winter Peak 2015-01-15'!GH23","v":0},{"$f":"ColdWinter!AV23-'C. Winter Peak 2015-01-15'!GI23","v":0},{"$f":"ColdWinter!AW23-'C. Winter Peak 2015-01-15'!GJ23","v":0},{"$f":"ColdWinter!AX23-'C. Winter Peak 2015-01-15'!GK23","v":0},{"$f":"ColdWinter!AY23-'C. Winter Peak 2015-01-15'!GL23","v":0},{"$f":"ColdWinter!AZ23-'C. Winter Peak 2015-01-15'!GM23","v":0},{"$f":"ColdWinter!BA23-'C. Winter Peak 2015-01-15'!GN23","v":0},{"$f":"ColdWinter!BB23-'C. Winter Peak 2015-01-15'!GO23","v":0},{"$f":"ColdWinter!BC23-'C. Winter Peak 2015-01-15'!GP23","v":0},{"$f":"ColdWinter!BD23-'C. Winter Peak 2015-01-15'!GQ23","v":0},{"$f":"ColdWinter!BE23-'C. Winter Peak 2015-01-15'!GR23","v":0},{"$f":"ColdWinter!BF23-'C. Winter Peak 2015-01-15'!GS23","v":0},{"$f":"ColdWinter!BG23-'C. Winter Peak 2015-01-15'!GT23","v":0},{"$f":"ColdWinter!BH23-'C. Winter Peak 2015-01-15'!GU23","v":0},{"$f":"ColdWinter!BI23-'C. Winter Peak 2015-01-15'!GV23","v":0},{"$f":"ColdWinter!BJ23-'C. Winter Peak 2015-01-15'!GW23","v":0},{"$f":"ColdWinter!BK23-'C. Winter Peak 2015-01-15'!GX23","v":0},{"$f":"ColdWinter!BL23-'C. Winter Peak 2015-01-15'!GY23","v":0},{"$f":"ColdWinter!BM23-'C. Winter Peak 2015-01-15'!GZ23","v":0},{"$f":"ColdWinter!BN23-'C. Winter Peak 2015-01-15'!HA23","v":0},{"$f":"ColdWinter!BO23-'C. Winter Peak 2015-01-15'!HB23","v":0},{"$f":"ColdWinter!BP23-'C. Winter Peak 2015-01-15'!HC23","v":0},{"$f":"ColdWinter!BQ23-'C. Winter Peak 2015-01-15'!HD23","v":0},{"$f":"ColdWinter!BR23-'C. Winter Peak 2015-01-15'!HE23","v":0},{"$f":"ColdWinter!BS23-'C. Winter Peak 2015-01-15'!HF23","v":0},{"$f":"ColdWinter!BT23-'C. Winter Peak 2015-01-15'!HG23","v":0},{"$f":"ColdWinter!BU23-'C. Winter Peak 2015-01-15'!HH23","v":0},{"$f":"ColdWinter!BV23-'C. Winter Peak 2015-01-15'!HI23","v":0},{"$f":"ColdWinter!BW23-'C. Winter Peak 2015-01-15'!HJ23","v":0},{"$f":"ColdWinter!BX23-'C. Winter Peak 2015-01-15'!HK23","v":0},{"$f":"ColdWinter!BY23-'C. Winter Peak 2015-01-15'!HL23","v":0},{"$f":"ColdWinter!BZ23-'C. Winter Peak 2015-01-15'!HM23","v":0},{"$f":"ColdWinter!CA23-'C. Winter Peak 2015-01-15'!HN23","v":0},{"$f":"ColdWinter!CB23-'C. Winter Peak 2015-01-15'!HO23","v":0},{"$f":"ColdWinter!CC23-'C. Winter Peak 2015-01-15'!HP23","v":0},{"$f":"ColdWinter!CD23-'C. Winter Peak 2015-01-15'!HQ23","v":0},{"$f":"ColdWinter!CE23-'C. Winter Peak 2015-01-15'!HR23","v":0},{"$f":"ColdWinter!CF23-'C. Winter Peak 2015-01-15'!HS23","v":0},{"$f":"ColdWinter!CG23-'C. Winter Peak 2015-01-15'!HT23","v":0},{"$f":"ColdWinter!CH23-'C. Winter Peak 2015-01-15'!HU23","v":0},{"$f":"ColdWinter!CI23-'C. Winter Peak 2015-01-15'!HV23","v":0},{"$f":"ColdWinter!CJ23-'C. Winter Peak 2015-01-15'!HW23","v":0},{"$f":"ColdWinter!CK23-'C. Winter Peak 2015-01-15'!HX23","v":0},{"$f":"ColdWinter!CL23-'C. Winter Peak 2015-01-15'!HY23","v":0},{"$f":"ColdWinter!CM23-'C. Winter Peak 2015-01-15'!HZ23","v":0},{"$f":"ColdWinter!CN23-'C. Winter Peak 2015-01-15'!IA23","v":0},{"$f":"ColdWinter!CO23-'C. Winter Peak 2015-01-15'!IB23","v":0},{"$f":"ColdWinter!CP23-'C. Winter Peak 2015-01-15'!IC23","v":0},{"$f":"ColdWinter!CQ23-'C. Winter Peak 2015-01-15'!ID23","v":0},{"$f":"ColdWinter!CR23-'C. Winter Peak 2015-01-15'!IE23","v":0},{"$f":"ColdWinter!CS23-'C. Winter Peak 2015-01-15'!IF23","v":0},{"$f":"ColdWinter!CT23-'C. Winter Peak 2015-01-15'!IG23","v":0},{"$f":"ColdWinter!CU23-'C. Winter Peak 2015-01-15'!IH23","v":0},{"$f":"ColdWinter!CV23-'C. Winter Peak 2015-01-15'!II23","v":0},{"$f":"ColdWinter!CW23-'C. Winter Peak 2015-01-15'!IJ23","v":0},{"$f":"ColdWinter!CX23-'C. Winter Peak 2015-01-15'!IK23","v":0},{"$f":"ColdWinter!CY23-'C. Winter Peak 2015-01-15'!IL23","v":0},{"$f":"ColdWinter!CZ23-'C. Winter Peak 2015-01-15'!IM23","v":0},{"$f":"ColdWinter!DA23-'C. Winter Peak 2015-01-15'!IN23","v":0},{"$f":"ColdWinter!DB23-'C. Winter Peak 2015-01-15'!IO23","v":0},{"$f":"ColdWinter!DC23-'C. Winter Peak 2015-01-15'!IP23","v":0},{"$f":"ColdWinter!DD23-'C. Winter Peak 2015-01-15'!IQ23","v":0},{"$f":"ColdWinter!DE23-'C. Winter Peak 2015-01-15'!IR23","v":0},{"$f":"ColdWinter!DF23-'C. Winter Peak 2015-01-15'!IS23","v":0},{"$f":"ColdWinter!DG23-'C. Winter Peak 2015-01-15'!IT23","v":0},{"$f":"ColdWinter!DH23-'C. Winter Peak 2015-01-15'!IU23","v":0},{"$f":"ColdWinter!DI23-'C. Winter Peak 2015-01-15'!IV23","v":0},{"$f":"ColdWinter!DJ23-'C. Winter Peak 2015-01-15'!IW23","v":0},{"$f":"ColdWinter!DK23-'C. Winter Peak 2015-01-15'!IX23","v":0},{"$f":"ColdWinter!DL23-'C. Winter Peak 2015-01-15'!IY23","v":0},{"$f":"ColdWinter!DM23-'C. Winter Peak 2015-01-15'!IZ23","v":0},{"$f":"ColdWinter!DN23-'C. Winter Peak 2015-01-15'!JA23","v":0},{"$f":"ColdWinter!DO23-'C. Winter Peak 2015-01-15'!JB23","v":0},{"$f":"ColdWinter!DP23-'C. Winter Peak 2015-01-15'!JC23","v":0},{"$f":"ColdWinter!DQ23-'C. Winter Peak 2015-01-15'!JD23","v":0},{"$f":"ColdWinter!DR23-'C. Winter Peak 2015-01-15'!JE23","v":0},{"$f":"ColdWinter!DS23-'C. Winter Peak 2015-01-15'!JF23","v":0}]
[null,"PMG8",{"$f":"ColdWinter!C24-'C. Winter Peak 2015-01-15'!EP24","v":0},{"$f":"ColdWinter!D24-'C. Winter Peak 2015-01-15'!EQ24","v":0},{"$f":"ColdWinter!E24-'C. Winter Peak 2015-01-15'!ER24","v":0},{"$f":"ColdWinter!F24-'C. Winter Peak 2015-01-15'!ES24","v":0},{"$f":"ColdWinter!G24-'C. Winter Peak 2015-01-15'!ET24","v":0},{"$f":"ColdWinter!H24-'C. Winter Peak 2015-01-15'!EU24","v":0},{"$f":"ColdWinter!I24-'C. Winter Peak 2015-01-15'!EV24","v":0},{"$f":"ColdWinter!J24-'C. Winter Peak 2015-01-15'!EW24","v":0},{"$f":"ColdWinter!K24-'C. Winter Peak 2015-01-15'!EX24","v":0},{"$f":"ColdWinter!L24-'C. Winter Peak 2015-01-15'!EY24","v":0},{"$f":"ColdWinter!M24-'C. Winter Peak 2015-01-15'!EZ24","v":0},{"$f":"ColdWinter!N24-'C. Winter Peak 2015-01-15'!FA24","v":0},{"$f":"ColdWinter!O24-'C. Winter Peak 2015-01-15'!FB24","v":0},{"$f":"ColdWinter!P24-'C. Winter Peak 2015-01-15'!FC24","v":0},{"$f":"ColdWinter!Q24-'C. Winter Peak 2015-01-15'!FD24","v":0},{"$f":"ColdWinter!R24-'C. Winter Peak 2015-01-15'!FE24","v":0},{"$f":"ColdWinter!S24-'C. Winter Peak 2015-01-15'!FF24","v":0},{"$f":"ColdWinter!T24-'C. Winter Peak 2015-01-15'!FG24","v":0},{"$f":"ColdWinter!U24-'C. Winter Peak 2015-01-15'!FH24","v":0},{"$f":"ColdWinter!V24-'C. Winter Peak 2015-01-15'!FI24","v":0},{"$f":"ColdWinter!W24-'C. Winter Peak 2015-01-15'!FJ24","v":0},{"$f":"ColdWinter!X24-'C. Winter Peak 2015-01-15'!FK24","v":0},{"$f":"ColdWinter!Y24-'C. Winter Peak 2015-01-15'!FL24","v":0},{"$f":"ColdWinter!Z24-'C. Winter Peak 2015-01-15'!FM24","v":0},{"$f":"ColdWinter!AA24-'C. Winter Peak 2015-01-15'!FN24","v":0},{"$f":"ColdWinter!AB24-'C. Winter Peak 2015-01-15'!FO24","v":0},{"$f":"ColdWinter!AC24-'C. Winter Peak 2015-01-15'!FP24","v":0},{"$f":"ColdWinter!AD24-'C. Winter Peak 2015-01-15'!FQ24","v":0},{"$f":"ColdWinter!AE24-'C. Winter Peak 2015-01-15'!FR24","v":0},{"$f":"ColdWinter!AF24-'C. Winter Peak 2015-01-15'!FS24","v":0},{"$f":"ColdWinter!AG24-'C. Winter Peak 2015-01-15'!FT24","v":0},{"$f":"ColdWinter!AH24-'C. Winter Peak 2015-01-15'!FU24","v":0},{"$f":"ColdWinter!AI24-'C. Winter Peak 2015-01-15'!FV24","v":0},{"$f":"ColdWinter!AJ24-'C. Winter Peak 2015-01-15'!FW24","v":0},{"$f":"ColdWinter!AK24-'C. Winter Peak 2015-01-15'!FX24","v":0},{"$f":"ColdWinter!AL24-'C. Winter Peak 2015-01-15'!FY24","v":0},{"$f":"ColdWinter!AM24-'C. Winter Peak 2015-01-15'!FZ24","v":0},{"$f":"ColdWinter!AN24-'C. Winter Peak 2015-01-15'!GA24","v":0},{"$f":"ColdWinter!AO24-'C. Winter Peak 2015-01-15'!GB24","v":0},{"$f":"ColdWinter!AP24-'C. Winter Peak 2015-01-15'!GC24","v":0},{"$f":"ColdWinter!AQ24-'C. Winter Peak 2015-01-15'!GD24","v":0},{"$f":"ColdWinter!AR24-'C. Winter Peak 2015-01-15'!GE24","v":0},{"$f":"ColdWinter!AS24-'C. Winter Peak 2015-01-15'!GF24","v":0},{"$f":"ColdWinter!AT24-'C. Winter Peak 2015-01-15'!GG24","v":0},{"$f":"ColdWinter!AU24-'C. Winter Peak 2015-01-15'!GH24","v":0},{"$f":"ColdWinter!AV24-'C. Winter Peak 2015-01-15'!GI24","v":0},{"$f":"ColdWinter!AW24-'C. Winter Peak 2015-01-15'!GJ24","v":0},{"$f":"ColdWinter!AX24-'C. Winter Peak 2015-01-15'!GK24","v":0},{"$f":"ColdWinter!AY24-'C. Winter Peak 2015-01-15'!GL24","v":0},{"$f":"ColdWinter!AZ24-'C. Winter Peak 2015-01-15'!GM24","v":0},{"$f":"ColdWinter!BA24-'C. Winter Peak 2015-01-15'!GN24","v":0},{"$f":"ColdWinter!BB24-'C. Winter Peak 2015-01-15'!GO24","v":0},{"$f":"ColdWinter!BC24-'C. Winter Peak 2015-01-15'!GP24","v":0},{"$f":"ColdWinter!BD24-'C. Winter Peak 2015-01-15'!GQ24","v":0},{"$f":"ColdWinter!BE24-'C. Winter Peak 2015-01-15'!GR24","v":0},{"$f":"ColdWinter!BF24-'C. Winter Peak 2015-01-15'!GS24","v":0},{"$f":"ColdWinter!BG24-'C. Winter Peak 2015-01-15'!GT24","v":0},{"$f":"ColdWinter!BH24-'C. Winter Peak 2015-01-15'!GU24","v":0},{"$f":"ColdWinter!BI24-'C. Winter Peak 2015-01-15'!GV24","v":0},{"$f":"ColdWinter!BJ24-'C. Winter Peak 2015-01-15'!GW24","v":0},{"$f":"ColdWinter!BK24-'C. Winter Peak 2015-01-15'!GX24","v":0},{"$f":"ColdWinter!BL24-'C. Winter Peak 2015-01-15'!GY24","v":0},{"$f":"ColdWinter!BM24-'C. Winter Peak 2015-01-15'!GZ24","v":0},{"$f":"ColdWinter!BN24-'C. Winter Peak 2015-01-15'!HA24","v":0},{"$f":"ColdWinter!BO24-'C. Winter Peak 2015-01-15'!HB24","v":0},{"$f":"ColdWinter!BP24-'C. Winter Peak 2015-01-15'!HC24","v":0},{"$f":"ColdWinter!BQ24-'C. Winter Peak 2015-01-15'!HD24","v":0},{"$f":"ColdWinter!BR24-'C. Winter Peak 2015-01-15'!HE24","v":0},{"$f":"ColdWinter!BS24-'C. Winter Peak 2015-01-15'!HF24","v":0},{"$f":"ColdWinter!BT24-'C. Winter Peak 2015-01-15'!HG24","v":0},{"$f":"ColdWinter!BU24-'C. Winter Peak 2015-01-15'!HH24","v":0},{"$f":"ColdWinter!BV24-'C. Winter Peak 2015-01-15'!HI24","v":0},{"$f":"ColdWinter!BW24-'C. Winter Peak 2015-01-15'!HJ24","v":0},{"$f":"ColdWinter!BX24-'C. Winter Peak 2015-01-15'!HK24","v":0},{"$f":"ColdWinter!BY24-'C. Winter Peak 2015-01-15'!HL24","v":0},{"$f":"ColdWinter!BZ24-'C. Winter Peak 2015-01-15'!HM24","v":0},{"$f":"ColdWinter!CA24-'C. Winter Peak 2015-01-15'!HN24","v":0},{"$f":"ColdWinter!CB24-'C. Winter Peak 2015-01-15'!HO24","v":0},{"$f":"ColdWinter!CC24-'C. Winter Peak 2015-01-15'!HP24","v":0},{"$f":"ColdWinter!CD24-'C. Winter Peak 2015-01-15'!HQ24","v":0},{"$f":"ColdWinter!CE24-'C. Winter Peak 2015-01-15'!HR24","v":0},{"$f":"ColdWinter!CF24-'C. Winter Peak 2015-01-15'!HS24","v":0},{"$f":"ColdWinter!CG24-'C. Winter Peak 2015-01-15'!HT24","v":0},{"$f":"ColdWinter!CH24-'C. Winter Peak 2015-01-15'!HU24","v":0},{"$f":"ColdWinter!CI24-'C. Winter Peak 2015-01-15'!HV24","v":0},{"$f":"ColdWinter!CJ24-'C. Winter Peak 2015-01-15'!HW24","v":0},{"$f":"ColdWinter!CK24-'C. Winter Peak 2015-01-15'!HX24","v":0},{"$f":"ColdWinter!CL24-'C. Winter Peak 2015-01-15'!HY24","v":0},{"$f":"ColdWinter!CM24-'C. Winter Peak 2015-01-15'!HZ24","v":0},{"$f":"ColdWinter!CN24-'C. Winter Peak 2015-01-15'!IA24","v":0},{"$f":"ColdWinter!CO24-'C. Winter Peak 2015-01-15'!IB24","v":0},{"$f":"ColdWinter!CP24-'C. Winter Peak 2015-01-15'!IC24","v":0},{"$f":"ColdWinter!CQ24-'C. Winter Peak 2015-01-15'!ID24","v":0},{"$f":"ColdWinter!CR24-'C. Winter Peak 2015-01-15'!IE24","v":0},{"$f":"ColdWinter!CS24-'C. Winter Peak 2015-01-15'!IF24","v":0},{"$f":"ColdWinter!CT24-'C. Winter Peak 2015-01-15'!IG24","v":0},{"$f":"ColdWinter!CU24-'C. Winter Peak 2015-01-15'!IH24","v":0},{"$f":"ColdWinter!CV24-'C. Winter Peak 2015-01-15'!II24","v":0},{"$f":"ColdWinter!CW24-'C. Winter Peak 2015-01-15'!IJ24","v":0},{"$f":"ColdWinter!CX24-'C. Winter Peak 2015-01-15'!IK24","v":0},{"$f":"ColdWinter!CY24-'C. Winter Peak 2015-01-15'!IL24","v":0},{"$f":"ColdWinter!CZ24-'C. Winter Peak 2015-01-15'!IM24","v":0},{"$f":"ColdWinter!DA24-'C. Winter Peak 2015-01-15'!IN24","v":0},{"$f":"ColdWinter!DB24-'C. Winter Peak 2015-01-15'!IO24","v":0},{"$f":"ColdWinter!DC24-'C. Winter Peak 2015-01-15'!IP24","v":0},{"$f":"ColdWinter!DD24-'C. Winter Peak 2015-01-15'!IQ24","v":0},{"$f":"ColdWinter!DE24-'C. Winter Peak 2015-01-15'!IR24","v":0},{"$f":"ColdWinter!DF24-'C. Winter Peak 2015-01-15'!IS24","v":0},{"$f":"ColdWinter!DG24-'C. Winter Peak 2015-01-15'!IT24","v":0},{"$f":"ColdWinter!DH24-'C. Winter Peak 2015-01-15'!IU24","v":0},{"$f":"ColdWinter!DI24-'C. Winter Peak 2015-01-15'!IV24","v":0},{"$f":"ColdWinter!DJ24-'C. Winter Peak 2015-01-15'!IW24","v":0},{"$f":"ColdWinter!DK24-'C. Winter Peak 2015-01-15'!IX24","v":0},{"$f":"ColdWinter!DL24-'C. Winter Peak 2015-01-15'!IY24","v":0},{"$f":"ColdWinter!DM24-'C. Winter Peak 2015-01-15'!IZ24","v":0},{"$f":"ColdWinter!DN24-'C. Winter Peak 2015-01-15'!JA24","v":0},{"$f":"ColdWinter!DO24-'C. Winter Peak 2015-01-15'!JB24","v":0},{"$f":"ColdWinter!DP24-'C. Winter Peak 2015-01-15'!JC24","v":0},{"$f":"ColdWinter!DQ24-'C. Winter Peak 2015-01-15'!JD24","v":0},{"$f":"ColdWinter!DR24-'C. Winter Peak 2015-01-15'!JE24","v":0},{"$f":"ColdWinter!DS24-'C. Winter Peak 2015-01-15'!JF24","v":0}]
[null,"PMT1",{"$f":"ColdWinter!C25-'C. Winter Peak 2015-01-15'!EP25","v":0},{"$f":"ColdWinter!D25-'C. Winter Peak 2015-01-15'!EQ25","v":0},{"$f":"ColdWinter!E25-'C. Winter Peak 2015-01-15'!ER25","v":0},{"$f":"ColdWinter!F25-'C. Winter Peak 2015-01-15'!ES25","v":0},{"$f":"ColdWinter!G25-'C. Winter Peak 2015-01-15'!ET25","v":0},{"$f":"ColdWinter!H25-'C. Winter Peak 2015-01-15'!EU25","v":0},{"$f":"ColdWinter!I25-'C. Winter Peak 2015-01-15'!EV25","v":0},{"$f":"ColdWinter!J25-'C. Winter Peak 2015-01-15'!EW25","v":0},{"$f":"ColdWinter!K25-'C. Winter Peak 2015-01-15'!EX25","v":0},{"$f":"ColdWinter!L25-'C. Winter Peak 2015-01-15'!EY25","v":0},{"$f":"ColdWinter!M25-'C. Winter Peak 2015-01-15'!EZ25","v":0},{"$f":"ColdWinter!N25-'C. Winter Peak 2015-01-15'!FA25","v":0},{"$f":"ColdWinter!O25-'C. Winter Peak 2015-01-15'!FB25","v":0},{"$f":"ColdWinter!P25-'C. Winter Peak 2015-01-15'!FC25","v":0},{"$f":"ColdWinter!Q25-'C. Winter Peak 2015-01-15'!FD25","v":0},{"$f":"ColdWinter!R25-'C. Winter Peak 2015-01-15'!FE25","v":0},{"$f":"ColdWinter!S25-'C. Winter Peak 2015-01-15'!FF25","v":0},{"$f":"ColdWinter!T25-'C. Winter Peak 2015-01-15'!FG25","v":0},{"$f":"ColdWinter!U25-'C. Winter Peak 2015-01-15'!FH25","v":0},{"$f":"ColdWinter!V25-'C. Winter Peak 2015-01-15'!FI25","v":0},{"$f":"ColdWinter!W25-'C. Winter Peak 2015-01-15'!FJ25","v":0},{"$f":"ColdWinter!X25-'C. Winter Peak 2015-01-15'!FK25","v":0},{"$f":"ColdWinter!Y25-'C. Winter Peak 2015-01-15'!FL25","v":0},{"$f":"ColdWinter!Z25-'C. Winter Peak 2015-01-15'!FM25","v":0},{"$f":"ColdWinter!AA25-'C. Winter Peak 2015-01-15'!FN25","v":0},{"$f":"ColdWinter!AB25-'C. Winter Peak 2015-01-15'!FO25","v":0},{"$f":"ColdWinter!AC25-'C. Winter Peak 2015-01-15'!FP25","v":0},{"$f":"ColdWinter!AD25-'C. Winter Peak 2015-01-15'!FQ25","v":0},{"$f":"ColdWinter!AE25-'C. Winter Peak 2015-01-15'!FR25","v":0},{"$f":"ColdWinter!AF25-'C. Winter Peak 2015-01-15'!FS25","v":0},{"$f":"ColdWinter!AG25-'C. Winter Peak 2015-01-15'!FT25","v":0},{"$f":"ColdWinter!AH25-'C. Winter Peak 2015-01-15'!FU25","v":0},{"$f":"ColdWinter!AI25-'C. Winter Peak 2015-01-15'!FV25","v":0},{"$f":"ColdWinter!AJ25-'C. Winter Peak 2015-01-15'!FW25","v":0},{"$f":"ColdWinter!AK25-'C. Winter Peak 2015-01-15'!FX25","v":0},{"$f":"ColdWinter!AL25-'C. Winter Peak 2015-01-15'!FY25","v":0},{"$f":"ColdWinter!AM25-'C. Winter Peak 2015-01-15'!FZ25","v":0},{"$f":"ColdWinter!AN25-'C. Winter Peak 2015-01-15'!GA25","v":0},{"$f":"ColdWinter!AO25-'C. Winter Peak 2015-01-15'!GB25","v":0},{"$f":"ColdWinter!AP25-'C. Winter Peak 2015-01-15'!GC25","v":0},{"$f":"ColdWinter!AQ25-'C. Winter Peak 2015-01-15'!GD25","v":0},{"$f":"ColdWinter!AR25-'C. Winter Peak 2015-01-15'!GE25","v":0},{"$f":"ColdWinter!AS25-'C. Winter Peak 2015-01-15'!GF25","v":0},{"$f":"ColdWinter!AT25-'C. Winter Peak 2015-01-15'!GG25","v":0},{"$f":"ColdWinter!AU25-'C. Winter Peak 2015-01-15'!GH25","v":0},{"$f":"ColdWinter!AV25-'C. Winter Peak 2015-01-15'!GI25","v":0},{"$f":"ColdWinter!AW25-'C. Winter Peak 2015-01-15'!GJ25","v":0},{"$f":"ColdWinter!AX25-'C. Winter Peak 2015-01-15'!GK25","v":0},{"$f":"ColdWinter!AY25-'C. Winter Peak 2015-01-15'!GL25","v":0},{"$f":"ColdWinter!AZ25-'C. Winter Peak 2015-01-15'!GM25","v":0},{"$f":"ColdWinter!BA25-'C. Winter Peak 2015-01-15'!GN25","v":0},{"$f":"ColdWinter!BB25-'C. Winter Peak 2015-01-15'!GO25","v":0},{"$f":"ColdWinter!BC25-'C. Winter Peak 2015-01-15'!GP25","v":0},{"$f":"ColdWinter!BD25-'C. Winter Peak 2015-01-15'!GQ25","v":0},{"$f":"ColdWinter!BE25-'C. Winter Peak 2015-01-15'!GR25","v":0},{"$f":"ColdWinter!BF25-'C. Winter Peak 2015-01-15'!GS25","v":0},{"$f":"ColdWinter!BG25-'C. Winter Peak 2015-01-15'!GT25","v":0},{"$f":"ColdWinter!BH25-'C. Winter Peak 2015-01-15'!GU25","v":0},{"$f":"ColdWinter!BI25-'C. Winter Peak 2015-01-15'!GV25","v":0},{"$f":"ColdWinter!BJ25-'C. Winter Peak 2015-01-15'!GW25","v":0},{"$f":"ColdWinter!BK25-'C. Winter Peak 2015-01-15'!GX25","v":0},{"$f":"ColdWinter!BL25-'C. Winter Peak 2015-01-15'!GY25","v":0},{"$f":"ColdWinter!BM25-'C. Winter Peak 2015-01-15'!GZ25","v":0},{"$f":"ColdWinter!BN25-'C. Winter Peak 2015-01-15'!HA25","v":0},{"$f":"ColdWinter!BO25-'C. Winter Peak 2015-01-15'!HB25","v":0},{"$f":"ColdWinter!BP25-'C. Winter Peak 2015-01-15'!HC25","v":0},{"$f":"ColdWinter!BQ25-'C. Winter Peak 2015-01-15'!HD25","v":0},{"$f":"ColdWinter!BR25-'C. Winter Peak 2015-01-15'!HE25","v":0},{"$f":"ColdWinter!BS25-'C. Winter Peak 2015-01-15'!HF25","v":0},{"$f":"ColdWinter!BT25-'C. Winter Peak 2015-01-15'!HG25","v":0},{"$f":"ColdWinter!BU25-'C. Winter Peak 2015-01-15'!HH25","v":0},{"$f":"ColdWinter!BV25-'C. Winter Peak 2015-01-15'!HI25","v":0},{"$f":"ColdWinter!BW25-'C. Winter Peak 2015-01-15'!HJ25","v":0},{"$f":"ColdWinter!BX25-'C. Winter Peak 2015-01-15'!HK25","v":0},{"$f":"ColdWinter!BY25-'C. Winter Peak 2015-01-15'!HL25","v":0},{"$f":"ColdWinter!BZ25-'C. Winter Peak 2015-01-15'!HM25","v":0},{"$f":"ColdWinter!CA25-'C. Winter Peak 2015-01-15'!HN25","v":0},{"$f":"ColdWinter!CB25-'C. Winter Peak 2015-01-15'!HO25","v":0},{"$f":"ColdWinter!CC25-'C. Winter Peak 2015-01-15'!HP25","v":0},{"$f":"ColdWinter!CD25-'C. Winter Peak 2015-01-15'!HQ25","v":0},{"$f":"ColdWinter!CE25-'C. Winter Peak 2015-01-15'!HR25","v":0},{"$f":"ColdWinter!CF25-'C. Winter Peak 2015-01-15'!HS25","v":0},{"$f":"ColdWinter!CG25-'C. Winter Peak 2015-01-15'!HT25","v":0},{"$f":"ColdWinter!CH25-'C. Winter Peak 2015-01-15'!HU25","v":0},{"$f":"ColdWinter!CI25-'C. Winter Peak 2015-01-15'!HV25","v":0},{"$f":"ColdWinter!CJ25-'C. Winter Peak 2015-01-15'!HW25","v":0},{"$f":"ColdWinter!CK25-'C. Winter Peak 2015-01-15'!HX25","v":0},{"$f":"ColdWinter!CL25-'C. Winter Peak 2015-01-15'!HY25","v":0},{"$f":"ColdWinter!CM25-'C. Winter Peak 2015-01-15'!HZ25","v":0},{"$f":"ColdWinter!CN25-'C. Winter Peak 2015-01-15'!IA25","v":0},{"$f":"ColdWinter!CO25-'C. Winter Peak 2015-01-15'!IB25","v":0},{"$f":"ColdWinter!CP25-'C. Winter Peak 2015-01-15'!IC25","v":0},{"$f":"ColdWinter!CQ25-'C. Winter Peak 2015-01-15'!ID25","v":0},{"$f":"ColdWinter!CR25-'C. Winter Peak 2015-01-15'!IE25","v":0},{"$f":"ColdWinter!CS25-'C. Winter Peak 2015-01-15'!IF25","v":0},{"$f":"ColdWinter!CT25-'C. Winter Peak 2015-01-15'!IG25","v":0},{"$f":"ColdWinter!CU25-'C. Winter Peak 2015-01-15'!IH25","v":0},{"$f":"ColdWinter!CV25-'C. Winter Peak 2015-01-15'!II25","v":0},{"$f":"ColdWinter!CW25-'C. Winter Peak 2015-01-15'!IJ25","v":0},{"$f":"ColdWinter!CX25-'C. Winter Peak 2015-01-15'!IK25","v":0},{"$f":"ColdWinter!CY25-'C. Winter Peak 2015-01-15'!IL25","v":0},{"$f":"ColdWinter!CZ25-'C. Winter Peak 2015-01-15'!IM25","v":0},{"$f":"ColdWinter!DA25-'C. Winter Peak 2015-01-15'!IN25","v":0},{"$f":"ColdWinter!DB25-'C. Winter Peak 2015-01-15'!IO25","v":0},{"$f":"ColdWinter!DC25-'C. Winter Peak 2015-01-15'!IP25","v":0},{"$f":"ColdWinter!DD25-'C. Winter Peak 2015-01-15'!IQ25","v":0},{"$f":"ColdWinter!DE25-'C. Winter Peak 2015-01-15'!IR25","v":0},{"$f":"ColdWinter!DF25-'C. Winter Peak 2015-01-15'!IS25","v":0},{"$f":"ColdWinter!DG25-'C. Winter Peak 2015-01-15'!IT25","v":0},{"$f":"ColdWinter!DH25-'C. Winter Peak 2015-01-15'!IU25","v":0},{"$f":"ColdWinter!DI25-'C. Winter Peak 2015-01-15'!IV25","v":0},{"$f":"ColdWinter!DJ25-'C. Winter Peak 2015-01-15'!IW25","v":0},{"$f":"ColdWinter!DK25-'C. Winter Peak 2015-01-15'!IX25","v":0},{"$f":"ColdWinter!DL25-'C. Winter Peak 2015-01-15'!IY25","v":0},{"$f":"ColdWinter!DM25-'C. Winter Peak 2015-01-15'!IZ25","v":0},{"$f":"ColdWinter!DN25-'C. Winter Peak 2015-01-15'!JA25","v":0},{"$f":"ColdWinter!DO25-'C. Winter Peak 2015-01-15'!JB25","v":0},{"$f":"ColdWinter!DP25-'C. Winter Peak 2015-01-15'!JC25","v":0},{"$f":"ColdWinter!DQ25-'C. Winter Peak 2015-01-15'!JD25","v":0},{"$f":"ColdWinter!DR25-'C. Winter Peak 2015-01-15'!JE25","v":0},{"$f":"ColdWinter!DS25-'C. Winter Peak 2015-01-15'!JF25","v":0}]
[null,"PMT2",{"$f":"ColdWinter!C26-'C. Winter Peak 2015-01-15'!EP26","v":0},{"$f":"ColdWinter!D26-'C. Winter Peak 2015-01-15'!EQ26","v":0},{"$f":"ColdWinter!E26-'C. Winter Peak 2015-01-15'!ER26","v":0},{"$f":"ColdWinter!F26-'C. Winter Peak 2015-01-15'!ES26","v":0},{"$f":"ColdWinter!G26-'C. Winter Peak 2015-01-15'!ET26","v":0},{"$f":"ColdWinter!H26-'C. Winter Peak 2015-01-15'!EU26","v":0},{"$f":"ColdWinter!I26-'C. Winter Peak 2015-01-15'!EV26","v":0},{"$f":"ColdWinter!J26-'C. Winter Peak 2015-01-15'!EW26","v":0},{"$f":"ColdWinter!K26-'C. Winter Peak 2015-01-15'!EX26","v":0},{"$f":"ColdWinter!L26-'C. Winter Peak 2015-01-15'!EY26","v":0},{"$f":"ColdWinter!M26-'C. Winter Peak 2015-01-15'!EZ26","v":0},{"$f":"ColdWinter!N26-'C. Winter Peak 2015-01-15'!FA26","v":0},{"$f":"ColdWinter!O26-'C. Winter Peak 2015-01-15'!FB26","v":0},{"$f":"ColdWinter!P26-'C. Winter Peak 2015-01-15'!FC26","v":0},{"$f":"ColdWinter!Q26-'C. Winter Peak 2015-01-15'!FD26","v":0},{"$f":"ColdWinter!R26-'C. Winter Peak 2015-01-15'!FE26","v":0},{"$f":"ColdWinter!S26-'C. Winter Peak 2015-01-15'!FF26","v":0},{"$f":"ColdWinter!T26-'C. Winter Peak 2015-01-15'!FG26","v":0},{"$f":"ColdWinter!U26-'C. Winter Peak 2015-01-15'!FH26","v":0},{"$f":"ColdWinter!V26-'C. Winter Peak 2015-01-15'!FI26","v":0},{"$f":"ColdWinter!W26-'C. Winter Peak 2015-01-15'!FJ26","v":0},{"$f":"ColdWinter!X26-'C. Winter Peak 2015-01-15'!FK26","v":0},{"$f":"ColdWinter!Y26-'C. Winter Peak 2015-01-15'!FL26","v":0},{"$f":"ColdWinter!Z26-'C. Winter Peak 2015-01-15'!FM26","v":0},{"$f":"ColdWinter!AA26-'C. Winter Peak 2015-01-15'!FN26","v":0},{"$f":"ColdWinter!AB26-'C. Winter Peak 2015-01-15'!FO26","v":0},{"$f":"ColdWinter!AC26-'C. Winter Peak 2015-01-15'!FP26","v":0},{"$f":"ColdWinter!AD26-'C. Winter Peak 2015-01-15'!FQ26","v":0},{"$f":"ColdWinter!AE26-'C. Winter Peak 2015-01-15'!FR26","v":0},{"$f":"ColdWinter!AF26-'C. Winter Peak 2015-01-15'!FS26","v":0},{"$f":"ColdWinter!AG26-'C. Winter Peak 2015-01-15'!FT26","v":0},{"$f":"ColdWinter!AH26-'C. Winter Peak 2015-01-15'!FU26","v":0},{"$f":"ColdWinter!AI26-'C. Winter Peak 2015-01-15'!FV26","v":0},{"$f":"ColdWinter!AJ26-'C. Winter Peak 2015-01-15'!FW26","v":0},{"$f":"ColdWinter!AK26-'C. Winter Peak 2015-01-15'!FX26","v":0},{"$f":"ColdWinter!AL26-'C. Winter Peak 2015-01-15'!FY26","v":0},{"$f":"ColdWinter!AM26-'C. Winter Peak 2015-01-15'!FZ26","v":0},{"$f":"ColdWinter!AN26-'C. Winter Peak 2015-01-15'!GA26","v":0},{"$f":"ColdWinter!AO26-'C. Winter Peak 2015-01-15'!GB26","v":0},{"$f":"ColdWinter!AP26-'C. Winter Peak 2015-01-15'!GC26","v":0},{"$f":"ColdWinter!AQ26-'C. Winter Peak 2015-01-15'!GD26","v":0},{"$f":"ColdWinter!AR26-'C. Winter Peak 2015-01-15'!GE26","v":0},{"$f":"ColdWinter!AS26-'C. Winter Peak 2015-01-15'!GF26","v":0},{"$f":"ColdWinter!AT26-'C. Winter Peak 2015-01-15'!GG26","v":0},{"$f":"ColdWinter!AU26-'C. Winter Peak 2015-01-15'!GH26","v":0},{"$f":"ColdWinter!AV26-'C. Winter Peak 2015-01-15'!GI26","v":0},{"$f":"ColdWinter!AW26-'C. Winter Peak 2015-01-15'!GJ26","v":0},{"$f":"ColdWinter!AX26-'C. Winter Peak 2015-01-15'!GK26","v":0},{"$f":"ColdWinter!AY26-'C. Winter Peak 2015-01-15'!GL26","v":0},{"$f":"ColdWinter!AZ26-'C. Winter Peak 2015-01-15'!GM26","v":0},{"$f":"ColdWinter!BA26-'C. Winter Peak 2015-01-15'!GN26","v":0},{"$f":"ColdWinter!BB26-'C. Winter Peak 2015-01-15'!GO26","v":0},{"$f":"ColdWinter!BC26-'C. Winter Peak 2015-01-15'!GP26","v":0},{"$f":"ColdWinter!BD26-'C. Winter Peak 2015-01-15'!GQ26","v":0},{"$f":"ColdWinter!BE26-'C. Winter Peak 2015-01-15'!GR26","v":0},{"$f":"ColdWinter!BF26-'C. Winter Peak 2015-01-15'!GS26","v":0},{"$f":"ColdWinter!BG26-'C. Winter Peak 2015-01-15'!GT26","v":0},{"$f":"ColdWinter!BH26-'C. Winter Peak 2015-01-15'!GU26","v":0},{"$f":"ColdWinter!BI26-'C. Winter Peak 2015-01-15'!GV26","v":0},{"$f":"ColdWinter!BJ26-'C. Winter Peak 2015-01-15'!GW26","v":0},{"$f":"ColdWinter!BK26-'C. Winter Peak 2015-01-15'!GX26","v":0},{"$f":"ColdWinter!BL26-'C. Winter Peak 2015-01-15'!GY26","v":0},{"$f":"ColdWinter!BM26-'C. Winter Peak 2015-01-15'!GZ26","v":0},{"$f":"ColdWinter!BN26-'C. Winter Peak 2015-01-15'!HA26","v":0},{"$f":"ColdWinter!BO26-'C. Winter Peak 2015-01-15'!HB26","v":0},{"$f":"ColdWinter!BP26-'C. Winter Peak 2015-01-15'!HC26","v":0},{"$f":"ColdWinter!BQ26-'C. Winter Peak 2015-01-15'!HD26","v":0},{"$f":"ColdWinter!BR26-'C. Winter Peak 2015-01-15'!HE26","v":0},{"$f":"ColdWinter!BS26-'C. Winter Peak 2015-01-15'!HF26","v":0},{"$f":"ColdWinter!BT26-'C. Winter Peak 2015-01-15'!HG26","v":0},{"$f":"ColdWinter!BU26-'C. Winter Peak 2015-01-15'!HH26","v":0},{"$f":"ColdWinter!BV26-'C. Winter Peak 2015-01-15'!HI26","v":0},{"$f":"ColdWinter!BW26-'C. Winter Peak 2015-01-15'!HJ26","v":0},{"$f":"ColdWinter!BX26-'C. Winter Peak 2015-01-15'!HK26","v":0},{"$f":"ColdWinter!BY26-'C. Winter Peak 2015-01-15'!HL26","v":0},{"$f":"ColdWinter!BZ26-'C. Winter Peak 2015-01-15'!HM26","v":0},{"$f":"ColdWinter!CA26-'C. Winter Peak 2015-01-15'!HN26","v":0},{"$f":"ColdWinter!CB26-'C. Winter Peak 2015-01-15'!HO26","v":0},{"$f":"ColdWinter!CC26-'C. Winter Peak 2015-01-15'!HP26","v":0},{"$f":"ColdWinter!CD26-'C. Winter Peak 2015-01-15'!HQ26","v":0},{"$f":"ColdWinter!CE26-'C. Winter Peak 2015-01-15'!HR26","v":0},{"$f":"ColdWinter!CF26-'C. Winter Peak 2015-01-15'!HS26","v":0},{"$f":"ColdWinter!CG26-'C. Winter Peak 2015-01-15'!HT26","v":0},{"$f":"ColdWinter!CH26-'C. Winter Peak 2015-01-15'!HU26","v":0},{"$f":"ColdWinter!CI26-'C. Winter Peak 2015-01-15'!HV26","v":0},{"$f":"ColdWinter!CJ26-'C. Winter Peak 2015-01-15'!HW26","v":0},{"$f":"ColdWinter!CK26-'C. Winter Peak 2015-01-15'!HX26","v":0},{"$f":"ColdWinter!CL26-'C. Winter Peak 2015-01-15'!HY26","v":0},{"$f":"ColdWinter!CM26-'C. Winter Peak 2015-01-15'!HZ26","v":0},{"$f":"ColdWinter!CN26-'C. Winter Peak 2015-01-15'!IA26","v":0},{"$f":"ColdWinter!CO26-'C. Winter Peak 2015-01-15'!IB26","v":0},{"$f":"ColdWinter!CP26-'C. Winter Peak 2015-01-15'!IC26","v":0},{"$f":"ColdWinter!CQ26-'C. Winter Peak 2015-01-15'!ID26","v":0},{"$f":"ColdWinter!CR26-'C. Winter Peak 2015-01-15'!IE26","v":0},{"$f":"ColdWinter!CS26-'C. Winter Peak 2015-01-15'!IF26","v":0},{"$f":"ColdWinter!CT26-'C. Winter Peak 2015-01-15'!IG26","v":0},{"$f":"ColdWinter!CU26-'C. Winter Peak 2015-01-15'!IH26","v":0},{"$f":"ColdWinter!CV26-'C. Winter Peak 2015-01-15'!II26","v":0},{"$f":"ColdWinter!CW26-'C. Winter Peak 2015-01-15'!IJ26","v":0},{"$f":"ColdWinter!CX26-'C. Winter Peak 2015-01-15'!IK26","v":0},{"$f":"ColdWinter!CY26-'C. Winter Peak 2015-01-15'!IL26","v":0},{"$f":"ColdWinter!CZ26-'C. Winter Peak 2015-01-15'!IM26","v":0},{"$f":"ColdWinter!DA26-'C. Winter Peak 2015-01-15'!IN26","v":0},{"$f":"ColdWinter!DB26-'C. Winter Peak 2015-01-15'!IO26","v":0},{"$f":"ColdWinter!DC26-'C. Winter Peak 2015-01-15'!IP26","v":0},{"$f":"ColdWinter!DD26-'C. Winter Peak 2015-01-15'!IQ26","v":0},{"$f":"ColdWinter!DE26-'C. Winter Peak 2015-01-15'!IR26","v":0},{"$f":"ColdWinter!DF26-'C. Winter Peak 2015-01-15'!IS26","v":0},{"$f":"ColdWinter!DG26-'C. Winter Peak 2015-01-15'!IT26","v":0},{"$f":"ColdWinter!DH26-'C. Winter Peak 2015-01-15'!IU26","v":0},{"$f":"ColdWinter!DI26-'C. Winter Peak 2015-01-15'!IV26","v":0},{"$f":"ColdWinter!DJ26-'C. Winter Peak 2015-01-15'!IW26","v":0},{"$f":"ColdWinter!DK26-'C. Winter Peak 2015-01-15'!IX26","v":0},{"$f":"ColdWinter!DL26-'C. Winter Peak 2015-01-15'!IY26","v":0},{"$f":"ColdWinter!DM26-'C. Winter Peak 2015-01-15'!IZ26","v":0},{"$f":"ColdWinter!DN26-'C. Winter Peak 2015-01-15'!JA26","v":0},{"$f":"ColdWinter!DO26-'C. Winter Peak 2015-01-15'!JB26","v":0},{"$f":"ColdWinter!DP26-'C. Winter Peak 2015-01-15'!JC26","v":0},{"$f":"ColdWinter!DQ26-'C. Winter Peak 2015-01-15'!JD26","v":0},{"$f":"ColdWinter!DR26-'C. Winter Peak 2015-01-15'!JE26","v":0},{"$f":"ColdWinter!DS26-'C. Winter Peak 2015-01-15'!JF26","v":0}]
[null,"PMT3",{"$f":"ColdWinter!C27-'C. Winter Peak 2015-01-15'!EP27","v":0},{"$f":"ColdWinter!D27-'C. Winter Peak 2015-01-15'!EQ27","v":0},{"$f":"ColdWinter!E27-'C. Winter Peak 2015-01-15'!ER27","v":0},{"$f":"ColdWinter!F27-'C. Winter Peak 2015-01-15'!ES27","v":0},{"$f":"ColdWinter!G27-'C. Winter Peak 2015-01-15'!ET27","v":0},{"$f":"ColdWinter!H27-'C. Winter Peak 2015-01-15'!EU27","v":0},{"$f":"ColdWinter!I27-'C. Winter Peak 2015-01-15'!EV27","v":0},{"$f":"ColdWinter!J27-'C. Winter Peak 2015-01-15'!EW27","v":0},{"$f":"ColdWinter!K27-'C. Winter Peak 2015-01-15'!EX27","v":0},{"$f":"ColdWinter!L27-'C. Winter Peak 2015-01-15'!EY27","v":0},{"$f":"ColdWinter!M27-'C. Winter Peak 2015-01-15'!EZ27","v":0},{"$f":"ColdWinter!N27-'C. Winter Peak 2015-01-15'!FA27","v":0},{"$f":"ColdWinter!O27-'C. Winter Peak 2015-01-15'!FB27","v":0},{"$f":"ColdWinter!P27-'C. Winter Peak 2015-01-15'!FC27","v":0},{"$f":"ColdWinter!Q27-'C. Winter Peak 2015-01-15'!FD27","v":0},{"$f":"ColdWinter!R27-'C. Winter Peak 2015-01-15'!FE27","v":0},{"$f":"ColdWinter!S27-'C. Winter Peak 2015-01-15'!FF27","v":0},{"$f":"ColdWinter!T27-'C. Winter Peak 2015-01-15'!FG27","v":0},{"$f":"ColdWinter!U27-'C. Winter Peak 2015-01-15'!FH27","v":0},{"$f":"ColdWinter!V27-'C. Winter Peak 2015-01-15'!FI27","v":0},{"$f":"ColdWinter!W27-'C. Winter Peak 2015-01-15'!FJ27","v":0},{"$f":"ColdWinter!X27-'C. Winter Peak 2015-01-15'!FK27","v":0},{"$f":"ColdWinter!Y27-'C. Winter Peak 2015-01-15'!FL27","v":0},{"$f":"ColdWinter!Z27-'C. Winter Peak 2015-01-15'!FM27","v":0},{"$f":"ColdWinter!AA27-'C. Winter Peak 2015-01-15'!FN27","v":0},{"$f":"ColdWinter!AB27-'C. Winter Peak 2015-01-15'!FO27","v":0},{"$f":"ColdWinter!AC27-'C. Winter Peak 2015-01-15'!FP27","v":0},{"$f":"ColdWinter!AD27-'C. Winter Peak 2015-01-15'!FQ27","v":0},{"$f":"ColdWinter!AE27-'C. Winter Peak 2015-01-15'!FR27","v":0},{"$f":"ColdWinter!AF27-'C. Winter Peak 2015-01-15'!FS27","v":0},{"$f":"ColdWinter!AG27-'C. Winter Peak 2015-01-15'!FT27","v":0},{"$f":"ColdWinter!AH27-'C. Winter Peak 2015-01-15'!FU27","v":0},{"$f":"ColdWinter!AI27-'C. Winter Peak 2015-01-15'!FV27","v":0},{"$f":"ColdWinter!AJ27-'C. Winter Peak 2015-01-15'!FW27","v":0},{"$f":"ColdWinter!AK27-'C. Winter Peak 2015-01-15'!FX27","v":0},{"$f":"ColdWinter!AL27-'C. Winter Peak 2015-01-15'!FY27","v":0},{"$f":"ColdWinter!AM27-'C. Winter Peak 2015-01-15'!FZ27","v":0},{"$f":"ColdWinter!AN27-'C. Winter Peak 2015-01-15'!GA27","v":0},{"$f":"ColdWinter!AO27-'C. Winter Peak 2015-01-15'!GB27","v":0},{"$f":"ColdWinter!AP27-'C. Winter Peak 2015-01-15'!GC27","v":0},{"$f":"ColdWinter!AQ27-'C. Winter Peak 2015-01-15'!GD27","v":0},{"$f":"ColdWinter!AR27-'C. Winter Peak 2015-01-15'!GE27","v":0},{"$f":"ColdWinter!AS27-'C. Winter Peak 2015-01-15'!GF27","v":0},{"$f":"ColdWinter!AT27-'C. Winter Peak 2015-01-15'!GG27","v":0},{"$f":"ColdWinter!AU27-'C. Winter Peak 2015-01-15'!GH27","v":0},{"$f":"ColdWinter!AV27-'C. Winter Peak 2015-01-15'!GI27","v":0},{"$f":"ColdWinter!AW27-'C. Winter Peak 2015-01-15'!GJ27","v":0},{"$f":"ColdWinter!AX27-'C. Winter Peak 2015-01-15'!GK27","v":0},{"$f":"ColdWinter!AY27-'C. Winter Peak 2015-01-15'!GL27","v":0},{"$f":"ColdWinter!AZ27-'C. Winter Peak 2015-01-15'!GM27","v":0},{"$f":"ColdWinter!BA27-'C. Winter Peak 2015-01-15'!GN27","v":0},{"$f":"ColdWinter!BB27-'C. Winter Peak 2015-01-15'!GO27","v":0},{"$f":"ColdWinter!BC27-'C. Winter Peak 2015-01-15'!GP27","v":0},{"$f":"ColdWinter!BD27-'C. Winter Peak 2015-01-15'!GQ27","v":0},{"$f":"ColdWinter!BE27-'C. Winter Peak 2015-01-15'!GR27","v":0},{"$f":"ColdWinter!BF27-'C. Winter Peak 2015-01-15'!GS27","v":0},{"$f":"ColdWinter!BG27-'C. Winter Peak 2015-01-15'!GT27","v":0},{"$f":"ColdWinter!BH27-'C. Winter Peak 2015-01-15'!GU27","v":0},{"$f":"ColdWinter!BI27-'C. Winter Peak 2015-01-15'!GV27","v":0},{"$f":"ColdWinter!BJ27-'C. Winter Peak 2015-01-15'!GW27","v":0},{"$f":"ColdWinter!BK27-'C. Winter Peak 2015-01-15'!GX27","v":0},{"$f":"ColdWinter!BL27-'C. Winter Peak 2015-01-15'!GY27","v":0},{"$f":"ColdWinter!BM27-'C. Winter Peak 2015-01-15'!GZ27","v":0},{"$f":"ColdWinter!BN27-'C. Winter Peak 2015-01-15'!HA27","v":0},{"$f":"ColdWinter!BO27-'C. Winter Peak 2015-01-15'!HB27","v":0},{"$f":"ColdWinter!BP27-'C. Winter Peak 2015-01-15'!HC27","v":0},{"$f":"ColdWinter!BQ27-'C. Winter Peak 2015-01-15'!HD27","v":0},{"$f":"ColdWinter!BR27-'C. Winter Peak 2015-01-15'!HE27","v":0},{"$f":"ColdWinter!BS27-'C. Winter Peak 2015-01-15'!HF27","v":0},{"$f":"ColdWinter!BT27-'C. Winter Peak 2015-01-15'!HG27","v":0},{"$f":"ColdWinter!BU27-'C. Winter Peak 2015-01-15'!HH27","v":0},{"$f":"ColdWinter!BV27-'C. Winter Peak 2015-01-15'!HI27","v":0},{"$f":"ColdWinter!BW27-'C. Winter Peak 2015-01-15'!HJ27","v":0},{"$f":"ColdWinter!BX27-'C. Winter Peak 2015-01-15'!HK27","v":0},{"$f":"ColdWinter!BY27-'C. Winter Peak 2015-01-15'!HL27","v":0},{"$f":"ColdWinter!BZ27-'C. Winter Peak 2015-01-15'!HM27","v":0},{"$f":"ColdWinter!CA27-'C. Winter Peak 2015-01-15'!HN27","v":0},{"$f":"ColdWinter!CB27-'C. Winter Peak 2015-01-15'!HO27","v":0},{"$f":"ColdWinter!CC27-'C. Winter Peak 2015-01-15'!HP27","v":0},{"$f":"ColdWinter!CD27-'C. Winter Peak 2015-01-15'!HQ27","v":0},{"$f":"ColdWinter!CE27-'C. Winter Peak 2015-01-15'!HR27","v":0},{"$f":"ColdWinter!CF27-'C. Winter Peak 2015-01-15'!HS27","v":0},{"$f":"ColdWinter!CG27-'C. Winter Peak 2015-01-15'!HT27","v":0},{"$f":"ColdWinter!CH27-'C. Winter Peak 2015-01-15'!HU27","v":0},{"$f":"ColdWinter!CI27-'C. Winter Peak 2015-01-15'!HV27","v":0},{"$f":"ColdWinter!CJ27-'C. Winter Peak 2015-01-15'!HW27","v":0},{"$f":"ColdWinter!CK27-'C. Winter Peak 2015-01-15'!HX27","v":0},{"$f":"ColdWinter!CL27-'C. Winter Peak 2015-01-15'!HY27","v":0},{"$f":"ColdWinter!CM27-'C. Winter Peak 2015-01-15'!HZ27","v":0},{"$f":"ColdWinter!CN27-'C. Winter Peak 2015-01-15'!IA27","v":0},{"$f":"ColdWinter!CO27-'C. Winter Peak 2015-01-15'!IB27","v":0},{"$f":"ColdWinter!CP27-'C. Winter Peak 2015-01-15'!IC27","v":0},{"$f":"ColdWinter!CQ27-'C. Winter Peak 2015-01-15'!ID27","v":0},{"$f":"ColdWinter!CR27-'C. Winter Peak 2015-01-15'!IE27","v":0},{"$f":"ColdWinter!CS27-'C. Winter Peak 2015-01-15'!IF27","v":0},{"$f":"ColdWinter!CT27-'C. Winter Peak 2015-01-15'!IG27","v":0},{"$f":"ColdWinter!CU27-'C. Winter Peak 2015-01-15'!IH27","v":0},{"$f":"ColdWinter!CV27-'C. Winter Peak 2015-01-15'!II27","v":0},{"$f":"ColdWinter!CW27-'C. Winter Peak 2015-01-15'!IJ27","v":0},{"$f":"ColdWinter!CX27-'C. Winter Peak 2015-01-15'!IK27","v":0},{"$f":"ColdWinter!CY27-'C. Winter Peak 2015-01-15'!IL27","v":0},{"$f":"ColdWinter!CZ27-'C. Winter Peak 2015-01-15'!IM27","v":0},{"$f":"ColdWinter!DA27-'C. Winter Peak 2015-01-15'!IN27","v":0},{"$f":"ColdWinter!DB27-'C. Winter Peak 2015-01-15'!IO27","v":0},{"$f":"ColdWinter!DC27-'C. Winter Peak 2015-01-15'!IP27","v":0},{"$f":"ColdWinter!DD27-'C. Winter Peak 2015-01-15'!IQ27","v":0},{"$f":"ColdWinter!DE27-'C. Winter Peak 2015-01-15'!IR27","v":0},{"$f":"ColdWinter!DF27-'C. Winter Peak 2015-01-15'!IS27","v":0},{"$f":"ColdWinter!DG27-'C. Winter Peak 2015-01-15'!IT27","v":0},{"$f":"ColdWinter!DH27-'C. Winter Peak 2015-01-15'!IU27","v":0},{"$f":"ColdWinter!DI27-'C. Winter Peak 2015-01-15'!IV27","v":0},{"$f":"ColdWinter!DJ27-'C. Winter Peak 2015-01-15'!IW27","v":0},{"$f":"ColdWinter!DK27-'C. Winter Peak 2015-01-15'!IX27","v":0},{"$f":"ColdWinter!DL27-'C. Winter Peak 2015-01-15'!IY27","v":0},{"$f":"ColdWinter!DM27-'C. Winter Peak 2015-01-15'!IZ27","v":0},{"$f":"ColdWinter!DN27-'C. Winter Peak 2015-01-15'!JA27","v":0},{"$f":"ColdWinter!DO27-'C. Winter Peak 2015-01-15'!JB27","v":0},{"$f":"ColdWinter!DP27-'C. Winter Peak 2015-01-15'!JC27","v":0},{"$f":"ColdWinter!DQ27-'C. Winter Peak 2015-01-15'!JD27","v":0},{"$f":"ColdWinter!DR27-'C. Winter Peak 2015-01-15'!JE27","v":0},{"$f":"ColdWinter!DS27-'C. Winter Peak 2015-01-15'!JF27","v":0}]
[null,"PPE1",{"$f":"ColdWinter!C28-'C. Winter Peak 2015-01-15'!EP28","v":0},{"$f":"ColdWinter!D28-'C. Winter Peak 2015-01-15'!EQ28","v":0},{"$f":"ColdWinter!E28-'C. Winter Peak 2015-01-15'!ER28","v":0},{"$f":"ColdWinter!F28-'C. Winter Peak 2015-01-15'!ES28","v":0},{"$f":"ColdWinter!G28-'C. Winter Peak 2015-01-15'!ET28","v":0},{"$f":"ColdWinter!H28-'C. Winter Peak 2015-01-15'!EU28","v":0},{"$f":"ColdWinter!I28-'C. Winter Peak 2015-01-15'!EV28","v":0},{"$f":"ColdWinter!J28-'C. Winter Peak 2015-01-15'!EW28","v":0},{"$f":"ColdWinter!K28-'C. Winter Peak 2015-01-15'!EX28","v":0},{"$f":"ColdWinter!L28-'C. Winter Peak 2015-01-15'!EY28","v":0},{"$f":"ColdWinter!M28-'C. Winter Peak 2015-01-15'!EZ28","v":0},{"$f":"ColdWinter!N28-'C. Winter Peak 2015-01-15'!FA28","v":0},{"$f":"ColdWinter!O28-'C. Winter Peak 2015-01-15'!FB28","v":0},{"$f":"ColdWinter!P28-'C. Winter Peak 2015-01-15'!FC28","v":0},{"$f":"ColdWinter!Q28-'C. Winter Peak 2015-01-15'!FD28","v":0},{"$f":"ColdWinter!R28-'C. Winter Peak 2015-01-15'!FE28","v":0},{"$f":"ColdWinter!S28-'C. Winter Peak 2015-01-15'!FF28","v":0},{"$f":"ColdWinter!T28-'C. Winter Peak 2015-01-15'!FG28","v":0},{"$f":"ColdWinter!U28-'C. Winter Peak 2015-01-15'!FH28","v":0},{"$f":"ColdWinter!V28-'C. Winter Peak 2015-01-15'!FI28","v":0},{"$f":"ColdWinter!W28-'C. Winter Peak 2015-01-15'!FJ28","v":0},{"$f":"ColdWinter!X28-'C. Winter Peak 2015-01-15'!FK28","v":0},{"$f":"ColdWinter!Y28-'C. Winter Peak 2015-01-15'!FL28","v":0},{"$f":"ColdWinter!Z28-'C. Winter Peak 2015-01-15'!FM28","v":0},{"$f":"ColdWinter!AA28-'C. Winter Peak 2015-01-15'!FN28","v":0},{"$f":"ColdWinter!AB28-'C. Winter Peak 2015-01-15'!FO28","v":0},{"$f":"ColdWinter!AC28-'C. Winter Peak 2015-01-15'!FP28","v":0},{"$f":"ColdWinter!AD28-'C. Winter Peak 2015-01-15'!FQ28","v":0},{"$f":"ColdWinter!AE28-'C. Winter Peak 2015-01-15'!FR28","v":0},{"$f":"ColdWinter!AF28-'C. Winter Peak 2015-01-15'!FS28","v":0},{"$f":"ColdWinter!AG28-'C. Winter Peak 2015-01-15'!FT28","v":0},{"$f":"ColdWinter!AH28-'C. Winter Peak 2015-01-15'!FU28","v":0},{"$f":"ColdWinter!AI28-'C. Winter Peak 2015-01-15'!FV28","v":0},{"$f":"ColdWinter!AJ28-'C. Winter Peak 2015-01-15'!FW28","v":0},{"$f":"ColdWinter!AK28-'C. Winter Peak 2015-01-15'!FX28","v":0},{"$f":"ColdWinter!AL28-'C. Winter Peak 2015-01-15'!FY28","v":0},{"$f":"ColdWinter!AM28-'C. Winter Peak 2015-01-15'!FZ28","v":0},{"$f":"ColdWinter!AN28-'C. Winter Peak 2015-01-15'!GA28","v":0},{"$f":"ColdWinter!AO28-'C. Winter Peak 2015-01-15'!GB28","v":0},{"$f":"ColdWinter!AP28-'C. Winter Peak 2015-01-15'!GC28","v":0},{"$f":"ColdWinter!AQ28-'C. Winter Peak 2015-01-15'!GD28","v":0},{"$f":"ColdWinter!AR28-'C. Winter Peak 2015-01-15'!GE28","v":0},{"$f":"ColdWinter!AS28-'C. Winter Peak 2015-01-15'!GF28","v":0},{"$f":"ColdWinter!AT28-'C. Winter Peak 2015-01-15'!GG28","v":0},{"$f":"ColdWinter!AU28-'C. Winter Peak 2015-01-15'!GH28","v":0},{"$f":"ColdWinter!AV28-'C. Winter Peak 2015-01-15'!GI28","v":0},{"$f":"ColdWinter!AW28-'C. Winter Peak 2015-01-15'!GJ28","v":0},{"$f":"ColdWinter!AX28-'C. Winter Peak 2015-01-15'!GK28","v":0},{"$f":"ColdWinter!AY28-'C. Winter Peak 2015-01-15'!GL28","v":0},{"$f":"ColdWinter!AZ28-'C. Winter Peak 2015-01-15'!GM28","v":0},{"$f":"ColdWinter!BA28-'C. Winter Peak 2015-01-15'!GN28","v":0},{"$f":"ColdWinter!BB28-'C. Winter Peak 2015-01-15'!GO28","v":0},{"$f":"ColdWinter!BC28-'C. Winter Peak 2015-01-15'!GP28","v":0},{"$f":"ColdWinter!BD28-'C. Winter Peak 2015-01-15'!GQ28","v":0},{"$f":"ColdWinter!BE28-'C. Winter Peak 2015-01-15'!GR28","v":0},{"$f":"ColdWinter!BF28-'C. Winter Peak 2015-01-15'!GS28","v":0},{"$f":"ColdWinter!BG28-'C. Winter Peak 2015-01-15'!GT28","v":0},{"$f":"ColdWinter!BH28-'C. Winter Peak 2015-01-15'!GU28","v":0},{"$f":"ColdWinter!BI28-'C. Winter Peak 2015-01-15'!GV28","v":0},{"$f":"ColdWinter!BJ28-'C. Winter Peak 2015-01-15'!GW28","v":0},{"$f":"ColdWinter!BK28-'C. Winter Peak 2015-01-15'!GX28","v":0},{"$f":"ColdWinter!BL28-'C. Winter Peak 2015-01-15'!GY28","v":0},{"$f":"ColdWinter!BM28-'C. Winter Peak 2015-01-15'!GZ28","v":0},{"$f":"ColdWinter!BN28-'C. Winter Peak 2015-01-15'!HA28","v":0},{"$f":"ColdWinter!BO28-'C. Winter Peak 2015-01-15'!HB28","v":0},{"$f":"ColdWinter!BP28-'C. Winter Peak 2015-01-15'!HC28","v":0},{"$f":"ColdWinter!BQ28-'C. Winter Peak 2015-01-15'!HD28","v":0},{"$f":"ColdWinter!BR28-'C. Winter Peak 2015-01-15'!HE28","v":0},{"$f":"ColdWinter!BS28-'C. Winter Peak 2015-01-15'!HF28","v":0},{"$f":"ColdWinter!BT28-'C. Winter Peak 2015-01-15'!HG28","v":0},{"$f":"ColdWinter!BU28-'C. Winter Peak 2015-01-15'!HH28","v":0},{"$f":"ColdWinter!BV28-'C. Winter Peak 2015-01-15'!HI28","v":0},{"$f":"ColdWinter!BW28-'C. Winter Peak 2015-01-15'!HJ28","v":0},{"$f":"ColdWinter!BX28-'C. Winter Peak 2015-01-15'!HK28","v":0},{"$f":"ColdWinter!BY28-'C. Winter Peak 2015-01-15'!HL28","v":0},{"$f":"ColdWinter!BZ28-'C. Winter Peak 2015-01-15'!HM28","v":0},{"$f":"ColdWinter!CA28-'C. Winter Peak 2015-01-15'!HN28","v":0},{"$f":"ColdWinter!CB28-'C. Winter Peak 2015-01-15'!HO28","v":0},{"$f":"ColdWinter!CC28-'C. Winter Peak 2015-01-15'!HP28","v":0},{"$f":"ColdWinter!CD28-'C. Winter Peak 2015-01-15'!HQ28","v":0},{"$f":"ColdWinter!CE28-'C. Winter Peak 2015-01-15'!HR28","v":0},{"$f":"ColdWinter!CF28-'C. Winter Peak 2015-01-15'!HS28","v":0},{"$f":"ColdWinter!CG28-'C. Winter Peak 2015-01-15'!HT28","v":0},{"$f":"ColdWinter!CH28-'C. Winter Peak 2015-01-15'!HU28","v":0},{"$f":"ColdWinter!CI28-'C. Winter Peak 2015-01-15'!HV28","v":0},{"$f":"ColdWinter!CJ28-'C. Winter Peak 2015-01-15'!HW28","v":0},{"$f":"ColdWinter!CK28-'C. Winter Peak 2015-01-15'!HX28","v":0},{"$f":"ColdWinter!CL28-'C. Winter Peak 2015-01-15'!HY28","v":0},{"$f":"ColdWinter!CM28-'C. Winter Peak 2015-01-15'!HZ28","v":0},{"$f":"ColdWinter!CN28-'C. Winter Peak 2015-01-15'!IA28","v":0},{"$f":"ColdWinter!CO28-'C. Winter Peak 2015-01-15'!IB28","v":0},{"$f":"ColdWinter!CP28-'C. Winter Peak 2015-01-15'!IC28","v":0},{"$f":"ColdWinter!CQ28-'C. Winter Peak 2015-01-15'!ID28","v":0},{"$f":"ColdWinter!CR28-'C. Winter Peak 2015-01-15'!IE28","v":0},{"$f":"ColdWinter!CS28-'C. Winter Peak 2015-01-15'!IF28","v":0},{"$f":"ColdWinter!CT28-'C. Winter Peak 2015-01-15'!IG28","v":0},{"$f":"ColdWinter!CU28-'C. Winter Peak 2015-01-15'!IH28","v":0},{"$f":"ColdWinter!CV28-'C. Winter Peak 2015-01-15'!II28","v":0},{"$f":"ColdWinter!CW28-'C. Winter Peak 2015-01-15'!IJ28","v":0},{"$f":"ColdWinter!CX28-'C. Winter Peak 2015-01-15'!IK28","v":0},{"$f":"ColdWinter!CY28-'C. Winter Peak 2015-01-15'!IL28","v":0},{"$f":"ColdWinter!CZ28-'C. Winter Peak 2015-01-15'!IM28","v":0},{"$f":"ColdWinter!DA28-'C. Winter Peak 2015-01-15'!IN28","v":0},{"$f":"ColdWinter!DB28-'C. Winter Peak 2015-01-15'!IO28","v":0},{"$f":"ColdWinter!DC28-'C. Winter Peak 2015-01-15'!IP28","v":0},{"$f":"ColdWinter!DD28-'C. Winter Peak 2015-01-15'!IQ28","v":0},{"$f":"ColdWinter!DE28-'C. Winter Peak 2015-01-15'!IR28","v":0},{"$f":"ColdWinter!DF28-'C. Winter Peak 2015-01-15'!IS28","v":0},{"$f":"ColdWinter!DG28-'C. Winter Peak 2015-01-15'!IT28","v":0},{"$f":"ColdWinter!DH28-'C. Winter Peak 2015-01-15'!IU28","v":0},{"$f":"ColdWinter!DI28-'C. Winter Peak 2015-01-15'!IV28","v":0},{"$f":"ColdWinter!DJ28-'C. Winter Peak 2015-01-15'!IW28","v":0},{"$f":"ColdWinter!DK28-'C. Winter Peak 2015-01-15'!IX28","v":0},{"$f":"ColdWinter!DL28-'C. Winter Peak 2015-01-15'!IY28","v":0},{"$f":"ColdWinter!DM28-'C. Winter Peak 2015-01-15'!IZ28","v":0},{"$f":"ColdWinter!DN28-'C. Winter Peak 2015-01-15'!JA28","v":0},{"$f":"ColdWinter!DO28-'C. Winter Peak 2015-01-15'!JB28","v":0},{"$f":"ColdWinter!DP28-'C. Winter Peak 2015-01-15'!JC28","v":0},{"$f":"ColdWinter!DQ28-'C. Winter Peak 2015-01-15'!JD28","v":0},{"$f":"ColdWinter!DR28-'C. Winter Peak 2015-01-15'!JE28","v":0},{"$f":"ColdWinter!DS28-'C. Winter Peak 2015-01-15'!JF28","v":0}]
[null,"PPE2",{"$f":"ColdWinter!C29-'C. Winter Peak 2015-01-15'!EP29","v":0},{"$f":"ColdWinter!D29-'C. Winter Peak 2015-01-15'!EQ29","v":0},{"$f":"ColdWinter!E29-'C. Winter Peak 2015-01-15'!ER29","v":0},{"$f":"ColdWinter!F29-'C. Winter Peak 2015-01-15'!ES29","v":0},{"$f":"ColdWinter!G29-'C. Winter Peak 2015-01-15'!ET29","v":0},{"$f":"ColdWinter!H29-'C. Winter Peak 2015-01-15'!EU29","v":0},{"$f":"ColdWinter!I29-'C. Winter Peak 2015-01-15'!EV29","v":0},{"$f":"ColdWinter!J29-'C. Winter Peak 2015-01-15'!EW29","v":0},{"$f":"ColdWinter!K29-'C. Winter Peak 2015-01-15'!EX29","v":0},{"$f":"ColdWinter!L29-'C. Winter Peak 2015-01-15'!EY29","v":0},{"$f":"ColdWinter!M29-'C. Winter Peak 2015-01-15'!EZ29","v":0},{"$f":"ColdWinter!N29-'C. Winter Peak 2015-01-15'!FA29","v":0},{"$f":"ColdWinter!O29-'C. Winter Peak 2015-01-15'!FB29","v":0},{"$f":"ColdWinter!P29-'C. Winter Peak 2015-01-15'!FC29","v":0},{"$f":"ColdWinter!Q29-'C. Winter Peak 2015-01-15'!FD29","v":0},{"$f":"ColdWinter!R29-'C. Winter Peak 2015-01-15'!FE29","v":0},{"$f":"ColdWinter!S29-'C. Winter Peak 2015-01-15'!FF29","v":0},{"$f":"ColdWinter!T29-'C. Winter Peak 2015-01-15'!FG29","v":0},{"$f":"ColdWinter!U29-'C. Winter Peak 2015-01-15'!FH29","v":0},{"$f":"ColdWinter!V29-'C. Winter Peak 2015-01-15'!FI29","v":0},{"$f":"ColdWinter!W29-'C. Winter Peak 2015-01-15'!FJ29","v":0},{"$f":"ColdWinter!X29-'C. Winter Peak 2015-01-15'!FK29","v":0},{"$f":"ColdWinter!Y29-'C. Winter Peak 2015-01-15'!FL29","v":0},{"$f":"ColdWinter!Z29-'C. Winter Peak 2015-01-15'!FM29","v":0},{"$f":"ColdWinter!AA29-'C. Winter Peak 2015-01-15'!FN29","v":0},{"$f":"ColdWinter!AB29-'C. Winter Peak 2015-01-15'!FO29","v":0},{"$f":"ColdWinter!AC29-'C. Winter Peak 2015-01-15'!FP29","v":0},{"$f":"ColdWinter!AD29-'C. Winter Peak 2015-01-15'!FQ29","v":0},{"$f":"ColdWinter!AE29-'C. Winter Peak 2015-01-15'!FR29","v":0},{"$f":"ColdWinter!AF29-'C. Winter Peak 2015-01-15'!FS29","v":0},{"$f":"ColdWinter!AG29-'C. Winter Peak 2015-01-15'!FT29","v":0},{"$f":"ColdWinter!AH29-'C. Winter Peak 2015-01-15'!FU29","v":0},{"$f":"ColdWinter!AI29-'C. Winter Peak 2015-01-15'!FV29","v":0},{"$f":"ColdWinter!AJ29-'C. Winter Peak 2015-01-15'!FW29","v":0},{"$f":"ColdWinter!AK29-'C. Winter Peak 2015-01-15'!FX29","v":0},{"$f":"ColdWinter!AL29-'C. Winter Peak 2015-01-15'!FY29","v":0},{"$f":"ColdWinter!AM29-'C. Winter Peak 2015-01-15'!FZ29","v":0},{"$f":"ColdWinter!AN29-'C. Winter Peak 2015-01-15'!GA29","v":0},{"$f":"ColdWinter!AO29-'C. Winter Peak 2015-01-15'!GB29","v":0},{"$f":"ColdWinter!AP29-'C. Winter Peak 2015-01-15'!GC29","v":0},{"$f":"ColdWinter!AQ29-'C. Winter Peak 2015-01-15'!GD29","v":0},{"$f":"ColdWinter!AR29-'C. Winter Peak 2015-01-15'!GE29","v":0},{"$f":"ColdWinter!AS29-'C. Winter Peak 2015-01-15'!GF29","v":0},{"$f":"ColdWinter!AT29-'C. Winter Peak 2015-01-15'!GG29","v":0},{"$f":"ColdWinter!AU29-'C. Winter Peak 2015-01-15'!GH29","v":0},{"$f":"ColdWinter!AV29-'C. Winter Peak 2015-01-15'!GI29","v":0},{"$f":"ColdWinter!AW29-'C. Winter Peak 2015-01-15'!GJ29","v":0},{"$f":"ColdWinter!AX29-'C. Winter Peak 2015-01-15'!GK29","v":0},{"$f":"ColdWinter!AY29-'C. Winter Peak 2015-01-15'!GL29","v":0},{"$f":"ColdWinter!AZ29-'C. Winter Peak 2015-01-15'!GM29","v":0},{"$f":"ColdWinter!BA29-'C. Winter Peak 2015-01-15'!GN29","v":0},{"$f":"ColdWinter!BB29-'C. Winter Peak 2015-01-15'!GO29","v":0},{"$f":"ColdWinter!BC29-'C. Winter Peak 2015-01-15'!GP29","v":0},{"$f":"ColdWinter!BD29-'C. Winter Peak 2015-01-15'!GQ29","v":0},{"$f":"ColdWinter!BE29-'C. Winter Peak 2015-01-15'!GR29","v":0},{"$f":"ColdWinter!BF29-'C. Winter Peak 2015-01-15'!GS29","v":0},{"$f":"ColdWinter!BG29-'C. Winter Peak 2015-01-15'!GT29","v":0},{"$f":"ColdWinter!BH29-'C. Winter Peak 2015-01-15'!GU29","v":0},{"$f":"ColdWinter!BI29-'C. Winter Peak 2015-01-15'!GV29","v":0},{"$f":"ColdWinter!BJ29-'C. Winter Peak 2015-01-15'!GW29","v":0},{"$f":"ColdWinter!BK29-'C. Winter Peak 2015-01-15'!GX29","v":0},{"$f":"ColdWinter!BL29-'C. Winter Peak 2015-01-15'!GY29","v":0},{"$f":"ColdWinter!BM29-'C. Winter Peak 2015-01-15'!GZ29","v":0},{"$f":"ColdWinter!BN29-'C. Winter Peak 2015-01-15'!HA29","v":0},{"$f":"ColdWinter!BO29-'C. Winter Peak 2015-01-15'!HB29","v":0},{"$f":"ColdWinter!BP29-'C. Winter Peak 2015-01-15'!HC29","v":0},{"$f":"ColdWinter!BQ29-'C. Winter Peak 2015-01-15'!HD29","v":0},{"$f":"ColdWinter!BR29-'C. Winter Peak 2015-01-15'!HE29","v":0},{"$f":"ColdWinter!BS29-'C. Winter Peak 2015-01-15'!HF29","v":0},{"$f":"ColdWinter!BT29-'C. Winter Peak 2015-01-15'!HG29","v":0},{"$f":"ColdWinter!BU29-'C. Winter Peak 2015-01-15'!HH29","v":0},{"$f":"ColdWinter!BV29-'C. Winter Peak 2015-01-15'!HI29","v":0},{"$f":"ColdWinter!BW29-'C. Winter Peak 2015-01-15'!HJ29","v":0},{"$f":"ColdWinter!BX29-'C. Winter Peak 2015-01-15'!HK29","v":0},{"$f":"ColdWinter!BY29-'C. Winter Peak 2015-01-15'!HL29","v":0},{"$f":"ColdWinter!BZ29-'C. Winter Peak 2015-01-15'!HM29","v":0},{"$f":"ColdWinter!CA29-'C. Winter Peak 2015-01-15'!HN29","v":0},{"$f":"ColdWinter!CB29-'C. Winter Peak 2015-01-15'!HO29","v":0},{"$f":"ColdWinter!CC29-'C. Winter Peak 2015-01-15'!HP29","v":0},{"$f":"ColdWinter!CD29-'C. Winter Peak 2015-01-15'!HQ29","v":0},{"$f":"ColdWinter!CE29-'C. Winter Peak 2015-01-15'!HR29","v":0},{"$f":"ColdWinter!CF29-'C. Winter Peak 2015-01-15'!HS29","v":0},{"$f":"ColdWinter!CG29-'C. Winter Peak 2015-01-15'!HT29","v":0},{"$f":"ColdWinter!CH29-'C. Winter Peak 2015-01-15'!HU29","v":0},{"$f":"ColdWinter!CI29-'C. Winter Peak 2015-01-15'!HV29","v":0},{"$f":"ColdWinter!CJ29-'C. Winter Peak 2015-01-15'!HW29","v":0},{"$f":"ColdWinter!CK29-'C. Winter Peak 2015-01-15'!HX29","v":0},{"$f":"ColdWinter!CL29-'C. Winter Peak 2015-01-15'!HY29","v":0},{"$f":"ColdWinter!CM29-'C. Winter Peak 2015-01-15'!HZ29","v":0},{"$f":"ColdWinter!CN29-'C. Winter Peak 2015-01-15'!IA29","v":0},{"$f":"ColdWinter!CO29-'C. Winter Peak 2015-01-15'!IB29","v":0},{"$f":"ColdWinter!CP29-'C. Winter Peak 2015-01-15'!IC29","v":0},{"$f":"ColdWinter!CQ29-'C. Winter Peak 2015-01-15'!ID29","v":0},{"$f":"ColdWinter!CR29-'C. Winter Peak 2015-01-15'!IE29","v":0},{"$f":"ColdWinter!CS29-'C. Winter Peak 2015-01-15'!IF29","v":0},{"$f":"ColdWinter!CT29-'C. Winter Peak 2015-01-15'!IG29","v":0},{"$f":"ColdWinter!CU29-'C. Winter Peak 2015-01-15'!IH29","v":0},{"$f":"ColdWinter!CV29-'C. Winter Peak 2015-01-15'!II29","v":0},{"$f":"ColdWinter!CW29-'C. Winter Peak 2015-01-15'!IJ29","v":0},{"$f":"ColdWinter!CX29-'C. Winter Peak 2015-01-15'!IK29","v":0},{"$f":"ColdWinter!CY29-'C. Winter Peak 2015-01-15'!IL29","v":0},{"$f":"ColdWinter!CZ29-'C. Winter Peak 2015-01-15'!IM29","v":0},{"$f":"ColdWinter!DA29-'C. Winter Peak 2015-01-15'!IN29","v":0},{"$f":"ColdWinter!DB29-'C. Winter Peak 2015-01-15'!IO29","v":0},{"$f":"ColdWinter!DC29-'C. Winter Peak 2015-01-15'!IP29","v":0},{"$f":"ColdWinter!DD29-'C. Winter Peak 2015-01-15'!IQ29","v":0},{"$f":"ColdWinter!DE29-'C. Winter Peak 2015-01-15'!IR29","v":0},{"$f":"ColdWinter!DF29-'C. Winter Peak 2015-01-15'!IS29","v":0},{"$f":"ColdWinter!DG29-'C. Winter Peak 2015-01-15'!IT29","v":0},{"$f":"ColdWinter!DH29-'C. Winter Peak 2015-01-15'!IU29","v":0},{"$f":"ColdWinter!DI29-'C. Winter Peak 2015-01-15'!IV29","v":0},{"$f":"ColdWinter!DJ29-'C. Winter Peak 2015-01-15'!IW29","v":0},{"$f":"ColdWinter!DK29-'C. Winter Peak 2015-01-15'!IX29","v":0},{"$f":"ColdWinter!DL29-'C. Winter Peak 2015-01-15'!IY29","v":0},{"$f":"ColdWinter!DM29-'C. Winter Peak 2015-01-15'!IZ29","v":0},{"$f":"ColdWinter!DN29-'C. Winter Peak 2015-01-15'!JA29","v":0},{"$f":"ColdWinter!DO29-'C. Winter Peak 2015-01-15'!JB29","v":0},{"$f":"ColdWinter!DP29-'C. Winter Peak 2015-01-15'!JC29","v":0},{"$f":"ColdWinter!DQ29-'C. Winter Peak 2015-01-15'!JD29","v":0},{"$f":"ColdWinter!DR29-'C. Winter Peak 2015-01-15'!JE29","v":0},{"$f":"ColdWinter!DS29-'C. Winter Peak 2015-01-15'!JF29","v":0}]
[null,"PPE3",{"$f":"ColdWinter!C30-'C. Winter Peak 2015-01-15'!EP30","v":0},{"$f":"ColdWinter!D30-'C. Winter Peak 2015-01-15'!EQ30","v":0},{"$f":"ColdWinter!E30-'C. Winter Peak 2015-01-15'!ER30","v":0},{"$f":"ColdWinter!F30-'C. Winter Peak 2015-01-15'!ES30","v":0},{"$f":"ColdWinter!G30-'C. Winter Peak 2015-01-15'!ET30","v":0},{"$f":"ColdWinter!H30-'C. Winter Peak 2015-01-15'!EU30","v":0},{"$f":"ColdWinter!I30-'C. Winter Peak 2015-01-15'!EV30","v":0},{"$f":"ColdWinter!J30-'C. Winter Peak 2015-01-15'!EW30","v":0},{"$f":"ColdWinter!K30-'C. Winter Peak 2015-01-15'!EX30","v":0},{"$f":"ColdWinter!L30-'C. Winter Peak 2015-01-15'!EY30","v":0},{"$f":"ColdWinter!M30-'C. Winter Peak 2015-01-15'!EZ30","v":0},{"$f":"ColdWinter!N30-'C. Winter Peak 2015-01-15'!FA30","v":0},{"$f":"ColdWinter!O30-'C. Winter Peak 2015-01-15'!FB30","v":0},{"$f":"ColdWinter!P30-'C. Winter Peak 2015-01-15'!FC30","v":0},{"$f":"ColdWinter!Q30-'C. Winter Peak 2015-01-15'!FD30","v":0},{"$f":"ColdWinter!R30-'C. Winter Peak 2015-01-15'!FE30","v":0},{"$f":"ColdWinter!S30-'C. Winter Peak 2015-01-15'!FF30","v":0},{"$f":"ColdWinter!T30-'C. Winter Peak 2015-01-15'!FG30","v":0},{"$f":"ColdWinter!U30-'C. Winter Peak 2015-01-15'!FH30","v":0},{"$f":"ColdWinter!V30-'C. Winter Peak 2015-01-15'!FI30","v":0},{"$f":"ColdWinter!W30-'C. Winter Peak 2015-01-15'!FJ30","v":0},{"$f":"ColdWinter!X30-'C. Winter Peak 2015-01-15'!FK30","v":0},{"$f":"ColdWinter!Y30-'C. Winter Peak 2015-01-15'!FL30","v":0},{"$f":"ColdWinter!Z30-'C. Winter Peak 2015-01-15'!FM30","v":0},{"$f":"ColdWinter!AA30-'C. Winter Peak 2015-01-15'!FN30","v":0},{"$f":"ColdWinter!AB30-'C. Winter Peak 2015-01-15'!FO30","v":0},{"$f":"ColdWinter!AC30-'C. Winter Peak 2015-01-15'!FP30","v":0},{"$f":"ColdWinter!AD30-'C. Winter Peak 2015-01-15'!FQ30","v":0},{"$f":"ColdWinter!AE30-'C. Winter Peak 2015-01-15'!FR30","v":0},{"$f":"ColdWinter!AF30-'C. Winter Peak 2015-01-15'!FS30","v":0},{"$f":"ColdWinter!AG30-'C. Winter Peak 2015-01-15'!FT30","v":0},{"$f":"ColdWinter!AH30-'C. Winter Peak 2015-01-15'!FU30","v":0},{"$f":"ColdWinter!AI30-'C. Winter Peak 2015-01-15'!FV30","v":0},{"$f":"ColdWinter!AJ30-'C. Winter Peak 2015-01-15'!FW30","v":0},{"$f":"ColdWinter!AK30-'C. Winter Peak 2015-01-15'!FX30","v":0},{"$f":"ColdWinter!AL30-'C. Winter Peak 2015-01-15'!FY30","v":0},{"$f":"ColdWinter!AM30-'C. Winter Peak 2015-01-15'!FZ30","v":0},{"$f":"ColdWinter!AN30-'C. Winter Peak 2015-01-15'!GA30","v":0},{"$f":"ColdWinter!AO30-'C. Winter Peak 2015-01-15'!GB30","v":0},{"$f":"ColdWinter!AP30-'C. Winter Peak 2015-01-15'!GC30","v":0},{"$f":"ColdWinter!AQ30-'C. Winter Peak 2015-01-15'!GD30","v":0},{"$f":"ColdWinter!AR30-'C. Winter Peak 2015-01-15'!GE30","v":0},{"$f":"ColdWinter!AS30-'C. Winter Peak 2015-01-15'!GF30","v":0},{"$f":"ColdWinter!AT30-'C. Winter Peak 2015-01-15'!GG30","v":0},{"$f":"ColdWinter!AU30-'C. Winter Peak 2015-01-15'!GH30","v":0},{"$f":"ColdWinter!AV30-'C. Winter Peak 2015-01-15'!GI30","v":0},{"$f":"ColdWinter!AW30-'C. Winter Peak 2015-01-15'!GJ30","v":0},{"$f":"ColdWinter!AX30-'C. Winter Peak 2015-01-15'!GK30","v":0},{"$f":"ColdWinter!AY30-'C. Winter Peak 2015-01-15'!GL30","v":0},{"$f":"ColdWinter!AZ30-'C. Winter Peak 2015-01-15'!GM30","v":0},{"$f":"ColdWinter!BA30-'C. Winter Peak 2015-01-15'!GN30","v":0},{"$f":"ColdWinter!BB30-'C. Winter Peak 2015-01-15'!GO30","v":0},{"$f":"ColdWinter!BC30-'C. Winter Peak 2015-01-15'!GP30","v":0},{"$f":"ColdWinter!BD30-'C. Winter Peak 2015-01-15'!GQ30","v":0},{"$f":"ColdWinter!BE30-'C. Winter Peak 2015-01-15'!GR30","v":0},{"$f":"ColdWinter!BF30-'C. Winter Peak 2015-01-15'!GS30","v":0},{"$f":"ColdWinter!BG30-'C. Winter Peak 2015-01-15'!GT30","v":0},{"$f":"ColdWinter!BH30-'C. Winter Peak 2015-01-15'!GU30","v":0},{"$f":"ColdWinter!BI30-'C. Winter Peak 2015-01-15'!GV30","v":0},{"$f":"ColdWinter!BJ30-'C. Winter Peak 2015-01-15'!GW30","v":0},{"$f":"ColdWinter!BK30-'C. Winter Peak 2015-01-15'!GX30","v":0},{"$f":"ColdWinter!BL30-'C. Winter Peak 2015-01-15'!GY30","v":0},{"$f":"ColdWinter!BM30-'C. Winter Peak 2015-01-15'!GZ30","v":0},{"$f":"ColdWinter!BN30-'C. Winter Peak 2015-01-15'!HA30","v":0},{"$f":"ColdWinter!BO30-'C. Winter Peak 2015-01-15'!HB30","v":0},{"$f":"ColdWinter!BP30-'C. Winter Peak 2015-01-15'!HC30","v":0},{"$f":"ColdWinter!BQ30-'C. Winter Peak 2015-01-15'!HD30","v":0},{"$f":"ColdWinter!BR30-'C. Winter Peak 2015-01-15'!HE30","v":0},{"$f":"ColdWinter!BS30-'C. Winter Peak 2015-01-15'!HF30","v":0},{"$f":"ColdWinter!BT30-'C. Winter Peak 2015-01-15'!HG30","v":0},{"$f":"ColdWinter!BU30-'C. Winter Peak 2015-01-15'!HH30","v":0},{"$f":"ColdWinter!BV30-'C. Winter Peak 2015-01-15'!HI30","v":0},{"$f":"ColdWinter!BW30-'C. Winter Peak 2015-01-15'!HJ30","v":0},{"$f":"ColdWinter!BX30-'C. Winter Peak 2015-01-15'!HK30","v":0},{"$f":"ColdWinter!BY30-'C. Winter Peak 2015-01-15'!HL30","v":0},{"$f":"ColdWinter!BZ30-'C. Winter Peak 2015-01-15'!HM30","v":0},{"$f":"ColdWinter!CA30-'C. Winter Peak 2015-01-15'!HN30","v":0},{"$f":"ColdWinter!CB30-'C. Winter Peak 2015-01-15'!HO30","v":0},{"$f":"ColdWinter!CC30-'C. Winter Peak 2015-01-15'!HP30","v":0},{"$f":"ColdWinter!CD30-'C. Winter Peak 2015-01-15'!HQ30","v":0},{"$f":"ColdWinter!CE30-'C. Winter Peak 2015-01-15'!HR30","v":0},{"$f":"ColdWinter!CF30-'C. Winter Peak 2015-01-15'!HS30","v":0},{"$f":"ColdWinter!CG30-'C. Winter Peak 2015-01-15'!HT30","v":0},{"$f":"ColdWinter!CH30-'C. Winter Peak 2015-01-15'!HU30","v":0},{"$f":"ColdWinter!CI30-'C. Winter Peak 2015-01-15'!HV30","v":0},{"$f":"ColdWinter!CJ30-'C. Winter Peak 2015-01-15'!HW30","v":0},{"$f":"ColdWinter!CK30-'C. Winter Peak 2015-01-15'!HX30","v":0},{"$f":"ColdWinter!CL30-'C. Winter Peak 2015-01-15'!HY30","v":0},{"$f":"ColdWinter!CM30-'C. Winter Peak 2015-01-15'!HZ30","v":0},{"$f":"ColdWinter!CN30-'C. Winter Peak 2015-01-15'!IA30","v":0},{"$f":"ColdWinter!CO30-'C. Winter Peak 2015-01-15'!IB30","v":0},{"$f":"ColdWinter!CP30-'C. Winter Peak 2015-01-15'!IC30","v":0},{"$f":"ColdWinter!CQ30-'C. Winter Peak 2015-01-15'!ID30","v":0},{"$f":"ColdWinter!CR30-'C. Winter Peak 2015-01-15'!IE30","v":0},{"$f":"ColdWinter!CS30-'C. Winter Peak 2015-01-15'!IF30","v":0},{"$f":"ColdWinter!CT30-'C. Winter Peak 2015-01-15'!IG30","v":0},{"$f":"ColdWinter!CU30-'C. Winter Peak 2015-01-15'!IH30","v":0},{"$f":"ColdWinter!CV30-'C. Winter Peak 2015-01-15'!II30","v":0},{"$f":"ColdWinter!CW30-'C. Winter Peak 2015-01-15'!IJ30","v":0},{"$f":"ColdWinter!CX30-'C. Winter Peak 2015-01-15'!IK30","v":0},{"$f":"ColdWinter!CY30-'C. Winter Peak 2015-01-15'!IL30","v":0},{"$f":"ColdWinter!CZ30-'C. Winter Peak 2015-01-15'!IM30","v":0},{"$f":"ColdWinter!DA30-'C. Winter Peak 2015-01-15'!IN30","v":0},{"$f":"ColdWinter!DB30-'C. Winter Peak 2015-01-15'!IO30","v":0},{"$f":"ColdWinter!DC30-'C. Winter Peak 2015-01-15'!IP30","v":0},{"$f":"ColdWinter!DD30-'C. Winter Peak 2015-01-15'!IQ30","v":0},{"$f":"ColdWinter!DE30-'C. Winter Peak 2015-01-15'!IR30","v":0},{"$f":"ColdWinter!DF30-'C. Winter Peak 2015-01-15'!IS30","v":0},{"$f":"ColdWinter!DG30-'C. Winter Peak 2015-01-15'!IT30","v":0},{"$f":"ColdWinter!DH30-'C. Winter Peak 2015-01-15'!IU30","v":0},{"$f":"ColdWinter!DI30-'C. Winter Peak 2015-01-15'!IV30","v":0},{"$f":"ColdWinter!DJ30-'C. Winter Peak 2015-01-15'!IW30","v":0},{"$f":"ColdWinter!DK30-'C. Winter Peak 2015-01-15'!IX30","v":0},{"$f":"ColdWinter!DL30-'C. Winter Peak 2015-01-15'!IY30","v":0},{"$f":"ColdWinter!DM30-'C. Winter Peak 2015-01-15'!IZ30","v":0},{"$f":"ColdWinter!DN30-'C. Winter Peak 2015-01-15'!JA30","v":0},{"$f":"ColdWinter!DO30-'C. Winter Peak 2015-01-15'!JB30","v":0},{"$f":"ColdWinter!DP30-'C. Winter Peak 2015-01-15'!JC30","v":0},{"$f":"ColdWinter!DQ30-'C. Winter Peak 2015-01-15'!JD30","v":0},{"$f":"ColdWinter!DR30-'C. Winter Peak 2015-01-15'!JE30","v":0},{"$f":"ColdWinter!DS30-'C. Winter Peak 2015-01-15'!JF30","v":0}]
[null,"PPE4",{"$f":"ColdWinter!C31-'C. Winter Peak 2015-01-15'!EP31","v":0},{"$f":"ColdWinter!D31-'C. Winter Peak 2015-01-15'!EQ31","v":0},{"$f":"ColdWinter!E31-'C. Winter Peak 2015-01-15'!ER31","v":0},{"$f":"ColdWinter!F31-'C. Winter Peak 2015-01-15'!ES31","v":0},{"$f":"ColdWinter!G31-'C. Winter Peak 2015-01-15'!ET31","v":0},{"$f":"ColdWinter!H31-'C. Winter Peak 2015-01-15'!EU31","v":0},{"$f":"ColdWinter!I31-'C. Winter Peak 2015-01-15'!EV31","v":0},{"$f":"ColdWinter!J31-'C. Winter Peak 2015-01-15'!EW31","v":0},{"$f":"ColdWinter!K31-'C. Winter Peak 2015-01-15'!EX31","v":0},{"$f":"ColdWinter!L31-'C. Winter Peak 2015-01-15'!EY31","v":0},{"$f":"ColdWinter!M31-'C. Winter Peak 2015-01-15'!EZ31","v":0},{"$f":"ColdWinter!N31-'C. Winter Peak 2015-01-15'!FA31","v":0},{"$f":"ColdWinter!O31-'C. Winter Peak 2015-01-15'!FB31","v":0},{"$f":"ColdWinter!P31-'C. Winter Peak 2015-01-15'!FC31","v":0},{"$f":"ColdWinter!Q31-'C. Winter Peak 2015-01-15'!FD31","v":0},{"$f":"ColdWinter!R31-'C. Winter Peak 2015-01-15'!FE31","v":0},{"$f":"ColdWinter!S31-'C. Winter Peak 2015-01-15'!FF31","v":0},{"$f":"ColdWinter!T31-'C. Winter Peak 2015-01-15'!FG31","v":0},{"$f":"ColdWinter!U31-'C. Winter Peak 2015-01-15'!FH31","v":0},{"$f":"ColdWinter!V31-'C. Winter Peak 2015-01-15'!FI31","v":0},{"$f":"ColdWinter!W31-'C. Winter Peak 2015-01-15'!FJ31","v":0},{"$f":"ColdWinter!X31-'C. Winter Peak 2015-01-15'!FK31","v":0},{"$f":"ColdWinter!Y31-'C. Winter Peak 2015-01-15'!FL31","v":0},{"$f":"ColdWinter!Z31-'C. Winter Peak 2015-01-15'!FM31","v":0},{"$f":"ColdWinter!AA31-'C. Winter Peak 2015-01-15'!FN31","v":0},{"$f":"ColdWinter!AB31-'C. Winter Peak 2015-01-15'!FO31","v":0},{"$f":"ColdWinter!AC31-'C. Winter Peak 2015-01-15'!FP31","v":0},{"$f":"ColdWinter!AD31-'C. Winter Peak 2015-01-15'!FQ31","v":0},{"$f":"ColdWinter!AE31-'C. Winter Peak 2015-01-15'!FR31","v":0},{"$f":"ColdWinter!AF31-'C. Winter Peak 2015-01-15'!FS31","v":0},{"$f":"ColdWinter!AG31-'C. Winter Peak 2015-01-15'!FT31","v":0},{"$f":"ColdWinter!AH31-'C. Winter Peak 2015-01-15'!FU31","v":0},{"$f":"ColdWinter!AI31-'C. Winter Peak 2015-01-15'!FV31","v":0},{"$f":"ColdWinter!AJ31-'C. Winter Peak 2015-01-15'!FW31","v":0},{"$f":"ColdWinter!AK31-'C. Winter Peak 2015-01-15'!FX31","v":0},{"$f":"ColdWinter!AL31-'C. Winter Peak 2015-01-15'!FY31","v":0},{"$f":"ColdWinter!AM31-'C. Winter Peak 2015-01-15'!FZ31","v":0},{"$f":"ColdWinter!AN31-'C. Winter Peak 2015-01-15'!GA31","v":0},{"$f":"ColdWinter!AO31-'C. Winter Peak 2015-01-15'!GB31","v":0},{"$f":"ColdWinter!AP31-'C. Winter Peak 2015-01-15'!GC31","v":0},{"$f":"ColdWinter!AQ31-'C. Winter Peak 2015-01-15'!GD31","v":0},{"$f":"ColdWinter!AR31-'C. Winter Peak 2015-01-15'!GE31","v":0},{"$f":"ColdWinter!AS31-'C. Winter Peak 2015-01-15'!GF31","v":0},{"$f":"ColdWinter!AT31-'C. Winter Peak 2015-01-15'!GG31","v":0},{"$f":"ColdWinter!AU31-'C. Winter Peak 2015-01-15'!GH31","v":0},{"$f":"ColdWinter!AV31-'C. Winter Peak 2015-01-15'!GI31","v":0},{"$f":"ColdWinter!AW31-'C. Winter Peak 2015-01-15'!GJ31","v":0},{"$f":"ColdWinter!AX31-'C. Winter Peak 2015-01-15'!GK31","v":0},{"$f":"ColdWinter!AY31-'C. Winter Peak 2015-01-15'!GL31","v":0},{"$f":"ColdWinter!AZ31-'C. Winter Peak 2015-01-15'!GM31","v":0},{"$f":"ColdWinter!BA31-'C. Winter Peak 2015-01-15'!GN31","v":0},{"$f":"ColdWinter!BB31-'C. Winter Peak 2015-01-15'!GO31","v":0},{"$f":"ColdWinter!BC31-'C. Winter Peak 2015-01-15'!GP31","v":0},{"$f":"ColdWinter!BD31-'C. Winter Peak 2015-01-15'!GQ31","v":0},{"$f":"ColdWinter!BE31-'C. Winter Peak 2015-01-15'!GR31","v":0},{"$f":"ColdWinter!BF31-'C. Winter Peak 2015-01-15'!GS31","v":0},{"$f":"ColdWinter!BG31-'C. Winter Peak 2015-01-15'!GT31","v":0},{"$f":"ColdWinter!BH31-'C. Winter Peak 2015-01-15'!GU31","v":0},{"$f":"ColdWinter!BI31-'C. Winter Peak 2015-01-15'!GV31","v":0},{"$f":"ColdWinter!BJ31-'C. Winter Peak 2015-01-15'!GW31","v":0},{"$f":"ColdWinter!BK31-'C. Winter Peak 2015-01-15'!GX31","v":0},{"$f":"ColdWinter!BL31-'C. Winter Peak 2015-01-15'!GY31","v":0},{"$f":"ColdWinter!BM31-'C. Winter Peak 2015-01-15'!GZ31","v":0},{"$f":"ColdWinter!BN31-'C. Winter Peak 2015-01-15'!HA31","v":0},{"$f":"ColdWinter!BO31-'C. Winter Peak 2015-01-15'!HB31","v":0},{"$f":"ColdWinter!BP31-'C. Winter Peak 2015-01-15'!HC31","v":0},{"$f":"ColdWinter!BQ31-'C. Winter Peak 2015-01-15'!HD31","v":0},{"$f":"ColdWinter!BR31-'C. Winter Peak 2015-01-15'!HE31","v":0},{"$f":"ColdWinter!BS31-'C. Winter Peak 2015-01-15'!HF31","v":0},{"$f":"ColdWinter!BT31-'C. Winter Peak 2015-01-15'!HG31","v":0},{"$f":"ColdWinter!BU31-'C. Winter Peak 2015-01-15'!HH31","v":0},{"$f":"ColdWinter!BV31-'C. Winter Peak 2015-01-15'!HI31","v":0},{"$f":"ColdWinter!BW31-'C. Winter Peak 2015-01-15'!HJ31","v":0},{"$f":"ColdWinter!BX31-'C. Winter Peak 2015-01-15'!HK31","v":0},{"$f":"ColdWinter!BY31-'C. Winter Peak 2015-01-15'!HL31","v":0},{"$f":"ColdWinter!BZ31-'C. Winter Peak 2015-01-15'!HM31","v":0},{"$f":"ColdWinter!CA31-'C. Winter Peak 2015-01-15'!HN31","v":0},{"$f":"ColdWinter!CB31-'C. Winter Peak 2015-01-15'!HO31","v":0},{"$f":"ColdWinter!CC31-'C. Winter Peak 2015-01-15'!HP31","v":0},{"$f":"ColdWinter!CD31-'C. Winter Peak 2015-01-15'!HQ31","v":0},{"$f":"ColdWinter!CE31-'C. Winter Peak 2015-01-15'!HR31","v":0},{"$f":"ColdWinter!CF31-'C. Winter Peak 2015-01-15'!HS31","v":0},{"$f":"ColdWinter!CG31-'C. Winter Peak 2015-01-15'!HT31","v":0},{"$f":"ColdWinter!CH31-'C. Winter Peak 2015-01-15'!HU31","v":0},{"$f":"ColdWinter!CI31-'C. Winter Peak 2015-01-15'!HV31","v":0},{"$f":"ColdWinter!CJ31-'C. Winter Peak 2015-01-15'!HW31","v":0},{"$f":"ColdWinter!CK31-'C. Winter Peak 2015-01-15'!HX31","v":0},{"$f":"ColdWinter!CL31-'C. Winter Peak 2015-01-15'!HY31","v":0},{"$f":"ColdWinter!CM31-'C. Winter Peak 2015-01-15'!HZ31","v":0},{"$f":"ColdWinter!CN31-'C. Winter Peak 2015-01-15'!IA31","v":0},{"$f":"ColdWinter!CO31-'C. Winter Peak 2015-01-15'!IB31","v":0},{"$f":"ColdWinter!CP31-'C. Winter Peak 2015-01-15'!IC31","v":0},{"$f":"ColdWinter!CQ31-'C. Winter Peak 2015-01-15'!ID31","v":0},{"$f":"ColdWinter!CR31-'C. Winter Peak 2015-01-15'!IE31","v":0},{"$f":"ColdWinter!CS31-'C. Winter Peak 2015-01-15'!IF31","v":0},{"$f":"ColdWinter!CT31-'C. Winter Peak 2015-01-15'!IG31","v":0},{"$f":"ColdWinter!CU31-'C. Winter Peak 2015-01-15'!IH31","v":0},{"$f":"ColdWinter!CV31-'C. Winter Peak 2015-01-15'!II31","v":0},{"$f":"ColdWinter!CW31-'C. Winter Peak 2015-01-15'!IJ31","v":0},{"$f":"ColdWinter!CX31-'C. Winter Peak 2015-01-15'!IK31","v":0},{"$f":"ColdWinter!CY31-'C. Winter Peak 2015-01-15'!IL31","v":0},{"$f":"ColdWinter!CZ31-'C. Winter Peak 2015-01-15'!IM31","v":0},{"$f":"ColdWinter!DA31-'C. Winter Peak 2015-01-15'!IN31","v":0},{"$f":"ColdWinter!DB31-'C. Winter Peak 2015-01-15'!IO31","v":0},{"$f":"ColdWinter!DC31-'C. Winter Peak 2015-01-15'!IP31","v":0},{"$f":"ColdWinter!DD31-'C. Winter Peak 2015-01-15'!IQ31","v":0},{"$f":"ColdWinter!DE31-'C. Winter Peak 2015-01-15'!IR31","v":0},{"$f":"ColdWinter!DF31-'C. Winter Peak 2015-01-15'!IS31","v":0},{"$f":"ColdWinter!DG31-'C. Winter Peak 2015-01-15'!IT31","v":0},{"$f":"ColdWinter!DH31-'C. Winter Peak 2015-01-15'!IU31","v":0},{"$f":"ColdWinter!DI31-'C. Winter Peak 2015-01-15'!IV31","v":0},{"$f":"ColdWinter!DJ31-'C. Winter Peak 2015-01-15'!IW31","v":0},{"$f":"ColdWinter!DK31-'C. Winter Peak 2015-01-15'!IX31","v":0},{"$f":"ColdWinter!DL31-'C. Winter Peak 2015-01-15'!IY31","v":0},{"$f":"ColdWinter!DM31-'C. Winter Peak 2015-01-15'!IZ31","v":0},{"$f":"ColdWinter!DN31-'C. Winter Peak 2015-01-15'!JA31","v":0},{"$f":"ColdWinter!DO31-'C. Winter Peak 2015-01-15'!JB31","v":0},{"$f":"ColdWinter!DP31-'C. Winter Peak 2015-01-15'!JC31","v":0},{"$f":"ColdWinter!DQ31-'C. Winter Peak 2015-01-15'!JD31","v":0},{"$f":"ColdWinter!DR31-'C. Winter Peak 2015-01-15'!JE31","v":0},{"$f":"ColdWinter!DS31-'C. Winter Peak 2015-01-15'!JF31","v":0}]
[null,"PPE5",{"$f":"ColdWinter!C32-'C. Winter Peak 2015-01-15'!EP32","v":0},{"$f":"ColdWinter!D32-'C. Winter Peak 2015-01-15'!EQ32","v":0},{"$f":"ColdWinter!E32-'C. Winter Peak 2015-01-15'!ER32","v":0},{"$f":"ColdWinter!F32-'C. Winter Peak 2015-01-15'!ES32","v":0},{"$f":"ColdWinter!G32-'C. Winter Peak 2015-01-15'!ET32","v":0},{"$f":"ColdWinter!H32-'C. Winter Peak 2015-01-15'!EU32","v":0},{"$f":"ColdWinter!I32-'C. Winter Peak 2015-01-15'!EV32","v":0},{"$f":"ColdWinter!J32-'C. Winter Peak 2015-01-15'!EW32","v":0},{"$f":"ColdWinter!K32-'C. Winter Peak 2015-01-15'!EX32","v":0},{"$f":"ColdWinter!L32-'C. Winter Peak 2015-01-15'!EY32","v":0},{"$f":"ColdWinter!M32-'C. Winter Peak 2015-01-15'!EZ32","v":0},{"$f":"ColdWinter!N32-'C. Winter Peak 2015-01-15'!FA32","v":0},{"$f":"ColdWinter!O32-'C. Winter Peak 2015-01-15'!FB32","v":0},{"$f":"ColdWinter!P32-'C. Winter Peak 2015-01-15'!FC32","v":0},{"$f":"ColdWinter!Q32-'C. Winter Peak 2015-01-15'!FD32","v":0},{"$f":"ColdWinter!R32-'C. Winter Peak 2015-01-15'!FE32","v":0},{"$f":"ColdWinter!S32-'C. Winter Peak 2015-01-15'!FF32","v":0},{"$f":"ColdWinter!T32-'C. Winter Peak 2015-01-15'!FG32","v":0},{"$f":"ColdWinter!U32-'C. Winter Peak 2015-01-15'!FH32","v":0},{"$f":"ColdWinter!V32-'C. Winter Peak 2015-01-15'!FI32","v":0},{"$f":"ColdWinter!W32-'C. Winter Peak 2015-01-15'!FJ32","v":0},{"$f":"ColdWinter!X32-'C. Winter Peak 2015-01-15'!FK32","v":0},{"$f":"ColdWinter!Y32-'C. Winter Peak 2015-01-15'!FL32","v":0},{"$f":"ColdWinter!Z32-'C. Winter Peak 2015-01-15'!FM32","v":0},{"$f":"ColdWinter!AA32-'C. Winter Peak 2015-01-15'!FN32","v":0},{"$f":"ColdWinter!AB32-'C. Winter Peak 2015-01-15'!FO32","v":0},{"$f":"ColdWinter!AC32-'C. Winter Peak 2015-01-15'!FP32","v":0},{"$f":"ColdWinter!AD32-'C. Winter Peak 2015-01-15'!FQ32","v":0},{"$f":"ColdWinter!AE32-'C. Winter Peak 2015-01-15'!FR32","v":0},{"$f":"ColdWinter!AF32-'C. Winter Peak 2015-01-15'!FS32","v":0},{"$f":"ColdWinter!AG32-'C. Winter Peak 2015-01-15'!FT32","v":83},{"$f":"ColdWinter!AH32-'C. Winter Peak 2015-01-15'!FU32","v":83},{"$f":"ColdWinter!AI32-'C. Winter Peak 2015-01-15'!FV32","v":83},{"$f":"ColdWinter!AJ32-'C. Winter Peak 2015-01-15'!FW32","v":83},{"$f":"ColdWinter!AK32-'C. Winter Peak 2015-01-15'!FX32","v":83},{"$f":"ColdWinter!AL32-'C. Winter Peak 2015-01-15'!FY32","v":83},{"$f":"ColdWinter!AM32-'C. Winter Peak 2015-01-15'!FZ32","v":83},{"$f":"ColdWinter!AN32-'C. Winter Peak 2015-01-15'!GA32","v":83},{"$f":"ColdWinter!AO32-'C. Winter Peak 2015-01-15'!GB32","v":83},{"$f":"ColdWinter!AP32-'C. Winter Peak 2015-01-15'!GC32","v":83},{"$f":"ColdWinter!AQ32-'C. Winter Peak 2015-01-15'!GD32","v":83},{"$f":"ColdWinter!AR32-'C. Winter Peak 2015-01-15'!GE32","v":83},{"$f":"ColdWinter!AS32-'C. Winter Peak 2015-01-15'!GF32","v":83},{"$f":"ColdWinter!AT32-'C. Winter Peak 2015-01-15'!GG32","v":83},{"$f":"ColdWinter!AU32-'C. Winter Peak 2015-01-15'!GH32","v":83},{"$f":"ColdWinter!AV32-'C. Winter Peak 2015-01-15'!GI32","v":83},{"$f":"ColdWinter!AW32-'C. Winter Peak 2015-01-15'!GJ32","v":83},{"$f":"ColdWinter!AX32-'C. Winter Peak 2015-01-15'!GK32","v":83},{"$f":"ColdWinter!AY32-'C. Winter Peak 2015-01-15'!GL32","v":83},{"$f":"ColdWinter!AZ32-'C. Winter Peak 2015-01-15'!GM32","v":83},{"$f":"ColdWinter!BA32-'C. Winter Peak 2015-01-15'!GN32","v":83},{"$f":"ColdWinter!BB32-'C. Winter Peak 2015-01-15'!GO32","v":83},{"$f":"ColdWinter!BC32-'C. Winter Peak 2015-01-15'!GP32","v":83},{"$f":"ColdWinter!BD32-'C. Winter Peak 2015-01-15'!GQ32","v":83},{"$f":"ColdWinter!BE32-'C. Winter Peak 2015-01-15'!GR32","v":83},{"$f":"ColdWinter!BF32-'C. Winter Peak 2015-01-15'!GS32","v":83},{"$f":"ColdWinter!BG32-'C. Winter Peak 2015-01-15'!GT32","v":83},{"$f":"ColdWinter!BH32-'C. Winter Peak 2015-01-15'!GU32","v":83},{"$f":"ColdWinter!BI32-'C. Winter Peak 2015-01-15'!GV32","v":83},{"$f":"ColdWinter!BJ32-'C. Winter Peak 2015-01-15'!GW32","v":83},{"$f":"ColdWinter!BK32-'C. Winter Peak 2015-01-15'!GX32","v":83},{"$f":"ColdWinter!BL32-'C. Winter Peak 2015-01-15'!GY32","v":83},{"$f":"ColdWinter!BM32-'C. Winter Peak 2015-01-15'!GZ32","v":83},{"$f":"ColdWinter!BN32-'C. Winter Peak 2015-01-15'!HA32","v":83},{"$f":"ColdWinter!BO32-'C. Winter Peak 2015-01-15'!HB32","v":83},{"$f":"ColdWinter!BP32-'C. Winter Peak 2015-01-15'!HC32","v":83},{"$f":"ColdWinter!BQ32-'C. Winter Peak 2015-01-15'!HD32","v":83},{"$f":"ColdWinter!BR32-'C. Winter Peak 2015-01-15'!HE32","v":83},{"$f":"ColdWinter!BS32-'C. Winter Peak 2015-01-15'!HF32","v":83},{"$f":"ColdWinter!BT32-'C. Winter Peak 2015-01-15'!HG32","v":83},{"$f":"ColdWinter!BU32-'C. Winter Peak 2015-01-15'!HH32","v":83},{"$f":"ColdWinter!BV32-'C. Winter Peak 2015-01-15'!HI32","v":83},{"$f":"ColdWinter!BW32-'C. Winter Peak 2015-01-15'!HJ32","v":83},{"$f":"ColdWinter!BX32-'C. Winter Peak 2015-01-15'!HK32","v":83},{"$f":"ColdWinter!BY32-'C. Winter Peak 2015-01-15'!HL32","v":83},{"$f":"ColdWinter!BZ32-'C. Winter Peak 2015-01-15'!HM32","v":83},{"$f":"ColdWinter!CA32-'C. Winter Peak 2015-01-15'!HN32","v":83},{"$f":"ColdWinter!CB32-'C. Winter Peak 2015-01-15'!HO32","v":83},{"$f":"ColdWinter!CC32-'C. Winter Peak 2015-01-15'!HP32","v":83},{"$f":"ColdWinter!CD32-'C. Winter Peak 2015-01-15'!HQ32","v":83},{"$f":"ColdWinter!CE32-'C. Winter Peak 2015-01-15'!HR32","v":83},{"$f":"ColdWinter!CF32-'C. Winter Peak 2015-01-15'!HS32","v":83},{"$f":"ColdWinter!CG32-'C. Winter Peak 2015-01-15'!HT32","v":83},{"$f":"ColdWinter!CH32-'C. Winter Peak 2015-01-15'!HU32","v":83},{"$f":"ColdWinter!CI32-'C. Winter Peak 2015-01-15'!HV32","v":83},{"$f":"ColdWinter!CJ32-'C. Winter Peak 2015-01-15'!HW32","v":83},{"$f":"ColdWinter!CK32-'C. Winter Peak 2015-01-15'!HX32","v":83},{"$f":"ColdWinter!CL32-'C. Winter Peak 2015-01-15'!HY32","v":83},{"$f":"ColdWinter!CM32-'C. Winter Peak 2015-01-15'!HZ32","v":83},{"$f":"ColdWinter!CN32-'C. Winter Peak 2015-01-15'!IA32","v":83},{"$f":"ColdWinter!CO32-'C. Winter Peak 2015-01-15'!IB32","v":83},{"$f":"ColdWinter!CP32-'C. Winter Peak 2015-01-15'!IC32","v":83},{"$f":"ColdWinter!CQ32-'C. Winter Peak 2015-01-15'!ID32","v":83},{"$f":"ColdWinter!CR32-'C. Winter Peak 2015-01-15'!IE32","v":83},{"$f":"ColdWinter!CS32-'C. Winter Peak 2015-01-15'!IF32","v":83},{"$f":"ColdWinter!CT32-'C. Winter Peak 2015-01-15'!IG32","v":83},{"$f":"ColdWinter!CU32-'C. Winter Peak 2015-01-15'!IH32","v":83},{"$f":"ColdWinter!CV32-'C. Winter Peak 2015-01-15'!II32","v":83},{"$f":"ColdWinter!CW32-'C. Winter Peak 2015-01-15'!IJ32","v":83},{"$f":"ColdWinter!CX32-'C. Winter Peak 2015-01-15'!IK32","v":83},{"$f":"ColdWinter!CY32-'C. Winter Peak 2015-01-15'!IL32","v":83},{"$f":"ColdWinter!CZ32-'C. Winter Peak 2015-01-15'!IM32","v":83},{"$f":"ColdWinter!DA32-'C. Winter Peak 2015-01-15'!IN32","v":83},{"$f":"ColdWinter!DB32-'C. Winter Peak 2015-01-15'!IO32","v":83},{"$f":"ColdWinter!DC32-'C. Winter Peak 2015-01-15'!IP32","v":83},{"$f":"ColdWinter!DD32-'C. Winter Peak 2015-01-15'!IQ32","v":83},{"$f":"ColdWinter!DE32-'C. Winter Peak 2015-01-15'!IR32","v":83},{"$f":"ColdWinter!DF32-'C. Winter Peak 2015-01-15'!IS32","v":83},{"$f":"ColdWinter!DG32-'C. Winter Peak 2015-01-15'!IT32","v":83},{"$f":"ColdWinter!DH32-'C. Winter Peak 2015-01-15'!IU32","v":83},{"$f":"ColdWinter!DI32-'C. Winter Peak 2015-01-15'!IV32","v":83},{"$f":"ColdWinter!DJ32-'C. Winter Peak 2015-01-15'!IW32","v":83},{"$f":"ColdWinter!DK32-'C. Winter Peak 2015-01-15'!IX32","v":83},{"$f":"ColdWinter!DL32-'C. Winter Peak 2015-01-15'!IY32","v":83},{"$f":"ColdWinter!DM32-'C. Winter Peak 2015-01-15'!IZ32","v":83},{"$f":"ColdWinter!DN32-'C. Winter Peak 2015-01-15'!JA32","v":83},{"$f":"ColdWinter!DO32-'C. Winter Peak 2015-01-15'!JB32","v":83},{"$f":"ColdWinter!DP32-'C. Winter Peak 2015-01-15'!JC32","v":83},{"$f":"ColdWinter!DQ32-'C. Winter Peak 2015-01-15'!JD32","v":83},{"$f":"ColdWinter!DR32-'C. Winter Peak 2015-01-15'!JE32","v":83},{"$f":"ColdWinter!DS32-'C. Winter Peak 2015-01-15'!JF32","v":83}]
[null,"PPE GT",{"$f":"ColdWinter!C33-'C. Winter Peak 2015-01-15'!EP33","v":0},{"$f":"ColdWinter!D33-'C. Winter Peak 2015-01-15'!EQ33","v":0},{"$f":"ColdWinter!E33-'C. Winter Peak 2015-01-15'!ER33","v":0},{"$f":"ColdWinter!F33-'C. Winter Peak 2015-01-15'!ES33","v":0},{"$f":"ColdWinter!G33-'C. Winter Peak 2015-01-15'!ET33","v":0},{"$f":"ColdWinter!H33-'C. Winter Peak 2015-01-15'!EU33","v":0},{"$f":"ColdWinter!I33-'C. Winter Peak 2015-01-15'!EV33","v":0},{"$f":"ColdWinter!J33-'C. Winter Peak 2015-01-15'!EW33","v":0},{"$f":"ColdWinter!K33-'C. Winter Peak 2015-01-15'!EX33","v":0},{"$f":"ColdWinter!L33-'C. Winter Peak 2015-01-15'!EY33","v":0},{"$f":"ColdWinter!M33-'C. Winter Peak 2015-01-15'!EZ33","v":0},{"$f":"ColdWinter!N33-'C. Winter Peak 2015-01-15'!FA33","v":0},{"$f":"ColdWinter!O33-'C. Winter Peak 2015-01-15'!FB33","v":0},{"$f":"ColdWinter!P33-'C. Winter Peak 2015-01-15'!FC33","v":0},{"$f":"ColdWinter!Q33-'C. Winter Peak 2015-01-15'!FD33","v":0},{"$f":"ColdWinter!R33-'C. Winter Peak 2015-01-15'!FE33","v":0},{"$f":"ColdWinter!S33-'C. Winter Peak 2015-01-15'!FF33","v":0},{"$f":"ColdWinter!T33-'C. Winter Peak 2015-01-15'!FG33","v":0},{"$f":"ColdWinter!U33-'C. Winter Peak 2015-01-15'!FH33","v":0},{"$f":"ColdWinter!V33-'C. Winter Peak 2015-01-15'!FI33","v":0},{"$f":"ColdWinter!W33-'C. Winter Peak 2015-01-15'!FJ33","v":0},{"$f":"ColdWinter!X33-'C. Winter Peak 2015-01-15'!FK33","v":0},{"$f":"ColdWinter!Y33-'C. Winter Peak 2015-01-15'!FL33","v":0},{"$f":"ColdWinter!Z33-'C. Winter Peak 2015-01-15'!FM33","v":0},{"$f":"ColdWinter!AA33-'C. Winter Peak 2015-01-15'!FN33","v":0},{"$f":"ColdWinter!AB33-'C. Winter Peak 2015-01-15'!FO33","v":0},{"$f":"ColdWinter!AC33-'C. Winter Peak 2015-01-15'!FP33","v":0},{"$f":"ColdWinter!AD33-'C. Winter Peak 2015-01-15'!FQ33","v":0},{"$f":"ColdWinter!AE33-'C. Winter Peak 2015-01-15'!FR33","v":0},{"$f":"ColdWinter!AF33-'C. Winter Peak 2015-01-15'!FS33","v":0},{"$f":"ColdWinter!AG33-'C. Winter Peak 2015-01-15'!FT33","v":0},{"$f":"ColdWinter!AH33-'C. Winter Peak 2015-01-15'!FU33","v":0},{"$f":"ColdWinter!AI33-'C. Winter Peak 2015-01-15'!FV33","v":0},{"$f":"ColdWinter!AJ33-'C. Winter Peak 2015-01-15'!FW33","v":0},{"$f":"ColdWinter!AK33-'C. Winter Peak 2015-01-15'!FX33","v":0},{"$f":"ColdWinter!AL33-'C. Winter Peak 2015-01-15'!FY33","v":0},{"$f":"ColdWinter!AM33-'C. Winter Peak 2015-01-15'!FZ33","v":0},{"$f":"ColdWinter!AN33-'C. Winter Peak 2015-01-15'!GA33","v":0},{"$f":"ColdWinter!AO33-'C. Winter Peak 2015-01-15'!GB33","v":0},{"$f":"ColdWinter!AP33-'C. Winter Peak 2015-01-15'!GC33","v":0},{"$f":"ColdWinter!AQ33-'C. Winter Peak 2015-01-15'!GD33","v":0},{"$f":"ColdWinter!AR33-'C. Winter Peak 2015-01-15'!GE33","v":0},{"$f":"ColdWinter!AS33-'C. Winter Peak 2015-01-15'!GF33","v":0},{"$f":"ColdWinter!AT33-'C. Winter Peak 2015-01-15'!GG33","v":0},{"$f":"ColdWinter!AU33-'C. Winter Peak 2015-01-15'!GH33","v":0},{"$f":"ColdWinter!AV33-'C. Winter Peak 2015-01-15'!GI33","v":0},{"$f":"ColdWinter!AW33-'C. Winter Peak 2015-01-15'!GJ33","v":0},{"$f":"ColdWinter!AX33-'C. Winter Peak 2015-01-15'!GK33","v":0},{"$f":"ColdWinter!AY33-'C. Winter Peak 2015-01-15'!GL33","v":0},{"$f":"ColdWinter!AZ33-'C. Winter Peak 2015-01-15'!GM33","v":0},{"$f":"ColdWinter!BA33-'C. Winter Peak 2015-01-15'!GN33","v":0},{"$f":"ColdWinter!BB33-'C. Winter Peak 2015-01-15'!GO33","v":0},{"$f":"ColdWinter!BC33-'C. Winter Peak 2015-01-15'!GP33","v":0},{"$f":"ColdWinter!BD33-'C. Winter Peak 2015-01-15'!GQ33","v":0},{"$f":"ColdWinter!BE33-'C. Winter Peak 2015-01-15'!GR33","v":0},{"$f":"ColdWinter!BF33-'C. Winter Peak 2015-01-15'!GS33","v":0},{"$f":"ColdWinter!BG33-'C. Winter Peak 2015-01-15'!GT33","v":0},{"$f":"ColdWinter!BH33-'C. Winter Peak 2015-01-15'!GU33","v":0},{"$f":"ColdWinter!BI33-'C. Winter Peak 2015-01-15'!GV33","v":0},{"$f":"ColdWinter!BJ33-'C. Winter Peak 2015-01-15'!GW33","v":0},{"$f":"ColdWinter!BK33-'C. Winter Peak 2015-01-15'!GX33","v":0},{"$f":"ColdWinter!BL33-'C. Winter Peak 2015-01-15'!GY33","v":0},{"$f":"ColdWinter!BM33-'C. Winter Peak 2015-01-15'!GZ33","v":0},{"$f":"ColdWinter!BN33-'C. Winter Peak 2015-01-15'!HA33","v":0},{"$f":"ColdWinter!BO33-'C. Winter Peak 2015-01-15'!HB33","v":0},{"$f":"ColdWinter!BP33-'C. Winter Peak 2015-01-15'!HC33","v":0},{"$f":"ColdWinter!BQ33-'C. Winter Peak 2015-01-15'!HD33","v":0},{"$f":"ColdWinter!BR33-'C. Winter Peak 2015-01-15'!HE33","v":0},{"$f":"ColdWinter!BS33-'C. Winter Peak 2015-01-15'!HF33","v":0},{"$f":"ColdWinter!BT33-'C. Winter Peak 2015-01-15'!HG33","v":0},{"$f":"ColdWinter!BU33-'C. Winter Peak 2015-01-15'!HH33","v":0},{"$f":"ColdWinter!BV33-'C. Winter Peak 2015-01-15'!HI33","v":0},{"$f":"ColdWinter!BW33-'C. Winter Peak 2015-01-15'!HJ33","v":0},{"$f":"ColdWinter!BX33-'C. Winter Peak 2015-01-15'!HK33","v":0},{"$f":"ColdWinter!BY33-'C. Winter Peak 2015-01-15'!HL33","v":0},{"$f":"ColdWinter!BZ33-'C. Winter Peak 2015-01-15'!HM33","v":0},{"$f":"ColdWinter!CA33-'C. Winter Peak 2015-01-15'!HN33","v":0},{"$f":"ColdWinter!CB33-'C. Winter Peak 2015-01-15'!HO33","v":0},{"$f":"ColdWinter!CC33-'C. Winter Peak 2015-01-15'!HP33","v":0},{"$f":"ColdWinter!CD33-'C. Winter Peak 2015-01-15'!HQ33","v":0},{"$f":"ColdWinter!CE33-'C. Winter Peak 2015-01-15'!HR33","v":0},{"$f":"ColdWinter!CF33-'C. Winter Peak 2015-01-15'!HS33","v":0},{"$f":"ColdWinter!CG33-'C. Winter Peak 2015-01-15'!HT33","v":0},{"$f":"ColdWinter!CH33-'C. Winter Peak 2015-01-15'!HU33","v":0},{"$f":"ColdWinter!CI33-'C. Winter Peak 2015-01-15'!HV33","v":0},{"$f":"ColdWinter!CJ33-'C. Winter Peak 2015-01-15'!HW33","v":0},{"$f":"ColdWinter!CK33-'C. Winter Peak 2015-01-15'!HX33","v":0},{"$f":"ColdWinter!CL33-'C. Winter Peak 2015-01-15'!HY33","v":0},{"$f":"ColdWinter!CM33-'C. Winter Peak 2015-01-15'!HZ33","v":0},{"$f":"ColdWinter!CN33-'C. Winter Peak 2015-01-15'!IA33","v":0},{"$f":"ColdWinter!CO33-'C. Winter Peak 2015-01-15'!IB33","v":0},{"$f":"ColdWinter!CP33-'C. Winter Peak 2015-01-15'!IC33","v":0},{"$f":"ColdWinter!CQ33-'C. Winter Peak 2015-01-15'!ID33","v":0},{"$f":"ColdWinter!CR33-'C. Winter Peak 2015-01-15'!IE33","v":0},{"$f":"ColdWinter!CS33-'C. Winter Peak 2015-01-15'!IF33","v":0},{"$f":"ColdWinter!CT33-'C. Winter Peak 2015-01-15'!IG33","v":0},{"$f":"ColdWinter!CU33-'C. Winter Peak 2015-01-15'!IH33","v":0},{"$f":"ColdWinter!CV33-'C. Winter Peak 2015-01-15'!II33","v":0},{"$f":"ColdWinter!CW33-'C. Winter Peak 2015-01-15'!IJ33","v":0},{"$f":"ColdWinter!CX33-'C. Winter Peak 2015-01-15'!IK33","v":0},{"$f":"ColdWinter!CY33-'C. Winter Peak 2015-01-15'!IL33","v":0},{"$f":"ColdWinter!CZ33-'C. Winter Peak 2015-01-15'!IM33","v":0},{"$f":"ColdWinter!DA33-'C. Winter Peak 2015-01-15'!IN33","v":0},{"$f":"ColdWinter!DB33-'C. Winter Peak 2015-01-15'!IO33","v":0},{"$f":"ColdWinter!DC33-'C. Winter Peak 2015-01-15'!IP33","v":0},{"$f":"ColdWinter!DD33-'C. Winter Peak 2015-01-15'!IQ33","v":0},{"$f":"ColdWinter!DE33-'C. Winter Peak 2015-01-15'!IR33","v":0},{"$f":"ColdWinter!DF33-'C. Winter Peak 2015-01-15'!IS33","v":0},{"$f":"ColdWinter!DG33-'C. Winter Peak 2015-01-15'!IT33","v":0},{"$f":"ColdWinter!DH33-'C. Winter Peak 2015-01-15'!IU33","v":0},{"$f":"ColdWinter!DI33-'C. Winter Peak 2015-01-15'!IV33","v":0},{"$f":"ColdWinter!DJ33-'C. Winter Peak 2015-01-15'!IW33","v":0},{"$f":"ColdWinter!DK33-'C. Winter Peak 2015-01-15'!IX33","v":0},{"$f":"ColdWinter!DL33-'C. Winter Peak 2015-01-15'!IY33","v":0},{"$f":"ColdWinter!DM33-'C. Winter Peak 2015-01-15'!IZ33","v":0},{"$f":"ColdWinter!DN33-'C. Winter Peak 2015-01-15'!JA33","v":0},{"$f":"ColdWinter!DO33-'C. Winter Peak 2015-01-15'!JB33","v":0},{"$f":"ColdWinter!DP33-'C. Winter Peak 2015-01-15'!JC33","v":0},{"$f":"ColdWinter!DQ33-'C. Winter Peak 2015-01-15'!JD33","v":0},{"$f":"ColdWinter!DR33-'C. Winter Peak 2015-01-15'!JE33","v":0},{"$f":"ColdWinter!DS33-'C. Winter Peak 2015-01-15'!JF33","v":0}]
[null,"PPN1",{"$f":"ColdWinter!C34-'C. Winter Peak 2015-01-15'!EP34","v":0},{"$f":"ColdWinter!D34-'C. Winter Peak 2015-01-15'!EQ34","v":0},{"$f":"ColdWinter!E34-'C. Winter Peak 2015-01-15'!ER34","v":0},{"$f":"ColdWinter!F34-'C. Winter Peak 2015-01-15'!ES34","v":0},{"$f":"ColdWinter!G34-'C. Winter Peak 2015-01-15'!ET34","v":0},{"$f":"ColdWinter!H34-'C. Winter Peak 2015-01-15'!EU34","v":0},{"$f":"ColdWinter!I34-'C. Winter Peak 2015-01-15'!EV34","v":0},{"$f":"ColdWinter!J34-'C. Winter Peak 2015-01-15'!EW34","v":0},{"$f":"ColdWinter!K34-'C. Winter Peak 2015-01-15'!EX34","v":0},{"$f":"ColdWinter!L34-'C. Winter Peak 2015-01-15'!EY34","v":0},{"$f":"ColdWinter!M34-'C. Winter Peak 2015-01-15'!EZ34","v":0},{"$f":"ColdWinter!N34-'C. Winter Peak 2015-01-15'!FA34","v":0},{"$f":"ColdWinter!O34-'C. Winter Peak 2015-01-15'!FB34","v":0},{"$f":"ColdWinter!P34-'C. Winter Peak 2015-01-15'!FC34","v":0},{"$f":"ColdWinter!Q34-'C. Winter Peak 2015-01-15'!FD34","v":0},{"$f":"ColdWinter!R34-'C. Winter Peak 2015-01-15'!FE34","v":0},{"$f":"ColdWinter!S34-'C. Winter Peak 2015-01-15'!FF34","v":0},{"$f":"ColdWinter!T34-'C. Winter Peak 2015-01-15'!FG34","v":0},{"$f":"ColdWinter!U34-'C. Winter Peak 2015-01-15'!FH34","v":0},{"$f":"ColdWinter!V34-'C. Winter Peak 2015-01-15'!FI34","v":0},{"$f":"ColdWinter!W34-'C. Winter Peak 2015-01-15'!FJ34","v":0},{"$f":"ColdWinter!X34-'C. Winter Peak 2015-01-15'!FK34","v":0},{"$f":"ColdWinter!Y34-'C. Winter Peak 2015-01-15'!FL34","v":0},{"$f":"ColdWinter!Z34-'C. Winter Peak 2015-01-15'!FM34","v":0},{"$f":"ColdWinter!AA34-'C. Winter Peak 2015-01-15'!FN34","v":0},{"$f":"ColdWinter!AB34-'C. Winter Peak 2015-01-15'!FO34","v":0},{"$f":"ColdWinter!AC34-'C. Winter Peak 2015-01-15'!FP34","v":0},{"$f":"ColdWinter!AD34-'C. Winter Peak 2015-01-15'!FQ34","v":0},{"$f":"ColdWinter!AE34-'C. Winter Peak 2015-01-15'!FR34","v":0},{"$f":"ColdWinter!AF34-'C. Winter Peak 2015-01-15'!FS34","v":0},{"$f":"ColdWinter!AG34-'C. Winter Peak 2015-01-15'!FT34","v":0},{"$f":"ColdWinter!AH34-'C. Winter Peak 2015-01-15'!FU34","v":0},{"$f":"ColdWinter!AI34-'C. Winter Peak 2015-01-15'!FV34","v":0},{"$f":"ColdWinter!AJ34-'C. Winter Peak 2015-01-15'!FW34","v":0},{"$f":"ColdWinter!AK34-'C. Winter Peak 2015-01-15'!FX34","v":0},{"$f":"ColdWinter!AL34-'C. Winter Peak 2015-01-15'!FY34","v":0},{"$f":"ColdWinter!AM34-'C. Winter Peak 2015-01-15'!FZ34","v":0},{"$f":"ColdWinter!AN34-'C. Winter Peak 2015-01-15'!GA34","v":0},{"$f":"ColdWinter!AO34-'C. Winter Peak 2015-01-15'!GB34","v":0},{"$f":"ColdWinter!AP34-'C. Winter Peak 2015-01-15'!GC34","v":0},{"$f":"ColdWinter!AQ34-'C. Winter Peak 2015-01-15'!GD34","v":0},{"$f":"ColdWinter!AR34-'C. Winter Peak 2015-01-15'!GE34","v":0},{"$f":"ColdWinter!AS34-'C. Winter Peak 2015-01-15'!GF34","v":0},{"$f":"ColdWinter!AT34-'C. Winter Peak 2015-01-15'!GG34","v":0},{"$f":"ColdWinter!AU34-'C. Winter Peak 2015-01-15'!GH34","v":0},{"$f":"ColdWinter!AV34-'C. Winter Peak 2015-01-15'!GI34","v":0},{"$f":"ColdWinter!AW34-'C. Winter Peak 2015-01-15'!GJ34","v":0},{"$f":"ColdWinter!AX34-'C. Winter Peak 2015-01-15'!GK34","v":0},{"$f":"ColdWinter!AY34-'C. Winter Peak 2015-01-15'!GL34","v":0},{"$f":"ColdWinter!AZ34-'C. Winter Peak 2015-01-15'!GM34","v":0},{"$f":"ColdWinter!BA34-'C. Winter Peak 2015-01-15'!GN34","v":0},{"$f":"ColdWinter!BB34-'C. Winter Peak 2015-01-15'!GO34","v":0},{"$f":"ColdWinter!BC34-'C. Winter Peak 2015-01-15'!GP34","v":0},{"$f":"ColdWinter!BD34-'C. Winter Peak 2015-01-15'!GQ34","v":0},{"$f":"ColdWinter!BE34-'C. Winter Peak 2015-01-15'!GR34","v":0},{"$f":"ColdWinter!BF34-'C. Winter Peak 2015-01-15'!GS34","v":0},{"$f":"ColdWinter!BG34-'C. Winter Peak 2015-01-15'!GT34","v":0},{"$f":"ColdWinter!BH34-'C. Winter Peak 2015-01-15'!GU34","v":0},{"$f":"ColdWinter!BI34-'C. Winter Peak 2015-01-15'!GV34","v":0},{"$f":"ColdWinter!BJ34-'C. Winter Peak 2015-01-15'!GW34","v":0},{"$f":"ColdWinter!BK34-'C. Winter Peak 2015-01-15'!GX34","v":0},{"$f":"ColdWinter!BL34-'C. Winter Peak 2015-01-15'!GY34","v":0},{"$f":"ColdWinter!BM34-'C. Winter Peak 2015-01-15'!GZ34","v":0},{"$f":"ColdWinter!BN34-'C. Winter Peak 2015-01-15'!HA34","v":0},{"$f":"ColdWinter!BO34-'C. Winter Peak 2015-01-15'!HB34","v":0},{"$f":"ColdWinter!BP34-'C. Winter Peak 2015-01-15'!HC34","v":0},{"$f":"ColdWinter!BQ34-'C. Winter Peak 2015-01-15'!HD34","v":0},{"$f":"ColdWinter!BR34-'C. Winter Peak 2015-01-15'!HE34","v":0},{"$f":"ColdWinter!BS34-'C. Winter Peak 2015-01-15'!HF34","v":0},{"$f":"ColdWinter!BT34-'C. Winter Peak 2015-01-15'!HG34","v":0},{"$f":"ColdWinter!BU34-'C. Winter Peak 2015-01-15'!HH34","v":0},{"$f":"ColdWinter!BV34-'C. Winter Peak 2015-01-15'!HI34","v":0},{"$f":"ColdWinter!BW34-'C. Winter Peak 2015-01-15'!HJ34","v":0},{"$f":"ColdWinter!BX34-'C. Winter Peak 2015-01-15'!HK34","v":0},{"$f":"ColdWinter!BY34-'C. Winter Peak 2015-01-15'!HL34","v":0},{"$f":"ColdWinter!BZ34-'C. Winter Peak 2015-01-15'!HM34","v":0},{"$f":"ColdWinter!CA34-'C. Winter Peak 2015-01-15'!HN34","v":0},{"$f":"ColdWinter!CB34-'C. Winter Peak 2015-01-15'!HO34","v":0},{"$f":"ColdWinter!CC34-'C. Winter Peak 2015-01-15'!HP34","v":0},{"$f":"ColdWinter!CD34-'C. Winter Peak 2015-01-15'!HQ34","v":0},{"$f":"ColdWinter!CE34-'C. Winter Peak 2015-01-15'!HR34","v":0},{"$f":"ColdWinter!CF34-'C. Winter Peak 2015-01-15'!HS34","v":0},{"$f":"ColdWinter!CG34-'C. Winter Peak 2015-01-15'!HT34","v":0},{"$f":"ColdWinter!CH34-'C. Winter Peak 2015-01-15'!HU34","v":0},{"$f":"ColdWinter!CI34-'C. Winter Peak 2015-01-15'!HV34","v":0},{"$f":"ColdWinter!CJ34-'C. Winter Peak 2015-01-15'!HW34","v":0},{"$f":"ColdWinter!CK34-'C. Winter Peak 2015-01-15'!HX34","v":0},{"$f":"ColdWinter!CL34-'C. Winter Peak 2015-01-15'!HY34","v":0},{"$f":"ColdWinter!CM34-'C. Winter Peak 2015-01-15'!HZ34","v":0},{"$f":"ColdWinter!CN34-'C. Winter Peak 2015-01-15'!IA34","v":0},{"$f":"ColdWinter!CO34-'C. Winter Peak 2015-01-15'!IB34","v":0},{"$f":"ColdWinter!CP34-'C. Winter Peak 2015-01-15'!IC34","v":0},{"$f":"ColdWinter!CQ34-'C. Winter Peak 2015-01-15'!ID34","v":0},{"$f":"ColdWinter!CR34-'C. Winter Peak 2015-01-15'!IE34","v":0},{"$f":"ColdWinter!CS34-'C. Winter Peak 2015-01-15'!IF34","v":0},{"$f":"ColdWinter!CT34-'C. Winter Peak 2015-01-15'!IG34","v":0},{"$f":"ColdWinter!CU34-'C. Winter Peak 2015-01-15'!IH34","v":0},{"$f":"ColdWinter!CV34-'C. Winter Peak 2015-01-15'!II34","v":0},{"$f":"ColdWinter!CW34-'C. Winter Peak 2015-01-15'!IJ34","v":0},{"$f":"ColdWinter!CX34-'C. Winter Peak 2015-01-15'!IK34","v":0},{"$f":"ColdWinter!CY34-'C. Winter Peak 2015-01-15'!IL34","v":0},{"$f":"ColdWinter!CZ34-'C. Winter Peak 2015-01-15'!IM34","v":0},{"$f":"ColdWinter!DA34-'C. Winter Peak 2015-01-15'!IN34","v":0},{"$f":"ColdWinter!DB34-'C. Winter Peak 2015-01-15'!IO34","v":0},{"$f":"ColdWinter!DC34-'C. Winter Peak 2015-01-15'!IP34","v":0},{"$f":"ColdWinter!DD34-'C. Winter Peak 2015-01-15'!IQ34","v":0},{"$f":"ColdWinter!DE34-'C. Winter Peak 2015-01-15'!IR34","v":0},{"$f":"ColdWinter!DF34-'C. Winter Peak 2015-01-15'!IS34","v":0},{"$f":"ColdWinter!DG34-'C. Winter Peak 2015-01-15'!IT34","v":0},{"$f":"ColdWinter!DH34-'C. Winter Peak 2015-01-15'!IU34","v":0},{"$f":"ColdWinter!DI34-'C. Winter Peak 2015-01-15'!IV34","v":0},{"$f":"ColdWinter!DJ34-'C. Winter Peak 2015-01-15'!IW34","v":0},{"$f":"ColdWinter!DK34-'C. Winter Peak 2015-01-15'!IX34","v":0},{"$f":"ColdWinter!DL34-'C. Winter Peak 2015-01-15'!IY34","v":0},{"$f":"ColdWinter!DM34-'C. Winter Peak 2015-01-15'!IZ34","v":0},{"$f":"ColdWinter!DN34-'C. Winter Peak 2015-01-15'!JA34","v":0},{"$f":"ColdWinter!DO34-'C. Winter Peak 2015-01-15'!JB34","v":0},{"$f":"ColdWinter!DP34-'C. Winter Peak 2015-01-15'!JC34","v":0},{"$f":"ColdWinter!DQ34-'C. Winter Peak 2015-01-15'!JD34","v":0},{"$f":"ColdWinter!DR34-'C. Winter Peak 2015-01-15'!JE34","v":0},{"$f":"ColdWinter!DS34-'C. Winter Peak 2015-01-15'!JF34","v":0}]
[null,"PPN2",{"$f":"ColdWinter!C35-'C. Winter Peak 2015-01-15'!EP35","v":0},{"$f":"ColdWinter!D35-'C. Winter Peak 2015-01-15'!EQ35","v":0},{"$f":"ColdWinter!E35-'C. Winter Peak 2015-01-15'!ER35","v":0},{"$f":"ColdWinter!F35-'C. Winter Peak 2015-01-15'!ES35","v":0},{"$f":"ColdWinter!G35-'C. Winter Peak 2015-01-15'!ET35","v":0},{"$f":"ColdWinter!H35-'C. Winter Peak 2015-01-15'!EU35","v":0},{"$f":"ColdWinter!I35-'C. Winter Peak 2015-01-15'!EV35","v":0},{"$f":"ColdWinter!J35-'C. Winter Peak 2015-01-15'!EW35","v":0},{"$f":"ColdWinter!K35-'C. Winter Peak 2015-01-15'!EX35","v":0},{"$f":"ColdWinter!L35-'C. Winter Peak 2015-01-15'!EY35","v":0},{"$f":"ColdWinter!M35-'C. Winter Peak 2015-01-15'!EZ35","v":0},{"$f":"ColdWinter!N35-'C. Winter Peak 2015-01-15'!FA35","v":0},{"$f":"ColdWinter!O35-'C. Winter Peak 2015-01-15'!FB35","v":0},{"$f":"ColdWinter!P35-'C. Winter Peak 2015-01-15'!FC35","v":0},{"$f":"ColdWinter!Q35-'C. Winter Peak 2015-01-15'!FD35","v":0},{"$f":"ColdWinter!R35-'C. Winter Peak 2015-01-15'!FE35","v":0},{"$f":"ColdWinter!S35-'C. Winter Peak 2015-01-15'!FF35","v":0},{"$f":"ColdWinter!T35-'C. Winter Peak 2015-01-15'!FG35","v":0},{"$f":"ColdWinter!U35-'C. Winter Peak 2015-01-15'!FH35","v":0},{"$f":"ColdWinter!V35-'C. Winter Peak 2015-01-15'!FI35","v":0},{"$f":"ColdWinter!W35-'C. Winter Peak 2015-01-15'!FJ35","v":0},{"$f":"ColdWinter!X35-'C. Winter Peak 2015-01-15'!FK35","v":0},{"$f":"ColdWinter!Y35-'C. Winter Peak 2015-01-15'!FL35","v":0},{"$f":"ColdWinter!Z35-'C. Winter Peak 2015-01-15'!FM35","v":0},{"$f":"ColdWinter!AA35-'C. Winter Peak 2015-01-15'!FN35","v":0},{"$f":"ColdWinter!AB35-'C. Winter Peak 2015-01-15'!FO35","v":0},{"$f":"ColdWinter!AC35-'C. Winter Peak 2015-01-15'!FP35","v":0},{"$f":"ColdWinter!AD35-'C. Winter Peak 2015-01-15'!FQ35","v":0},{"$f":"ColdWinter!AE35-'C. Winter Peak 2015-01-15'!FR35","v":0},{"$f":"ColdWinter!AF35-'C. Winter Peak 2015-01-15'!FS35","v":0},{"$f":"ColdWinter!AG35-'C. Winter Peak 2015-01-15'!FT35","v":0},{"$f":"ColdWinter!AH35-'C. Winter Peak 2015-01-15'!FU35","v":0},{"$f":"ColdWinter!AI35-'C. Winter Peak 2015-01-15'!FV35","v":0},{"$f":"ColdWinter!AJ35-'C. Winter Peak 2015-01-15'!FW35","v":0},{"$f":"ColdWinter!AK35-'C. Winter Peak 2015-01-15'!FX35","v":0},{"$f":"ColdWinter!AL35-'C. Winter Peak 2015-01-15'!FY35","v":0},{"$f":"ColdWinter!AM35-'C. Winter Peak 2015-01-15'!FZ35","v":0},{"$f":"ColdWinter!AN35-'C. Winter Peak 2015-01-15'!GA35","v":0},{"$f":"ColdWinter!AO35-'C. Winter Peak 2015-01-15'!GB35","v":0},{"$f":"ColdWinter!AP35-'C. Winter Peak 2015-01-15'!GC35","v":0},{"$f":"ColdWinter!AQ35-'C. Winter Peak 2015-01-15'!GD35","v":0},{"$f":"ColdWinter!AR35-'C. Winter Peak 2015-01-15'!GE35","v":0},{"$f":"ColdWinter!AS35-'C. Winter Peak 2015-01-15'!GF35","v":0},{"$f":"ColdWinter!AT35-'C. Winter Peak 2015-01-15'!GG35","v":0},{"$f":"ColdWinter!AU35-'C. Winter Peak 2015-01-15'!GH35","v":0},{"$f":"ColdWinter!AV35-'C. Winter Peak 2015-01-15'!GI35","v":0},{"$f":"ColdWinter!AW35-'C. Winter Peak 2015-01-15'!GJ35","v":0},{"$f":"ColdWinter!AX35-'C. Winter Peak 2015-01-15'!GK35","v":0},{"$f":"ColdWinter!AY35-'C. Winter Peak 2015-01-15'!GL35","v":0},{"$f":"ColdWinter!AZ35-'C. Winter Peak 2015-01-15'!GM35","v":0},{"$f":"ColdWinter!BA35-'C. Winter Peak 2015-01-15'!GN35","v":0},{"$f":"ColdWinter!BB35-'C. Winter Peak 2015-01-15'!GO35","v":0},{"$f":"ColdWinter!BC35-'C. Winter Peak 2015-01-15'!GP35","v":0},{"$f":"ColdWinter!BD35-'C. Winter Peak 2015-01-15'!GQ35","v":0},{"$f":"ColdWinter!BE35-'C. Winter Peak 2015-01-15'!GR35","v":0},{"$f":"ColdWinter!BF35-'C. Winter Peak 2015-01-15'!GS35","v":0},{"$f":"ColdWinter!BG35-'C. Winter Peak 2015-01-15'!GT35","v":0},{"$f":"ColdWinter!BH35-'C. Winter Peak 2015-01-15'!GU35","v":0},{"$f":"ColdWinter!BI35-'C. Winter Peak 2015-01-15'!GV35","v":0},{"$f":"ColdWinter!BJ35-'C. Winter Peak 2015-01-15'!GW35","v":0},{"$f":"ColdWinter!BK35-'C. Winter Peak 2015-01-15'!GX35","v":0},{"$f":"ColdWinter!BL35-'C. Winter Peak 2015-01-15'!GY35","v":0},{"$f":"ColdWinter!BM35-'C. Winter Peak 2015-01-15'!GZ35","v":0},{"$f":"ColdWinter!BN35-'C. Winter Peak 2015-01-15'!HA35","v":0},{"$f":"ColdWinter!BO35-'C. Winter Peak 2015-01-15'!HB35","v":0},{"$f":"ColdWinter!BP35-'C. Winter Peak 2015-01-15'!HC35","v":0},{"$f":"ColdWinter!BQ35-'C. Winter Peak 2015-01-15'!HD35","v":0},{"$f":"ColdWinter!BR35-'C. Winter Peak 2015-01-15'!HE35","v":0},{"$f":"ColdWinter!BS35-'C. Winter Peak 2015-01-15'!HF35","v":0},{"$f":"ColdWinter!BT35-'C. Winter Peak 2015-01-15'!HG35","v":0},{"$f":"ColdWinter!BU35-'C. Winter Peak 2015-01-15'!HH35","v":0},{"$f":"ColdWinter!BV35-'C. Winter Peak 2015-01-15'!HI35","v":0},{"$f":"ColdWinter!BW35-'C. Winter Peak 2015-01-15'!HJ35","v":0},{"$f":"ColdWinter!BX35-'C. Winter Peak 2015-01-15'!HK35","v":0},{"$f":"ColdWinter!BY35-'C. Winter Peak 2015-01-15'!HL35","v":0},{"$f":"ColdWinter!BZ35-'C. Winter Peak 2015-01-15'!HM35","v":0},{"$f":"ColdWinter!CA35-'C. Winter Peak 2015-01-15'!HN35","v":0},{"$f":"ColdWinter!CB35-'C. Winter Peak 2015-01-15'!HO35","v":0},{"$f":"ColdWinter!CC35-'C. Winter Peak 2015-01-15'!HP35","v":0},{"$f":"ColdWinter!CD35-'C. Winter Peak 2015-01-15'!HQ35","v":0},{"$f":"ColdWinter!CE35-'C. Winter Peak 2015-01-15'!HR35","v":0},{"$f":"ColdWinter!CF35-'C. Winter Peak 2015-01-15'!HS35","v":0},{"$f":"ColdWinter!CG35-'C. Winter Peak 2015-01-15'!HT35","v":0},{"$f":"ColdWinter!CH35-'C. Winter Peak 2015-01-15'!HU35","v":0},{"$f":"ColdWinter!CI35-'C. Winter Peak 2015-01-15'!HV35","v":0},{"$f":"ColdWinter!CJ35-'C. Winter Peak 2015-01-15'!HW35","v":0},{"$f":"ColdWinter!CK35-'C. Winter Peak 2015-01-15'!HX35","v":0},{"$f":"ColdWinter!CL35-'C. Winter Peak 2015-01-15'!HY35","v":0},{"$f":"ColdWinter!CM35-'C. Winter Peak 2015-01-15'!HZ35","v":0},{"$f":"ColdWinter!CN35-'C. Winter Peak 2015-01-15'!IA35","v":0},{"$f":"ColdWinter!CO35-'C. Winter Peak 2015-01-15'!IB35","v":0},{"$f":"ColdWinter!CP35-'C. Winter Peak 2015-01-15'!IC35","v":0},{"$f":"ColdWinter!CQ35-'C. Winter Peak 2015-01-15'!ID35","v":0},{"$f":"ColdWinter!CR35-'C. Winter Peak 2015-01-15'!IE35","v":0},{"$f":"ColdWinter!CS35-'C. Winter Peak 2015-01-15'!IF35","v":0},{"$f":"ColdWinter!CT35-'C. Winter Peak 2015-01-15'!IG35","v":0},{"$f":"ColdWinter!CU35-'C. Winter Peak 2015-01-15'!IH35","v":0},{"$f":"ColdWinter!CV35-'C. Winter Peak 2015-01-15'!II35","v":0},{"$f":"ColdWinter!CW35-'C. Winter Peak 2015-01-15'!IJ35","v":0},{"$f":"ColdWinter!CX35-'C. Winter Peak 2015-01-15'!IK35","v":0},{"$f":"ColdWinter!CY35-'C. Winter Peak 2015-01-15'!IL35","v":0},{"$f":"ColdWinter!CZ35-'C. Winter Peak 2015-01-15'!IM35","v":0},{"$f":"ColdWinter!DA35-'C. Winter Peak 2015-01-15'!IN35","v":0},{"$f":"ColdWinter!DB35-'C. Winter Peak 2015-01-15'!IO35","v":0},{"$f":"ColdWinter!DC35-'C. Winter Peak 2015-01-15'!IP35","v":0},{"$f":"ColdWinter!DD35-'C. Winter Peak 2015-01-15'!IQ35","v":0},{"$f":"ColdWinter!DE35-'C. Winter Peak 2015-01-15'!IR35","v":0},{"$f":"ColdWinter!DF35-'C. Winter Peak 2015-01-15'!IS35","v":0},{"$f":"ColdWinter!DG35-'C. Winter Peak 2015-01-15'!IT35","v":0},{"$f":"ColdWinter!DH35-'C. Winter Peak 2015-01-15'!IU35","v":0},{"$f":"ColdWinter!DI35-'C. Winter Peak 2015-01-15'!IV35","v":0},{"$f":"ColdWinter!DJ35-'C. Winter Peak 2015-01-15'!IW35","v":0},{"$f":"ColdWinter!DK35-'C. Winter Peak 2015-01-15'!IX35","v":0},{"$f":"ColdWinter!DL35-'C. Winter Peak 2015-01-15'!IY35","v":0},{"$f":"ColdWinter!DM35-'C. Winter Peak 2015-01-15'!IZ35","v":0},{"$f":"ColdWinter!DN35-'C. Winter Peak 2015-01-15'!JA35","v":0},{"$f":"ColdWinter!DO35-'C. Winter Peak 2015-01-15'!JB35","v":0},{"$f":"ColdWinter!DP35-'C. Winter Peak 2015-01-15'!JC35","v":0},{"$f":"ColdWinter!DQ35-'C. Winter Peak 2015-01-15'!JD35","v":0},{"$f":"ColdWinter!DR35-'C. Winter Peak 2015-01-15'!JE35","v":0},{"$f":"ColdWinter!DS35-'C. Winter Peak 2015-01-15'!JF35","v":0}]
[null,"PRV3",{"$f":"ColdWinter!C36-'C. Winter Peak 2015-01-15'!EP36","v":0},{"$f":"ColdWinter!D36-'C. Winter Peak 2015-01-15'!EQ36","v":0},{"$f":"ColdWinter!E36-'C. Winter Peak 2015-01-15'!ER36","v":0},{"$f":"ColdWinter!F36-'C. Winter Peak 2015-01-15'!ES36","v":0},{"$f":"ColdWinter!G36-'C. Winter Peak 2015-01-15'!ET36","v":0},{"$f":"ColdWinter!H36-'C. Winter Peak 2015-01-15'!EU36","v":0},{"$f":"ColdWinter!I36-'C. Winter Peak 2015-01-15'!EV36","v":0},{"$f":"ColdWinter!J36-'C. Winter Peak 2015-01-15'!EW36","v":0},{"$f":"ColdWinter!K36-'C. Winter Peak 2015-01-15'!EX36","v":0},{"$f":"ColdWinter!L36-'C. Winter Peak 2015-01-15'!EY36","v":0},{"$f":"ColdWinter!M36-'C. Winter Peak 2015-01-15'!EZ36","v":0},{"$f":"ColdWinter!N36-'C. Winter Peak 2015-01-15'!FA36","v":0},{"$f":"ColdWinter!O36-'C. Winter Peak 2015-01-15'!FB36","v":0},{"$f":"ColdWinter!P36-'C. Winter Peak 2015-01-15'!FC36","v":0},{"$f":"ColdWinter!Q36-'C. Winter Peak 2015-01-15'!FD36","v":0},{"$f":"ColdWinter!R36-'C. Winter Peak 2015-01-15'!FE36","v":0},{"$f":"ColdWinter!S36-'C. Winter Peak 2015-01-15'!FF36","v":0},{"$f":"ColdWinter!T36-'C. Winter Peak 2015-01-15'!FG36","v":0},{"$f":"ColdWinter!U36-'C. Winter Peak 2015-01-15'!FH36","v":0},{"$f":"ColdWinter!V36-'C. Winter Peak 2015-01-15'!FI36","v":0},{"$f":"ColdWinter!W36-'C. Winter Peak 2015-01-15'!FJ36","v":0},{"$f":"ColdWinter!X36-'C. Winter Peak 2015-01-15'!FK36","v":0},{"$f":"ColdWinter!Y36-'C. Winter Peak 2015-01-15'!FL36","v":0},{"$f":"ColdWinter!Z36-'C. Winter Peak 2015-01-15'!FM36","v":0},{"$f":"ColdWinter!AA36-'C. Winter Peak 2015-01-15'!FN36","v":0},{"$f":"ColdWinter!AB36-'C. Winter Peak 2015-01-15'!FO36","v":0},{"$f":"ColdWinter!AC36-'C. Winter Peak 2015-01-15'!FP36","v":0},{"$f":"ColdWinter!AD36-'C. Winter Peak 2015-01-15'!FQ36","v":0},{"$f":"ColdWinter!AE36-'C. Winter Peak 2015-01-15'!FR36","v":0},{"$f":"ColdWinter!AF36-'C. Winter Peak 2015-01-15'!FS36","v":0},{"$f":"ColdWinter!AG36-'C. Winter Peak 2015-01-15'!FT36","v":0},{"$f":"ColdWinter!AH36-'C. Winter Peak 2015-01-15'!FU36","v":0},{"$f":"ColdWinter!AI36-'C. Winter Peak 2015-01-15'!FV36","v":0},{"$f":"ColdWinter!AJ36-'C. Winter Peak 2015-01-15'!FW36","v":0},{"$f":"ColdWinter!AK36-'C. Winter Peak 2015-01-15'!FX36","v":0},{"$f":"ColdWinter!AL36-'C. Winter Peak 2015-01-15'!FY36","v":0},{"$f":"ColdWinter!AM36-'C. Winter Peak 2015-01-15'!FZ36","v":0},{"$f":"ColdWinter!AN36-'C. Winter Peak 2015-01-15'!GA36","v":0},{"$f":"ColdWinter!AO36-'C. Winter Peak 2015-01-15'!GB36","v":0},{"$f":"ColdWinter!AP36-'C. Winter Peak 2015-01-15'!GC36","v":0},{"$f":"ColdWinter!AQ36-'C. Winter Peak 2015-01-15'!GD36","v":0},{"$f":"ColdWinter!AR36-'C. Winter Peak 2015-01-15'!GE36","v":0},{"$f":"ColdWinter!AS36-'C. Winter Peak 2015-01-15'!GF36","v":0},{"$f":"ColdWinter!AT36-'C. Winter Peak 2015-01-15'!GG36","v":0},{"$f":"ColdWinter!AU36-'C. Winter Peak 2015-01-15'!GH36","v":0},{"$f":"ColdWinter!AV36-'C. Winter Peak 2015-01-15'!GI36","v":0},{"$f":"ColdWinter!AW36-'C. Winter Peak 2015-01-15'!GJ36","v":0},{"$f":"ColdWinter!AX36-'C. Winter Peak 2015-01-15'!GK36","v":0},{"$f":"ColdWinter!AY36-'C. Winter Peak 2015-01-15'!GL36","v":0},{"$f":"ColdWinter!AZ36-'C. Winter Peak 2015-01-15'!GM36","v":0},{"$f":"ColdWinter!BA36-'C. Winter Peak 2015-01-15'!GN36","v":0},{"$f":"ColdWinter!BB36-'C. Winter Peak 2015-01-15'!GO36","v":0},{"$f":"ColdWinter!BC36-'C. Winter Peak 2015-01-15'!GP36","v":0},{"$f":"ColdWinter!BD36-'C. Winter Peak 2015-01-15'!GQ36","v":0},{"$f":"ColdWinter!BE36-'C. Winter Peak 2015-01-15'!GR36","v":0},{"$f":"ColdWinter!BF36-'C. Winter Peak 2015-01-15'!GS36","v":0},{"$f":"ColdWinter!BG36-'C. Winter Peak 2015-01-15'!GT36","v":0},{"$f":"ColdWinter!BH36-'C. Winter Peak 2015-01-15'!GU36","v":0},{"$f":"ColdWinter!BI36-'C. Winter Peak 2015-01-15'!GV36","v":0},{"$f":"ColdWinter!BJ36-'C. Winter Peak 2015-01-15'!GW36","v":0},{"$f":"ColdWinter!BK36-'C. Winter Peak 2015-01-15'!GX36","v":0},{"$f":"ColdWinter!BL36-'C. Winter Peak 2015-01-15'!GY36","v":0},{"$f":"ColdWinter!BM36-'C. Winter Peak 2015-01-15'!GZ36","v":0},{"$f":"ColdWinter!BN36-'C. Winter Peak 2015-01-15'!HA36","v":0},{"$f":"ColdWinter!BO36-'C. Winter Peak 2015-01-15'!HB36","v":0},{"$f":"ColdWinter!BP36-'C. Winter Peak 2015-01-15'!HC36","v":0},{"$f":"ColdWinter!BQ36-'C. Winter Peak 2015-01-15'!HD36","v":0},{"$f":"ColdWinter!BR36-'C. Winter Peak 2015-01-15'!HE36","v":0},{"$f":"ColdWinter!BS36-'C. Winter Peak 2015-01-15'!HF36","v":0},{"$f":"ColdWinter!BT36-'C. Winter Peak 2015-01-15'!HG36","v":0},{"$f":"ColdWinter!BU36-'C. Winter Peak 2015-01-15'!HH36","v":0},{"$f":"ColdWinter!BV36-'C. Winter Peak 2015-01-15'!HI36","v":0},{"$f":"ColdWinter!BW36-'C. Winter Peak 2015-01-15'!HJ36","v":0},{"$f":"ColdWinter!BX36-'C. Winter Peak 2015-01-15'!HK36","v":0},{"$f":"ColdWinter!BY36-'C. Winter Peak 2015-01-15'!HL36","v":0},{"$f":"ColdWinter!BZ36-'C. Winter Peak 2015-01-15'!HM36","v":0},{"$f":"ColdWinter!CA36-'C. Winter Peak 2015-01-15'!HN36","v":0},{"$f":"ColdWinter!CB36-'C. Winter Peak 2015-01-15'!HO36","v":0},{"$f":"ColdWinter!CC36-'C. Winter Peak 2015-01-15'!HP36","v":0},{"$f":"ColdWinter!CD36-'C. Winter Peak 2015-01-15'!HQ36","v":0},{"$f":"ColdWinter!CE36-'C. Winter Peak 2015-01-15'!HR36","v":0},{"$f":"ColdWinter!CF36-'C. Winter Peak 2015-01-15'!HS36","v":0},{"$f":"ColdWinter!CG36-'C. Winter Peak 2015-01-15'!HT36","v":0},{"$f":"ColdWinter!CH36-'C. Winter Peak 2015-01-15'!HU36","v":0},{"$f":"ColdWinter!CI36-'C. Winter Peak 2015-01-15'!HV36","v":0},{"$f":"ColdWinter!CJ36-'C. Winter Peak 2015-01-15'!HW36","v":0},{"$f":"ColdWinter!CK36-'C. Winter Peak 2015-01-15'!HX36","v":0},{"$f":"ColdWinter!CL36-'C. Winter Peak 2015-01-15'!HY36","v":0},{"$f":"ColdWinter!CM36-'C. Winter Peak 2015-01-15'!HZ36","v":0},{"$f":"ColdWinter!CN36-'C. Winter Peak 2015-01-15'!IA36","v":0},{"$f":"ColdWinter!CO36-'C. Winter Peak 2015-01-15'!IB36","v":0},{"$f":"ColdWinter!CP36-'C. Winter Peak 2015-01-15'!IC36","v":0},{"$f":"ColdWinter!CQ36-'C. Winter Peak 2015-01-15'!ID36","v":0},{"$f":"ColdWinter!CR36-'C. Winter Peak 2015-01-15'!IE36","v":0},{"$f":"ColdWinter!CS36-'C. Winter Peak 2015-01-15'!IF36","v":0},{"$f":"ColdWinter!CT36-'C. Winter Peak 2015-01-15'!IG36","v":0},{"$f":"ColdWinter!CU36-'C. Winter Peak 2015-01-15'!IH36","v":0},{"$f":"ColdWinter!CV36-'C. Winter Peak 2015-01-15'!II36","v":0},{"$f":"ColdWinter!CW36-'C. Winter Peak 2015-01-15'!IJ36","v":0},{"$f":"ColdWinter!CX36-'C. Winter Peak 2015-01-15'!IK36","v":0},{"$f":"ColdWinter!CY36-'C. Winter Peak 2015-01-15'!IL36","v":0},{"$f":"ColdWinter!CZ36-'C. Winter Peak 2015-01-15'!IM36","v":0},{"$f":"ColdWinter!DA36-'C. Winter Peak 2015-01-15'!IN36","v":0},{"$f":"ColdWinter!DB36-'C. Winter Peak 2015-01-15'!IO36","v":0},{"$f":"ColdWinter!DC36-'C. Winter Peak 2015-01-15'!IP36","v":0},{"$f":"ColdWinter!DD36-'C. Winter Peak 2015-01-15'!IQ36","v":0},{"$f":"ColdWinter!DE36-'C. Winter Peak 2015-01-15'!IR36","v":0},{"$f":"ColdWinter!DF36-'C. Winter Peak 2015-01-15'!IS36","v":0},{"$f":"ColdWinter!DG36-'C. Winter Peak 2015-01-15'!IT36","v":0},{"$f":"ColdWinter!DH36-'C. Winter Peak 2015-01-15'!IU36","v":0},{"$f":"ColdWinter!DI36-'C. Winter Peak 2015-01-15'!IV36","v":0},{"$f":"ColdWinter!DJ36-'C. Winter Peak 2015-01-15'!IW36","v":0},{"$f":"ColdWinter!DK36-'C. Winter Peak 2015-01-15'!IX36","v":0},{"$f":"ColdWinter!DL36-'C. Winter Peak 2015-01-15'!IY36","v":0},{"$f":"ColdWinter!DM36-'C. Winter Peak 2015-01-15'!IZ36","v":0},{"$f":"ColdWinter!DN36-'C. Winter Peak 2015-01-15'!JA36","v":0},{"$f":"ColdWinter!DO36-'C. Winter Peak 2015-01-15'!JB36","v":0},{"$f":"ColdWinter!DP36-'C. Winter Peak 2015-01-15'!JC36","v":0},{"$f":"ColdWinter!DQ36-'C. Winter Peak 2015-01-15'!JD36","v":0},{"$f":"ColdWinter!DR36-'C. Winter Peak 2015-01-15'!JE36","v":0},{"$f":"ColdWinter!DS36-'C. Winter Peak 2015-01-15'!JF36","v":0}]
[null,"PRV4",{"$f":"ColdWinter!C37-'C. Winter Peak 2015-01-15'!EP37","v":0},{"$f":"ColdWinter!D37-'C. Winter Peak 2015-01-15'!EQ37","v":0},{"$f":"ColdWinter!E37-'C. Winter Peak 2015-01-15'!ER37","v":0},{"$f":"ColdWinter!F37-'C. Winter Peak 2015-01-15'!ES37","v":0},{"$f":"ColdWinter!G37-'C. Winter Peak 2015-01-15'!ET37","v":0},{"$f":"ColdWinter!H37-'C. Winter Peak 2015-01-15'!EU37","v":0},{"$f":"ColdWinter!I37-'C. Winter Peak 2015-01-15'!EV37","v":0},{"$f":"ColdWinter!J37-'C. Winter Peak 2015-01-15'!EW37","v":0},{"$f":"ColdWinter!K37-'C. Winter Peak 2015-01-15'!EX37","v":0},{"$f":"ColdWinter!L37-'C. Winter Peak 2015-01-15'!EY37","v":0},{"$f":"ColdWinter!M37-'C. Winter Peak 2015-01-15'!EZ37","v":0},{"$f":"ColdWinter!N37-'C. Winter Peak 2015-01-15'!FA37","v":0},{"$f":"ColdWinter!O37-'C. Winter Peak 2015-01-15'!FB37","v":0},{"$f":"ColdWinter!P37-'C. Winter Peak 2015-01-15'!FC37","v":0},{"$f":"ColdWinter!Q37-'C. Winter Peak 2015-01-15'!FD37","v":0},{"$f":"ColdWinter!R37-'C. Winter Peak 2015-01-15'!FE37","v":0},{"$f":"ColdWinter!S37-'C. Winter Peak 2015-01-15'!FF37","v":0},{"$f":"ColdWinter!T37-'C. Winter Peak 2015-01-15'!FG37","v":0},{"$f":"ColdWinter!U37-'C. Winter Peak 2015-01-15'!FH37","v":0},{"$f":"ColdWinter!V37-'C. Winter Peak 2015-01-15'!FI37","v":0},{"$f":"ColdWinter!W37-'C. Winter Peak 2015-01-15'!FJ37","v":0},{"$f":"ColdWinter!X37-'C. Winter Peak 2015-01-15'!FK37","v":0},{"$f":"ColdWinter!Y37-'C. Winter Peak 2015-01-15'!FL37","v":0},{"$f":"ColdWinter!Z37-'C. Winter Peak 2015-01-15'!FM37","v":0},{"$f":"ColdWinter!AA37-'C. Winter Peak 2015-01-15'!FN37","v":0},{"$f":"ColdWinter!AB37-'C. Winter Peak 2015-01-15'!FO37","v":0},{"$f":"ColdWinter!AC37-'C. Winter Peak 2015-01-15'!FP37","v":0},{"$f":"ColdWinter!AD37-'C. Winter Peak 2015-01-15'!FQ37","v":0},{"$f":"ColdWinter!AE37-'C. Winter Peak 2015-01-15'!FR37","v":0},{"$f":"ColdWinter!AF37-'C. Winter Peak 2015-01-15'!FS37","v":0},{"$f":"ColdWinter!AG37-'C. Winter Peak 2015-01-15'!FT37","v":0},{"$f":"ColdWinter!AH37-'C. Winter Peak 2015-01-15'!FU37","v":0},{"$f":"ColdWinter!AI37-'C. Winter Peak 2015-01-15'!FV37","v":0},{"$f":"ColdWinter!AJ37-'C. Winter Peak 2015-01-15'!FW37","v":0},{"$f":"ColdWinter!AK37-'C. Winter Peak 2015-01-15'!FX37","v":0},{"$f":"ColdWinter!AL37-'C. Winter Peak 2015-01-15'!FY37","v":0},{"$f":"ColdWinter!AM37-'C. Winter Peak 2015-01-15'!FZ37","v":0},{"$f":"ColdWinter!AN37-'C. Winter Peak 2015-01-15'!GA37","v":0},{"$f":"ColdWinter!AO37-'C. Winter Peak 2015-01-15'!GB37","v":0},{"$f":"ColdWinter!AP37-'C. Winter Peak 2015-01-15'!GC37","v":0},{"$f":"ColdWinter!AQ37-'C. Winter Peak 2015-01-15'!GD37","v":0},{"$f":"ColdWinter!AR37-'C. Winter Peak 2015-01-15'!GE37","v":0},{"$f":"ColdWinter!AS37-'C. Winter Peak 2015-01-15'!GF37","v":0},{"$f":"ColdWinter!AT37-'C. Winter Peak 2015-01-15'!GG37","v":0},{"$f":"ColdWinter!AU37-'C. Winter Peak 2015-01-15'!GH37","v":0},{"$f":"ColdWinter!AV37-'C. Winter Peak 2015-01-15'!GI37","v":0},{"$f":"ColdWinter!AW37-'C. Winter Peak 2015-01-15'!GJ37","v":0},{"$f":"ColdWinter!AX37-'C. Winter Peak 2015-01-15'!GK37","v":0},{"$f":"ColdWinter!AY37-'C. Winter Peak 2015-01-15'!GL37","v":0},{"$f":"ColdWinter!AZ37-'C. Winter Peak 2015-01-15'!GM37","v":0},{"$f":"ColdWinter!BA37-'C. Winter Peak 2015-01-15'!GN37","v":0},{"$f":"ColdWinter!BB37-'C. Winter Peak 2015-01-15'!GO37","v":0},{"$f":"ColdWinter!BC37-'C. Winter Peak 2015-01-15'!GP37","v":0},{"$f":"ColdWinter!BD37-'C. Winter Peak 2015-01-15'!GQ37","v":0},{"$f":"ColdWinter!BE37-'C. Winter Peak 2015-01-15'!GR37","v":0},{"$f":"ColdWinter!BF37-'C. Winter Peak 2015-01-15'!GS37","v":0},{"$f":"ColdWinter!BG37-'C. Winter Peak 2015-01-15'!GT37","v":0},{"$f":"ColdWinter!BH37-'C. Winter Peak 2015-01-15'!GU37","v":0},{"$f":"ColdWinter!BI37-'C. Winter Peak 2015-01-15'!GV37","v":0},{"$f":"ColdWinter!BJ37-'C. Winter Peak 2015-01-15'!GW37","v":0},{"$f":"ColdWinter!BK37-'C. Winter Peak 2015-01-15'!GX37","v":0},{"$f":"ColdWinter!BL37-'C. Winter Peak 2015-01-15'!GY37","v":0},{"$f":"ColdWinter!BM37-'C. Winter Peak 2015-01-15'!GZ37","v":0},{"$f":"ColdWinter!BN37-'C. Winter Peak 2015-01-15'!HA37","v":0},{"$f":"ColdWinter!BO37-'C. Winter Peak 2015-01-15'!HB37","v":0},{"$f":"ColdWinter!BP37-'C. Winter Peak 2015-01-15'!HC37","v":0},{"$f":"ColdWinter!BQ37-'C. Winter Peak 2015-01-15'!HD37","v":0},{"$f":"ColdWinter!BR37-'C. Winter Peak 2015-01-15'!HE37","v":0},{"$f":"ColdWinter!BS37-'C. Winter Peak 2015-01-15'!HF37","v":0},{"$f":"ColdWinter!BT37-'C. Winter Peak 2015-01-15'!HG37","v":0},{"$f":"ColdWinter!BU37-'C. Winter Peak 2015-01-15'!HH37","v":0},{"$f":"ColdWinter!BV37-'C. Winter Peak 2015-01-15'!HI37","v":0},{"$f":"ColdWinter!BW37-'C. Winter Peak 2015-01-15'!HJ37","v":0},{"$f":"ColdWinter!BX37-'C. Winter Peak 2015-01-15'!HK37","v":0},{"$f":"ColdWinter!BY37-'C. Winter Peak 2015-01-15'!HL37","v":0},{"$f":"ColdWinter!BZ37-'C. Winter Peak 2015-01-15'!HM37","v":0},{"$f":"ColdWinter!CA37-'C. Winter Peak 2015-01-15'!HN37","v":0},{"$f":"ColdWinter!CB37-'C. Winter Peak 2015-01-15'!HO37","v":0},{"$f":"ColdWinter!CC37-'C. Winter Peak 2015-01-15'!HP37","v":0},{"$f":"ColdWinter!CD37-'C. Winter Peak 2015-01-15'!HQ37","v":0},{"$f":"ColdWinter!CE37-'C. Winter Peak 2015-01-15'!HR37","v":0},{"$f":"ColdWinter!CF37-'C. Winter Peak 2015-01-15'!HS37","v":0},{"$f":"ColdWinter!CG37-'C. Winter Peak 2015-01-15'!HT37","v":0},{"$f":"ColdWinter!CH37-'C. Winter Peak 2015-01-15'!HU37","v":0},{"$f":"ColdWinter!CI37-'C. Winter Peak 2015-01-15'!HV37","v":0},{"$f":"ColdWinter!CJ37-'C. Winter Peak 2015-01-15'!HW37","v":0},{"$f":"ColdWinter!CK37-'C. Winter Peak 2015-01-15'!HX37","v":0},{"$f":"ColdWinter!CL37-'C. Winter Peak 2015-01-15'!HY37","v":0},{"$f":"ColdWinter!CM37-'C. Winter Peak 2015-01-15'!HZ37","v":0},{"$f":"ColdWinter!CN37-'C. Winter Peak 2015-01-15'!IA37","v":0},{"$f":"ColdWinter!CO37-'C. Winter Peak 2015-01-15'!IB37","v":0},{"$f":"ColdWinter!CP37-'C. Winter Peak 2015-01-15'!IC37","v":0},{"$f":"ColdWinter!CQ37-'C. Winter Peak 2015-01-15'!ID37","v":0},{"$f":"ColdWinter!CR37-'C. Winter Peak 2015-01-15'!IE37","v":0},{"$f":"ColdWinter!CS37-'C. Winter Peak 2015-01-15'!IF37","v":0},{"$f":"ColdWinter!CT37-'C. Winter Peak 2015-01-15'!IG37","v":0},{"$f":"ColdWinter!CU37-'C. Winter Peak 2015-01-15'!IH37","v":0},{"$f":"ColdWinter!CV37-'C. Winter Peak 2015-01-15'!II37","v":0},{"$f":"ColdWinter!CW37-'C. Winter Peak 2015-01-15'!IJ37","v":0},{"$f":"ColdWinter!CX37-'C. Winter Peak 2015-01-15'!IK37","v":0},{"$f":"ColdWinter!CY37-'C. Winter Peak 2015-01-15'!IL37","v":0},{"$f":"ColdWinter!CZ37-'C. Winter Peak 2015-01-15'!IM37","v":0},{"$f":"ColdWinter!DA37-'C. Winter Peak 2015-01-15'!IN37","v":0},{"$f":"ColdWinter!DB37-'C. Winter Peak 2015-01-15'!IO37","v":0},{"$f":"ColdWinter!DC37-'C. Winter Peak 2015-01-15'!IP37","v":0},{"$f":"ColdWinter!DD37-'C. Winter Peak 2015-01-15'!IQ37","v":0},{"$f":"ColdWinter!DE37-'C. Winter Peak 2015-01-15'!IR37","v":0},{"$f":"ColdWinter!DF37-'C. Winter Peak 2015-01-15'!IS37","v":0},{"$f":"ColdWinter!DG37-'C. Winter Peak 2015-01-15'!IT37","v":0},{"$f":"ColdWinter!DH37-'C. Winter Peak 2015-01-15'!IU37","v":0},{"$f":"ColdWinter!DI37-'C. Winter Peak 2015-01-15'!IV37","v":0},{"$f":"ColdWinter!DJ37-'C. Winter Peak 2015-01-15'!IW37","v":0},{"$f":"ColdWinter!DK37-'C. Winter Peak 2015-01-15'!IX37","v":0},{"$f":"ColdWinter!DL37-'C. Winter Peak 2015-01-15'!IY37","v":0},{"$f":"ColdWinter!DM37-'C. Winter Peak 2015-01-15'!IZ37","v":0},{"$f":"ColdWinter!DN37-'C. Winter Peak 2015-01-15'!JA37","v":0},{"$f":"ColdWinter!DO37-'C. Winter Peak 2015-01-15'!JB37","v":0},{"$f":"ColdWinter!DP37-'C. Winter Peak 2015-01-15'!JC37","v":0},{"$f":"ColdWinter!DQ37-'C. Winter Peak 2015-01-15'!JD37","v":0},{"$f":"ColdWinter!DR37-'C. Winter Peak 2015-01-15'!JE37","v":0},{"$f":"ColdWinter!DS37-'C. Winter Peak 2015-01-15'!JF37","v":0}]
[null,"PRV5",{"$f":"ColdWinter!C38-'C. Winter Peak 2015-01-15'!EP38","v":0},{"$f":"ColdWinter!D38-'C. Winter Peak 2015-01-15'!EQ38","v":0},{"$f":"ColdWinter!E38-'C. Winter Peak 2015-01-15'!ER38","v":0},{"$f":"ColdWinter!F38-'C. Winter Peak 2015-01-15'!ES38","v":0},{"$f":"ColdWinter!G38-'C. Winter Peak 2015-01-15'!ET38","v":0},{"$f":"ColdWinter!H38-'C. Winter Peak 2015-01-15'!EU38","v":0},{"$f":"ColdWinter!I38-'C. Winter Peak 2015-01-15'!EV38","v":0},{"$f":"ColdWinter!J38-'C. Winter Peak 2015-01-15'!EW38","v":0},{"$f":"ColdWinter!K38-'C. Winter Peak 2015-01-15'!EX38","v":0},{"$f":"ColdWinter!L38-'C. Winter Peak 2015-01-15'!EY38","v":0},{"$f":"ColdWinter!M38-'C. Winter Peak 2015-01-15'!EZ38","v":0},{"$f":"ColdWinter!N38-'C. Winter Peak 2015-01-15'!FA38","v":0},{"$f":"ColdWinter!O38-'C. Winter Peak 2015-01-15'!FB38","v":0},{"$f":"ColdWinter!P38-'C. Winter Peak 2015-01-15'!FC38","v":0},{"$f":"ColdWinter!Q38-'C. Winter Peak 2015-01-15'!FD38","v":0},{"$f":"ColdWinter!R38-'C. Winter Peak 2015-01-15'!FE38","v":0},{"$f":"ColdWinter!S38-'C. Winter Peak 2015-01-15'!FF38","v":0},{"$f":"ColdWinter!T38-'C. Winter Peak 2015-01-15'!FG38","v":0},{"$f":"ColdWinter!U38-'C. Winter Peak 2015-01-15'!FH38","v":0},{"$f":"ColdWinter!V38-'C. Winter Peak 2015-01-15'!FI38","v":0},{"$f":"ColdWinter!W38-'C. Winter Peak 2015-01-15'!FJ38","v":0},{"$f":"ColdWinter!X38-'C. Winter Peak 2015-01-15'!FK38","v":0},{"$f":"ColdWinter!Y38-'C. Winter Peak 2015-01-15'!FL38","v":0},{"$f":"ColdWinter!Z38-'C. Winter Peak 2015-01-15'!FM38","v":0},{"$f":"ColdWinter!AA38-'C. Winter Peak 2015-01-15'!FN38","v":0},{"$f":"ColdWinter!AB38-'C. Winter Peak 2015-01-15'!FO38","v":0},{"$f":"ColdWinter!AC38-'C. Winter Peak 2015-01-15'!FP38","v":0},{"$f":"ColdWinter!AD38-'C. Winter Peak 2015-01-15'!FQ38","v":0},{"$f":"ColdWinter!AE38-'C. Winter Peak 2015-01-15'!FR38","v":0},{"$f":"ColdWinter!AF38-'C. Winter Peak 2015-01-15'!FS38","v":0},{"$f":"ColdWinter!AG38-'C. Winter Peak 2015-01-15'!FT38","v":0},{"$f":"ColdWinter!AH38-'C. Winter Peak 2015-01-15'!FU38","v":0},{"$f":"ColdWinter!AI38-'C. Winter Peak 2015-01-15'!FV38","v":0},{"$f":"ColdWinter!AJ38-'C. Winter Peak 2015-01-15'!FW38","v":0},{"$f":"ColdWinter!AK38-'C. Winter Peak 2015-01-15'!FX38","v":0},{"$f":"ColdWinter!AL38-'C. Winter Peak 2015-01-15'!FY38","v":0},{"$f":"ColdWinter!AM38-'C. Winter Peak 2015-01-15'!FZ38","v":0},{"$f":"ColdWinter!AN38-'C. Winter Peak 2015-01-15'!GA38","v":0},{"$f":"ColdWinter!AO38-'C. Winter Peak 2015-01-15'!GB38","v":0},{"$f":"ColdWinter!AP38-'C. Winter Peak 2015-01-15'!GC38","v":0},{"$f":"ColdWinter!AQ38-'C. Winter Peak 2015-01-15'!GD38","v":0},{"$f":"ColdWinter!AR38-'C. Winter Peak 2015-01-15'!GE38","v":0},{"$f":"ColdWinter!AS38-'C. Winter Peak 2015-01-15'!GF38","v":0},{"$f":"ColdWinter!AT38-'C. Winter Peak 2015-01-15'!GG38","v":0},{"$f":"ColdWinter!AU38-'C. Winter Peak 2015-01-15'!GH38","v":0},{"$f":"ColdWinter!AV38-'C. Winter Peak 2015-01-15'!GI38","v":0},{"$f":"ColdWinter!AW38-'C. Winter Peak 2015-01-15'!GJ38","v":0},{"$f":"ColdWinter!AX38-'C. Winter Peak 2015-01-15'!GK38","v":0},{"$f":"ColdWinter!AY38-'C. Winter Peak 2015-01-15'!GL38","v":0},{"$f":"ColdWinter!AZ38-'C. Winter Peak 2015-01-15'!GM38","v":0},{"$f":"ColdWinter!BA38-'C. Winter Peak 2015-01-15'!GN38","v":0},{"$f":"ColdWinter!BB38-'C. Winter Peak 2015-01-15'!GO38","v":0},{"$f":"ColdWinter!BC38-'C. Winter Peak 2015-01-15'!GP38","v":0},{"$f":"ColdWinter!BD38-'C. Winter Peak 2015-01-15'!GQ38","v":0},{"$f":"ColdWinter!BE38-'C. Winter Peak 2015-01-15'!GR38","v":0},{"$f":"ColdWinter!BF38-'C. Winter Peak 2015-01-15'!GS38","v":0},{"$f":"ColdWinter!BG38-'C. Winter Peak 2015-01-15'!GT38","v":0},{"$f":"ColdWinter!BH38-'C. Winter Peak 2015-01-15'!GU38","v":0},{"$f":"ColdWinter!BI38-'C. Winter Peak 2015-01-15'!GV38","v":0},{"$f":"ColdWinter!BJ38-'C. Winter Peak 2015-01-15'!GW38","v":0},{"$f":"ColdWinter!BK38-'C. Winter Peak 2015-01-15'!GX38","v":0},{"$f":"ColdWinter!BL38-'C. Winter Peak 2015-01-15'!GY38","v":0},{"$f":"ColdWinter!BM38-'C. Winter Peak 2015-01-15'!GZ38","v":0},{"$f":"ColdWinter!BN38-'C. Winter Peak 2015-01-15'!HA38","v":0},{"$f":"ColdWinter!BO38-'C. Winter Peak 2015-01-15'!HB38","v":0},{"$f":"ColdWinter!BP38-'C. Winter Peak 2015-01-15'!HC38","v":0},{"$f":"ColdWinter!BQ38-'C. Winter Peak 2015-01-15'!HD38","v":0},{"$f":"ColdWinter!BR38-'C. Winter Peak 2015-01-15'!HE38","v":0},{"$f":"ColdWinter!BS38-'C. Winter Peak 2015-01-15'!HF38","v":0},{"$f":"ColdWinter!BT38-'C. Winter Peak 2015-01-15'!HG38","v":0},{"$f":"ColdWinter!BU38-'C. Winter Peak 2015-01-15'!HH38","v":0},{"$f":"ColdWinter!BV38-'C. Winter Peak 2015-01-15'!HI38","v":0},{"$f":"ColdWinter!BW38-'C. Winter Peak 2015-01-15'!HJ38","v":0},{"$f":"ColdWinter!BX38-'C. Winter Peak 2015-01-15'!HK38","v":0},{"$f":"ColdWinter!BY38-'C. Winter Peak 2015-01-15'!HL38","v":0},{"$f":"ColdWinter!BZ38-'C. Winter Peak 2015-01-15'!HM38","v":0},{"$f":"ColdWinter!CA38-'C. Winter Peak 2015-01-15'!HN38","v":0},{"$f":"ColdWinter!CB38-'C. Winter Peak 2015-01-15'!HO38","v":0},{"$f":"ColdWinter!CC38-'C. Winter Peak 2015-01-15'!HP38","v":0},{"$f":"ColdWinter!CD38-'C. Winter Peak 2015-01-15'!HQ38","v":0},{"$f":"ColdWinter!CE38-'C. Winter Peak 2015-01-15'!HR38","v":0},{"$f":"ColdWinter!CF38-'C. Winter Peak 2015-01-15'!HS38","v":0},{"$f":"ColdWinter!CG38-'C. Winter Peak 2015-01-15'!HT38","v":0},{"$f":"ColdWinter!CH38-'C. Winter Peak 2015-01-15'!HU38","v":0},{"$f":"ColdWinter!CI38-'C. Winter Peak 2015-01-15'!HV38","v":0},{"$f":"ColdWinter!CJ38-'C. Winter Peak 2015-01-15'!HW38","v":0},{"$f":"ColdWinter!CK38-'C. Winter Peak 2015-01-15'!HX38","v":0},{"$f":"ColdWinter!CL38-'C. Winter Peak 2015-01-15'!HY38","v":0},{"$f":"ColdWinter!CM38-'C. Winter Peak 2015-01-15'!HZ38","v":0},{"$f":"ColdWinter!CN38-'C. Winter Peak 2015-01-15'!IA38","v":0},{"$f":"ColdWinter!CO38-'C. Winter Peak 2015-01-15'!IB38","v":0},{"$f":"ColdWinter!CP38-'C. Winter Peak 2015-01-15'!IC38","v":0},{"$f":"ColdWinter!CQ38-'C. Winter Peak 2015-01-15'!ID38","v":0},{"$f":"ColdWinter!CR38-'C. Winter Peak 2015-01-15'!IE38","v":0},{"$f":"ColdWinter!CS38-'C. Winter Peak 2015-01-15'!IF38","v":0},{"$f":"ColdWinter!CT38-'C. Winter Peak 2015-01-15'!IG38","v":0},{"$f":"ColdWinter!CU38-'C. Winter Peak 2015-01-15'!IH38","v":0},{"$f":"ColdWinter!CV38-'C. Winter Peak 2015-01-15'!II38","v":0},{"$f":"ColdWinter!CW38-'C. Winter Peak 2015-01-15'!IJ38","v":0},{"$f":"ColdWinter!CX38-'C. Winter Peak 2015-01-15'!IK38","v":0},{"$f":"ColdWinter!CY38-'C. Winter Peak 2015-01-15'!IL38","v":0},{"$f":"ColdWinter!CZ38-'C. Winter Peak 2015-01-15'!IM38","v":0},{"$f":"ColdWinter!DA38-'C. Winter Peak 2015-01-15'!IN38","v":0},{"$f":"ColdWinter!DB38-'C. Winter Peak 2015-01-15'!IO38","v":0},{"$f":"ColdWinter!DC38-'C. Winter Peak 2015-01-15'!IP38","v":0},{"$f":"ColdWinter!DD38-'C. Winter Peak 2015-01-15'!IQ38","v":0},{"$f":"ColdWinter!DE38-'C. Winter Peak 2015-01-15'!IR38","v":0},{"$f":"ColdWinter!DF38-'C. Winter Peak 2015-01-15'!IS38","v":0},{"$f":"ColdWinter!DG38-'C. Winter Peak 2015-01-15'!IT38","v":0},{"$f":"ColdWinter!DH38-'C. Winter Peak 2015-01-15'!IU38","v":0},{"$f":"ColdWinter!DI38-'C. Winter Peak 2015-01-15'!IV38","v":0},{"$f":"ColdWinter!DJ38-'C. Winter Peak 2015-01-15'!IW38","v":0},{"$f":"ColdWinter!DK38-'C. Winter Peak 2015-01-15'!IX38","v":0},{"$f":"ColdWinter!DL38-'C. Winter Peak 2015-01-15'!IY38","v":0},{"$f":"ColdWinter!DM38-'C. Winter Peak 2015-01-15'!IZ38","v":0},{"$f":"ColdWinter!DN38-'C. Winter Peak 2015-01-15'!JA38","v":0},{"$f":"ColdWinter!DO38-'C. Winter Peak 2015-01-15'!JB38","v":0},{"$f":"ColdWinter!DP38-'C. Winter Peak 2015-01-15'!JC38","v":0},{"$f":"ColdWinter!DQ38-'C. Winter Peak 2015-01-15'!JD38","v":0},{"$f":"ColdWinter!DR38-'C. Winter Peak 2015-01-15'!JE38","v":0},{"$f":"ColdWinter!DS38-'C. Winter Peak 2015-01-15'!JF38","v":0}]
[null,"PSC",{"$f":"ColdWinter!C39-'C. Winter Peak 2015-01-15'!EP39","v":0},{"$f":"ColdWinter!D39-'C. Winter Peak 2015-01-15'!EQ39","v":0},{"$f":"ColdWinter!E39-'C. Winter Peak 2015-01-15'!ER39","v":0},{"$f":"ColdWinter!F39-'C. Winter Peak 2015-01-15'!ES39","v":0},{"$f":"ColdWinter!G39-'C. Winter Peak 2015-01-15'!ET39","v":0},{"$f":"ColdWinter!H39-'C. Winter Peak 2015-01-15'!EU39","v":0},{"$f":"ColdWinter!I39-'C. Winter Peak 2015-01-15'!EV39","v":0},{"$f":"ColdWinter!J39-'C. Winter Peak 2015-01-15'!EW39","v":0},{"$f":"ColdWinter!K39-'C. Winter Peak 2015-01-15'!EX39","v":0},{"$f":"ColdWinter!L39-'C. Winter Peak 2015-01-15'!EY39","v":0},{"$f":"ColdWinter!M39-'C. Winter Peak 2015-01-15'!EZ39","v":0},{"$f":"ColdWinter!N39-'C. Winter Peak 2015-01-15'!FA39","v":0},{"$f":"ColdWinter!O39-'C. Winter Peak 2015-01-15'!FB39","v":0},{"$f":"ColdWinter!P39-'C. Winter Peak 2015-01-15'!FC39","v":0},{"$f":"ColdWinter!Q39-'C. Winter Peak 2015-01-15'!FD39","v":0},{"$f":"ColdWinter!R39-'C. Winter Peak 2015-01-15'!FE39","v":0},{"$f":"ColdWinter!S39-'C. Winter Peak 2015-01-15'!FF39","v":0},{"$f":"ColdWinter!T39-'C. Winter Peak 2015-01-15'!FG39","v":0},{"$f":"ColdWinter!U39-'C. Winter Peak 2015-01-15'!FH39","v":0},{"$f":"ColdWinter!V39-'C. Winter Peak 2015-01-15'!FI39","v":0},{"$f":"ColdWinter!W39-'C. Winter Peak 2015-01-15'!FJ39","v":0},{"$f":"ColdWinter!X39-'C. Winter Peak 2015-01-15'!FK39","v":0},{"$f":"ColdWinter!Y39-'C. Winter Peak 2015-01-15'!FL39","v":0},{"$f":"ColdWinter!Z39-'C. Winter Peak 2015-01-15'!FM39","v":0},{"$f":"ColdWinter!AA39-'C. Winter Peak 2015-01-15'!FN39","v":0},{"$f":"ColdWinter!AB39-'C. Winter Peak 2015-01-15'!FO39","v":0},{"$f":"ColdWinter!AC39-'C. Winter Peak 2015-01-15'!FP39","v":0},{"$f":"ColdWinter!AD39-'C. Winter Peak 2015-01-15'!FQ39","v":0},{"$f":"ColdWinter!AE39-'C. Winter Peak 2015-01-15'!FR39","v":0},{"$f":"ColdWinter!AF39-'C. Winter Peak 2015-01-15'!FS39","v":0},{"$f":"ColdWinter!AG39-'C. Winter Peak 2015-01-15'!FT39","v":0},{"$f":"ColdWinter!AH39-'C. Winter Peak 2015-01-15'!FU39","v":0},{"$f":"ColdWinter!AI39-'C. Winter Peak 2015-01-15'!FV39","v":0},{"$f":"ColdWinter!AJ39-'C. Winter Peak 2015-01-15'!FW39","v":0},{"$f":"ColdWinter!AK39-'C. Winter Peak 2015-01-15'!FX39","v":0},{"$f":"ColdWinter!AL39-'C. Winter Peak 2015-01-15'!FY39","v":0},{"$f":"ColdWinter!AM39-'C. Winter Peak 2015-01-15'!FZ39","v":0},{"$f":"ColdWinter!AN39-'C. Winter Peak 2015-01-15'!GA39","v":0},{"$f":"ColdWinter!AO39-'C. Winter Peak 2015-01-15'!GB39","v":0},{"$f":"ColdWinter!AP39-'C. Winter Peak 2015-01-15'!GC39","v":0},{"$f":"ColdWinter!AQ39-'C. Winter Peak 2015-01-15'!GD39","v":0},{"$f":"ColdWinter!AR39-'C. Winter Peak 2015-01-15'!GE39","v":0},{"$f":"ColdWinter!AS39-'C. Winter Peak 2015-01-15'!GF39","v":0},{"$f":"ColdWinter!AT39-'C. Winter Peak 2015-01-15'!GG39","v":0},{"$f":"ColdWinter!AU39-'C. Winter Peak 2015-01-15'!GH39","v":0},{"$f":"ColdWinter!AV39-'C. Winter Peak 2015-01-15'!GI39","v":0},{"$f":"ColdWinter!AW39-'C. Winter Peak 2015-01-15'!GJ39","v":0},{"$f":"ColdWinter!AX39-'C. Winter Peak 2015-01-15'!GK39","v":0},{"$f":"ColdWinter!AY39-'C. Winter Peak 2015-01-15'!GL39","v":0},{"$f":"ColdWinter!AZ39-'C. Winter Peak 2015-01-15'!GM39","v":0},{"$f":"ColdWinter!BA39-'C. Winter Peak 2015-01-15'!GN39","v":0},{"$f":"ColdWinter!BB39-'C. Winter Peak 2015-01-15'!GO39","v":0},{"$f":"ColdWinter!BC39-'C. Winter Peak 2015-01-15'!GP39","v":0},{"$f":"ColdWinter!BD39-'C. Winter Peak 2015-01-15'!GQ39","v":0},{"$f":"ColdWinter!BE39-'C. Winter Peak 2015-01-15'!GR39","v":0},{"$f":"ColdWinter!BF39-'C. Winter Peak 2015-01-15'!GS39","v":0},{"$f":"ColdWinter!BG39-'C. Winter Peak 2015-01-15'!GT39","v":0},{"$f":"ColdWinter!BH39-'C. Winter Peak 2015-01-15'!GU39","v":0},{"$f":"ColdWinter!BI39-'C. Winter Peak 2015-01-15'!GV39","v":0},{"$f":"ColdWinter!BJ39-'C. Winter Peak 2015-01-15'!GW39","v":0},{"$f":"ColdWinter!BK39-'C. Winter Peak 2015-01-15'!GX39","v":0},{"$f":"ColdWinter!BL39-'C. Winter Peak 2015-01-15'!GY39","v":0},{"$f":"ColdWinter!BM39-'C. Winter Peak 2015-01-15'!GZ39","v":0},{"$f":"ColdWinter!BN39-'C. Winter Peak 2015-01-15'!HA39","v":0},{"$f":"ColdWinter!BO39-'C. Winter Peak 2015-01-15'!HB39","v":0},{"$f":"ColdWinter!BP39-'C. Winter Peak 2015-01-15'!HC39","v":0},{"$f":"ColdWinter!BQ39-'C. Winter Peak 2015-01-15'!HD39","v":0},{"$f":"ColdWinter!BR39-'C. Winter Peak 2015-01-15'!HE39","v":0},{"$f":"ColdWinter!BS39-'C. Winter Peak 2015-01-15'!HF39","v":0},{"$f":"ColdWinter!BT39-'C. Winter Peak 2015-01-15'!HG39","v":0},{"$f":"ColdWinter!BU39-'C. Winter Peak 2015-01-15'!HH39","v":0},{"$f":"ColdWinter!BV39-'C. Winter Peak 2015-01-15'!HI39","v":0},{"$f":"ColdWinter!BW39-'C. Winter Peak 2015-01-15'!HJ39","v":0},{"$f":"ColdWinter!BX39-'C. Winter Peak 2015-01-15'!HK39","v":0},{"$f":"ColdWinter!BY39-'C. Winter Peak 2015-01-15'!HL39","v":0},{"$f":"ColdWinter!BZ39-'C. Winter Peak 2015-01-15'!HM39","v":0},{"$f":"ColdWinter!CA39-'C. Winter Peak 2015-01-15'!HN39","v":0},{"$f":"ColdWinter!CB39-'C. Winter Peak 2015-01-15'!HO39","v":0},{"$f":"ColdWinter!CC39-'C. Winter Peak 2015-01-15'!HP39","v":0},{"$f":"ColdWinter!CD39-'C. Winter Peak 2015-01-15'!HQ39","v":0},{"$f":"ColdWinter!CE39-'C. Winter Peak 2015-01-15'!HR39","v":0},{"$f":"ColdWinter!CF39-'C. Winter Peak 2015-01-15'!HS39","v":0},{"$f":"ColdWinter!CG39-'C. Winter Peak 2015-01-15'!HT39","v":0},{"$f":"ColdWinter!CH39-'C. Winter Peak 2015-01-15'!HU39","v":0},{"$f":"ColdWinter!CI39-'C. Winter Peak 2015-01-15'!HV39","v":0},{"$f":"ColdWinter!CJ39-'C. Winter Peak 2015-01-15'!HW39","v":0},{"$f":"ColdWinter!CK39-'C. Winter Peak 2015-01-15'!HX39","v":0},{"$f":"ColdWinter!CL39-'C. Winter Peak 2015-01-15'!HY39","v":0},{"$f":"ColdWinter!CM39-'C. Winter Peak 2015-01-15'!HZ39","v":0},{"$f":"ColdWinter!CN39-'C. Winter Peak 2015-01-15'!IA39","v":0},{"$f":"ColdWinter!CO39-'C. Winter Peak 2015-01-15'!IB39","v":0},{"$f":"ColdWinter!CP39-'C. Winter Peak 2015-01-15'!IC39","v":0},{"$f":"ColdWinter!CQ39-'C. Winter Peak 2015-01-15'!ID39","v":0},{"$f":"ColdWinter!CR39-'C. Winter Peak 2015-01-15'!IE39","v":0},{"$f":"ColdWinter!CS39-'C. Winter Peak 2015-01-15'!IF39","v":0},{"$f":"ColdWinter!CT39-'C. Winter Peak 2015-01-15'!IG39","v":0},{"$f":"ColdWinter!CU39-'C. Winter Peak 2015-01-15'!IH39","v":0},{"$f":"ColdWinter!CV39-'C. Winter Peak 2015-01-15'!II39","v":0},{"$f":"ColdWinter!CW39-'C. Winter Peak 2015-01-15'!IJ39","v":0},{"$f":"ColdWinter!CX39-'C. Winter Peak 2015-01-15'!IK39","v":0},{"$f":"ColdWinter!CY39-'C. Winter Peak 2015-01-15'!IL39","v":0},{"$f":"ColdWinter!CZ39-'C. Winter Peak 2015-01-15'!IM39","v":0},{"$f":"ColdWinter!DA39-'C. Winter Peak 2015-01-15'!IN39","v":0},{"$f":"ColdWinter!DB39-'C. Winter Peak 2015-01-15'!IO39","v":0},{"$f":"ColdWinter!DC39-'C. Winter Peak 2015-01-15'!IP39","v":0},{"$f":"ColdWinter!DD39-'C. Winter Peak 2015-01-15'!IQ39","v":0},{"$f":"ColdWinter!DE39-'C. Winter Peak 2015-01-15'!IR39","v":0},{"$f":"ColdWinter!DF39-'C. Winter Peak 2015-01-15'!IS39","v":0},{"$f":"ColdWinter!DG39-'C. Winter Peak 2015-01-15'!IT39","v":0},{"$f":"ColdWinter!DH39-'C. Winter Peak 2015-01-15'!IU39","v":0},{"$f":"ColdWinter!DI39-'C. Winter Peak 2015-01-15'!IV39","v":0},{"$f":"ColdWinter!DJ39-'C. Winter Peak 2015-01-15'!IW39","v":0},{"$f":"ColdWinter!DK39-'C. Winter Peak 2015-01-15'!IX39","v":0},{"$f":"ColdWinter!DL39-'C. Winter Peak 2015-01-15'!IY39","v":0},{"$f":"ColdWinter!DM39-'C. Winter Peak 2015-01-15'!IZ39","v":0},{"$f":"ColdWinter!DN39-'C. Winter Peak 2015-01-15'!JA39","v":0},{"$f":"ColdWinter!DO39-'C. Winter Peak 2015-01-15'!JB39","v":0},{"$f":"ColdWinter!DP39-'C. Winter Peak 2015-01-15'!JC39","v":0},{"$f":"ColdWinter!DQ39-'C. Winter Peak 2015-01-15'!JD39","v":0},{"$f":"ColdWinter!DR39-'C. Winter Peak 2015-01-15'!JE39","v":0},{"$f":"ColdWinter!DS39-'C. Winter Peak 2015-01-15'!JF39","v":0}]
[null,"PSH4",{"$f":"ColdWinter!C40-'C. Winter Peak 2015-01-15'!EP40","v":0},{"$f":"ColdWinter!D40-'C. Winter Peak 2015-01-15'!EQ40","v":0},{"$f":"ColdWinter!E40-'C. Winter Peak 2015-01-15'!ER40","v":0},{"$f":"ColdWinter!F40-'C. Winter Peak 2015-01-15'!ES40","v":0},{"$f":"ColdWinter!G40-'C. Winter Peak 2015-01-15'!ET40","v":0},{"$f":"ColdWinter!H40-'C. Winter Peak 2015-01-15'!EU40","v":0},{"$f":"ColdWinter!I40-'C. Winter Peak 2015-01-15'!EV40","v":0},{"$f":"ColdWinter!J40-'C. Winter Peak 2015-01-15'!EW40","v":0},{"$f":"ColdWinter!K40-'C. Winter Peak 2015-01-15'!EX40","v":0},{"$f":"ColdWinter!L40-'C. Winter Peak 2015-01-15'!EY40","v":0},{"$f":"ColdWinter!M40-'C. Winter Peak 2015-01-15'!EZ40","v":0},{"$f":"ColdWinter!N40-'C. Winter Peak 2015-01-15'!FA40","v":0},{"$f":"ColdWinter!O40-'C. Winter Peak 2015-01-15'!FB40","v":0},{"$f":"ColdWinter!P40-'C. Winter Peak 2015-01-15'!FC40","v":0},{"$f":"ColdWinter!Q40-'C. Winter Peak 2015-01-15'!FD40","v":0},{"$f":"ColdWinter!R40-'C. Winter Peak 2015-01-15'!FE40","v":0},{"$f":"ColdWinter!S40-'C. Winter Peak 2015-01-15'!FF40","v":0},{"$f":"ColdWinter!T40-'C. Winter Peak 2015-01-15'!FG40","v":0},{"$f":"ColdWinter!U40-'C. Winter Peak 2015-01-15'!FH40","v":0},{"$f":"ColdWinter!V40-'C. Winter Peak 2015-01-15'!FI40","v":0},{"$f":"ColdWinter!W40-'C. Winter Peak 2015-01-15'!FJ40","v":0},{"$f":"ColdWinter!X40-'C. Winter Peak 2015-01-15'!FK40","v":0},{"$f":"ColdWinter!Y40-'C. Winter Peak 2015-01-15'!FL40","v":0},{"$f":"ColdWinter!Z40-'C. Winter Peak 2015-01-15'!FM40","v":0},{"$f":"ColdWinter!AA40-'C. Winter Peak 2015-01-15'!FN40","v":0},{"$f":"ColdWinter!AB40-'C. Winter Peak 2015-01-15'!FO40","v":0},{"$f":"ColdWinter!AC40-'C. Winter Peak 2015-01-15'!FP40","v":0},{"$f":"ColdWinter!AD40-'C. Winter Peak 2015-01-15'!FQ40","v":0},{"$f":"ColdWinter!AE40-'C. Winter Peak 2015-01-15'!FR40","v":0},{"$f":"ColdWinter!AF40-'C. Winter Peak 2015-01-15'!FS40","v":0},{"$f":"ColdWinter!AG40-'C. Winter Peak 2015-01-15'!FT40","v":0},{"$f":"ColdWinter!AH40-'C. Winter Peak 2015-01-15'!FU40","v":0},{"$f":"ColdWinter!AI40-'C. Winter Peak 2015-01-15'!FV40","v":0},{"$f":"ColdWinter!AJ40-'C. Winter Peak 2015-01-15'!FW40","v":0},{"$f":"ColdWinter!AK40-'C. Winter Peak 2015-01-15'!FX40","v":0},{"$f":"ColdWinter!AL40-'C. Winter Peak 2015-01-15'!FY40","v":0},{"$f":"ColdWinter!AM40-'C. Winter Peak 2015-01-15'!FZ40","v":0},{"$f":"ColdWinter!AN40-'C. Winter Peak 2015-01-15'!GA40","v":0},{"$f":"ColdWinter!AO40-'C. Winter Peak 2015-01-15'!GB40","v":0},{"$f":"ColdWinter!AP40-'C. Winter Peak 2015-01-15'!GC40","v":0},{"$f":"ColdWinter!AQ40-'C. Winter Peak 2015-01-15'!GD40","v":0},{"$f":"ColdWinter!AR40-'C. Winter Peak 2015-01-15'!GE40","v":0},{"$f":"ColdWinter!AS40-'C. Winter Peak 2015-01-15'!GF40","v":0},{"$f":"ColdWinter!AT40-'C. Winter Peak 2015-01-15'!GG40","v":0},{"$f":"ColdWinter!AU40-'C. Winter Peak 2015-01-15'!GH40","v":0},{"$f":"ColdWinter!AV40-'C. Winter Peak 2015-01-15'!GI40","v":0},{"$f":"ColdWinter!AW40-'C. Winter Peak 2015-01-15'!GJ40","v":0},{"$f":"ColdWinter!AX40-'C. Winter Peak 2015-01-15'!GK40","v":0},{"$f":"ColdWinter!AY40-'C. Winter Peak 2015-01-15'!GL40","v":0},{"$f":"ColdWinter!AZ40-'C. Winter Peak 2015-01-15'!GM40","v":0},{"$f":"ColdWinter!BA40-'C. Winter Peak 2015-01-15'!GN40","v":0},{"$f":"ColdWinter!BB40-'C. Winter Peak 2015-01-15'!GO40","v":0},{"$f":"ColdWinter!BC40-'C. Winter Peak 2015-01-15'!GP40","v":0},{"$f":"ColdWinter!BD40-'C. Winter Peak 2015-01-15'!GQ40","v":0},{"$f":"ColdWinter!BE40-'C. Winter Peak 2015-01-15'!GR40","v":0},{"$f":"ColdWinter!BF40-'C. Winter Peak 2015-01-15'!GS40","v":0},{"$f":"ColdWinter!BG40-'C. Winter Peak 2015-01-15'!GT40","v":0},{"$f":"ColdWinter!BH40-'C. Winter Peak 2015-01-15'!GU40","v":0},{"$f":"ColdWinter!BI40-'C. Winter Peak 2015-01-15'!GV40","v":0},{"$f":"ColdWinter!BJ40-'C. Winter Peak 2015-01-15'!GW40","v":0},{"$f":"ColdWinter!BK40-'C. Winter Peak 2015-01-15'!GX40","v":0},{"$f":"ColdWinter!BL40-'C. Winter Peak 2015-01-15'!GY40","v":0},{"$f":"ColdWinter!BM40-'C. Winter Peak 2015-01-15'!GZ40","v":0},{"$f":"ColdWinter!BN40-'C. Winter Peak 2015-01-15'!HA40","v":0},{"$f":"ColdWinter!BO40-'C. Winter Peak 2015-01-15'!HB40","v":0},{"$f":"ColdWinter!BP40-'C. Winter Peak 2015-01-15'!HC40","v":0},{"$f":"ColdWinter!BQ40-'C. Winter Peak 2015-01-15'!HD40","v":0},{"$f":"ColdWinter!BR40-'C. Winter Peak 2015-01-15'!HE40","v":0},{"$f":"ColdWinter!BS40-'C. Winter Peak 2015-01-15'!HF40","v":0},{"$f":"ColdWinter!BT40-'C. Winter Peak 2015-01-15'!HG40","v":0},{"$f":"ColdWinter!BU40-'C. Winter Peak 2015-01-15'!HH40","v":0},{"$f":"ColdWinter!BV40-'C. Winter Peak 2015-01-15'!HI40","v":0},{"$f":"ColdWinter!BW40-'C. Winter Peak 2015-01-15'!HJ40","v":0},{"$f":"ColdWinter!BX40-'C. Winter Peak 2015-01-15'!HK40","v":0},{"$f":"ColdWinter!BY40-'C. Winter Peak 2015-01-15'!HL40","v":0},{"$f":"ColdWinter!BZ40-'C. Winter Peak 2015-01-15'!HM40","v":0},{"$f":"ColdWinter!CA40-'C. Winter Peak 2015-01-15'!HN40","v":0},{"$f":"ColdWinter!CB40-'C. Winter Peak 2015-01-15'!HO40","v":0},{"$f":"ColdWinter!CC40-'C. Winter Peak 2015-01-15'!HP40","v":0},{"$f":"ColdWinter!CD40-'C. Winter Peak 2015-01-15'!HQ40","v":0},{"$f":"ColdWinter!CE40-'C. Winter Peak 2015-01-15'!HR40","v":0},{"$f":"ColdWinter!CF40-'C. Winter Peak 2015-01-15'!HS40","v":0},{"$f":"ColdWinter!CG40-'C. Winter Peak 2015-01-15'!HT40","v":0},{"$f":"ColdWinter!CH40-'C. Winter Peak 2015-01-15'!HU40","v":0},{"$f":"ColdWinter!CI40-'C. Winter Peak 2015-01-15'!HV40","v":0},{"$f":"ColdWinter!CJ40-'C. Winter Peak 2015-01-15'!HW40","v":0},{"$f":"ColdWinter!CK40-'C. Winter Peak 2015-01-15'!HX40","v":0},{"$f":"ColdWinter!CL40-'C. Winter Peak 2015-01-15'!HY40","v":0},{"$f":"ColdWinter!CM40-'C. Winter Peak 2015-01-15'!HZ40","v":0},{"$f":"ColdWinter!CN40-'C. Winter Peak 2015-01-15'!IA40","v":0},{"$f":"ColdWinter!CO40-'C. Winter Peak 2015-01-15'!IB40","v":0},{"$f":"ColdWinter!CP40-'C. Winter Peak 2015-01-15'!IC40","v":0},{"$f":"ColdWinter!CQ40-'C. Winter Peak 2015-01-15'!ID40","v":0},{"$f":"ColdWinter!CR40-'C. Winter Peak 2015-01-15'!IE40","v":0},{"$f":"ColdWinter!CS40-'C. Winter Peak 2015-01-15'!IF40","v":0},{"$f":"ColdWinter!CT40-'C. Winter Peak 2015-01-15'!IG40","v":0},{"$f":"ColdWinter!CU40-'C. Winter Peak 2015-01-15'!IH40","v":0},{"$f":"ColdWinter!CV40-'C. Winter Peak 2015-01-15'!II40","v":0},{"$f":"ColdWinter!CW40-'C. Winter Peak 2015-01-15'!IJ40","v":0},{"$f":"ColdWinter!CX40-'C. Winter Peak 2015-01-15'!IK40","v":0},{"$f":"ColdWinter!CY40-'C. Winter Peak 2015-01-15'!IL40","v":0},{"$f":"ColdWinter!CZ40-'C. Winter Peak 2015-01-15'!IM40","v":0},{"$f":"ColdWinter!DA40-'C. Winter Peak 2015-01-15'!IN40","v":0},{"$f":"ColdWinter!DB40-'C. Winter Peak 2015-01-15'!IO40","v":0},{"$f":"ColdWinter!DC40-'C. Winter Peak 2015-01-15'!IP40","v":0},{"$f":"ColdWinter!DD40-'C. Winter Peak 2015-01-15'!IQ40","v":0},{"$f":"ColdWinter!DE40-'C. Winter Peak 2015-01-15'!IR40","v":0},{"$f":"ColdWinter!DF40-'C. Winter Peak 2015-01-15'!IS40","v":0},{"$f":"ColdWinter!DG40-'C. Winter Peak 2015-01-15'!IT40","v":0},{"$f":"ColdWinter!DH40-'C. Winter Peak 2015-01-15'!IU40","v":0},{"$f":"ColdWinter!DI40-'C. Winter Peak 2015-01-15'!IV40","v":0},{"$f":"ColdWinter!DJ40-'C. Winter Peak 2015-01-15'!IW40","v":0},{"$f":"ColdWinter!DK40-'C. Winter Peak 2015-01-15'!IX40","v":0},{"$f":"ColdWinter!DL40-'C. Winter Peak 2015-01-15'!IY40","v":0},{"$f":"ColdWinter!DM40-'C. Winter Peak 2015-01-15'!IZ40","v":0},{"$f":"ColdWinter!DN40-'C. Winter Peak 2015-01-15'!JA40","v":0},{"$f":"ColdWinter!DO40-'C. Winter Peak 2015-01-15'!JB40","v":0},{"$f":"ColdWinter!DP40-'C. Winter Peak 2015-01-15'!JC40","v":0},{"$f":"ColdWinter!DQ40-'C. Winter Peak 2015-01-15'!JD40","v":0},{"$f":"ColdWinter!DR40-'C. Winter Peak 2015-01-15'!JE40","v":0},{"$f":"ColdWinter!DS40-'C. Winter Peak 2015-01-15'!JF40","v":0}]
[null,"PSL1",{"$f":"ColdWinter!C41-'C. Winter Peak 2015-01-15'!EP41","v":0},{"$f":"ColdWinter!D41-'C. Winter Peak 2015-01-15'!EQ41","v":0},{"$f":"ColdWinter!E41-'C. Winter Peak 2015-01-15'!ER41","v":0},{"$f":"ColdWinter!F41-'C. Winter Peak 2015-01-15'!ES41","v":0},{"$f":"ColdWinter!G41-'C. Winter Peak 2015-01-15'!ET41","v":0},{"$f":"ColdWinter!H41-'C. Winter Peak 2015-01-15'!EU41","v":0},{"$f":"ColdWinter!I41-'C. Winter Peak 2015-01-15'!EV41","v":0},{"$f":"ColdWinter!J41-'C. Winter Peak 2015-01-15'!EW41","v":0},{"$f":"ColdWinter!K41-'C. Winter Peak 2015-01-15'!EX41","v":0},{"$f":"ColdWinter!L41-'C. Winter Peak 2015-01-15'!EY41","v":0},{"$f":"ColdWinter!M41-'C. Winter Peak 2015-01-15'!EZ41","v":0},{"$f":"ColdWinter!N41-'C. Winter Peak 2015-01-15'!FA41","v":0},{"$f":"ColdWinter!O41-'C. Winter Peak 2015-01-15'!FB41","v":0},{"$f":"ColdWinter!P41-'C. Winter Peak 2015-01-15'!FC41","v":0},{"$f":"ColdWinter!Q41-'C. Winter Peak 2015-01-15'!FD41","v":0},{"$f":"ColdWinter!R41-'C. Winter Peak 2015-01-15'!FE41","v":0},{"$f":"ColdWinter!S41-'C. Winter Peak 2015-01-15'!FF41","v":0},{"$f":"ColdWinter!T41-'C. Winter Peak 2015-01-15'!FG41","v":0},{"$f":"ColdWinter!U41-'C. Winter Peak 2015-01-15'!FH41","v":0},{"$f":"ColdWinter!V41-'C. Winter Peak 2015-01-15'!FI41","v":0},{"$f":"ColdWinter!W41-'C. Winter Peak 2015-01-15'!FJ41","v":0},{"$f":"ColdWinter!X41-'C. Winter Peak 2015-01-15'!FK41","v":0},{"$f":"ColdWinter!Y41-'C. Winter Peak 2015-01-15'!FL41","v":0},{"$f":"ColdWinter!Z41-'C. Winter Peak 2015-01-15'!FM41","v":0},{"$f":"ColdWinter!AA41-'C. Winter Peak 2015-01-15'!FN41","v":0},{"$f":"ColdWinter!AB41-'C. Winter Peak 2015-01-15'!FO41","v":0},{"$f":"ColdWinter!AC41-'C. Winter Peak 2015-01-15'!FP41","v":0},{"$f":"ColdWinter!AD41-'C. Winter Peak 2015-01-15'!FQ41","v":0},{"$f":"ColdWinter!AE41-'C. Winter Peak 2015-01-15'!FR41","v":0},{"$f":"ColdWinter!AF41-'C. Winter Peak 2015-01-15'!FS41","v":0},{"$f":"ColdWinter!AG41-'C. Winter Peak 2015-01-15'!FT41","v":0},{"$f":"ColdWinter!AH41-'C. Winter Peak 2015-01-15'!FU41","v":0},{"$f":"ColdWinter!AI41-'C. Winter Peak 2015-01-15'!FV41","v":0},{"$f":"ColdWinter!AJ41-'C. Winter Peak 2015-01-15'!FW41","v":0},{"$f":"ColdWinter!AK41-'C. Winter Peak 2015-01-15'!FX41","v":0},{"$f":"ColdWinter!AL41-'C. Winter Peak 2015-01-15'!FY41","v":0},{"$f":"ColdWinter!AM41-'C. Winter Peak 2015-01-15'!FZ41","v":0},{"$f":"ColdWinter!AN41-'C. Winter Peak 2015-01-15'!GA41","v":0},{"$f":"ColdWinter!AO41-'C. Winter Peak 2015-01-15'!GB41","v":0},{"$f":"ColdWinter!AP41-'C. Winter Peak 2015-01-15'!GC41","v":0},{"$f":"ColdWinter!AQ41-'C. Winter Peak 2015-01-15'!GD41","v":0},{"$f":"ColdWinter!AR41-'C. Winter Peak 2015-01-15'!GE41","v":0},{"$f":"ColdWinter!AS41-'C. Winter Peak 2015-01-15'!GF41","v":0},{"$f":"ColdWinter!AT41-'C. Winter Peak 2015-01-15'!GG41","v":0},{"$f":"ColdWinter!AU41-'C. Winter Peak 2015-01-15'!GH41","v":0},{"$f":"ColdWinter!AV41-'C. Winter Peak 2015-01-15'!GI41","v":0},{"$f":"ColdWinter!AW41-'C. Winter Peak 2015-01-15'!GJ41","v":0},{"$f":"ColdWinter!AX41-'C. Winter Peak 2015-01-15'!GK41","v":0},{"$f":"ColdWinter!AY41-'C. Winter Peak 2015-01-15'!GL41","v":0},{"$f":"ColdWinter!AZ41-'C. Winter Peak 2015-01-15'!GM41","v":0},{"$f":"ColdWinter!BA41-'C. Winter Peak 2015-01-15'!GN41","v":0},{"$f":"ColdWinter!BB41-'C. Winter Peak 2015-01-15'!GO41","v":0},{"$f":"ColdWinter!BC41-'C. Winter Peak 2015-01-15'!GP41","v":0},{"$f":"ColdWinter!BD41-'C. Winter Peak 2015-01-15'!GQ41","v":0},{"$f":"ColdWinter!BE41-'C. Winter Peak 2015-01-15'!GR41","v":0},{"$f":"ColdWinter!BF41-'C. Winter Peak 2015-01-15'!GS41","v":0},{"$f":"ColdWinter!BG41-'C. Winter Peak 2015-01-15'!GT41","v":0},{"$f":"ColdWinter!BH41-'C. Winter Peak 2015-01-15'!GU41","v":0},{"$f":"ColdWinter!BI41-'C. Winter Peak 2015-01-15'!GV41","v":0},{"$f":"ColdWinter!BJ41-'C. Winter Peak 2015-01-15'!GW41","v":0},{"$f":"ColdWinter!BK41-'C. Winter Peak 2015-01-15'!GX41","v":0},{"$f":"ColdWinter!BL41-'C. Winter Peak 2015-01-15'!GY41","v":0},{"$f":"ColdWinter!BM41-'C. Winter Peak 2015-01-15'!GZ41","v":0},{"$f":"ColdWinter!BN41-'C. Winter Peak 2015-01-15'!HA41","v":0},{"$f":"ColdWinter!BO41-'C. Winter Peak 2015-01-15'!HB41","v":0},{"$f":"ColdWinter!BP41-'C. Winter Peak 2015-01-15'!HC41","v":0},{"$f":"ColdWinter!BQ41-'C. Winter Peak 2015-01-15'!HD41","v":0},{"$f":"ColdWinter!BR41-'C. Winter Peak 2015-01-15'!HE41","v":0},{"$f":"ColdWinter!BS41-'C. Winter Peak 2015-01-15'!HF41","v":0},{"$f":"ColdWinter!BT41-'C. Winter Peak 2015-01-15'!HG41","v":0},{"$f":"ColdWinter!BU41-'C. Winter Peak 2015-01-15'!HH41","v":0},{"$f":"ColdWinter!BV41-'C. Winter Peak 2015-01-15'!HI41","v":0},{"$f":"ColdWinter!BW41-'C. Winter Peak 2015-01-15'!HJ41","v":0},{"$f":"ColdWinter!BX41-'C. Winter Peak 2015-01-15'!HK41","v":0},{"$f":"ColdWinter!BY41-'C. Winter Peak 2015-01-15'!HL41","v":0},{"$f":"ColdWinter!BZ41-'C. Winter Peak 2015-01-15'!HM41","v":0},{"$f":"ColdWinter!CA41-'C. Winter Peak 2015-01-15'!HN41","v":0},{"$f":"ColdWinter!CB41-'C. Winter Peak 2015-01-15'!HO41","v":0},{"$f":"ColdWinter!CC41-'C. Winter Peak 2015-01-15'!HP41","v":0},{"$f":"ColdWinter!CD41-'C. Winter Peak 2015-01-15'!HQ41","v":0},{"$f":"ColdWinter!CE41-'C. Winter Peak 2015-01-15'!HR41","v":0},{"$f":"ColdWinter!CF41-'C. Winter Peak 2015-01-15'!HS41","v":0},{"$f":"ColdWinter!CG41-'C. Winter Peak 2015-01-15'!HT41","v":0},{"$f":"ColdWinter!CH41-'C. Winter Peak 2015-01-15'!HU41","v":0},{"$f":"ColdWinter!CI41-'C. Winter Peak 2015-01-15'!HV41","v":0},{"$f":"ColdWinter!CJ41-'C. Winter Peak 2015-01-15'!HW41","v":0},{"$f":"ColdWinter!CK41-'C. Winter Peak 2015-01-15'!HX41","v":0},{"$f":"ColdWinter!CL41-'C. Winter Peak 2015-01-15'!HY41","v":0},{"$f":"ColdWinter!CM41-'C. Winter Peak 2015-01-15'!HZ41","v":0},{"$f":"ColdWinter!CN41-'C. Winter Peak 2015-01-15'!IA41","v":0},{"$f":"ColdWinter!CO41-'C. Winter Peak 2015-01-15'!IB41","v":0},{"$f":"ColdWinter!CP41-'C. Winter Peak 2015-01-15'!IC41","v":0},{"$f":"ColdWinter!CQ41-'C. Winter Peak 2015-01-15'!ID41","v":0},{"$f":"ColdWinter!CR41-'C. Winter Peak 2015-01-15'!IE41","v":0},{"$f":"ColdWinter!CS41-'C. Winter Peak 2015-01-15'!IF41","v":0},{"$f":"ColdWinter!CT41-'C. Winter Peak 2015-01-15'!IG41","v":0},{"$f":"ColdWinter!CU41-'C. Winter Peak 2015-01-15'!IH41","v":0},{"$f":"ColdWinter!CV41-'C. Winter Peak 2015-01-15'!II41","v":0},{"$f":"ColdWinter!CW41-'C. Winter Peak 2015-01-15'!IJ41","v":0},{"$f":"ColdWinter!CX41-'C. Winter Peak 2015-01-15'!IK41","v":0},{"$f":"ColdWinter!CY41-'C. Winter Peak 2015-01-15'!IL41","v":0},{"$f":"ColdWinter!CZ41-'C. Winter Peak 2015-01-15'!IM41","v":0},{"$f":"ColdWinter!DA41-'C. Winter Peak 2015-01-15'!IN41","v":0},{"$f":"ColdWinter!DB41-'C. Winter Peak 2015-01-15'!IO41","v":0},{"$f":"ColdWinter!DC41-'C. Winter Peak 2015-01-15'!IP41","v":0},{"$f":"ColdWinter!DD41-'C. Winter Peak 2015-01-15'!IQ41","v":0},{"$f":"ColdWinter!DE41-'C. Winter Peak 2015-01-15'!IR41","v":0},{"$f":"ColdWinter!DF41-'C. Winter Peak 2015-01-15'!IS41","v":0},{"$f":"ColdWinter!DG41-'C. Winter Peak 2015-01-15'!IT41","v":0},{"$f":"ColdWinter!DH41-'C. Winter Peak 2015-01-15'!IU41","v":0},{"$f":"ColdWinter!DI41-'C. Winter Peak 2015-01-15'!IV41","v":0},{"$f":"ColdWinter!DJ41-'C. Winter Peak 2015-01-15'!IW41","v":0},{"$f":"ColdWinter!DK41-'C. Winter Peak 2015-01-15'!IX41","v":0},{"$f":"ColdWinter!DL41-'C. Winter Peak 2015-01-15'!IY41","v":0},{"$f":"ColdWinter!DM41-'C. Winter Peak 2015-01-15'!IZ41","v":0},{"$f":"ColdWinter!DN41-'C. Winter Peak 2015-01-15'!JA41","v":0},{"$f":"ColdWinter!DO41-'C. Winter Peak 2015-01-15'!JB41","v":0},{"$f":"ColdWinter!DP41-'C. Winter Peak 2015-01-15'!JC41","v":0},{"$f":"ColdWinter!DQ41-'C. Winter Peak 2015-01-15'!JD41","v":0},{"$f":"ColdWinter!DR41-'C. Winter Peak 2015-01-15'!JE41","v":0},{"$f":"ColdWinter!DS41-'C. Winter Peak 2015-01-15'!JF41","v":0}]
[null,"PSL2",{"$f":"ColdWinter!C42-'C. Winter Peak 2015-01-15'!EP42","v":0},{"$f":"ColdWinter!D42-'C. Winter Peak 2015-01-15'!EQ42","v":0},{"$f":"ColdWinter!E42-'C. Winter Peak 2015-01-15'!ER42","v":0},{"$f":"ColdWinter!F42-'C. Winter Peak 2015-01-15'!ES42","v":0},{"$f":"ColdWinter!G42-'C. Winter Peak 2015-01-15'!ET42","v":0},{"$f":"ColdWinter!H42-'C. Winter Peak 2015-01-15'!EU42","v":0},{"$f":"ColdWinter!I42-'C. Winter Peak 2015-01-15'!EV42","v":0},{"$f":"ColdWinter!J42-'C. Winter Peak 2015-01-15'!EW42","v":0},{"$f":"ColdWinter!K42-'C. Winter Peak 2015-01-15'!EX42","v":0},{"$f":"ColdWinter!L42-'C. Winter Peak 2015-01-15'!EY42","v":0},{"$f":"ColdWinter!M42-'C. Winter Peak 2015-01-15'!EZ42","v":0},{"$f":"ColdWinter!N42-'C. Winter Peak 2015-01-15'!FA42","v":0},{"$f":"ColdWinter!O42-'C. Winter Peak 2015-01-15'!FB42","v":0},{"$f":"ColdWinter!P42-'C. Winter Peak 2015-01-15'!FC42","v":0},{"$f":"ColdWinter!Q42-'C. Winter Peak 2015-01-15'!FD42","v":0},{"$f":"ColdWinter!R42-'C. Winter Peak 2015-01-15'!FE42","v":0},{"$f":"ColdWinter!S42-'C. Winter Peak 2015-01-15'!FF42","v":0},{"$f":"ColdWinter!T42-'C. Winter Peak 2015-01-15'!FG42","v":0},{"$f":"ColdWinter!U42-'C. Winter Peak 2015-01-15'!FH42","v":0},{"$f":"ColdWinter!V42-'C. Winter Peak 2015-01-15'!FI42","v":0},{"$f":"ColdWinter!W42-'C. Winter Peak 2015-01-15'!FJ42","v":0},{"$f":"ColdWinter!X42-'C. Winter Peak 2015-01-15'!FK42","v":0},{"$f":"ColdWinter!Y42-'C. Winter Peak 2015-01-15'!FL42","v":0},{"$f":"ColdWinter!Z42-'C. Winter Peak 2015-01-15'!FM42","v":0},{"$f":"ColdWinter!AA42-'C. Winter Peak 2015-01-15'!FN42","v":0},{"$f":"ColdWinter!AB42-'C. Winter Peak 2015-01-15'!FO42","v":0},{"$f":"ColdWinter!AC42-'C. Winter Peak 2015-01-15'!FP42","v":0},{"$f":"ColdWinter!AD42-'C. Winter Peak 2015-01-15'!FQ42","v":0},{"$f":"ColdWinter!AE42-'C. Winter Peak 2015-01-15'!FR42","v":0},{"$f":"ColdWinter!AF42-'C. Winter Peak 2015-01-15'!FS42","v":0},{"$f":"ColdWinter!AG42-'C. Winter Peak 2015-01-15'!FT42","v":0},{"$f":"ColdWinter!AH42-'C. Winter Peak 2015-01-15'!FU42","v":0},{"$f":"ColdWinter!AI42-'C. Winter Peak 2015-01-15'!FV42","v":0},{"$f":"ColdWinter!AJ42-'C. Winter Peak 2015-01-15'!FW42","v":0},{"$f":"ColdWinter!AK42-'C. Winter Peak 2015-01-15'!FX42","v":0},{"$f":"ColdWinter!AL42-'C. Winter Peak 2015-01-15'!FY42","v":0},{"$f":"ColdWinter!AM42-'C. Winter Peak 2015-01-15'!FZ42","v":0},{"$f":"ColdWinter!AN42-'C. Winter Peak 2015-01-15'!GA42","v":0},{"$f":"ColdWinter!AO42-'C. Winter Peak 2015-01-15'!GB42","v":0},{"$f":"ColdWinter!AP42-'C. Winter Peak 2015-01-15'!GC42","v":0},{"$f":"ColdWinter!AQ42-'C. Winter Peak 2015-01-15'!GD42","v":0},{"$f":"ColdWinter!AR42-'C. Winter Peak 2015-01-15'!GE42","v":0},{"$f":"ColdWinter!AS42-'C. Winter Peak 2015-01-15'!GF42","v":0},{"$f":"ColdWinter!AT42-'C. Winter Peak 2015-01-15'!GG42","v":0},{"$f":"ColdWinter!AU42-'C. Winter Peak 2015-01-15'!GH42","v":0},{"$f":"ColdWinter!AV42-'C. Winter Peak 2015-01-15'!GI42","v":0},{"$f":"ColdWinter!AW42-'C. Winter Peak 2015-01-15'!GJ42","v":0},{"$f":"ColdWinter!AX42-'C. Winter Peak 2015-01-15'!GK42","v":0},{"$f":"ColdWinter!AY42-'C. Winter Peak 2015-01-15'!GL42","v":0},{"$f":"ColdWinter!AZ42-'C. Winter Peak 2015-01-15'!GM42","v":0},{"$f":"ColdWinter!BA42-'C. Winter Peak 2015-01-15'!GN42","v":0},{"$f":"ColdWinter!BB42-'C. Winter Peak 2015-01-15'!GO42","v":0},{"$f":"ColdWinter!BC42-'C. Winter Peak 2015-01-15'!GP42","v":0},{"$f":"ColdWinter!BD42-'C. Winter Peak 2015-01-15'!GQ42","v":0},{"$f":"ColdWinter!BE42-'C. Winter Peak 2015-01-15'!GR42","v":0},{"$f":"ColdWinter!BF42-'C. Winter Peak 2015-01-15'!GS42","v":0},{"$f":"ColdWinter!BG42-'C. Winter Peak 2015-01-15'!GT42","v":0},{"$f":"ColdWinter!BH42-'C. Winter Peak 2015-01-15'!GU42","v":0},{"$f":"ColdWinter!BI42-'C. Winter Peak 2015-01-15'!GV42","v":0},{"$f":"ColdWinter!BJ42-'C. Winter Peak 2015-01-15'!GW42","v":0},{"$f":"ColdWinter!BK42-'C. Winter Peak 2015-01-15'!GX42","v":0},{"$f":"ColdWinter!BL42-'C. Winter Peak 2015-01-15'!GY42","v":0},{"$f":"ColdWinter!BM42-'C. Winter Peak 2015-01-15'!GZ42","v":0},{"$f":"ColdWinter!BN42-'C. Winter Peak 2015-01-15'!HA42","v":0},{"$f":"ColdWinter!BO42-'C. Winter Peak 2015-01-15'!HB42","v":0},{"$f":"ColdWinter!BP42-'C. Winter Peak 2015-01-15'!HC42","v":0},{"$f":"ColdWinter!BQ42-'C. Winter Peak 2015-01-15'!HD42","v":0},{"$f":"ColdWinter!BR42-'C. Winter Peak 2015-01-15'!HE42","v":0},{"$f":"ColdWinter!BS42-'C. Winter Peak 2015-01-15'!HF42","v":0},{"$f":"ColdWinter!BT42-'C. Winter Peak 2015-01-15'!HG42","v":0},{"$f":"ColdWinter!BU42-'C. Winter Peak 2015-01-15'!HH42","v":0},{"$f":"ColdWinter!BV42-'C. Winter Peak 2015-01-15'!HI42","v":0},{"$f":"ColdWinter!BW42-'C. Winter Peak 2015-01-15'!HJ42","v":0},{"$f":"ColdWinter!BX42-'C. Winter Peak 2015-01-15'!HK42","v":0},{"$f":"ColdWinter!BY42-'C. Winter Peak 2015-01-15'!HL42","v":0},{"$f":"ColdWinter!BZ42-'C. Winter Peak 2015-01-15'!HM42","v":0},{"$f":"ColdWinter!CA42-'C. Winter Peak 2015-01-15'!HN42","v":0},{"$f":"ColdWinter!CB42-'C. Winter Peak 2015-01-15'!HO42","v":0},{"$f":"ColdWinter!CC42-'C. Winter Peak 2015-01-15'!HP42","v":0},{"$f":"ColdWinter!CD42-'C. Winter Peak 2015-01-15'!HQ42","v":0},{"$f":"ColdWinter!CE42-'C. Winter Peak 2015-01-15'!HR42","v":0},{"$f":"ColdWinter!CF42-'C. Winter Peak 2015-01-15'!HS42","v":0},{"$f":"ColdWinter!CG42-'C. Winter Peak 2015-01-15'!HT42","v":0},{"$f":"ColdWinter!CH42-'C. Winter Peak 2015-01-15'!HU42","v":0},{"$f":"ColdWinter!CI42-'C. Winter Peak 2015-01-15'!HV42","v":0},{"$f":"ColdWinter!CJ42-'C. Winter Peak 2015-01-15'!HW42","v":0},{"$f":"ColdWinter!CK42-'C. Winter Peak 2015-01-15'!HX42","v":0},{"$f":"ColdWinter!CL42-'C. Winter Peak 2015-01-15'!HY42","v":0},{"$f":"ColdWinter!CM42-'C. Winter Peak 2015-01-15'!HZ42","v":0},{"$f":"ColdWinter!CN42-'C. Winter Peak 2015-01-15'!IA42","v":0},{"$f":"ColdWinter!CO42-'C. Winter Peak 2015-01-15'!IB42","v":0},{"$f":"ColdWinter!CP42-'C. Winter Peak 2015-01-15'!IC42","v":0},{"$f":"ColdWinter!CQ42-'C. Winter Peak 2015-01-15'!ID42","v":0},{"$f":"ColdWinter!CR42-'C. Winter Peak 2015-01-15'!IE42","v":0},{"$f":"ColdWinter!CS42-'C. Winter Peak 2015-01-15'!IF42","v":0},{"$f":"ColdWinter!CT42-'C. Winter Peak 2015-01-15'!IG42","v":0},{"$f":"ColdWinter!CU42-'C. Winter Peak 2015-01-15'!IH42","v":0},{"$f":"ColdWinter!CV42-'C. Winter Peak 2015-01-15'!II42","v":0},{"$f":"ColdWinter!CW42-'C. Winter Peak 2015-01-15'!IJ42","v":0},{"$f":"ColdWinter!CX42-'C. Winter Peak 2015-01-15'!IK42","v":0},{"$f":"ColdWinter!CY42-'C. Winter Peak 2015-01-15'!IL42","v":0},{"$f":"ColdWinter!CZ42-'C. Winter Peak 2015-01-15'!IM42","v":0},{"$f":"ColdWinter!DA42-'C. Winter Peak 2015-01-15'!IN42","v":0},{"$f":"ColdWinter!DB42-'C. Winter Peak 2015-01-15'!IO42","v":0},{"$f":"ColdWinter!DC42-'C. Winter Peak 2015-01-15'!IP42","v":0},{"$f":"ColdWinter!DD42-'C. Winter Peak 2015-01-15'!IQ42","v":0},{"$f":"ColdWinter!DE42-'C. Winter Peak 2015-01-15'!IR42","v":0},{"$f":"ColdWinter!DF42-'C. Winter Peak 2015-01-15'!IS42","v":0},{"$f":"ColdWinter!DG42-'C. Winter Peak 2015-01-15'!IT42","v":0},{"$f":"ColdWinter!DH42-'C. Winter Peak 2015-01-15'!IU42","v":0},{"$f":"ColdWinter!DI42-'C. Winter Peak 2015-01-15'!IV42","v":0},{"$f":"ColdWinter!DJ42-'C. Winter Peak 2015-01-15'!IW42","v":0},{"$f":"ColdWinter!DK42-'C. Winter Peak 2015-01-15'!IX42","v":0},{"$f":"ColdWinter!DL42-'C. Winter Peak 2015-01-15'!IY42","v":0},{"$f":"ColdWinter!DM42-'C. Winter Peak 2015-01-15'!IZ42","v":0},{"$f":"ColdWinter!DN42-'C. Winter Peak 2015-01-15'!JA42","v":0},{"$f":"ColdWinter!DO42-'C. Winter Peak 2015-01-15'!JB42","v":0},{"$f":"ColdWinter!DP42-'C. Winter Peak 2015-01-15'!JC42","v":0},{"$f":"ColdWinter!DQ42-'C. Winter Peak 2015-01-15'!JD42","v":0},{"$f":"ColdWinter!DR42-'C. Winter Peak 2015-01-15'!JE42","v":0},{"$f":"ColdWinter!DS42-'C. Winter Peak 2015-01-15'!JF42","v":0}]
[null,"PSN3",{"$f":"ColdWinter!C43-'C. Winter Peak 2015-01-15'!EP43","v":0},{"$f":"ColdWinter!D43-'C. Winter Peak 2015-01-15'!EQ43","v":0},{"$f":"ColdWinter!E43-'C. Winter Peak 2015-01-15'!ER43","v":0},{"$f":"ColdWinter!F43-'C. Winter Peak 2015-01-15'!ES43","v":0},{"$f":"ColdWinter!G43-'C. Winter Peak 2015-01-15'!ET43","v":0},{"$f":"ColdWinter!H43-'C. Winter Peak 2015-01-15'!EU43","v":0},{"$f":"ColdWinter!I43-'C. Winter Peak 2015-01-15'!EV43","v":0},{"$f":"ColdWinter!J43-'C. Winter Peak 2015-01-15'!EW43","v":0},{"$f":"ColdWinter!K43-'C. Winter Peak 2015-01-15'!EX43","v":0},{"$f":"ColdWinter!L43-'C. Winter Peak 2015-01-15'!EY43","v":0},{"$f":"ColdWinter!M43-'C. Winter Peak 2015-01-15'!EZ43","v":0},{"$f":"ColdWinter!N43-'C. Winter Peak 2015-01-15'!FA43","v":0},{"$f":"ColdWinter!O43-'C. Winter Peak 2015-01-15'!FB43","v":0},{"$f":"ColdWinter!P43-'C. Winter Peak 2015-01-15'!FC43","v":0},{"$f":"ColdWinter!Q43-'C. Winter Peak 2015-01-15'!FD43","v":0},{"$f":"ColdWinter!R43-'C. Winter Peak 2015-01-15'!FE43","v":0},{"$f":"ColdWinter!S43-'C. Winter Peak 2015-01-15'!FF43","v":0},{"$f":"ColdWinter!T43-'C. Winter Peak 2015-01-15'!FG43","v":0},{"$f":"ColdWinter!U43-'C. Winter Peak 2015-01-15'!FH43","v":0},{"$f":"ColdWinter!V43-'C. Winter Peak 2015-01-15'!FI43","v":0},{"$f":"ColdWinter!W43-'C. Winter Peak 2015-01-15'!FJ43","v":0},{"$f":"ColdWinter!X43-'C. Winter Peak 2015-01-15'!FK43","v":0},{"$f":"ColdWinter!Y43-'C. Winter Peak 2015-01-15'!FL43","v":0},{"$f":"ColdWinter!Z43-'C. Winter Peak 2015-01-15'!FM43","v":0},{"$f":"ColdWinter!AA43-'C. Winter Peak 2015-01-15'!FN43","v":0},{"$f":"ColdWinter!AB43-'C. Winter Peak 2015-01-15'!FO43","v":0},{"$f":"ColdWinter!AC43-'C. Winter Peak 2015-01-15'!FP43","v":0},{"$f":"ColdWinter!AD43-'C. Winter Peak 2015-01-15'!FQ43","v":0},{"$f":"ColdWinter!AE43-'C. Winter Peak 2015-01-15'!FR43","v":0},{"$f":"ColdWinter!AF43-'C. Winter Peak 2015-01-15'!FS43","v":0},{"$f":"ColdWinter!AG43-'C. Winter Peak 2015-01-15'!FT43","v":0},{"$f":"ColdWinter!AH43-'C. Winter Peak 2015-01-15'!FU43","v":0},{"$f":"ColdWinter!AI43-'C. Winter Peak 2015-01-15'!FV43","v":0},{"$f":"ColdWinter!AJ43-'C. Winter Peak 2015-01-15'!FW43","v":0},{"$f":"ColdWinter!AK43-'C. Winter Peak 2015-01-15'!FX43","v":0},{"$f":"ColdWinter!AL43-'C. Winter Peak 2015-01-15'!FY43","v":0},{"$f":"ColdWinter!AM43-'C. Winter Peak 2015-01-15'!FZ43","v":0},{"$f":"ColdWinter!AN43-'C. Winter Peak 2015-01-15'!GA43","v":0},{"$f":"ColdWinter!AO43-'C. Winter Peak 2015-01-15'!GB43","v":0},{"$f":"ColdWinter!AP43-'C. Winter Peak 2015-01-15'!GC43","v":0},{"$f":"ColdWinter!AQ43-'C. Winter Peak 2015-01-15'!GD43","v":0},{"$f":"ColdWinter!AR43-'C. Winter Peak 2015-01-15'!GE43","v":0},{"$f":"ColdWinter!AS43-'C. Winter Peak 2015-01-15'!GF43","v":0},{"$f":"ColdWinter!AT43-'C. Winter Peak 2015-01-15'!GG43","v":0},{"$f":"ColdWinter!AU43-'C. Winter Peak 2015-01-15'!GH43","v":0},{"$f":"ColdWinter!AV43-'C. Winter Peak 2015-01-15'!GI43","v":0},{"$f":"ColdWinter!AW43-'C. Winter Peak 2015-01-15'!GJ43","v":0},{"$f":"ColdWinter!AX43-'C. Winter Peak 2015-01-15'!GK43","v":0},{"$f":"ColdWinter!AY43-'C. Winter Peak 2015-01-15'!GL43","v":0},{"$f":"ColdWinter!AZ43-'C. Winter Peak 2015-01-15'!GM43","v":0},{"$f":"ColdWinter!BA43-'C. Winter Peak 2015-01-15'!GN43","v":0},{"$f":"ColdWinter!BB43-'C. Winter Peak 2015-01-15'!GO43","v":0},{"$f":"ColdWinter!BC43-'C. Winter Peak 2015-01-15'!GP43","v":0},{"$f":"ColdWinter!BD43-'C. Winter Peak 2015-01-15'!GQ43","v":0},{"$f":"ColdWinter!BE43-'C. Winter Peak 2015-01-15'!GR43","v":0},{"$f":"ColdWinter!BF43-'C. Winter Peak 2015-01-15'!GS43","v":0},{"$f":"ColdWinter!BG43-'C. Winter Peak 2015-01-15'!GT43","v":0},{"$f":"ColdWinter!BH43-'C. Winter Peak 2015-01-15'!GU43","v":0},{"$f":"ColdWinter!BI43-'C. Winter Peak 2015-01-15'!GV43","v":0},{"$f":"ColdWinter!BJ43-'C. Winter Peak 2015-01-15'!GW43","v":0},{"$f":"ColdWinter!BK43-'C. Winter Peak 2015-01-15'!GX43","v":0},{"$f":"ColdWinter!BL43-'C. Winter Peak 2015-01-15'!GY43","v":0},{"$f":"ColdWinter!BM43-'C. Winter Peak 2015-01-15'!GZ43","v":0},{"$f":"ColdWinter!BN43-'C. Winter Peak 2015-01-15'!HA43","v":0},{"$f":"ColdWinter!BO43-'C. Winter Peak 2015-01-15'!HB43","v":0},{"$f":"ColdWinter!BP43-'C. Winter Peak 2015-01-15'!HC43","v":0},{"$f":"ColdWinter!BQ43-'C. Winter Peak 2015-01-15'!HD43","v":0},{"$f":"ColdWinter!BR43-'C. Winter Peak 2015-01-15'!HE43","v":0},{"$f":"ColdWinter!BS43-'C. Winter Peak 2015-01-15'!HF43","v":0},{"$f":"ColdWinter!BT43-'C. Winter Peak 2015-01-15'!HG43","v":0},{"$f":"ColdWinter!BU43-'C. Winter Peak 2015-01-15'!HH43","v":0},{"$f":"ColdWinter!BV43-'C. Winter Peak 2015-01-15'!HI43","v":0},{"$f":"ColdWinter!BW43-'C. Winter Peak 2015-01-15'!HJ43","v":0},{"$f":"ColdWinter!BX43-'C. Winter Peak 2015-01-15'!HK43","v":0},{"$f":"ColdWinter!BY43-'C. Winter Peak 2015-01-15'!HL43","v":0},{"$f":"ColdWinter!BZ43-'C. Winter Peak 2015-01-15'!HM43","v":0},{"$f":"ColdWinter!CA43-'C. Winter Peak 2015-01-15'!HN43","v":0},{"$f":"ColdWinter!CB43-'C. Winter Peak 2015-01-15'!HO43","v":0},{"$f":"ColdWinter!CC43-'C. Winter Peak 2015-01-15'!HP43","v":0},{"$f":"ColdWinter!CD43-'C. Winter Peak 2015-01-15'!HQ43","v":0},{"$f":"ColdWinter!CE43-'C. Winter Peak 2015-01-15'!HR43","v":0},{"$f":"ColdWinter!CF43-'C. Winter Peak 2015-01-15'!HS43","v":0},{"$f":"ColdWinter!CG43-'C. Winter Peak 2015-01-15'!HT43","v":0},{"$f":"ColdWinter!CH43-'C. Winter Peak 2015-01-15'!HU43","v":0},{"$f":"ColdWinter!CI43-'C. Winter Peak 2015-01-15'!HV43","v":0},{"$f":"ColdWinter!CJ43-'C. Winter Peak 2015-01-15'!HW43","v":0},{"$f":"ColdWinter!CK43-'C. Winter Peak 2015-01-15'!HX43","v":0},{"$f":"ColdWinter!CL43-'C. Winter Peak 2015-01-15'!HY43","v":0},{"$f":"ColdWinter!CM43-'C. Winter Peak 2015-01-15'!HZ43","v":0},{"$f":"ColdWinter!CN43-'C. Winter Peak 2015-01-15'!IA43","v":0},{"$f":"ColdWinter!CO43-'C. Winter Peak 2015-01-15'!IB43","v":0},{"$f":"ColdWinter!CP43-'C. Winter Peak 2015-01-15'!IC43","v":0},{"$f":"ColdWinter!CQ43-'C. Winter Peak 2015-01-15'!ID43","v":0},{"$f":"ColdWinter!CR43-'C. Winter Peak 2015-01-15'!IE43","v":0},{"$f":"ColdWinter!CS43-'C. Winter Peak 2015-01-15'!IF43","v":0},{"$f":"ColdWinter!CT43-'C. Winter Peak 2015-01-15'!IG43","v":0},{"$f":"ColdWinter!CU43-'C. Winter Peak 2015-01-15'!IH43","v":0},{"$f":"ColdWinter!CV43-'C. Winter Peak 2015-01-15'!II43","v":0},{"$f":"ColdWinter!CW43-'C. Winter Peak 2015-01-15'!IJ43","v":0},{"$f":"ColdWinter!CX43-'C. Winter Peak 2015-01-15'!IK43","v":0},{"$f":"ColdWinter!CY43-'C. Winter Peak 2015-01-15'!IL43","v":0},{"$f":"ColdWinter!CZ43-'C. Winter Peak 2015-01-15'!IM43","v":0},{"$f":"ColdWinter!DA43-'C. Winter Peak 2015-01-15'!IN43","v":0},{"$f":"ColdWinter!DB43-'C. Winter Peak 2015-01-15'!IO43","v":0},{"$f":"ColdWinter!DC43-'C. Winter Peak 2015-01-15'!IP43","v":0},{"$f":"ColdWinter!DD43-'C. Winter Peak 2015-01-15'!IQ43","v":0},{"$f":"ColdWinter!DE43-'C. Winter Peak 2015-01-15'!IR43","v":0},{"$f":"ColdWinter!DF43-'C. Winter Peak 2015-01-15'!IS43","v":0},{"$f":"ColdWinter!DG43-'C. Winter Peak 2015-01-15'!IT43","v":0},{"$f":"ColdWinter!DH43-'C. Winter Peak 2015-01-15'!IU43","v":0},{"$f":"ColdWinter!DI43-'C. Winter Peak 2015-01-15'!IV43","v":0},{"$f":"ColdWinter!DJ43-'C. Winter Peak 2015-01-15'!IW43","v":0},{"$f":"ColdWinter!DK43-'C. Winter Peak 2015-01-15'!IX43","v":0},{"$f":"ColdWinter!DL43-'C. Winter Peak 2015-01-15'!IY43","v":0},{"$f":"ColdWinter!DM43-'C. Winter Peak 2015-01-15'!IZ43","v":0},{"$f":"ColdWinter!DN43-'C. Winter Peak 2015-01-15'!JA43","v":0},{"$f":"ColdWinter!DO43-'C. Winter Peak 2015-01-15'!JB43","v":0},{"$f":"ColdWinter!DP43-'C. Winter Peak 2015-01-15'!JC43","v":0},{"$f":"ColdWinter!DQ43-'C. Winter Peak 2015-01-15'!JD43","v":0},{"$f":"ColdWinter!DR43-'C. Winter Peak 2015-01-15'!JE43","v":0},{"$f":"ColdWinter!DS43-'C. Winter Peak 2015-01-15'!JF43","v":0}]
[null,"PSR4",{"$f":"ColdWinter!C44-'C. Winter Peak 2015-01-15'!EP44","v":0},{"$f":"ColdWinter!D44-'C. Winter Peak 2015-01-15'!EQ44","v":0},{"$f":"ColdWinter!E44-'C. Winter Peak 2015-01-15'!ER44","v":0},{"$f":"ColdWinter!F44-'C. Winter Peak 2015-01-15'!ES44","v":0},{"$f":"ColdWinter!G44-'C. Winter Peak 2015-01-15'!ET44","v":0},{"$f":"ColdWinter!H44-'C. Winter Peak 2015-01-15'!EU44","v":0},{"$f":"ColdWinter!I44-'C. Winter Peak 2015-01-15'!EV44","v":0},{"$f":"ColdWinter!J44-'C. Winter Peak 2015-01-15'!EW44","v":0},{"$f":"ColdWinter!K44-'C. Winter Peak 2015-01-15'!EX44","v":0},{"$f":"ColdWinter!L44-'C. Winter Peak 2015-01-15'!EY44","v":0},{"$f":"ColdWinter!M44-'C. Winter Peak 2015-01-15'!EZ44","v":0},{"$f":"ColdWinter!N44-'C. Winter Peak 2015-01-15'!FA44","v":0},{"$f":"ColdWinter!O44-'C. Winter Peak 2015-01-15'!FB44","v":0},{"$f":"ColdWinter!P44-'C. Winter Peak 2015-01-15'!FC44","v":0},{"$f":"ColdWinter!Q44-'C. Winter Peak 2015-01-15'!FD44","v":0},{"$f":"ColdWinter!R44-'C. Winter Peak 2015-01-15'!FE44","v":0},{"$f":"ColdWinter!S44-'C. Winter Peak 2015-01-15'!FF44","v":0},{"$f":"ColdWinter!T44-'C. Winter Peak 2015-01-15'!FG44","v":0},{"$f":"ColdWinter!U44-'C. Winter Peak 2015-01-15'!FH44","v":0},{"$f":"ColdWinter!V44-'C. Winter Peak 2015-01-15'!FI44","v":0},{"$f":"ColdWinter!W44-'C. Winter Peak 2015-01-15'!FJ44","v":0},{"$f":"ColdWinter!X44-'C. Winter Peak 2015-01-15'!FK44","v":0},{"$f":"ColdWinter!Y44-'C. Winter Peak 2015-01-15'!FL44","v":0},{"$f":"ColdWinter!Z44-'C. Winter Peak 2015-01-15'!FM44","v":0},{"$f":"ColdWinter!AA44-'C. Winter Peak 2015-01-15'!FN44","v":0},{"$f":"ColdWinter!AB44-'C. Winter Peak 2015-01-15'!FO44","v":0},{"$f":"ColdWinter!AC44-'C. Winter Peak 2015-01-15'!FP44","v":0},{"$f":"ColdWinter!AD44-'C. Winter Peak 2015-01-15'!FQ44","v":0},{"$f":"ColdWinter!AE44-'C. Winter Peak 2015-01-15'!FR44","v":0},{"$f":"ColdWinter!AF44-'C. Winter Peak 2015-01-15'!FS44","v":0},{"$f":"ColdWinter!AG44-'C. Winter Peak 2015-01-15'!FT44","v":0},{"$f":"ColdWinter!AH44-'C. Winter Peak 2015-01-15'!FU44","v":0},{"$f":"ColdWinter!AI44-'C. Winter Peak 2015-01-15'!FV44","v":0},{"$f":"ColdWinter!AJ44-'C. Winter Peak 2015-01-15'!FW44","v":0},{"$f":"ColdWinter!AK44-'C. Winter Peak 2015-01-15'!FX44","v":0},{"$f":"ColdWinter!AL44-'C. Winter Peak 2015-01-15'!FY44","v":0},{"$f":"ColdWinter!AM44-'C. Winter Peak 2015-01-15'!FZ44","v":0},{"$f":"ColdWinter!AN44-'C. Winter Peak 2015-01-15'!GA44","v":0},{"$f":"ColdWinter!AO44-'C. Winter Peak 2015-01-15'!GB44","v":0},{"$f":"ColdWinter!AP44-'C. Winter Peak 2015-01-15'!GC44","v":0},{"$f":"ColdWinter!AQ44-'C. Winter Peak 2015-01-15'!GD44","v":0},{"$f":"ColdWinter!AR44-'C. Winter Peak 2015-01-15'!GE44","v":0},{"$f":"ColdWinter!AS44-'C. Winter Peak 2015-01-15'!GF44","v":0},{"$f":"ColdWinter!AT44-'C. Winter Peak 2015-01-15'!GG44","v":0},{"$f":"ColdWinter!AU44-'C. Winter Peak 2015-01-15'!GH44","v":0},{"$f":"ColdWinter!AV44-'C. Winter Peak 2015-01-15'!GI44","v":0},{"$f":"ColdWinter!AW44-'C. Winter Peak 2015-01-15'!GJ44","v":0},{"$f":"ColdWinter!AX44-'C. Winter Peak 2015-01-15'!GK44","v":0},{"$f":"ColdWinter!AY44-'C. Winter Peak 2015-01-15'!GL44","v":0},{"$f":"ColdWinter!AZ44-'C. Winter Peak 2015-01-15'!GM44","v":0},{"$f":"ColdWinter!BA44-'C. Winter Peak 2015-01-15'!GN44","v":0},{"$f":"ColdWinter!BB44-'C. Winter Peak 2015-01-15'!GO44","v":0},{"$f":"ColdWinter!BC44-'C. Winter Peak 2015-01-15'!GP44","v":0},{"$f":"ColdWinter!BD44-'C. Winter Peak 2015-01-15'!GQ44","v":0},{"$f":"ColdWinter!BE44-'C. Winter Peak 2015-01-15'!GR44","v":0},{"$f":"ColdWinter!BF44-'C. Winter Peak 2015-01-15'!GS44","v":0},{"$f":"ColdWinter!BG44-'C. Winter Peak 2015-01-15'!GT44","v":0},{"$f":"ColdWinter!BH44-'C. Winter Peak 2015-01-15'!GU44","v":0},{"$f":"ColdWinter!BI44-'C. Winter Peak 2015-01-15'!GV44","v":0},{"$f":"ColdWinter!BJ44-'C. Winter Peak 2015-01-15'!GW44","v":0},{"$f":"ColdWinter!BK44-'C. Winter Peak 2015-01-15'!GX44","v":0},{"$f":"ColdWinter!BL44-'C. Winter Peak 2015-01-15'!GY44","v":0},{"$f":"ColdWinter!BM44-'C. Winter Peak 2015-01-15'!GZ44","v":0},{"$f":"ColdWinter!BN44-'C. Winter Peak 2015-01-15'!HA44","v":0},{"$f":"ColdWinter!BO44-'C. Winter Peak 2015-01-15'!HB44","v":0},{"$f":"ColdWinter!BP44-'C. Winter Peak 2015-01-15'!HC44","v":0},{"$f":"ColdWinter!BQ44-'C. Winter Peak 2015-01-15'!HD44","v":0},{"$f":"ColdWinter!BR44-'C. Winter Peak 2015-01-15'!HE44","v":0},{"$f":"ColdWinter!BS44-'C. Winter Peak 2015-01-15'!HF44","v":0},{"$f":"ColdWinter!BT44-'C. Winter Peak 2015-01-15'!HG44","v":0},{"$f":"ColdWinter!BU44-'C. Winter Peak 2015-01-15'!HH44","v":0},{"$f":"ColdWinter!BV44-'C. Winter Peak 2015-01-15'!HI44","v":0},{"$f":"ColdWinter!BW44-'C. Winter Peak 2015-01-15'!HJ44","v":0},{"$f":"ColdWinter!BX44-'C. Winter Peak 2015-01-15'!HK44","v":0},{"$f":"ColdWinter!BY44-'C. Winter Peak 2015-01-15'!HL44","v":0},{"$f":"ColdWinter!BZ44-'C. Winter Peak 2015-01-15'!HM44","v":0},{"$f":"ColdWinter!CA44-'C. Winter Peak 2015-01-15'!HN44","v":0},{"$f":"ColdWinter!CB44-'C. Winter Peak 2015-01-15'!HO44","v":0},{"$f":"ColdWinter!CC44-'C. Winter Peak 2015-01-15'!HP44","v":0},{"$f":"ColdWinter!CD44-'C. Winter Peak 2015-01-15'!HQ44","v":0},{"$f":"ColdWinter!CE44-'C. Winter Peak 2015-01-15'!HR44","v":0},{"$f":"ColdWinter!CF44-'C. Winter Peak 2015-01-15'!HS44","v":0},{"$f":"ColdWinter!CG44-'C. Winter Peak 2015-01-15'!HT44","v":0},{"$f":"ColdWinter!CH44-'C. Winter Peak 2015-01-15'!HU44","v":0},{"$f":"ColdWinter!CI44-'C. Winter Peak 2015-01-15'!HV44","v":0},{"$f":"ColdWinter!CJ44-'C. Winter Peak 2015-01-15'!HW44","v":0},{"$f":"ColdWinter!CK44-'C. Winter Peak 2015-01-15'!HX44","v":0},{"$f":"ColdWinter!CL44-'C. Winter Peak 2015-01-15'!HY44","v":0},{"$f":"ColdWinter!CM44-'C. Winter Peak 2015-01-15'!HZ44","v":0},{"$f":"ColdWinter!CN44-'C. Winter Peak 2015-01-15'!IA44","v":0},{"$f":"ColdWinter!CO44-'C. Winter Peak 2015-01-15'!IB44","v":0},{"$f":"ColdWinter!CP44-'C. Winter Peak 2015-01-15'!IC44","v":0},{"$f":"ColdWinter!CQ44-'C. Winter Peak 2015-01-15'!ID44","v":0},{"$f":"ColdWinter!CR44-'C. Winter Peak 2015-01-15'!IE44","v":0},{"$f":"ColdWinter!CS44-'C. Winter Peak 2015-01-15'!IF44","v":0},{"$f":"ColdWinter!CT44-'C. Winter Peak 2015-01-15'!IG44","v":0},{"$f":"ColdWinter!CU44-'C. Winter Peak 2015-01-15'!IH44","v":0},{"$f":"ColdWinter!CV44-'C. Winter Peak 2015-01-15'!II44","v":0},{"$f":"ColdWinter!CW44-'C. Winter Peak 2015-01-15'!IJ44","v":0},{"$f":"ColdWinter!CX44-'C. Winter Peak 2015-01-15'!IK44","v":0},{"$f":"ColdWinter!CY44-'C. Winter Peak 2015-01-15'!IL44","v":0},{"$f":"ColdWinter!CZ44-'C. Winter Peak 2015-01-15'!IM44","v":0},{"$f":"ColdWinter!DA44-'C. Winter Peak 2015-01-15'!IN44","v":0},{"$f":"ColdWinter!DB44-'C. Winter Peak 2015-01-15'!IO44","v":0},{"$f":"ColdWinter!DC44-'C. Winter Peak 2015-01-15'!IP44","v":0},{"$f":"ColdWinter!DD44-'C. Winter Peak 2015-01-15'!IQ44","v":0},{"$f":"ColdWinter!DE44-'C. Winter Peak 2015-01-15'!IR44","v":0},{"$f":"ColdWinter!DF44-'C. Winter Peak 2015-01-15'!IS44","v":0},{"$f":"ColdWinter!DG44-'C. Winter Peak 2015-01-15'!IT44","v":0},{"$f":"ColdWinter!DH44-'C. Winter Peak 2015-01-15'!IU44","v":0},{"$f":"ColdWinter!DI44-'C. Winter Peak 2015-01-15'!IV44","v":0},{"$f":"ColdWinter!DJ44-'C. Winter Peak 2015-01-15'!IW44","v":0},{"$f":"ColdWinter!DK44-'C. Winter Peak 2015-01-15'!IX44","v":0},{"$f":"ColdWinter!DL44-'C. Winter Peak 2015-01-15'!IY44","v":0},{"$f":"ColdWinter!DM44-'C. Winter Peak 2015-01-15'!IZ44","v":0},{"$f":"ColdWinter!DN44-'C. Winter Peak 2015-01-15'!JA44","v":0},{"$f":"ColdWinter!DO44-'C. Winter Peak 2015-01-15'!JB44","v":0},{"$f":"ColdWinter!DP44-'C. Winter Peak 2015-01-15'!JC44","v":0},{"$f":"ColdWinter!DQ44-'C. Winter Peak 2015-01-15'!JD44","v":0},{"$f":"ColdWinter!DR44-'C. Winter Peak 2015-01-15'!JE44","v":0},{"$f":"ColdWinter!DS44-'C. Winter Peak 2015-01-15'!JF44","v":0}]
[null,"PSR5",{"$f":"ColdWinter!C45-'C. Winter Peak 2015-01-15'!EP45","v":0},{"$f":"ColdWinter!D45-'C. Winter Peak 2015-01-15'!EQ45","v":0},{"$f":"ColdWinter!E45-'C. Winter Peak 2015-01-15'!ER45","v":0},{"$f":"ColdWinter!F45-'C. Winter Peak 2015-01-15'!ES45","v":0},{"$f":"ColdWinter!G45-'C. Winter Peak 2015-01-15'!ET45","v":0},{"$f":"ColdWinter!H45-'C. Winter Peak 2015-01-15'!EU45","v":0},{"$f":"ColdWinter!I45-'C. Winter Peak 2015-01-15'!EV45","v":0},{"$f":"ColdWinter!J45-'C. Winter Peak 2015-01-15'!EW45","v":0},{"$f":"ColdWinter!K45-'C. Winter Peak 2015-01-15'!EX45","v":0},{"$f":"ColdWinter!L45-'C. Winter Peak 2015-01-15'!EY45","v":0},{"$f":"ColdWinter!M45-'C. Winter Peak 2015-01-15'!EZ45","v":0},{"$f":"ColdWinter!N45-'C. Winter Peak 2015-01-15'!FA45","v":0},{"$f":"ColdWinter!O45-'C. Winter Peak 2015-01-15'!FB45","v":0},{"$f":"ColdWinter!P45-'C. Winter Peak 2015-01-15'!FC45","v":0},{"$f":"ColdWinter!Q45-'C. Winter Peak 2015-01-15'!FD45","v":0},{"$f":"ColdWinter!R45-'C. Winter Peak 2015-01-15'!FE45","v":0},{"$f":"ColdWinter!S45-'C. Winter Peak 2015-01-15'!FF45","v":0},{"$f":"ColdWinter!T45-'C. Winter Peak 2015-01-15'!FG45","v":0},{"$f":"ColdWinter!U45-'C. Winter Peak 2015-01-15'!FH45","v":0},{"$f":"ColdWinter!V45-'C. Winter Peak 2015-01-15'!FI45","v":0},{"$f":"ColdWinter!W45-'C. Winter Peak 2015-01-15'!FJ45","v":0},{"$f":"ColdWinter!X45-'C. Winter Peak 2015-01-15'!FK45","v":0},{"$f":"ColdWinter!Y45-'C. Winter Peak 2015-01-15'!FL45","v":0},{"$f":"ColdWinter!Z45-'C. Winter Peak 2015-01-15'!FM45","v":0},{"$f":"ColdWinter!AA45-'C. Winter Peak 2015-01-15'!FN45","v":0},{"$f":"ColdWinter!AB45-'C. Winter Peak 2015-01-15'!FO45","v":0},{"$f":"ColdWinter!AC45-'C. Winter Peak 2015-01-15'!FP45","v":0},{"$f":"ColdWinter!AD45-'C. Winter Peak 2015-01-15'!FQ45","v":0},{"$f":"ColdWinter!AE45-'C. Winter Peak 2015-01-15'!FR45","v":0},{"$f":"ColdWinter!AF45-'C. Winter Peak 2015-01-15'!FS45","v":0},{"$f":"ColdWinter!AG45-'C. Winter Peak 2015-01-15'!FT45","v":0},{"$f":"ColdWinter!AH45-'C. Winter Peak 2015-01-15'!FU45","v":0},{"$f":"ColdWinter!AI45-'C. Winter Peak 2015-01-15'!FV45","v":0},{"$f":"ColdWinter!AJ45-'C. Winter Peak 2015-01-15'!FW45","v":0},{"$f":"ColdWinter!AK45-'C. Winter Peak 2015-01-15'!FX45","v":0},{"$f":"ColdWinter!AL45-'C. Winter Peak 2015-01-15'!FY45","v":0},{"$f":"ColdWinter!AM45-'C. Winter Peak 2015-01-15'!FZ45","v":0},{"$f":"ColdWinter!AN45-'C. Winter Peak 2015-01-15'!GA45","v":0},{"$f":"ColdWinter!AO45-'C. Winter Peak 2015-01-15'!GB45","v":0},{"$f":"ColdWinter!AP45-'C. Winter Peak 2015-01-15'!GC45","v":0},{"$f":"ColdWinter!AQ45-'C. Winter Peak 2015-01-15'!GD45","v":0},{"$f":"ColdWinter!AR45-'C. Winter Peak 2015-01-15'!GE45","v":0},{"$f":"ColdWinter!AS45-'C. Winter Peak 2015-01-15'!GF45","v":0},{"$f":"ColdWinter!AT45-'C. Winter Peak 2015-01-15'!GG45","v":0},{"$f":"ColdWinter!AU45-'C. Winter Peak 2015-01-15'!GH45","v":0},{"$f":"ColdWinter!AV45-'C. Winter Peak 2015-01-15'!GI45","v":0},{"$f":"ColdWinter!AW45-'C. Winter Peak 2015-01-15'!GJ45","v":0},{"$f":"ColdWinter!AX45-'C. Winter Peak 2015-01-15'!GK45","v":0},{"$f":"ColdWinter!AY45-'C. Winter Peak 2015-01-15'!GL45","v":0},{"$f":"ColdWinter!AZ45-'C. Winter Peak 2015-01-15'!GM45","v":0},{"$f":"ColdWinter!BA45-'C. Winter Peak 2015-01-15'!GN45","v":0},{"$f":"ColdWinter!BB45-'C. Winter Peak 2015-01-15'!GO45","v":0},{"$f":"ColdWinter!BC45-'C. Winter Peak 2015-01-15'!GP45","v":0},{"$f":"ColdWinter!BD45-'C. Winter Peak 2015-01-15'!GQ45","v":0},{"$f":"ColdWinter!BE45-'C. Winter Peak 2015-01-15'!GR45","v":0},{"$f":"ColdWinter!BF45-'C. Winter Peak 2015-01-15'!GS45","v":0},{"$f":"ColdWinter!BG45-'C. Winter Peak 2015-01-15'!GT45","v":0},{"$f":"ColdWinter!BH45-'C. Winter Peak 2015-01-15'!GU45","v":0},{"$f":"ColdWinter!BI45-'C. Winter Peak 2015-01-15'!GV45","v":0},{"$f":"ColdWinter!BJ45-'C. Winter Peak 2015-01-15'!GW45","v":0},{"$f":"ColdWinter!BK45-'C. Winter Peak 2015-01-15'!GX45","v":0},{"$f":"ColdWinter!BL45-'C. Winter Peak 2015-01-15'!GY45","v":0},{"$f":"ColdWinter!BM45-'C. Winter Peak 2015-01-15'!GZ45","v":0},{"$f":"ColdWinter!BN45-'C. Winter Peak 2015-01-15'!HA45","v":0},{"$f":"ColdWinter!BO45-'C. Winter Peak 2015-01-15'!HB45","v":0},{"$f":"ColdWinter!BP45-'C. Winter Peak 2015-01-15'!HC45","v":0},{"$f":"ColdWinter!BQ45-'C. Winter Peak 2015-01-15'!HD45","v":0},{"$f":"ColdWinter!BR45-'C. Winter Peak 2015-01-15'!HE45","v":0},{"$f":"ColdWinter!BS45-'C. Winter Peak 2015-01-15'!HF45","v":0},{"$f":"ColdWinter!BT45-'C. Winter Peak 2015-01-15'!HG45","v":0},{"$f":"ColdWinter!BU45-'C. Winter Peak 2015-01-15'!HH45","v":0},{"$f":"ColdWinter!BV45-'C. Winter Peak 2015-01-15'!HI45","v":0},{"$f":"ColdWinter!BW45-'C. Winter Peak 2015-01-15'!HJ45","v":0},{"$f":"ColdWinter!BX45-'C. Winter Peak 2015-01-15'!HK45","v":0},{"$f":"ColdWinter!BY45-'C. Winter Peak 2015-01-15'!HL45","v":0},{"$f":"ColdWinter!BZ45-'C. Winter Peak 2015-01-15'!HM45","v":0},{"$f":"ColdWinter!CA45-'C. Winter Peak 2015-01-15'!HN45","v":0},{"$f":"ColdWinter!CB45-'C. Winter Peak 2015-01-15'!HO45","v":0},{"$f":"ColdWinter!CC45-'C. Winter Peak 2015-01-15'!HP45","v":0},{"$f":"ColdWinter!CD45-'C. Winter Peak 2015-01-15'!HQ45","v":0},{"$f":"ColdWinter!CE45-'C. Winter Peak 2015-01-15'!HR45","v":0},{"$f":"ColdWinter!CF45-'C. Winter Peak 2015-01-15'!HS45","v":0},{"$f":"ColdWinter!CG45-'C. Winter Peak 2015-01-15'!HT45","v":0},{"$f":"ColdWinter!CH45-'C. Winter Peak 2015-01-15'!HU45","v":0},{"$f":"ColdWinter!CI45-'C. Winter Peak 2015-01-15'!HV45","v":0},{"$f":"ColdWinter!CJ45-'C. Winter Peak 2015-01-15'!HW45","v":0},{"$f":"ColdWinter!CK45-'C. Winter Peak 2015-01-15'!HX45","v":0},{"$f":"ColdWinter!CL45-'C. Winter Peak 2015-01-15'!HY45","v":0},{"$f":"ColdWinter!CM45-'C. Winter Peak 2015-01-15'!HZ45","v":0},{"$f":"ColdWinter!CN45-'C. Winter Peak 2015-01-15'!IA45","v":0},{"$f":"ColdWinter!CO45-'C. Winter Peak 2015-01-15'!IB45","v":0},{"$f":"ColdWinter!CP45-'C. Winter Peak 2015-01-15'!IC45","v":0},{"$f":"ColdWinter!CQ45-'C. Winter Peak 2015-01-15'!ID45","v":0},{"$f":"ColdWinter!CR45-'C. Winter Peak 2015-01-15'!IE45","v":0},{"$f":"ColdWinter!CS45-'C. Winter Peak 2015-01-15'!IF45","v":0},{"$f":"ColdWinter!CT45-'C. Winter Peak 2015-01-15'!IG45","v":0},{"$f":"ColdWinter!CU45-'C. Winter Peak 2015-01-15'!IH45","v":0},{"$f":"ColdWinter!CV45-'C. Winter Peak 2015-01-15'!II45","v":0},{"$f":"ColdWinter!CW45-'C. Winter Peak 2015-01-15'!IJ45","v":0},{"$f":"ColdWinter!CX45-'C. Winter Peak 2015-01-15'!IK45","v":0},{"$f":"ColdWinter!CY45-'C. Winter Peak 2015-01-15'!IL45","v":0},{"$f":"ColdWinter!CZ45-'C. Winter Peak 2015-01-15'!IM45","v":0},{"$f":"ColdWinter!DA45-'C. Winter Peak 2015-01-15'!IN45","v":0},{"$f":"ColdWinter!DB45-'C. Winter Peak 2015-01-15'!IO45","v":0},{"$f":"ColdWinter!DC45-'C. Winter Peak 2015-01-15'!IP45","v":0},{"$f":"ColdWinter!DD45-'C. Winter Peak 2015-01-15'!IQ45","v":0},{"$f":"ColdWinter!DE45-'C. Winter Peak 2015-01-15'!IR45","v":0},{"$f":"ColdWinter!DF45-'C. Winter Peak 2015-01-15'!IS45","v":0},{"$f":"ColdWinter!DG45-'C. Winter Peak 2015-01-15'!IT45","v":0},{"$f":"ColdWinter!DH45-'C. Winter Peak 2015-01-15'!IU45","v":0},{"$f":"ColdWinter!DI45-'C. Winter Peak 2015-01-15'!IV45","v":0},{"$f":"ColdWinter!DJ45-'C. Winter Peak 2015-01-15'!IW45","v":0},{"$f":"ColdWinter!DK45-'C. Winter Peak 2015-01-15'!IX45","v":0},{"$f":"ColdWinter!DL45-'C. Winter Peak 2015-01-15'!IY45","v":0},{"$f":"ColdWinter!DM45-'C. Winter Peak 2015-01-15'!IZ45","v":0},{"$f":"ColdWinter!DN45-'C. Winter Peak 2015-01-15'!JA45","v":0},{"$f":"ColdWinter!DO45-'C. Winter Peak 2015-01-15'!JB45","v":0},{"$f":"ColdWinter!DP45-'C. Winter Peak 2015-01-15'!JC45","v":0},{"$f":"ColdWinter!DQ45-'C. Winter Peak 2015-01-15'!JD45","v":0},{"$f":"ColdWinter!DR45-'C. Winter Peak 2015-01-15'!JE45","v":0},{"$f":"ColdWinter!DS45-'C. Winter Peak 2015-01-15'!JF45","v":0}]
[null,"PTF1",{"$f":"ColdWinter!C46-'C. Winter Peak 2015-01-15'!EP46","v":0},{"$f":"ColdWinter!D46-'C. Winter Peak 2015-01-15'!EQ46","v":0},{"$f":"ColdWinter!E46-'C. Winter Peak 2015-01-15'!ER46","v":0},{"$f":"ColdWinter!F46-'C. Winter Peak 2015-01-15'!ES46","v":0},{"$f":"ColdWinter!G46-'C. Winter Peak 2015-01-15'!ET46","v":0},{"$f":"ColdWinter!H46-'C. Winter Peak 2015-01-15'!EU46","v":0},{"$f":"ColdWinter!I46-'C. Winter Peak 2015-01-15'!EV46","v":0},{"$f":"ColdWinter!J46-'C. Winter Peak 2015-01-15'!EW46","v":0},{"$f":"ColdWinter!K46-'C. Winter Peak 2015-01-15'!EX46","v":0},{"$f":"ColdWinter!L46-'C. Winter Peak 2015-01-15'!EY46","v":0},{"$f":"ColdWinter!M46-'C. Winter Peak 2015-01-15'!EZ46","v":0},{"$f":"ColdWinter!N46-'C. Winter Peak 2015-01-15'!FA46","v":0},{"$f":"ColdWinter!O46-'C. Winter Peak 2015-01-15'!FB46","v":0},{"$f":"ColdWinter!P46-'C. Winter Peak 2015-01-15'!FC46","v":0},{"$f":"ColdWinter!Q46-'C. Winter Peak 2015-01-15'!FD46","v":0},{"$f":"ColdWinter!R46-'C. Winter Peak 2015-01-15'!FE46","v":0},{"$f":"ColdWinter!S46-'C. Winter Peak 2015-01-15'!FF46","v":0},{"$f":"ColdWinter!T46-'C. Winter Peak 2015-01-15'!FG46","v":0},{"$f":"ColdWinter!U46-'C. Winter Peak 2015-01-15'!FH46","v":0},{"$f":"ColdWinter!V46-'C. Winter Peak 2015-01-15'!FI46","v":0},{"$f":"ColdWinter!W46-'C. Winter Peak 2015-01-15'!FJ46","v":0},{"$f":"ColdWinter!X46-'C. Winter Peak 2015-01-15'!FK46","v":0},{"$f":"ColdWinter!Y46-'C. Winter Peak 2015-01-15'!FL46","v":0},{"$f":"ColdWinter!Z46-'C. Winter Peak 2015-01-15'!FM46","v":0},{"$f":"ColdWinter!AA46-'C. Winter Peak 2015-01-15'!FN46","v":0},{"$f":"ColdWinter!AB46-'C. Winter Peak 2015-01-15'!FO46","v":0},{"$f":"ColdWinter!AC46-'C. Winter Peak 2015-01-15'!FP46","v":0},{"$f":"ColdWinter!AD46-'C. Winter Peak 2015-01-15'!FQ46","v":0},{"$f":"ColdWinter!AE46-'C. Winter Peak 2015-01-15'!FR46","v":0},{"$f":"ColdWinter!AF46-'C. Winter Peak 2015-01-15'!FS46","v":0},{"$f":"ColdWinter!AG46-'C. Winter Peak 2015-01-15'!FT46","v":0},{"$f":"ColdWinter!AH46-'C. Winter Peak 2015-01-15'!FU46","v":0},{"$f":"ColdWinter!AI46-'C. Winter Peak 2015-01-15'!FV46","v":0},{"$f":"ColdWinter!AJ46-'C. Winter Peak 2015-01-15'!FW46","v":0},{"$f":"ColdWinter!AK46-'C. Winter Peak 2015-01-15'!FX46","v":0},{"$f":"ColdWinter!AL46-'C. Winter Peak 2015-01-15'!FY46","v":0},{"$f":"ColdWinter!AM46-'C. Winter Peak 2015-01-15'!FZ46","v":0},{"$f":"ColdWinter!AN46-'C. Winter Peak 2015-01-15'!GA46","v":0},{"$f":"ColdWinter!AO46-'C. Winter Peak 2015-01-15'!GB46","v":0},{"$f":"ColdWinter!AP46-'C. Winter Peak 2015-01-15'!GC46","v":0},{"$f":"ColdWinter!AQ46-'C. Winter Peak 2015-01-15'!GD46","v":0},{"$f":"ColdWinter!AR46-'C. Winter Peak 2015-01-15'!GE46","v":0},{"$f":"ColdWinter!AS46-'C. Winter Peak 2015-01-15'!GF46","v":0},{"$f":"ColdWinter!AT46-'C. Winter Peak 2015-01-15'!GG46","v":0},{"$f":"ColdWinter!AU46-'C. Winter Peak 2015-01-15'!GH46","v":0},{"$f":"ColdWinter!AV46-'C. Winter Peak 2015-01-15'!GI46","v":0},{"$f":"ColdWinter!AW46-'C. Winter Peak 2015-01-15'!GJ46","v":0},{"$f":"ColdWinter!AX46-'C. Winter Peak 2015-01-15'!GK46","v":0},{"$f":"ColdWinter!AY46-'C. Winter Peak 2015-01-15'!GL46","v":0},{"$f":"ColdWinter!AZ46-'C. Winter Peak 2015-01-15'!GM46","v":0},{"$f":"ColdWinter!BA46-'C. Winter Peak 2015-01-15'!GN46","v":0},{"$f":"ColdWinter!BB46-'C. Winter Peak 2015-01-15'!GO46","v":0},{"$f":"ColdWinter!BC46-'C. Winter Peak 2015-01-15'!GP46","v":0},{"$f":"ColdWinter!BD46-'C. Winter Peak 2015-01-15'!GQ46","v":0},{"$f":"ColdWinter!BE46-'C. Winter Peak 2015-01-15'!GR46","v":0},{"$f":"ColdWinter!BF46-'C. Winter Peak 2015-01-15'!GS46","v":0},{"$f":"ColdWinter!BG46-'C. Winter Peak 2015-01-15'!GT46","v":0},{"$f":"ColdWinter!BH46-'C. Winter Peak 2015-01-15'!GU46","v":0},{"$f":"ColdWinter!BI46-'C. Winter Peak 2015-01-15'!GV46","v":0},{"$f":"ColdWinter!BJ46-'C. Winter Peak 2015-01-15'!GW46","v":0},{"$f":"ColdWinter!BK46-'C. Winter Peak 2015-01-15'!GX46","v":0},{"$f":"ColdWinter!BL46-'C. Winter Peak 2015-01-15'!GY46","v":0},{"$f":"ColdWinter!BM46-'C. Winter Peak 2015-01-15'!GZ46","v":0},{"$f":"ColdWinter!BN46-'C. Winter Peak 2015-01-15'!HA46","v":0},{"$f":"ColdWinter!BO46-'C. Winter Peak 2015-01-15'!HB46","v":0},{"$f":"ColdWinter!BP46-'C. Winter Peak 2015-01-15'!HC46","v":0},{"$f":"ColdWinter!BQ46-'C. Winter Peak 2015-01-15'!HD46","v":0},{"$f":"ColdWinter!BR46-'C. Winter Peak 2015-01-15'!HE46","v":0},{"$f":"ColdWinter!BS46-'C. Winter Peak 2015-01-15'!HF46","v":0},{"$f":"ColdWinter!BT46-'C. Winter Peak 2015-01-15'!HG46","v":0},{"$f":"ColdWinter!BU46-'C. Winter Peak 2015-01-15'!HH46","v":0},{"$f":"ColdWinter!BV46-'C. Winter Peak 2015-01-15'!HI46","v":0},{"$f":"ColdWinter!BW46-'C. Winter Peak 2015-01-15'!HJ46","v":0},{"$f":"ColdWinter!BX46-'C. Winter Peak 2015-01-15'!HK46","v":0},{"$f":"ColdWinter!BY46-'C. Winter Peak 2015-01-15'!HL46","v":0},{"$f":"ColdWinter!BZ46-'C. Winter Peak 2015-01-15'!HM46","v":0},{"$f":"ColdWinter!CA46-'C. Winter Peak 2015-01-15'!HN46","v":0},{"$f":"ColdWinter!CB46-'C. Winter Peak 2015-01-15'!HO46","v":0},{"$f":"ColdWinter!CC46-'C. Winter Peak 2015-01-15'!HP46","v":0},{"$f":"ColdWinter!CD46-'C. Winter Peak 2015-01-15'!HQ46","v":0},{"$f":"ColdWinter!CE46-'C. Winter Peak 2015-01-15'!HR46","v":0},{"$f":"ColdWinter!CF46-'C. Winter Peak 2015-01-15'!HS46","v":0},{"$f":"ColdWinter!CG46-'C. Winter Peak 2015-01-15'!HT46","v":0},{"$f":"ColdWinter!CH46-'C. Winter Peak 2015-01-15'!HU46","v":0},{"$f":"ColdWinter!CI46-'C. Winter Peak 2015-01-15'!HV46","v":0},{"$f":"ColdWinter!CJ46-'C. Winter Peak 2015-01-15'!HW46","v":0},{"$f":"ColdWinter!CK46-'C. Winter Peak 2015-01-15'!HX46","v":0},{"$f":"ColdWinter!CL46-'C. Winter Peak 2015-01-15'!HY46","v":0},{"$f":"ColdWinter!CM46-'C. Winter Peak 2015-01-15'!HZ46","v":0},{"$f":"ColdWinter!CN46-'C. Winter Peak 2015-01-15'!IA46","v":0},{"$f":"ColdWinter!CO46-'C. Winter Peak 2015-01-15'!IB46","v":0},{"$f":"ColdWinter!CP46-'C. Winter Peak 2015-01-15'!IC46","v":0},{"$f":"ColdWinter!CQ46-'C. Winter Peak 2015-01-15'!ID46","v":0},{"$f":"ColdWinter!CR46-'C. Winter Peak 2015-01-15'!IE46","v":0},{"$f":"ColdWinter!CS46-'C. Winter Peak 2015-01-15'!IF46","v":0},{"$f":"ColdWinter!CT46-'C. Winter Peak 2015-01-15'!IG46","v":0},{"$f":"ColdWinter!CU46-'C. Winter Peak 2015-01-15'!IH46","v":0},{"$f":"ColdWinter!CV46-'C. Winter Peak 2015-01-15'!II46","v":0},{"$f":"ColdWinter!CW46-'C. Winter Peak 2015-01-15'!IJ46","v":0},{"$f":"ColdWinter!CX46-'C. Winter Peak 2015-01-15'!IK46","v":0},{"$f":"ColdWinter!CY46-'C. Winter Peak 2015-01-15'!IL46","v":0},{"$f":"ColdWinter!CZ46-'C. Winter Peak 2015-01-15'!IM46","v":0},{"$f":"ColdWinter!DA46-'C. Winter Peak 2015-01-15'!IN46","v":0},{"$f":"ColdWinter!DB46-'C. Winter Peak 2015-01-15'!IO46","v":0},{"$f":"ColdWinter!DC46-'C. Winter Peak 2015-01-15'!IP46","v":0},{"$f":"ColdWinter!DD46-'C. Winter Peak 2015-01-15'!IQ46","v":0},{"$f":"ColdWinter!DE46-'C. Winter Peak 2015-01-15'!IR46","v":0},{"$f":"ColdWinter!DF46-'C. Winter Peak 2015-01-15'!IS46","v":0},{"$f":"ColdWinter!DG46-'C. Winter Peak 2015-01-15'!IT46","v":0},{"$f":"ColdWinter!DH46-'C. Winter Peak 2015-01-15'!IU46","v":0},{"$f":"ColdWinter!DI46-'C. Winter Peak 2015-01-15'!IV46","v":0},{"$f":"ColdWinter!DJ46-'C. Winter Peak 2015-01-15'!IW46","v":0},{"$f":"ColdWinter!DK46-'C. Winter Peak 2015-01-15'!IX46","v":0},{"$f":"ColdWinter!DL46-'C. Winter Peak 2015-01-15'!IY46","v":0},{"$f":"ColdWinter!DM46-'C. Winter Peak 2015-01-15'!IZ46","v":0},{"$f":"ColdWinter!DN46-'C. Winter Peak 2015-01-15'!JA46","v":0},{"$f":"ColdWinter!DO46-'C. Winter Peak 2015-01-15'!JB46","v":0},{"$f":"ColdWinter!DP46-'C. Winter Peak 2015-01-15'!JC46","v":0},{"$f":"ColdWinter!DQ46-'C. Winter Peak 2015-01-15'!JD46","v":0},{"$f":"ColdWinter!DR46-'C. Winter Peak 2015-01-15'!JE46","v":0},{"$f":"ColdWinter!DS46-'C. Winter Peak 2015-01-15'!JF46","v":0}]
[null,"PTF2",{"$f":"ColdWinter!C47-'C. Winter Peak 2015-01-15'!EP47","v":0},{"$f":"ColdWinter!D47-'C. Winter Peak 2015-01-15'!EQ47","v":0},{"$f":"ColdWinter!E47-'C. Winter Peak 2015-01-15'!ER47","v":0},{"$f":"ColdWinter!F47-'C. Winter Peak 2015-01-15'!ES47","v":0},{"$f":"ColdWinter!G47-'C. Winter Peak 2015-01-15'!ET47","v":0},{"$f":"ColdWinter!H47-'C. Winter Peak 2015-01-15'!EU47","v":0},{"$f":"ColdWinter!I47-'C. Winter Peak 2015-01-15'!EV47","v":0},{"$f":"ColdWinter!J47-'C. Winter Peak 2015-01-15'!EW47","v":0},{"$f":"ColdWinter!K47-'C. Winter Peak 2015-01-15'!EX47","v":0},{"$f":"ColdWinter!L47-'C. Winter Peak 2015-01-15'!EY47","v":0},{"$f":"ColdWinter!M47-'C. Winter Peak 2015-01-15'!EZ47","v":0},{"$f":"ColdWinter!N47-'C. Winter Peak 2015-01-15'!FA47","v":0},{"$f":"ColdWinter!O47-'C. Winter Peak 2015-01-15'!FB47","v":0},{"$f":"ColdWinter!P47-'C. Winter Peak 2015-01-15'!FC47","v":0},{"$f":"ColdWinter!Q47-'C. Winter Peak 2015-01-15'!FD47","v":0},{"$f":"ColdWinter!R47-'C. Winter Peak 2015-01-15'!FE47","v":0},{"$f":"ColdWinter!S47-'C. Winter Peak 2015-01-15'!FF47","v":0},{"$f":"ColdWinter!T47-'C. Winter Peak 2015-01-15'!FG47","v":0},{"$f":"ColdWinter!U47-'C. Winter Peak 2015-01-15'!FH47","v":0},{"$f":"ColdWinter!V47-'C. Winter Peak 2015-01-15'!FI47","v":0},{"$f":"ColdWinter!W47-'C. Winter Peak 2015-01-15'!FJ47","v":0},{"$f":"ColdWinter!X47-'C. Winter Peak 2015-01-15'!FK47","v":0},{"$f":"ColdWinter!Y47-'C. Winter Peak 2015-01-15'!FL47","v":0},{"$f":"ColdWinter!Z47-'C. Winter Peak 2015-01-15'!FM47","v":0},{"$f":"ColdWinter!AA47-'C. Winter Peak 2015-01-15'!FN47","v":0},{"$f":"ColdWinter!AB47-'C. Winter Peak 2015-01-15'!FO47","v":0},{"$f":"ColdWinter!AC47-'C. Winter Peak 2015-01-15'!FP47","v":0},{"$f":"ColdWinter!AD47-'C. Winter Peak 2015-01-15'!FQ47","v":0},{"$f":"ColdWinter!AE47-'C. Winter Peak 2015-01-15'!FR47","v":0},{"$f":"ColdWinter!AF47-'C. Winter Peak 2015-01-15'!FS47","v":0},{"$f":"ColdWinter!AG47-'C. Winter Peak 2015-01-15'!FT47","v":0},{"$f":"ColdWinter!AH47-'C. Winter Peak 2015-01-15'!FU47","v":0},{"$f":"ColdWinter!AI47-'C. Winter Peak 2015-01-15'!FV47","v":0},{"$f":"ColdWinter!AJ47-'C. Winter Peak 2015-01-15'!FW47","v":0},{"$f":"ColdWinter!AK47-'C. Winter Peak 2015-01-15'!FX47","v":0},{"$f":"ColdWinter!AL47-'C. Winter Peak 2015-01-15'!FY47","v":0},{"$f":"ColdWinter!AM47-'C. Winter Peak 2015-01-15'!FZ47","v":0},{"$f":"ColdWinter!AN47-'C. Winter Peak 2015-01-15'!GA47","v":0},{"$f":"ColdWinter!AO47-'C. Winter Peak 2015-01-15'!GB47","v":0},{"$f":"ColdWinter!AP47-'C. Winter Peak 2015-01-15'!GC47","v":0},{"$f":"ColdWinter!AQ47-'C. Winter Peak 2015-01-15'!GD47","v":0},{"$f":"ColdWinter!AR47-'C. Winter Peak 2015-01-15'!GE47","v":0},{"$f":"ColdWinter!AS47-'C. Winter Peak 2015-01-15'!GF47","v":0},{"$f":"ColdWinter!AT47-'C. Winter Peak 2015-01-15'!GG47","v":0},{"$f":"ColdWinter!AU47-'C. Winter Peak 2015-01-15'!GH47","v":0},{"$f":"ColdWinter!AV47-'C. Winter Peak 2015-01-15'!GI47","v":0},{"$f":"ColdWinter!AW47-'C. Winter Peak 2015-01-15'!GJ47","v":0},{"$f":"ColdWinter!AX47-'C. Winter Peak 2015-01-15'!GK47","v":0},{"$f":"ColdWinter!AY47-'C. Winter Peak 2015-01-15'!GL47","v":0},{"$f":"ColdWinter!AZ47-'C. Winter Peak 2015-01-15'!GM47","v":0},{"$f":"ColdWinter!BA47-'C. Winter Peak 2015-01-15'!GN47","v":0},{"$f":"ColdWinter!BB47-'C. Winter Peak 2015-01-15'!GO47","v":0},{"$f":"ColdWinter!BC47-'C. Winter Peak 2015-01-15'!GP47","v":0},{"$f":"ColdWinter!BD47-'C. Winter Peak 2015-01-15'!GQ47","v":0},{"$f":"ColdWinter!BE47-'C. Winter Peak 2015-01-15'!GR47","v":0},{"$f":"ColdWinter!BF47-'C. Winter Peak 2015-01-15'!GS47","v":0},{"$f":"ColdWinter!BG47-'C. Winter Peak 2015-01-15'!GT47","v":0},{"$f":"ColdWinter!BH47-'C. Winter Peak 2015-01-15'!GU47","v":0},{"$f":"ColdWinter!BI47-'C. Winter Peak 2015-01-15'!GV47","v":0},{"$f":"ColdWinter!BJ47-'C. Winter Peak 2015-01-15'!GW47","v":0},{"$f":"ColdWinter!BK47-'C. Winter Peak 2015-01-15'!GX47","v":0},{"$f":"ColdWinter!BL47-'C. Winter Peak 2015-01-15'!GY47","v":0},{"$f":"ColdWinter!BM47-'C. Winter Peak 2015-01-15'!GZ47","v":0},{"$f":"ColdWinter!BN47-'C. Winter Peak 2015-01-15'!HA47","v":0},{"$f":"ColdWinter!BO47-'C. Winter Peak 2015-01-15'!HB47","v":0},{"$f":"ColdWinter!BP47-'C. Winter Peak 2015-01-15'!HC47","v":0},{"$f":"ColdWinter!BQ47-'C. Winter Peak 2015-01-15'!HD47","v":0},{"$f":"ColdWinter!BR47-'C. Winter Peak 2015-01-15'!HE47","v":0},{"$f":"ColdWinter!BS47-'C. Winter Peak 2015-01-15'!HF47","v":0},{"$f":"ColdWinter!BT47-'C. Winter Peak 2015-01-15'!HG47","v":0},{"$f":"ColdWinter!BU47-'C. Winter Peak 2015-01-15'!HH47","v":0},{"$f":"ColdWinter!BV47-'C. Winter Peak 2015-01-15'!HI47","v":0},{"$f":"ColdWinter!BW47-'C. Winter Peak 2015-01-15'!HJ47","v":0},{"$f":"ColdWinter!BX47-'C. Winter Peak 2015-01-15'!HK47","v":0},{"$f":"ColdWinter!BY47-'C. Winter Peak 2015-01-15'!HL47","v":0},{"$f":"ColdWinter!BZ47-'C. Winter Peak 2015-01-15'!HM47","v":0},{"$f":"ColdWinter!CA47-'C. Winter Peak 2015-01-15'!HN47","v":0},{"$f":"ColdWinter!CB47-'C. Winter Peak 2015-01-15'!HO47","v":0},{"$f":"ColdWinter!CC47-'C. Winter Peak 2015-01-15'!HP47","v":0},{"$f":"ColdWinter!CD47-'C. Winter Peak 2015-01-15'!HQ47","v":0},{"$f":"ColdWinter!CE47-'C. Winter Peak 2015-01-15'!HR47","v":0},{"$f":"ColdWinter!CF47-'C. Winter Peak 2015-01-15'!HS47","v":0},{"$f":"ColdWinter!CG47-'C. Winter Peak 2015-01-15'!HT47","v":0},{"$f":"ColdWinter!CH47-'C. Winter Peak 2015-01-15'!HU47","v":0},{"$f":"ColdWinter!CI47-'C. Winter Peak 2015-01-15'!HV47","v":0},{"$f":"ColdWinter!CJ47-'C. Winter Peak 2015-01-15'!HW47","v":0},{"$f":"ColdWinter!CK47-'C. Winter Peak 2015-01-15'!HX47","v":0},{"$f":"ColdWinter!CL47-'C. Winter Peak 2015-01-15'!HY47","v":0},{"$f":"ColdWinter!CM47-'C. Winter Peak 2015-01-15'!HZ47","v":0},{"$f":"ColdWinter!CN47-'C. Winter Peak 2015-01-15'!IA47","v":0},{"$f":"ColdWinter!CO47-'C. Winter Peak 2015-01-15'!IB47","v":0},{"$f":"ColdWinter!CP47-'C. Winter Peak 2015-01-15'!IC47","v":0},{"$f":"ColdWinter!CQ47-'C. Winter Peak 2015-01-15'!ID47","v":0},{"$f":"ColdWinter!CR47-'C. Winter Peak 2015-01-15'!IE47","v":0},{"$f":"ColdWinter!CS47-'C. Winter Peak 2015-01-15'!IF47","v":0},{"$f":"ColdWinter!CT47-'C. Winter Peak 2015-01-15'!IG47","v":0},{"$f":"ColdWinter!CU47-'C. Winter Peak 2015-01-15'!IH47","v":0},{"$f":"ColdWinter!CV47-'C. Winter Peak 2015-01-15'!II47","v":0},{"$f":"ColdWinter!CW47-'C. Winter Peak 2015-01-15'!IJ47","v":0},{"$f":"ColdWinter!CX47-'C. Winter Peak 2015-01-15'!IK47","v":0},{"$f":"ColdWinter!CY47-'C. Winter Peak 2015-01-15'!IL47","v":0},{"$f":"ColdWinter!CZ47-'C. Winter Peak 2015-01-15'!IM47","v":0},{"$f":"ColdWinter!DA47-'C. Winter Peak 2015-01-15'!IN47","v":0},{"$f":"ColdWinter!DB47-'C. Winter Peak 2015-01-15'!IO47","v":0},{"$f":"ColdWinter!DC47-'C. Winter Peak 2015-01-15'!IP47","v":0},{"$f":"ColdWinter!DD47-'C. Winter Peak 2015-01-15'!IQ47","v":0},{"$f":"ColdWinter!DE47-'C. Winter Peak 2015-01-15'!IR47","v":0},{"$f":"ColdWinter!DF47-'C. Winter Peak 2015-01-15'!IS47","v":0},{"$f":"ColdWinter!DG47-'C. Winter Peak 2015-01-15'!IT47","v":0},{"$f":"ColdWinter!DH47-'C. Winter Peak 2015-01-15'!IU47","v":0},{"$f":"ColdWinter!DI47-'C. Winter Peak 2015-01-15'!IV47","v":0},{"$f":"ColdWinter!DJ47-'C. Winter Peak 2015-01-15'!IW47","v":0},{"$f":"ColdWinter!DK47-'C. Winter Peak 2015-01-15'!IX47","v":0},{"$f":"ColdWinter!DL47-'C. Winter Peak 2015-01-15'!IY47","v":0},{"$f":"ColdWinter!DM47-'C. Winter Peak 2015-01-15'!IZ47","v":0},{"$f":"ColdWinter!DN47-'C. Winter Peak 2015-01-15'!JA47","v":0},{"$f":"ColdWinter!DO47-'C. Winter Peak 2015-01-15'!JB47","v":0},{"$f":"ColdWinter!DP47-'C. Winter Peak 2015-01-15'!JC47","v":0},{"$f":"ColdWinter!DQ47-'C. Winter Peak 2015-01-15'!JD47","v":0},{"$f":"ColdWinter!DR47-'C. Winter Peak 2015-01-15'!JE47","v":0},{"$f":"ColdWinter!DS47-'C. Winter Peak 2015-01-15'!JF47","v":0}]
[null,"PTN3",{"$f":"ColdWinter!C48-'C. Winter Peak 2015-01-15'!EP48","v":0},{"$f":"ColdWinter!D48-'C. Winter Peak 2015-01-15'!EQ48","v":0},{"$f":"ColdWinter!E48-'C. Winter Peak 2015-01-15'!ER48","v":0},{"$f":"ColdWinter!F48-'C. Winter Peak 2015-01-15'!ES48","v":0},{"$f":"ColdWinter!G48-'C. Winter Peak 2015-01-15'!ET48","v":0},{"$f":"ColdWinter!H48-'C. Winter Peak 2015-01-15'!EU48","v":0},{"$f":"ColdWinter!I48-'C. Winter Peak 2015-01-15'!EV48","v":0},{"$f":"ColdWinter!J48-'C. Winter Peak 2015-01-15'!EW48","v":0},{"$f":"ColdWinter!K48-'C. Winter Peak 2015-01-15'!EX48","v":0},{"$f":"ColdWinter!L48-'C. Winter Peak 2015-01-15'!EY48","v":0},{"$f":"ColdWinter!M48-'C. Winter Peak 2015-01-15'!EZ48","v":0},{"$f":"ColdWinter!N48-'C. Winter Peak 2015-01-15'!FA48","v":0},{"$f":"ColdWinter!O48-'C. Winter Peak 2015-01-15'!FB48","v":0},{"$f":"ColdWinter!P48-'C. Winter Peak 2015-01-15'!FC48","v":0},{"$f":"ColdWinter!Q48-'C. Winter Peak 2015-01-15'!FD48","v":0},{"$f":"ColdWinter!R48-'C. Winter Peak 2015-01-15'!FE48","v":0},{"$f":"ColdWinter!S48-'C. Winter Peak 2015-01-15'!FF48","v":0},{"$f":"ColdWinter!T48-'C. Winter Peak 2015-01-15'!FG48","v":0},{"$f":"ColdWinter!U48-'C. Winter Peak 2015-01-15'!FH48","v":0},{"$f":"ColdWinter!V48-'C. Winter Peak 2015-01-15'!FI48","v":0},{"$f":"ColdWinter!W48-'C. Winter Peak 2015-01-15'!FJ48","v":0},{"$f":"ColdWinter!X48-'C. Winter Peak 2015-01-15'!FK48","v":0},{"$f":"ColdWinter!Y48-'C. Winter Peak 2015-01-15'!FL48","v":0},{"$f":"ColdWinter!Z48-'C. Winter Peak 2015-01-15'!FM48","v":0},{"$f":"ColdWinter!AA48-'C. Winter Peak 2015-01-15'!FN48","v":0},{"$f":"ColdWinter!AB48-'C. Winter Peak 2015-01-15'!FO48","v":0},{"$f":"ColdWinter!AC48-'C. Winter Peak 2015-01-15'!FP48","v":0},{"$f":"ColdWinter!AD48-'C. Winter Peak 2015-01-15'!FQ48","v":0},{"$f":"ColdWinter!AE48-'C. Winter Peak 2015-01-15'!FR48","v":0},{"$f":"ColdWinter!AF48-'C. Winter Peak 2015-01-15'!FS48","v":0},{"$f":"ColdWinter!AG48-'C. Winter Peak 2015-01-15'!FT48","v":0},{"$f":"ColdWinter!AH48-'C. Winter Peak 2015-01-15'!FU48","v":0},{"$f":"ColdWinter!AI48-'C. Winter Peak 2015-01-15'!FV48","v":0},{"$f":"ColdWinter!AJ48-'C. Winter Peak 2015-01-15'!FW48","v":0},{"$f":"ColdWinter!AK48-'C. Winter Peak 2015-01-15'!FX48","v":0},{"$f":"ColdWinter!AL48-'C. Winter Peak 2015-01-15'!FY48","v":0},{"$f":"ColdWinter!AM48-'C. Winter Peak 2015-01-15'!FZ48","v":0},{"$f":"ColdWinter!AN48-'C. Winter Peak 2015-01-15'!GA48","v":0},{"$f":"ColdWinter!AO48-'C. Winter Peak 2015-01-15'!GB48","v":0},{"$f":"ColdWinter!AP48-'C. Winter Peak 2015-01-15'!GC48","v":0},{"$f":"ColdWinter!AQ48-'C. Winter Peak 2015-01-15'!GD48","v":0},{"$f":"ColdWinter!AR48-'C. Winter Peak 2015-01-15'!GE48","v":0},{"$f":"ColdWinter!AS48-'C. Winter Peak 2015-01-15'!GF48","v":0},{"$f":"ColdWinter!AT48-'C. Winter Peak 2015-01-15'!GG48","v":0},{"$f":"ColdWinter!AU48-'C. Winter Peak 2015-01-15'!GH48","v":0},{"$f":"ColdWinter!AV48-'C. Winter Peak 2015-01-15'!GI48","v":0},{"$f":"ColdWinter!AW48-'C. Winter Peak 2015-01-15'!GJ48","v":0},{"$f":"ColdWinter!AX48-'C. Winter Peak 2015-01-15'!GK48","v":0},{"$f":"ColdWinter!AY48-'C. Winter Peak 2015-01-15'!GL48","v":0},{"$f":"ColdWinter!AZ48-'C. Winter Peak 2015-01-15'!GM48","v":0},{"$f":"ColdWinter!BA48-'C. Winter Peak 2015-01-15'!GN48","v":0},{"$f":"ColdWinter!BB48-'C. Winter Peak 2015-01-15'!GO48","v":0},{"$f":"ColdWinter!BC48-'C. Winter Peak 2015-01-15'!GP48","v":0},{"$f":"ColdWinter!BD48-'C. Winter Peak 2015-01-15'!GQ48","v":0},{"$f":"ColdWinter!BE48-'C. Winter Peak 2015-01-15'!GR48","v":0},{"$f":"ColdWinter!BF48-'C. Winter Peak 2015-01-15'!GS48","v":0},{"$f":"ColdWinter!BG48-'C. Winter Peak 2015-01-15'!GT48","v":0},{"$f":"ColdWinter!BH48-'C. Winter Peak 2015-01-15'!GU48","v":0},{"$f":"ColdWinter!BI48-'C. Winter Peak 2015-01-15'!GV48","v":0},{"$f":"ColdWinter!BJ48-'C. Winter Peak 2015-01-15'!GW48","v":0},{"$f":"ColdWinter!BK48-'C. Winter Peak 2015-01-15'!GX48","v":0},{"$f":"ColdWinter!BL48-'C. Winter Peak 2015-01-15'!GY48","v":0},{"$f":"ColdWinter!BM48-'C. Winter Peak 2015-01-15'!GZ48","v":0},{"$f":"ColdWinter!BN48-'C. Winter Peak 2015-01-15'!HA48","v":0},{"$f":"ColdWinter!BO48-'C. Winter Peak 2015-01-15'!HB48","v":0},{"$f":"ColdWinter!BP48-'C. Winter Peak 2015-01-15'!HC48","v":0},{"$f":"ColdWinter!BQ48-'C. Winter Peak 2015-01-15'!HD48","v":0},{"$f":"ColdWinter!BR48-'C. Winter Peak 2015-01-15'!HE48","v":0},{"$f":"ColdWinter!BS48-'C. Winter Peak 2015-01-15'!HF48","v":0},{"$f":"ColdWinter!BT48-'C. Winter Peak 2015-01-15'!HG48","v":0},{"$f":"ColdWinter!BU48-'C. Winter Peak 2015-01-15'!HH48","v":0},{"$f":"ColdWinter!BV48-'C. Winter Peak 2015-01-15'!HI48","v":0},{"$f":"ColdWinter!BW48-'C. Winter Peak 2015-01-15'!HJ48","v":0},{"$f":"ColdWinter!BX48-'C. Winter Peak 2015-01-15'!HK48","v":0},{"$f":"ColdWinter!BY48-'C. Winter Peak 2015-01-15'!HL48","v":0},{"$f":"ColdWinter!BZ48-'C. Winter Peak 2015-01-15'!HM48","v":0},{"$f":"ColdWinter!CA48-'C. Winter Peak 2015-01-15'!HN48","v":0},{"$f":"ColdWinter!CB48-'C. Winter Peak 2015-01-15'!HO48","v":0},{"$f":"ColdWinter!CC48-'C. Winter Peak 2015-01-15'!HP48","v":0},{"$f":"ColdWinter!CD48-'C. Winter Peak 2015-01-15'!HQ48","v":0},{"$f":"ColdWinter!CE48-'C. Winter Peak 2015-01-15'!HR48","v":0},{"$f":"ColdWinter!CF48-'C. Winter Peak 2015-01-15'!HS48","v":0},{"$f":"ColdWinter!CG48-'C. Winter Peak 2015-01-15'!HT48","v":0},{"$f":"ColdWinter!CH48-'C. Winter Peak 2015-01-15'!HU48","v":0},{"$f":"ColdWinter!CI48-'C. Winter Peak 2015-01-15'!HV48","v":0},{"$f":"ColdWinter!CJ48-'C. Winter Peak 2015-01-15'!HW48","v":0},{"$f":"ColdWinter!CK48-'C. Winter Peak 2015-01-15'!HX48","v":0},{"$f":"ColdWinter!CL48-'C. Winter Peak 2015-01-15'!HY48","v":0},{"$f":"ColdWinter!CM48-'C. Winter Peak 2015-01-15'!HZ48","v":0},{"$f":"ColdWinter!CN48-'C. Winter Peak 2015-01-15'!IA48","v":0},{"$f":"ColdWinter!CO48-'C. Winter Peak 2015-01-15'!IB48","v":0},{"$f":"ColdWinter!CP48-'C. Winter Peak 2015-01-15'!IC48","v":0},{"$f":"ColdWinter!CQ48-'C. Winter Peak 2015-01-15'!ID48","v":0},{"$f":"ColdWinter!CR48-'C. Winter Peak 2015-01-15'!IE48","v":0},{"$f":"ColdWinter!CS48-'C. Winter Peak 2015-01-15'!IF48","v":0},{"$f":"ColdWinter!CT48-'C. Winter Peak 2015-01-15'!IG48","v":0},{"$f":"ColdWinter!CU48-'C. Winter Peak 2015-01-15'!IH48","v":0},{"$f":"ColdWinter!CV48-'C. Winter Peak 2015-01-15'!II48","v":0},{"$f":"ColdWinter!CW48-'C. Winter Peak 2015-01-15'!IJ48","v":0},{"$f":"ColdWinter!CX48-'C. Winter Peak 2015-01-15'!IK48","v":0},{"$f":"ColdWinter!CY48-'C. Winter Peak 2015-01-15'!IL48","v":0},{"$f":"ColdWinter!CZ48-'C. Winter Peak 2015-01-15'!IM48","v":0},{"$f":"ColdWinter!DA48-'C. Winter Peak 2015-01-15'!IN48","v":0},{"$f":"ColdWinter!DB48-'C. Winter Peak 2015-01-15'!IO48","v":0},{"$f":"ColdWinter!DC48-'C. Winter Peak 2015-01-15'!IP48","v":0},{"$f":"ColdWinter!DD48-'C. Winter Peak 2015-01-15'!IQ48","v":0},{"$f":"ColdWinter!DE48-'C. Winter Peak 2015-01-15'!IR48","v":0},{"$f":"ColdWinter!DF48-'C. Winter Peak 2015-01-15'!IS48","v":0},{"$f":"ColdWinter!DG48-'C. Winter Peak 2015-01-15'!IT48","v":0},{"$f":"ColdWinter!DH48-'C. Winter Peak 2015-01-15'!IU48","v":0},{"$f":"ColdWinter!DI48-'C. Winter Peak 2015-01-15'!IV48","v":0},{"$f":"ColdWinter!DJ48-'C. Winter Peak 2015-01-15'!IW48","v":0},{"$f":"ColdWinter!DK48-'C. Winter Peak 2015-01-15'!IX48","v":0},{"$f":"ColdWinter!DL48-'C. Winter Peak 2015-01-15'!IY48","v":0},{"$f":"ColdWinter!DM48-'C. Winter Peak 2015-01-15'!IZ48","v":0},{"$f":"ColdWinter!DN48-'C. Winter Peak 2015-01-15'!JA48","v":0},{"$f":"ColdWinter!DO48-'C. Winter Peak 2015-01-15'!JB48","v":0},{"$f":"ColdWinter!DP48-'C. Winter Peak 2015-01-15'!JC48","v":0},{"$f":"ColdWinter!DQ48-'C. Winter Peak 2015-01-15'!JD48","v":0},{"$f":"ColdWinter!DR48-'C. Winter Peak 2015-01-15'!JE48","v":0},{"$f":"ColdWinter!DS48-'C. Winter Peak 2015-01-15'!JF48","v":0}]
[null,"PTN4",{"$f":"ColdWinter!C49-'C. Winter Peak 2015-01-15'!EP49","v":0},{"$f":"ColdWinter!D49-'C. Winter Peak 2015-01-15'!EQ49","v":0},{"$f":"ColdWinter!E49-'C. Winter Peak 2015-01-15'!ER49","v":0},{"$f":"ColdWinter!F49-'C. Winter Peak 2015-01-15'!ES49","v":0},{"$f":"ColdWinter!G49-'C. Winter Peak 2015-01-15'!ET49","v":0},{"$f":"ColdWinter!H49-'C. Winter Peak 2015-01-15'!EU49","v":0},{"$f":"ColdWinter!I49-'C. Winter Peak 2015-01-15'!EV49","v":0},{"$f":"ColdWinter!J49-'C. Winter Peak 2015-01-15'!EW49","v":0},{"$f":"ColdWinter!K49-'C. Winter Peak 2015-01-15'!EX49","v":0},{"$f":"ColdWinter!L49-'C. Winter Peak 2015-01-15'!EY49","v":0},{"$f":"ColdWinter!M49-'C. Winter Peak 2015-01-15'!EZ49","v":0},{"$f":"ColdWinter!N49-'C. Winter Peak 2015-01-15'!FA49","v":0},{"$f":"ColdWinter!O49-'C. Winter Peak 2015-01-15'!FB49","v":0},{"$f":"ColdWinter!P49-'C. Winter Peak 2015-01-15'!FC49","v":0},{"$f":"ColdWinter!Q49-'C. Winter Peak 2015-01-15'!FD49","v":0},{"$f":"ColdWinter!R49-'C. Winter Peak 2015-01-15'!FE49","v":0},{"$f":"ColdWinter!S49-'C. Winter Peak 2015-01-15'!FF49","v":0},{"$f":"ColdWinter!T49-'C. Winter Peak 2015-01-15'!FG49","v":0},{"$f":"ColdWinter!U49-'C. Winter Peak 2015-01-15'!FH49","v":0},{"$f":"ColdWinter!V49-'C. Winter Peak 2015-01-15'!FI49","v":0},{"$f":"ColdWinter!W49-'C. Winter Peak 2015-01-15'!FJ49","v":0},{"$f":"ColdWinter!X49-'C. Winter Peak 2015-01-15'!FK49","v":0},{"$f":"ColdWinter!Y49-'C. Winter Peak 2015-01-15'!FL49","v":0},{"$f":"ColdWinter!Z49-'C. Winter Peak 2015-01-15'!FM49","v":0},{"$f":"ColdWinter!AA49-'C. Winter Peak 2015-01-15'!FN49","v":0},{"$f":"ColdWinter!AB49-'C. Winter Peak 2015-01-15'!FO49","v":0},{"$f":"ColdWinter!AC49-'C. Winter Peak 2015-01-15'!FP49","v":0},{"$f":"ColdWinter!AD49-'C. Winter Peak 2015-01-15'!FQ49","v":0},{"$f":"ColdWinter!AE49-'C. Winter Peak 2015-01-15'!FR49","v":0},{"$f":"ColdWinter!AF49-'C. Winter Peak 2015-01-15'!FS49","v":0},{"$f":"ColdWinter!AG49-'C. Winter Peak 2015-01-15'!FT49","v":0},{"$f":"ColdWinter!AH49-'C. Winter Peak 2015-01-15'!FU49","v":0},{"$f":"ColdWinter!AI49-'C. Winter Peak 2015-01-15'!FV49","v":0},{"$f":"ColdWinter!AJ49-'C. Winter Peak 2015-01-15'!FW49","v":0},{"$f":"ColdWinter!AK49-'C. Winter Peak 2015-01-15'!FX49","v":0},{"$f":"ColdWinter!AL49-'C. Winter Peak 2015-01-15'!FY49","v":0},{"$f":"ColdWinter!AM49-'C. Winter Peak 2015-01-15'!FZ49","v":0},{"$f":"ColdWinter!AN49-'C. Winter Peak 2015-01-15'!GA49","v":0},{"$f":"ColdWinter!AO49-'C. Winter Peak 2015-01-15'!GB49","v":0},{"$f":"ColdWinter!AP49-'C. Winter Peak 2015-01-15'!GC49","v":0},{"$f":"ColdWinter!AQ49-'C. Winter Peak 2015-01-15'!GD49","v":0},{"$f":"ColdWinter!AR49-'C. Winter Peak 2015-01-15'!GE49","v":0},{"$f":"ColdWinter!AS49-'C. Winter Peak 2015-01-15'!GF49","v":0},{"$f":"ColdWinter!AT49-'C. Winter Peak 2015-01-15'!GG49","v":0},{"$f":"ColdWinter!AU49-'C. Winter Peak 2015-01-15'!GH49","v":0},{"$f":"ColdWinter!AV49-'C. Winter Peak 2015-01-15'!GI49","v":0},{"$f":"ColdWinter!AW49-'C. Winter Peak 2015-01-15'!GJ49","v":0},{"$f":"ColdWinter!AX49-'C. Winter Peak 2015-01-15'!GK49","v":0},{"$f":"ColdWinter!AY49-'C. Winter Peak 2015-01-15'!GL49","v":0},{"$f":"ColdWinter!AZ49-'C. Winter Peak 2015-01-15'!GM49","v":0},{"$f":"ColdWinter!BA49-'C. Winter Peak 2015-01-15'!GN49","v":0},{"$f":"ColdWinter!BB49-'C. Winter Peak 2015-01-15'!GO49","v":0},{"$f":"ColdWinter!BC49-'C. Winter Peak 2015-01-15'!GP49","v":0},{"$f":"ColdWinter!BD49-'C. Winter Peak 2015-01-15'!GQ49","v":0},{"$f":"ColdWinter!BE49-'C. Winter Peak 2015-01-15'!GR49","v":0},{"$f":"ColdWinter!BF49-'C. Winter Peak 2015-01-15'!GS49","v":0},{"$f":"ColdWinter!BG49-'C. Winter Peak 2015-01-15'!GT49","v":0},{"$f":"ColdWinter!BH49-'C. Winter Peak 2015-01-15'!GU49","v":0},{"$f":"ColdWinter!BI49-'C. Winter Peak 2015-01-15'!GV49","v":0},{"$f":"ColdWinter!BJ49-'C. Winter Peak 2015-01-15'!GW49","v":0},{"$f":"ColdWinter!BK49-'C. Winter Peak 2015-01-15'!GX49","v":0},{"$f":"ColdWinter!BL49-'C. Winter Peak 2015-01-15'!GY49","v":0},{"$f":"ColdWinter!BM49-'C. Winter Peak 2015-01-15'!GZ49","v":0},{"$f":"ColdWinter!BN49-'C. Winter Peak 2015-01-15'!HA49","v":0},{"$f":"ColdWinter!BO49-'C. Winter Peak 2015-01-15'!HB49","v":0},{"$f":"ColdWinter!BP49-'C. Winter Peak 2015-01-15'!HC49","v":0},{"$f":"ColdWinter!BQ49-'C. Winter Peak 2015-01-15'!HD49","v":0},{"$f":"ColdWinter!BR49-'C. Winter Peak 2015-01-15'!HE49","v":0},{"$f":"ColdWinter!BS49-'C. Winter Peak 2015-01-15'!HF49","v":0},{"$f":"ColdWinter!BT49-'C. Winter Peak 2015-01-15'!HG49","v":0},{"$f":"ColdWinter!BU49-'C. Winter Peak 2015-01-15'!HH49","v":0},{"$f":"ColdWinter!BV49-'C. Winter Peak 2015-01-15'!HI49","v":0},{"$f":"ColdWinter!BW49-'C. Winter Peak 2015-01-15'!HJ49","v":0},{"$f":"ColdWinter!BX49-'C. Winter Peak 2015-01-15'!HK49","v":0},{"$f":"ColdWinter!BY49-'C. Winter Peak 2015-01-15'!HL49","v":0},{"$f":"ColdWinter!BZ49-'C. Winter Peak 2015-01-15'!HM49","v":0},{"$f":"ColdWinter!CA49-'C. Winter Peak 2015-01-15'!HN49","v":0},{"$f":"ColdWinter!CB49-'C. Winter Peak 2015-01-15'!HO49","v":0},{"$f":"ColdWinter!CC49-'C. Winter Peak 2015-01-15'!HP49","v":0},{"$f":"ColdWinter!CD49-'C. Winter Peak 2015-01-15'!HQ49","v":0},{"$f":"ColdWinter!CE49-'C. Winter Peak 2015-01-15'!HR49","v":0},{"$f":"ColdWinter!CF49-'C. Winter Peak 2015-01-15'!HS49","v":0},{"$f":"ColdWinter!CG49-'C. Winter Peak 2015-01-15'!HT49","v":0},{"$f":"ColdWinter!CH49-'C. Winter Peak 2015-01-15'!HU49","v":0},{"$f":"ColdWinter!CI49-'C. Winter Peak 2015-01-15'!HV49","v":0},{"$f":"ColdWinter!CJ49-'C. Winter Peak 2015-01-15'!HW49","v":0},{"$f":"ColdWinter!CK49-'C. Winter Peak 2015-01-15'!HX49","v":0},{"$f":"ColdWinter!CL49-'C. Winter Peak 2015-01-15'!HY49","v":0},{"$f":"ColdWinter!CM49-'C. Winter Peak 2015-01-15'!HZ49","v":0},{"$f":"ColdWinter!CN49-'C. Winter Peak 2015-01-15'!IA49","v":0},{"$f":"ColdWinter!CO49-'C. Winter Peak 2015-01-15'!IB49","v":0},{"$f":"ColdWinter!CP49-'C. Winter Peak 2015-01-15'!IC49","v":0},{"$f":"ColdWinter!CQ49-'C. Winter Peak 2015-01-15'!ID49","v":0},{"$f":"ColdWinter!CR49-'C. Winter Peak 2015-01-15'!IE49","v":0},{"$f":"ColdWinter!CS49-'C. Winter Peak 2015-01-15'!IF49","v":0},{"$f":"ColdWinter!CT49-'C. Winter Peak 2015-01-15'!IG49","v":0},{"$f":"ColdWinter!CU49-'C. Winter Peak 2015-01-15'!IH49","v":0},{"$f":"ColdWinter!CV49-'C. Winter Peak 2015-01-15'!II49","v":0},{"$f":"ColdWinter!CW49-'C. Winter Peak 2015-01-15'!IJ49","v":0},{"$f":"ColdWinter!CX49-'C. Winter Peak 2015-01-15'!IK49","v":0},{"$f":"ColdWinter!CY49-'C. Winter Peak 2015-01-15'!IL49","v":0},{"$f":"ColdWinter!CZ49-'C. Winter Peak 2015-01-15'!IM49","v":0},{"$f":"ColdWinter!DA49-'C. Winter Peak 2015-01-15'!IN49","v":0},{"$f":"ColdWinter!DB49-'C. Winter Peak 2015-01-15'!IO49","v":0},{"$f":"ColdWinter!DC49-'C. Winter Peak 2015-01-15'!IP49","v":0},{"$f":"ColdWinter!DD49-'C. Winter Peak 2015-01-15'!IQ49","v":0},{"$f":"ColdWinter!DE49-'C. Winter Peak 2015-01-15'!IR49","v":0},{"$f":"ColdWinter!DF49-'C. Winter Peak 2015-01-15'!IS49","v":0},{"$f":"ColdWinter!DG49-'C. Winter Peak 2015-01-15'!IT49","v":0},{"$f":"ColdWinter!DH49-'C. Winter Peak 2015-01-15'!IU49","v":0},{"$f":"ColdWinter!DI49-'C. Winter Peak 2015-01-15'!IV49","v":0},{"$f":"ColdWinter!DJ49-'C. Winter Peak 2015-01-15'!IW49","v":0},{"$f":"ColdWinter!DK49-'C. Winter Peak 2015-01-15'!IX49","v":0},{"$f":"ColdWinter!DL49-'C. Winter Peak 2015-01-15'!IY49","v":0},{"$f":"ColdWinter!DM49-'C. Winter Peak 2015-01-15'!IZ49","v":0},{"$f":"ColdWinter!DN49-'C. Winter Peak 2015-01-15'!JA49","v":0},{"$f":"ColdWinter!DO49-'C. Winter Peak 2015-01-15'!JB49","v":0},{"$f":"ColdWinter!DP49-'C. Winter Peak 2015-01-15'!JC49","v":0},{"$f":"ColdWinter!DQ49-'C. Winter Peak 2015-01-15'!JD49","v":0},{"$f":"ColdWinter!DR49-'C. Winter Peak 2015-01-15'!JE49","v":0},{"$f":"ColdWinter!DS49-'C. Winter Peak 2015-01-15'!JF49","v":0}]
[null,"PTF5",{"$f":"ColdWinter!C50-'C. Winter Peak 2015-01-15'!EP50","v":0},{"$f":"ColdWinter!D50-'C. Winter Peak 2015-01-15'!EQ50","v":0},{"$f":"ColdWinter!E50-'C. Winter Peak 2015-01-15'!ER50","v":0},{"$f":"ColdWinter!F50-'C. Winter Peak 2015-01-15'!ES50","v":0},{"$f":"ColdWinter!G50-'C. Winter Peak 2015-01-15'!ET50","v":0},{"$f":"ColdWinter!H50-'C. Winter Peak 2015-01-15'!EU50","v":0},{"$f":"ColdWinter!I50-'C. Winter Peak 2015-01-15'!EV50","v":0},{"$f":"ColdWinter!J50-'C. Winter Peak 2015-01-15'!EW50","v":0},{"$f":"ColdWinter!K50-'C. Winter Peak 2015-01-15'!EX50","v":0},{"$f":"ColdWinter!L50-'C. Winter Peak 2015-01-15'!EY50","v":0},{"$f":"ColdWinter!M50-'C. Winter Peak 2015-01-15'!EZ50","v":0},{"$f":"ColdWinter!N50-'C. Winter Peak 2015-01-15'!FA50","v":0},{"$f":"ColdWinter!O50-'C. Winter Peak 2015-01-15'!FB50","v":0},{"$f":"ColdWinter!P50-'C. Winter Peak 2015-01-15'!FC50","v":0},{"$f":"ColdWinter!Q50-'C. Winter Peak 2015-01-15'!FD50","v":0},{"$f":"ColdWinter!R50-'C. Winter Peak 2015-01-15'!FE50","v":0},{"$f":"ColdWinter!S50-'C. Winter Peak 2015-01-15'!FF50","v":0},{"$f":"ColdWinter!T50-'C. Winter Peak 2015-01-15'!FG50","v":0},{"$f":"ColdWinter!U50-'C. Winter Peak 2015-01-15'!FH50","v":0},{"$f":"ColdWinter!V50-'C. Winter Peak 2015-01-15'!FI50","v":0},{"$f":"ColdWinter!W50-'C. Winter Peak 2015-01-15'!FJ50","v":0},{"$f":"ColdWinter!X50-'C. Winter Peak 2015-01-15'!FK50","v":0},{"$f":"ColdWinter!Y50-'C. Winter Peak 2015-01-15'!FL50","v":0},{"$f":"ColdWinter!Z50-'C. Winter Peak 2015-01-15'!FM50","v":0},{"$f":"ColdWinter!AA50-'C. Winter Peak 2015-01-15'!FN50","v":0},{"$f":"ColdWinter!AB50-'C. Winter Peak 2015-01-15'!FO50","v":0},{"$f":"ColdWinter!AC50-'C. Winter Peak 2015-01-15'!FP50","v":0},{"$f":"ColdWinter!AD50-'C. Winter Peak 2015-01-15'!FQ50","v":0},{"$f":"ColdWinter!AE50-'C. Winter Peak 2015-01-15'!FR50","v":0},{"$f":"ColdWinter!AF50-'C. Winter Peak 2015-01-15'!FS50","v":0},{"$f":"ColdWinter!AG50-'C. Winter Peak 2015-01-15'!FT50","v":0},{"$f":"ColdWinter!AH50-'C. Winter Peak 2015-01-15'!FU50","v":0},{"$f":"ColdWinter!AI50-'C. Winter Peak 2015-01-15'!FV50","v":0},{"$f":"ColdWinter!AJ50-'C. Winter Peak 2015-01-15'!FW50","v":0},{"$f":"ColdWinter!AK50-'C. Winter Peak 2015-01-15'!FX50","v":0},{"$f":"ColdWinter!AL50-'C. Winter Peak 2015-01-15'!FY50","v":0},{"$f":"ColdWinter!AM50-'C. Winter Peak 2015-01-15'!FZ50","v":0},{"$f":"ColdWinter!AN50-'C. Winter Peak 2015-01-15'!GA50","v":0},{"$f":"ColdWinter!AO50-'C. Winter Peak 2015-01-15'!GB50","v":0},{"$f":"ColdWinter!AP50-'C. Winter Peak 2015-01-15'!GC50","v":0},{"$f":"ColdWinter!AQ50-'C. Winter Peak 2015-01-15'!GD50","v":0},{"$f":"ColdWinter!AR50-'C. Winter Peak 2015-01-15'!GE50","v":0},{"$f":"ColdWinter!AS50-'C. Winter Peak 2015-01-15'!GF50","v":0},{"$f":"ColdWinter!AT50-'C. Winter Peak 2015-01-15'!GG50","v":0},{"$f":"ColdWinter!AU50-'C. Winter Peak 2015-01-15'!GH50","v":0},{"$f":"ColdWinter!AV50-'C. Winter Peak 2015-01-15'!GI50","v":0},{"$f":"ColdWinter!AW50-'C. Winter Peak 2015-01-15'!GJ50","v":0},{"$f":"ColdWinter!AX50-'C. Winter Peak 2015-01-15'!GK50","v":0},{"$f":"ColdWinter!AY50-'C. Winter Peak 2015-01-15'!GL50","v":0},{"$f":"ColdWinter!AZ50-'C. Winter Peak 2015-01-15'!GM50","v":0},{"$f":"ColdWinter!BA50-'C. Winter Peak 2015-01-15'!GN50","v":0},{"$f":"ColdWinter!BB50-'C. Winter Peak 2015-01-15'!GO50","v":0},{"$f":"ColdWinter!BC50-'C. Winter Peak 2015-01-15'!GP50","v":0},{"$f":"ColdWinter!BD50-'C. Winter Peak 2015-01-15'!GQ50","v":0},{"$f":"ColdWinter!BE50-'C. Winter Peak 2015-01-15'!GR50","v":0},{"$f":"ColdWinter!BF50-'C. Winter Peak 2015-01-15'!GS50","v":0},{"$f":"ColdWinter!BG50-'C. Winter Peak 2015-01-15'!GT50","v":0},{"$f":"ColdWinter!BH50-'C. Winter Peak 2015-01-15'!GU50","v":0},{"$f":"ColdWinter!BI50-'C. Winter Peak 2015-01-15'!GV50","v":0},{"$f":"ColdWinter!BJ50-'C. Winter Peak 2015-01-15'!GW50","v":0},{"$f":"ColdWinter!BK50-'C. Winter Peak 2015-01-15'!GX50","v":0},{"$f":"ColdWinter!BL50-'C. Winter Peak 2015-01-15'!GY50","v":0},{"$f":"ColdWinter!BM50-'C. Winter Peak 2015-01-15'!GZ50","v":0},{"$f":"ColdWinter!BN50-'C. Winter Peak 2015-01-15'!HA50","v":0},{"$f":"ColdWinter!BO50-'C. Winter Peak 2015-01-15'!HB50","v":0},{"$f":"ColdWinter!BP50-'C. Winter Peak 2015-01-15'!HC50","v":0},{"$f":"ColdWinter!BQ50-'C. Winter Peak 2015-01-15'!HD50","v":0},{"$f":"ColdWinter!BR50-'C. Winter Peak 2015-01-15'!HE50","v":0},{"$f":"ColdWinter!BS50-'C. Winter Peak 2015-01-15'!HF50","v":0},{"$f":"ColdWinter!BT50-'C. Winter Peak 2015-01-15'!HG50","v":0},{"$f":"ColdWinter!BU50-'C. Winter Peak 2015-01-15'!HH50","v":0},{"$f":"ColdWinter!BV50-'C. Winter Peak 2015-01-15'!HI50","v":0},{"$f":"ColdWinter!BW50-'C. Winter Peak 2015-01-15'!HJ50","v":0},{"$f":"ColdWinter!BX50-'C. Winter Peak 2015-01-15'!HK50","v":0},{"$f":"ColdWinter!BY50-'C. Winter Peak 2015-01-15'!HL50","v":0},{"$f":"ColdWinter!BZ50-'C. Winter Peak 2015-01-15'!HM50","v":0},{"$f":"ColdWinter!CA50-'C. Winter Peak 2015-01-15'!HN50","v":0},{"$f":"ColdWinter!CB50-'C. Winter Peak 2015-01-15'!HO50","v":0},{"$f":"ColdWinter!CC50-'C. Winter Peak 2015-01-15'!HP50","v":0},{"$f":"ColdWinter!CD50-'C. Winter Peak 2015-01-15'!HQ50","v":0},{"$f":"ColdWinter!CE50-'C. Winter Peak 2015-01-15'!HR50","v":0},{"$f":"ColdWinter!CF50-'C. Winter Peak 2015-01-15'!HS50","v":0},{"$f":"ColdWinter!CG50-'C. Winter Peak 2015-01-15'!HT50","v":0},{"$f":"ColdWinter!CH50-'C. Winter Peak 2015-01-15'!HU50","v":0},{"$f":"ColdWinter!CI50-'C. Winter Peak 2015-01-15'!HV50","v":0},{"$f":"ColdWinter!CJ50-'C. Winter Peak 2015-01-15'!HW50","v":0},{"$f":"ColdWinter!CK50-'C. Winter Peak 2015-01-15'!HX50","v":0},{"$f":"ColdWinter!CL50-'C. Winter Peak 2015-01-15'!HY50","v":0},{"$f":"ColdWinter!CM50-'C. Winter Peak 2015-01-15'!HZ50","v":0},{"$f":"ColdWinter!CN50-'C. Winter Peak 2015-01-15'!IA50","v":0},{"$f":"ColdWinter!CO50-'C. Winter Peak 2015-01-15'!IB50","v":0},{"$f":"ColdWinter!CP50-'C. Winter Peak 2015-01-15'!IC50","v":0},{"$f":"ColdWinter!CQ50-'C. Winter Peak 2015-01-15'!ID50","v":0},{"$f":"ColdWinter!CR50-'C. Winter Peak 2015-01-15'!IE50","v":0},{"$f":"ColdWinter!CS50-'C. Winter Peak 2015-01-15'!IF50","v":0},{"$f":"ColdWinter!CT50-'C. Winter Peak 2015-01-15'!IG50","v":0},{"$f":"ColdWinter!CU50-'C. Winter Peak 2015-01-15'!IH50","v":0},{"$f":"ColdWinter!CV50-'C. Winter Peak 2015-01-15'!II50","v":0},{"$f":"ColdWinter!CW50-'C. Winter Peak 2015-01-15'!IJ50","v":0},{"$f":"ColdWinter!CX50-'C. Winter Peak 2015-01-15'!IK50","v":0},{"$f":"ColdWinter!CY50-'C. Winter Peak 2015-01-15'!IL50","v":0},{"$f":"ColdWinter!CZ50-'C. Winter Peak 2015-01-15'!IM50","v":0},{"$f":"ColdWinter!DA50-'C. Winter Peak 2015-01-15'!IN50","v":0},{"$f":"ColdWinter!DB50-'C. Winter Peak 2015-01-15'!IO50","v":0},{"$f":"ColdWinter!DC50-'C. Winter Peak 2015-01-15'!IP50","v":0},{"$f":"ColdWinter!DD50-'C. Winter Peak 2015-01-15'!IQ50","v":0},{"$f":"ColdWinter!DE50-'C. Winter Peak 2015-01-15'!IR50","v":0},{"$f":"ColdWinter!DF50-'C. Winter Peak 2015-01-15'!IS50","v":0},{"$f":"ColdWinter!DG50-'C. Winter Peak 2015-01-15'!IT50","v":0},{"$f":"ColdWinter!DH50-'C. Winter Peak 2015-01-15'!IU50","v":0},{"$f":"ColdWinter!DI50-'C. Winter Peak 2015-01-15'!IV50","v":0},{"$f":"ColdWinter!DJ50-'C. Winter Peak 2015-01-15'!IW50","v":0},{"$f":"ColdWinter!DK50-'C. Winter Peak 2015-01-15'!IX50","v":0},{"$f":"ColdWinter!DL50-'C. Winter Peak 2015-01-15'!IY50","v":0},{"$f":"ColdWinter!DM50-'C. Winter Peak 2015-01-15'!IZ50","v":0},{"$f":"ColdWinter!DN50-'C. Winter Peak 2015-01-15'!JA50","v":0},{"$f":"ColdWinter!DO50-'C. Winter Peak 2015-01-15'!JB50","v":0},{"$f":"ColdWinter!DP50-'C. Winter Peak 2015-01-15'!JC50","v":0},{"$f":"ColdWinter!DQ50-'C. Winter Peak 2015-01-15'!JD50","v":0},{"$f":"ColdWinter!DR50-'C. Winter Peak 2015-01-15'!JE50","v":0},{"$f":"ColdWinter!DS50-'C. Winter Peak 2015-01-15'!JF50","v":0}]
[null,"PTN6",{"$f":"ColdWinter!C51-'C. Winter Peak 2015-01-15'!EP51","v":0},{"$f":"ColdWinter!D51-'C. Winter Peak 2015-01-15'!EQ51","v":0},{"$f":"ColdWinter!E51-'C. Winter Peak 2015-01-15'!ER51","v":0},{"$f":"ColdWinter!F51-'C. Winter Peak 2015-01-15'!ES51","v":0},{"$f":"ColdWinter!G51-'C. Winter Peak 2015-01-15'!ET51","v":0},{"$f":"ColdWinter!H51-'C. Winter Peak 2015-01-15'!EU51","v":0},{"$f":"ColdWinter!I51-'C. Winter Peak 2015-01-15'!EV51","v":0},{"$f":"ColdWinter!J51-'C. Winter Peak 2015-01-15'!EW51","v":0},{"$f":"ColdWinter!K51-'C. Winter Peak 2015-01-15'!EX51","v":0},{"$f":"ColdWinter!L51-'C. Winter Peak 2015-01-15'!EY51","v":0},{"$f":"ColdWinter!M51-'C. Winter Peak 2015-01-15'!EZ51","v":0},{"$f":"ColdWinter!N51-'C. Winter Peak 2015-01-15'!FA51","v":0},{"$f":"ColdWinter!O51-'C. Winter Peak 2015-01-15'!FB51","v":0},{"$f":"ColdWinter!P51-'C. Winter Peak 2015-01-15'!FC51","v":0},{"$f":"ColdWinter!Q51-'C. Winter Peak 2015-01-15'!FD51","v":0},{"$f":"ColdWinter!R51-'C. Winter Peak 2015-01-15'!FE51","v":0},{"$f":"ColdWinter!S51-'C. Winter Peak 2015-01-15'!FF51","v":0},{"$f":"ColdWinter!T51-'C. Winter Peak 2015-01-15'!FG51","v":0},{"$f":"ColdWinter!U51-'C. Winter Peak 2015-01-15'!FH51","v":0},{"$f":"ColdWinter!V51-'C. Winter Peak 2015-01-15'!FI51","v":0},{"$f":"ColdWinter!W51-'C. Winter Peak 2015-01-15'!FJ51","v":0},{"$f":"ColdWinter!X51-'C. Winter Peak 2015-01-15'!FK51","v":0},{"$f":"ColdWinter!Y51-'C. Winter Peak 2015-01-15'!FL51","v":0},{"$f":"ColdWinter!Z51-'C. Winter Peak 2015-01-15'!FM51","v":0},{"$f":"ColdWinter!AA51-'C. Winter Peak 2015-01-15'!FN51","v":0},{"$f":"ColdWinter!AB51-'C. Winter Peak 2015-01-15'!FO51","v":0},{"$f":"ColdWinter!AC51-'C. Winter Peak 2015-01-15'!FP51","v":0},{"$f":"ColdWinter!AD51-'C. Winter Peak 2015-01-15'!FQ51","v":0},{"$f":"ColdWinter!AE51-'C. Winter Peak 2015-01-15'!FR51","v":0},{"$f":"ColdWinter!AF51-'C. Winter Peak 2015-01-15'!FS51","v":0},{"$f":"ColdWinter!AG51-'C. Winter Peak 2015-01-15'!FT51","v":0},{"$f":"ColdWinter!AH51-'C. Winter Peak 2015-01-15'!FU51","v":0},{"$f":"ColdWinter!AI51-'C. Winter Peak 2015-01-15'!FV51","v":0},{"$f":"ColdWinter!AJ51-'C. Winter Peak 2015-01-15'!FW51","v":0},{"$f":"ColdWinter!AK51-'C. Winter Peak 2015-01-15'!FX51","v":0},{"$f":"ColdWinter!AL51-'C. Winter Peak 2015-01-15'!FY51","v":0},{"$f":"ColdWinter!AM51-'C. Winter Peak 2015-01-15'!FZ51","v":0},{"$f":"ColdWinter!AN51-'C. Winter Peak 2015-01-15'!GA51","v":0},{"$f":"ColdWinter!AO51-'C. Winter Peak 2015-01-15'!GB51","v":0},{"$f":"ColdWinter!AP51-'C. Winter Peak 2015-01-15'!GC51","v":0},{"$f":"ColdWinter!AQ51-'C. Winter Peak 2015-01-15'!GD51","v":0},{"$f":"ColdWinter!AR51-'C. Winter Peak 2015-01-15'!GE51","v":0},{"$f":"ColdWinter!AS51-'C. Winter Peak 2015-01-15'!GF51","v":0},{"$f":"ColdWinter!AT51-'C. Winter Peak 2015-01-15'!GG51","v":0},{"$f":"ColdWinter!AU51-'C. Winter Peak 2015-01-15'!GH51","v":0},{"$f":"ColdWinter!AV51-'C. Winter Peak 2015-01-15'!GI51","v":0},{"$f":"ColdWinter!AW51-'C. Winter Peak 2015-01-15'!GJ51","v":0},{"$f":"ColdWinter!AX51-'C. Winter Peak 2015-01-15'!GK51","v":0},{"$f":"ColdWinter!AY51-'C. Winter Peak 2015-01-15'!GL51","v":0},{"$f":"ColdWinter!AZ51-'C. Winter Peak 2015-01-15'!GM51","v":0},{"$f":"ColdWinter!BA51-'C. Winter Peak 2015-01-15'!GN51","v":0},{"$f":"ColdWinter!BB51-'C. Winter Peak 2015-01-15'!GO51","v":0},{"$f":"ColdWinter!BC51-'C. Winter Peak 2015-01-15'!GP51","v":0},{"$f":"ColdWinter!BD51-'C. Winter Peak 2015-01-15'!GQ51","v":0},{"$f":"ColdWinter!BE51-'C. Winter Peak 2015-01-15'!GR51","v":0},{"$f":"ColdWinter!BF51-'C. Winter Peak 2015-01-15'!GS51","v":0},{"$f":"ColdWinter!BG51-'C. Winter Peak 2015-01-15'!GT51","v":0},{"$f":"ColdWinter!BH51-'C. Winter Peak 2015-01-15'!GU51","v":0},{"$f":"ColdWinter!BI51-'C. Winter Peak 2015-01-15'!GV51","v":0},{"$f":"ColdWinter!BJ51-'C. Winter Peak 2015-01-15'!GW51","v":0},{"$f":"ColdWinter!BK51-'C. Winter Peak 2015-01-15'!GX51","v":0},{"$f":"ColdWinter!BL51-'C. Winter Peak 2015-01-15'!GY51","v":0},{"$f":"ColdWinter!BM51-'C. Winter Peak 2015-01-15'!GZ51","v":0},{"$f":"ColdWinter!BN51-'C. Winter Peak 2015-01-15'!HA51","v":0},{"$f":"ColdWinter!BO51-'C. Winter Peak 2015-01-15'!HB51","v":0},{"$f":"ColdWinter!BP51-'C. Winter Peak 2015-01-15'!HC51","v":0},{"$f":"ColdWinter!BQ51-'C. Winter Peak 2015-01-15'!HD51","v":0},{"$f":"ColdWinter!BR51-'C. Winter Peak 2015-01-15'!HE51","v":0},{"$f":"ColdWinter!BS51-'C. Winter Peak 2015-01-15'!HF51","v":0},{"$f":"ColdWinter!BT51-'C. Winter Peak 2015-01-15'!HG51","v":0},{"$f":"ColdWinter!BU51-'C. Winter Peak 2015-01-15'!HH51","v":0},{"$f":"ColdWinter!BV51-'C. Winter Peak 2015-01-15'!HI51","v":0},{"$f":"ColdWinter!BW51-'C. Winter Peak 2015-01-15'!HJ51","v":0},{"$f":"ColdWinter!BX51-'C. Winter Peak 2015-01-15'!HK51","v":0},{"$f":"ColdWinter!BY51-'C. Winter Peak 2015-01-15'!HL51","v":0},{"$f":"ColdWinter!BZ51-'C. Winter Peak 2015-01-15'!HM51","v":0},{"$f":"ColdWinter!CA51-'C. Winter Peak 2015-01-15'!HN51","v":0},{"$f":"ColdWinter!CB51-'C. Winter Peak 2015-01-15'!HO51","v":0},{"$f":"ColdWinter!CC51-'C. Winter Peak 2015-01-15'!HP51","v":0},{"$f":"ColdWinter!CD51-'C. Winter Peak 2015-01-15'!HQ51","v":0},{"$f":"ColdWinter!CE51-'C. Winter Peak 2015-01-15'!HR51","v":0},{"$f":"ColdWinter!CF51-'C. Winter Peak 2015-01-15'!HS51","v":0},{"$f":"ColdWinter!CG51-'C. Winter Peak 2015-01-15'!HT51","v":0},{"$f":"ColdWinter!CH51-'C. Winter Peak 2015-01-15'!HU51","v":0},{"$f":"ColdWinter!CI51-'C. Winter Peak 2015-01-15'!HV51","v":0},{"$f":"ColdWinter!CJ51-'C. Winter Peak 2015-01-15'!HW51","v":0},{"$f":"ColdWinter!CK51-'C. Winter Peak 2015-01-15'!HX51","v":0},{"$f":"ColdWinter!CL51-'C. Winter Peak 2015-01-15'!HY51","v":0},{"$f":"ColdWinter!CM51-'C. Winter Peak 2015-01-15'!HZ51","v":0},{"$f":"ColdWinter!CN51-'C. Winter Peak 2015-01-15'!IA51","v":0},{"$f":"ColdWinter!CO51-'C. Winter Peak 2015-01-15'!IB51","v":0},{"$f":"ColdWinter!CP51-'C. Winter Peak 2015-01-15'!IC51","v":0},{"$f":"ColdWinter!CQ51-'C. Winter Peak 2015-01-15'!ID51","v":0},{"$f":"ColdWinter!CR51-'C. Winter Peak 2015-01-15'!IE51","v":0},{"$f":"ColdWinter!CS51-'C. Winter Peak 2015-01-15'!IF51","v":0},{"$f":"ColdWinter!CT51-'C. Winter Peak 2015-01-15'!IG51","v":0},{"$f":"ColdWinter!CU51-'C. Winter Peak 2015-01-15'!IH51","v":0},{"$f":"ColdWinter!CV51-'C. Winter Peak 2015-01-15'!II51","v":0},{"$f":"ColdWinter!CW51-'C. Winter Peak 2015-01-15'!IJ51","v":0},{"$f":"ColdWinter!CX51-'C. Winter Peak 2015-01-15'!IK51","v":0},{"$f":"ColdWinter!CY51-'C. Winter Peak 2015-01-15'!IL51","v":0},{"$f":"ColdWinter!CZ51-'C. Winter Peak 2015-01-15'!IM51","v":0},{"$f":"ColdWinter!DA51-'C. Winter Peak 2015-01-15'!IN51","v":0},{"$f":"ColdWinter!DB51-'C. Winter Peak 2015-01-15'!IO51","v":0},{"$f":"ColdWinter!DC51-'C. Winter Peak 2015-01-15'!IP51","v":0},{"$f":"ColdWinter!DD51-'C. Winter Peak 2015-01-15'!IQ51","v":0},{"$f":"ColdWinter!DE51-'C. Winter Peak 2015-01-15'!IR51","v":0},{"$f":"ColdWinter!DF51-'C. Winter Peak 2015-01-15'!IS51","v":0},{"$f":"ColdWinter!DG51-'C. Winter Peak 2015-01-15'!IT51","v":0},{"$f":"ColdWinter!DH51-'C. Winter Peak 2015-01-15'!IU51","v":0},{"$f":"ColdWinter!DI51-'C. Winter Peak 2015-01-15'!IV51","v":0},{"$f":"ColdWinter!DJ51-'C. Winter Peak 2015-01-15'!IW51","v":0},{"$f":"ColdWinter!DK51-'C. Winter Peak 2015-01-15'!IX51","v":0},{"$f":"ColdWinter!DL51-'C. Winter Peak 2015-01-15'!IY51","v":0},{"$f":"ColdWinter!DM51-'C. Winter Peak 2015-01-15'!IZ51","v":0},{"$f":"ColdWinter!DN51-'C. Winter Peak 2015-01-15'!JA51","v":0},{"$f":"ColdWinter!DO51-'C. Winter Peak 2015-01-15'!JB51","v":0},{"$f":"ColdWinter!DP51-'C. Winter Peak 2015-01-15'!JC51","v":0},{"$f":"ColdWinter!DQ51-'C. Winter Peak 2015-01-15'!JD51","v":0},{"$f":"ColdWinter!DR51-'C. Winter Peak 2015-01-15'!JE51","v":0},{"$f":"ColdWinter!DS51-'C. Winter Peak 2015-01-15'!JF51","v":0}]
[null,"PTN7",{"$f":"ColdWinter!C52-'C. Winter Peak 2015-01-15'!EP52","v":0},{"$f":"ColdWinter!D52-'C. Winter Peak 2015-01-15'!EQ52","v":0},{"$f":"ColdWinter!E52-'C. Winter Peak 2015-01-15'!ER52","v":0},{"$f":"ColdWinter!F52-'C. Winter Peak 2015-01-15'!ES52","v":0},{"$f":"ColdWinter!G52-'C. Winter Peak 2015-01-15'!ET52","v":0},{"$f":"ColdWinter!H52-'C. Winter Peak 2015-01-15'!EU52","v":0},{"$f":"ColdWinter!I52-'C. Winter Peak 2015-01-15'!EV52","v":0},{"$f":"ColdWinter!J52-'C. Winter Peak 2015-01-15'!EW52","v":0},{"$f":"ColdWinter!K52-'C. Winter Peak 2015-01-15'!EX52","v":0},{"$f":"ColdWinter!L52-'C. Winter Peak 2015-01-15'!EY52","v":0},{"$f":"ColdWinter!M52-'C. Winter Peak 2015-01-15'!EZ52","v":0},{"$f":"ColdWinter!N52-'C. Winter Peak 2015-01-15'!FA52","v":0},{"$f":"ColdWinter!O52-'C. Winter Peak 2015-01-15'!FB52","v":0},{"$f":"ColdWinter!P52-'C. Winter Peak 2015-01-15'!FC52","v":0},{"$f":"ColdWinter!Q52-'C. Winter Peak 2015-01-15'!FD52","v":0},{"$f":"ColdWinter!R52-'C. Winter Peak 2015-01-15'!FE52","v":0},{"$f":"ColdWinter!S52-'C. Winter Peak 2015-01-15'!FF52","v":0},{"$f":"ColdWinter!T52-'C. Winter Peak 2015-01-15'!FG52","v":0},{"$f":"ColdWinter!U52-'C. Winter Peak 2015-01-15'!FH52","v":0},{"$f":"ColdWinter!V52-'C. Winter Peak 2015-01-15'!FI52","v":0},{"$f":"ColdWinter!W52-'C. Winter Peak 2015-01-15'!FJ52","v":0},{"$f":"ColdWinter!X52-'C. Winter Peak 2015-01-15'!FK52","v":0},{"$f":"ColdWinter!Y52-'C. Winter Peak 2015-01-15'!FL52","v":0},{"$f":"ColdWinter!Z52-'C. Winter Peak 2015-01-15'!FM52","v":0},{"$f":"ColdWinter!AA52-'C. Winter Peak 2015-01-15'!FN52","v":0},{"$f":"ColdWinter!AB52-'C. Winter Peak 2015-01-15'!FO52","v":0},{"$f":"ColdWinter!AC52-'C. Winter Peak 2015-01-15'!FP52","v":0},{"$f":"ColdWinter!AD52-'C. Winter Peak 2015-01-15'!FQ52","v":0},{"$f":"ColdWinter!AE52-'C. Winter Peak 2015-01-15'!FR52","v":0},{"$f":"ColdWinter!AF52-'C. Winter Peak 2015-01-15'!FS52","v":0},{"$f":"ColdWinter!AG52-'C. Winter Peak 2015-01-15'!FT52","v":0},{"$f":"ColdWinter!AH52-'C. Winter Peak 2015-01-15'!FU52","v":0},{"$f":"ColdWinter!AI52-'C. Winter Peak 2015-01-15'!FV52","v":0},{"$f":"ColdWinter!AJ52-'C. Winter Peak 2015-01-15'!FW52","v":0},{"$f":"ColdWinter!AK52-'C. Winter Peak 2015-01-15'!FX52","v":0},{"$f":"ColdWinter!AL52-'C. Winter Peak 2015-01-15'!FY52","v":0},{"$f":"ColdWinter!AM52-'C. Winter Peak 2015-01-15'!FZ52","v":0},{"$f":"ColdWinter!AN52-'C. Winter Peak 2015-01-15'!GA52","v":0},{"$f":"ColdWinter!AO52-'C. Winter Peak 2015-01-15'!GB52","v":0},{"$f":"ColdWinter!AP52-'C. Winter Peak 2015-01-15'!GC52","v":0},{"$f":"ColdWinter!AQ52-'C. Winter Peak 2015-01-15'!GD52","v":0},{"$f":"ColdWinter!AR52-'C. Winter Peak 2015-01-15'!GE52","v":0},{"$f":"ColdWinter!AS52-'C. Winter Peak 2015-01-15'!GF52","v":0},{"$f":"ColdWinter!AT52-'C. Winter Peak 2015-01-15'!GG52","v":0},{"$f":"ColdWinter!AU52-'C. Winter Peak 2015-01-15'!GH52","v":0},{"$f":"ColdWinter!AV52-'C. Winter Peak 2015-01-15'!GI52","v":0},{"$f":"ColdWinter!AW52-'C. Winter Peak 2015-01-15'!GJ52","v":0},{"$f":"ColdWinter!AX52-'C. Winter Peak 2015-01-15'!GK52","v":0},{"$f":"ColdWinter!AY52-'C. Winter Peak 2015-01-15'!GL52","v":0},{"$f":"ColdWinter!AZ52-'C. Winter Peak 2015-01-15'!GM52","v":0},{"$f":"ColdWinter!BA52-'C. Winter Peak 2015-01-15'!GN52","v":0},{"$f":"ColdWinter!BB52-'C. Winter Peak 2015-01-15'!GO52","v":0},{"$f":"ColdWinter!BC52-'C. Winter Peak 2015-01-15'!GP52","v":0},{"$f":"ColdWinter!BD52-'C. Winter Peak 2015-01-15'!GQ52","v":0},{"$f":"ColdWinter!BE52-'C. Winter Peak 2015-01-15'!GR52","v":0},{"$f":"ColdWinter!BF52-'C. Winter Peak 2015-01-15'!GS52","v":0},{"$f":"ColdWinter!BG52-'C. Winter Peak 2015-01-15'!GT52","v":0},{"$f":"ColdWinter!BH52-'C. Winter Peak 2015-01-15'!GU52","v":0},{"$f":"ColdWinter!BI52-'C. Winter Peak 2015-01-15'!GV52","v":0},{"$f":"ColdWinter!BJ52-'C. Winter Peak 2015-01-15'!GW52","v":0},{"$f":"ColdWinter!BK52-'C. Winter Peak 2015-01-15'!GX52","v":0},{"$f":"ColdWinter!BL52-'C. Winter Peak 2015-01-15'!GY52","v":0},{"$f":"ColdWinter!BM52-'C. Winter Peak 2015-01-15'!GZ52","v":0},{"$f":"ColdWinter!BN52-'C. Winter Peak 2015-01-15'!HA52","v":0},{"$f":"ColdWinter!BO52-'C. Winter Peak 2015-01-15'!HB52","v":0},{"$f":"ColdWinter!BP52-'C. Winter Peak 2015-01-15'!HC52","v":0},{"$f":"ColdWinter!BQ52-'C. Winter Peak 2015-01-15'!HD52","v":0},{"$f":"ColdWinter!BR52-'C. Winter Peak 2015-01-15'!HE52","v":0},{"$f":"ColdWinter!BS52-'C. Winter Peak 2015-01-15'!HF52","v":0},{"$f":"ColdWinter!BT52-'C. Winter Peak 2015-01-15'!HG52","v":0},{"$f":"ColdWinter!BU52-'C. Winter Peak 2015-01-15'!HH52","v":0},{"$f":"ColdWinter!BV52-'C. Winter Peak 2015-01-15'!HI52","v":0},{"$f":"ColdWinter!BW52-'C. Winter Peak 2015-01-15'!HJ52","v":0},{"$f":"ColdWinter!BX52-'C. Winter Peak 2015-01-15'!HK52","v":0},{"$f":"ColdWinter!BY52-'C. Winter Peak 2015-01-15'!HL52","v":0},{"$f":"ColdWinter!BZ52-'C. Winter Peak 2015-01-15'!HM52","v":0},{"$f":"ColdWinter!CA52-'C. Winter Peak 2015-01-15'!HN52","v":0},{"$f":"ColdWinter!CB52-'C. Winter Peak 2015-01-15'!HO52","v":0},{"$f":"ColdWinter!CC52-'C. Winter Peak 2015-01-15'!HP52","v":0},{"$f":"ColdWinter!CD52-'C. Winter Peak 2015-01-15'!HQ52","v":0},{"$f":"ColdWinter!CE52-'C. Winter Peak 2015-01-15'!HR52","v":0},{"$f":"ColdWinter!CF52-'C. Winter Peak 2015-01-15'!HS52","v":0},{"$f":"ColdWinter!CG52-'C. Winter Peak 2015-01-15'!HT52","v":0},{"$f":"ColdWinter!CH52-'C. Winter Peak 2015-01-15'!HU52","v":0},{"$f":"ColdWinter!CI52-'C. Winter Peak 2015-01-15'!HV52","v":0},{"$f":"ColdWinter!CJ52-'C. Winter Peak 2015-01-15'!HW52","v":0},{"$f":"ColdWinter!CK52-'C. Winter Peak 2015-01-15'!HX52","v":0},{"$f":"ColdWinter!CL52-'C. Winter Peak 2015-01-15'!HY52","v":0},{"$f":"ColdWinter!CM52-'C. Winter Peak 2015-01-15'!HZ52","v":0},{"$f":"ColdWinter!CN52-'C. Winter Peak 2015-01-15'!IA52","v":0},{"$f":"ColdWinter!CO52-'C. Winter Peak 2015-01-15'!IB52","v":0},{"$f":"ColdWinter!CP52-'C. Winter Peak 2015-01-15'!IC52","v":0},{"$f":"ColdWinter!CQ52-'C. Winter Peak 2015-01-15'!ID52","v":0},{"$f":"ColdWinter!CR52-'C. Winter Peak 2015-01-15'!IE52","v":0},{"$f":"ColdWinter!CS52-'C. Winter Peak 2015-01-15'!IF52","v":0},{"$f":"ColdWinter!CT52-'C. Winter Peak 2015-01-15'!IG52","v":0},{"$f":"ColdWinter!CU52-'C. Winter Peak 2015-01-15'!IH52","v":0},{"$f":"ColdWinter!CV52-'C. Winter Peak 2015-01-15'!II52","v":0},{"$f":"ColdWinter!CW52-'C. Winter Peak 2015-01-15'!IJ52","v":0},{"$f":"ColdWinter!CX52-'C. Winter Peak 2015-01-15'!IK52","v":0},{"$f":"ColdWinter!CY52-'C. Winter Peak 2015-01-15'!IL52","v":0},{"$f":"ColdWinter!CZ52-'C. Winter Peak 2015-01-15'!IM52","v":0},{"$f":"ColdWinter!DA52-'C. Winter Peak 2015-01-15'!IN52","v":0},{"$f":"ColdWinter!DB52-'C. Winter Peak 2015-01-15'!IO52","v":0},{"$f":"ColdWinter!DC52-'C. Winter Peak 2015-01-15'!IP52","v":0},{"$f":"ColdWinter!DD52-'C. Winter Peak 2015-01-15'!IQ52","v":0},{"$f":"ColdWinter!DE52-'C. Winter Peak 2015-01-15'!IR52","v":0},{"$f":"ColdWinter!DF52-'C. Winter Peak 2015-01-15'!IS52","v":0},{"$f":"ColdWinter!DG52-'C. Winter Peak 2015-01-15'!IT52","v":0},{"$f":"ColdWinter!DH52-'C. Winter Peak 2015-01-15'!IU52","v":0},{"$f":"ColdWinter!DI52-'C. Winter Peak 2015-01-15'!IV52","v":0},{"$f":"ColdWinter!DJ52-'C. Winter Peak 2015-01-15'!IW52","v":0},{"$f":"ColdWinter!DK52-'C. Winter Peak 2015-01-15'!IX52","v":0},{"$f":"ColdWinter!DL52-'C. Winter Peak 2015-01-15'!IY52","v":0},{"$f":"ColdWinter!DM52-'C. Winter Peak 2015-01-15'!IZ52","v":0},{"$f":"ColdWinter!DN52-'C. Winter Peak 2015-01-15'!JA52","v":0},{"$f":"ColdWinter!DO52-'C. Winter Peak 2015-01-15'!JB52","v":0},{"$f":"ColdWinter!DP52-'C. Winter Peak 2015-01-15'!JC52","v":0},{"$f":"ColdWinter!DQ52-'C. Winter Peak 2015-01-15'!JD52","v":0},{"$f":"ColdWinter!DR52-'C. Winter Peak 2015-01-15'!JE52","v":0},{"$f":"ColdWinter!DS52-'C. Winter Peak 2015-01-15'!JF52","v":0}]
[null,"PTFD",{"$f":"ColdWinter!C53-'C. Winter Peak 2015-01-15'!EP53","v":0},{"$f":"ColdWinter!D53-'C. Winter Peak 2015-01-15'!EQ53","v":0},{"$f":"ColdWinter!E53-'C. Winter Peak 2015-01-15'!ER53","v":0},{"$f":"ColdWinter!F53-'C. Winter Peak 2015-01-15'!ES53","v":0},{"$f":"ColdWinter!G53-'C. Winter Peak 2015-01-15'!ET53","v":0},{"$f":"ColdWinter!H53-'C. Winter Peak 2015-01-15'!EU53","v":0},{"$f":"ColdWinter!I53-'C. Winter Peak 2015-01-15'!EV53","v":0},{"$f":"ColdWinter!J53-'C. Winter Peak 2015-01-15'!EW53","v":0},{"$f":"ColdWinter!K53-'C. Winter Peak 2015-01-15'!EX53","v":0},{"$f":"ColdWinter!L53-'C. Winter Peak 2015-01-15'!EY53","v":0},{"$f":"ColdWinter!M53-'C. Winter Peak 2015-01-15'!EZ53","v":0},{"$f":"ColdWinter!N53-'C. Winter Peak 2015-01-15'!FA53","v":0},{"$f":"ColdWinter!O53-'C. Winter Peak 2015-01-15'!FB53","v":0},{"$f":"ColdWinter!P53-'C. Winter Peak 2015-01-15'!FC53","v":0},{"$f":"ColdWinter!Q53-'C. Winter Peak 2015-01-15'!FD53","v":0},{"$f":"ColdWinter!R53-'C. Winter Peak 2015-01-15'!FE53","v":0},{"$f":"ColdWinter!S53-'C. Winter Peak 2015-01-15'!FF53","v":0},{"$f":"ColdWinter!T53-'C. Winter Peak 2015-01-15'!FG53","v":0},{"$f":"ColdWinter!U53-'C. Winter Peak 2015-01-15'!FH53","v":0},{"$f":"ColdWinter!V53-'C. Winter Peak 2015-01-15'!FI53","v":0},{"$f":"ColdWinter!W53-'C. Winter Peak 2015-01-15'!FJ53","v":0},{"$f":"ColdWinter!X53-'C. Winter Peak 2015-01-15'!FK53","v":0},{"$f":"ColdWinter!Y53-'C. Winter Peak 2015-01-15'!FL53","v":0},{"$f":"ColdWinter!Z53-'C. Winter Peak 2015-01-15'!FM53","v":0},{"$f":"ColdWinter!AA53-'C. Winter Peak 2015-01-15'!FN53","v":0},{"$f":"ColdWinter!AB53-'C. Winter Peak 2015-01-15'!FO53","v":0},{"$f":"ColdWinter!AC53-'C. Winter Peak 2015-01-15'!FP53","v":0},{"$f":"ColdWinter!AD53-'C. Winter Peak 2015-01-15'!FQ53","v":0},{"$f":"ColdWinter!AE53-'C. Winter Peak 2015-01-15'!FR53","v":0},{"$f":"ColdWinter!AF53-'C. Winter Peak 2015-01-15'!FS53","v":0},{"$f":"ColdWinter!AG53-'C. Winter Peak 2015-01-15'!FT53","v":0},{"$f":"ColdWinter!AH53-'C. Winter Peak 2015-01-15'!FU53","v":0},{"$f":"ColdWinter!AI53-'C. Winter Peak 2015-01-15'!FV53","v":0},{"$f":"ColdWinter!AJ53-'C. Winter Peak 2015-01-15'!FW53","v":0},{"$f":"ColdWinter!AK53-'C. Winter Peak 2015-01-15'!FX53","v":0},{"$f":"ColdWinter!AL53-'C. Winter Peak 2015-01-15'!FY53","v":0},{"$f":"ColdWinter!AM53-'C. Winter Peak 2015-01-15'!FZ53","v":0},{"$f":"ColdWinter!AN53-'C. Winter Peak 2015-01-15'!GA53","v":0},{"$f":"ColdWinter!AO53-'C. Winter Peak 2015-01-15'!GB53","v":0},{"$f":"ColdWinter!AP53-'C. Winter Peak 2015-01-15'!GC53","v":0},{"$f":"ColdWinter!AQ53-'C. Winter Peak 2015-01-15'!GD53","v":0},{"$f":"ColdWinter!AR53-'C. Winter Peak 2015-01-15'!GE53","v":0},{"$f":"ColdWinter!AS53-'C. Winter Peak 2015-01-15'!GF53","v":0},{"$f":"ColdWinter!AT53-'C. Winter Peak 2015-01-15'!GG53","v":0},{"$f":"ColdWinter!AU53-'C. Winter Peak 2015-01-15'!GH53","v":0},{"$f":"ColdWinter!AV53-'C. Winter Peak 2015-01-15'!GI53","v":0},{"$f":"ColdWinter!AW53-'C. Winter Peak 2015-01-15'!GJ53","v":0},{"$f":"ColdWinter!AX53-'C. Winter Peak 2015-01-15'!GK53","v":0},{"$f":"ColdWinter!AY53-'C. Winter Peak 2015-01-15'!GL53","v":0},{"$f":"ColdWinter!AZ53-'C. Winter Peak 2015-01-15'!GM53","v":0},{"$f":"ColdWinter!BA53-'C. Winter Peak 2015-01-15'!GN53","v":0},{"$f":"ColdWinter!BB53-'C. Winter Peak 2015-01-15'!GO53","v":0},{"$f":"ColdWinter!BC53-'C. Winter Peak 2015-01-15'!GP53","v":0},{"$f":"ColdWinter!BD53-'C. Winter Peak 2015-01-15'!GQ53","v":0},{"$f":"ColdWinter!BE53-'C. Winter Peak 2015-01-15'!GR53","v":0},{"$f":"ColdWinter!BF53-'C. Winter Peak 2015-01-15'!GS53","v":0},{"$f":"ColdWinter!BG53-'C. Winter Peak 2015-01-15'!GT53","v":0},{"$f":"ColdWinter!BH53-'C. Winter Peak 2015-01-15'!GU53","v":0},{"$f":"ColdWinter!BI53-'C. Winter Peak 2015-01-15'!GV53","v":0},{"$f":"ColdWinter!BJ53-'C. Winter Peak 2015-01-15'!GW53","v":0},{"$f":"ColdWinter!BK53-'C. Winter Peak 2015-01-15'!GX53","v":0},{"$f":"ColdWinter!BL53-'C. Winter Peak 2015-01-15'!GY53","v":0},{"$f":"ColdWinter!BM53-'C. Winter Peak 2015-01-15'!GZ53","v":0},{"$f":"ColdWinter!BN53-'C. Winter Peak 2015-01-15'!HA53","v":0},{"$f":"ColdWinter!BO53-'C. Winter Peak 2015-01-15'!HB53","v":0},{"$f":"ColdWinter!BP53-'C. Winter Peak 2015-01-15'!HC53","v":0},{"$f":"ColdWinter!BQ53-'C. Winter Peak 2015-01-15'!HD53","v":0},{"$f":"ColdWinter!BR53-'C. Winter Peak 2015-01-15'!HE53","v":0},{"$f":"ColdWinter!BS53-'C. Winter Peak 2015-01-15'!HF53","v":0},{"$f":"ColdWinter!BT53-'C. Winter Peak 2015-01-15'!HG53","v":0},{"$f":"ColdWinter!BU53-'C. Winter Peak 2015-01-15'!HH53","v":0},{"$f":"ColdWinter!BV53-'C. Winter Peak 2015-01-15'!HI53","v":0},{"$f":"ColdWinter!BW53-'C. Winter Peak 2015-01-15'!HJ53","v":0},{"$f":"ColdWinter!BX53-'C. Winter Peak 2015-01-15'!HK53","v":0},{"$f":"ColdWinter!BY53-'C. Winter Peak 2015-01-15'!HL53","v":0},{"$f":"ColdWinter!BZ53-'C. Winter Peak 2015-01-15'!HM53","v":0},{"$f":"ColdWinter!CA53-'C. Winter Peak 2015-01-15'!HN53","v":0},{"$f":"ColdWinter!CB53-'C. Winter Peak 2015-01-15'!HO53","v":0},{"$f":"ColdWinter!CC53-'C. Winter Peak 2015-01-15'!HP53","v":0},{"$f":"ColdWinter!CD53-'C. Winter Peak 2015-01-15'!HQ53","v":0},{"$f":"ColdWinter!CE53-'C. Winter Peak 2015-01-15'!HR53","v":0},{"$f":"ColdWinter!CF53-'C. Winter Peak 2015-01-15'!HS53","v":0},{"$f":"ColdWinter!CG53-'C. Winter Peak 2015-01-15'!HT53","v":0},{"$f":"ColdWinter!CH53-'C. Winter Peak 2015-01-15'!HU53","v":0},{"$f":"ColdWinter!CI53-'C. Winter Peak 2015-01-15'!HV53","v":0},{"$f":"ColdWinter!CJ53-'C. Winter Peak 2015-01-15'!HW53","v":0},{"$f":"ColdWinter!CK53-'C. Winter Peak 2015-01-15'!HX53","v":0},{"$f":"ColdWinter!CL53-'C. Winter Peak 2015-01-15'!HY53","v":0},{"$f":"ColdWinter!CM53-'C. Winter Peak 2015-01-15'!HZ53","v":0},{"$f":"ColdWinter!CN53-'C. Winter Peak 2015-01-15'!IA53","v":0},{"$f":"ColdWinter!CO53-'C. Winter Peak 2015-01-15'!IB53","v":0},{"$f":"ColdWinter!CP53-'C. Winter Peak 2015-01-15'!IC53","v":0},{"$f":"ColdWinter!CQ53-'C. Winter Peak 2015-01-15'!ID53","v":0},{"$f":"ColdWinter!CR53-'C. Winter Peak 2015-01-15'!IE53","v":0},{"$f":"ColdWinter!CS53-'C. Winter Peak 2015-01-15'!IF53","v":0},{"$f":"ColdWinter!CT53-'C. Winter Peak 2015-01-15'!IG53","v":0},{"$f":"ColdWinter!CU53-'C. Winter Peak 2015-01-15'!IH53","v":0},{"$f":"ColdWinter!CV53-'C. Winter Peak 2015-01-15'!II53","v":0},{"$f":"ColdWinter!CW53-'C. Winter Peak 2015-01-15'!IJ53","v":0},{"$f":"ColdWinter!CX53-'C. Winter Peak 2015-01-15'!IK53","v":0},{"$f":"ColdWinter!CY53-'C. Winter Peak 2015-01-15'!IL53","v":0},{"$f":"ColdWinter!CZ53-'C. Winter Peak 2015-01-15'!IM53","v":0},{"$f":"ColdWinter!DA53-'C. Winter Peak 2015-01-15'!IN53","v":0},{"$f":"ColdWinter!DB53-'C. Winter Peak 2015-01-15'!IO53","v":0},{"$f":"ColdWinter!DC53-'C. Winter Peak 2015-01-15'!IP53","v":0},{"$f":"ColdWinter!DD53-'C. Winter Peak 2015-01-15'!IQ53","v":0},{"$f":"ColdWinter!DE53-'C. Winter Peak 2015-01-15'!IR53","v":0},{"$f":"ColdWinter!DF53-'C. Winter Peak 2015-01-15'!IS53","v":0},{"$f":"ColdWinter!DG53-'C. Winter Peak 2015-01-15'!IT53","v":0},{"$f":"ColdWinter!DH53-'C. Winter Peak 2015-01-15'!IU53","v":0},{"$f":"ColdWinter!DI53-'C. Winter Peak 2015-01-15'!IV53","v":0},{"$f":"ColdWinter!DJ53-'C. Winter Peak 2015-01-15'!IW53","v":0},{"$f":"ColdWinter!DK53-'C. Winter Peak 2015-01-15'!IX53","v":0},{"$f":"ColdWinter!DL53-'C. Winter Peak 2015-01-15'!IY53","v":0},{"$f":"ColdWinter!DM53-'C. Winter Peak 2015-01-15'!IZ53","v":0},{"$f":"ColdWinter!DN53-'C. Winter Peak 2015-01-15'!JA53","v":0},{"$f":"ColdWinter!DO53-'C. Winter Peak 2015-01-15'!JB53","v":0},{"$f":"ColdWinter!DP53-'C. Winter Peak 2015-01-15'!JC53","v":0},{"$f":"ColdWinter!DQ53-'C. Winter Peak 2015-01-15'!JD53","v":0},{"$f":"ColdWinter!DR53-'C. Winter Peak 2015-01-15'!JE53","v":0},{"$f":"ColdWinter!DS53-'C. Winter Peak 2015-01-15'!JF53","v":0}]
[null,"PVB",{"$f":"ColdWinter!C54-'C. Winter Peak 2015-01-15'!EP54","v":0},{"$f":"ColdWinter!D54-'C. Winter Peak 2015-01-15'!EQ54","v":0},{"$f":"ColdWinter!E54-'C. Winter Peak 2015-01-15'!ER54","v":0},{"$f":"ColdWinter!F54-'C. Winter Peak 2015-01-15'!ES54","v":0},{"$f":"ColdWinter!G54-'C. Winter Peak 2015-01-15'!ET54","v":0},{"$f":"ColdWinter!H54-'C. Winter Peak 2015-01-15'!EU54","v":0},{"$f":"ColdWinter!I54-'C. Winter Peak 2015-01-15'!EV54","v":0},{"$f":"ColdWinter!J54-'C. Winter Peak 2015-01-15'!EW54","v":0},{"$f":"ColdWinter!K54-'C. Winter Peak 2015-01-15'!EX54","v":0},{"$f":"ColdWinter!L54-'C. Winter Peak 2015-01-15'!EY54","v":0},{"$f":"ColdWinter!M54-'C. Winter Peak 2015-01-15'!EZ54","v":0},{"$f":"ColdWinter!N54-'C. Winter Peak 2015-01-15'!FA54","v":0},{"$f":"ColdWinter!O54-'C. Winter Peak 2015-01-15'!FB54","v":0},{"$f":"ColdWinter!P54-'C. Winter Peak 2015-01-15'!FC54","v":0},{"$f":"ColdWinter!Q54-'C. Winter Peak 2015-01-15'!FD54","v":0},{"$f":"ColdWinter!R54-'C. Winter Peak 2015-01-15'!FE54","v":0},{"$f":"ColdWinter!S54-'C. Winter Peak 2015-01-15'!FF54","v":0},{"$f":"ColdWinter!T54-'C. Winter Peak 2015-01-15'!FG54","v":0},{"$f":"ColdWinter!U54-'C. Winter Peak 2015-01-15'!FH54","v":0},{"$f":"ColdWinter!V54-'C. Winter Peak 2015-01-15'!FI54","v":0},{"$f":"ColdWinter!W54-'C. Winter Peak 2015-01-15'!FJ54","v":0},{"$f":"ColdWinter!X54-'C. Winter Peak 2015-01-15'!FK54","v":0},{"$f":"ColdWinter!Y54-'C. Winter Peak 2015-01-15'!FL54","v":0},{"$f":"ColdWinter!Z54-'C. Winter Peak 2015-01-15'!FM54","v":0},{"$f":"ColdWinter!AA54-'C. Winter Peak 2015-01-15'!FN54","v":0},{"$f":"ColdWinter!AB54-'C. Winter Peak 2015-01-15'!FO54","v":0},{"$f":"ColdWinter!AC54-'C. Winter Peak 2015-01-15'!FP54","v":0},{"$f":"ColdWinter!AD54-'C. Winter Peak 2015-01-15'!FQ54","v":0},{"$f":"ColdWinter!AE54-'C. Winter Peak 2015-01-15'!FR54","v":0},{"$f":"ColdWinter!AF54-'C. Winter Peak 2015-01-15'!FS54","v":0},{"$f":"ColdWinter!AG54-'C. Winter Peak 2015-01-15'!FT54","v":0},{"$f":"ColdWinter!AH54-'C. Winter Peak 2015-01-15'!FU54","v":0},{"$f":"ColdWinter!AI54-'C. Winter Peak 2015-01-15'!FV54","v":0},{"$f":"ColdWinter!AJ54-'C. Winter Peak 2015-01-15'!FW54","v":0},{"$f":"ColdWinter!AK54-'C. Winter Peak 2015-01-15'!FX54","v":0},{"$f":"ColdWinter!AL54-'C. Winter Peak 2015-01-15'!FY54","v":0},{"$f":"ColdWinter!AM54-'C. Winter Peak 2015-01-15'!FZ54","v":0},{"$f":"ColdWinter!AN54-'C. Winter Peak 2015-01-15'!GA54","v":0},{"$f":"ColdWinter!AO54-'C. Winter Peak 2015-01-15'!GB54","v":0},{"$f":"ColdWinter!AP54-'C. Winter Peak 2015-01-15'!GC54","v":0},{"$f":"ColdWinter!AQ54-'C. Winter Peak 2015-01-15'!GD54","v":0},{"$f":"ColdWinter!AR54-'C. Winter Peak 2015-01-15'!GE54","v":0},{"$f":"ColdWinter!AS54-'C. Winter Peak 2015-01-15'!GF54","v":0},{"$f":"ColdWinter!AT54-'C. Winter Peak 2015-01-15'!GG54","v":0},{"$f":"ColdWinter!AU54-'C. Winter Peak 2015-01-15'!GH54","v":0},{"$f":"ColdWinter!AV54-'C. Winter Peak 2015-01-15'!GI54","v":0},{"$f":"ColdWinter!AW54-'C. Winter Peak 2015-01-15'!GJ54","v":0},{"$f":"ColdWinter!AX54-'C. Winter Peak 2015-01-15'!GK54","v":0},{"$f":"ColdWinter!AY54-'C. Winter Peak 2015-01-15'!GL54","v":0},{"$f":"ColdWinter!AZ54-'C. Winter Peak 2015-01-15'!GM54","v":0},{"$f":"ColdWinter!BA54-'C. Winter Peak 2015-01-15'!GN54","v":0},{"$f":"ColdWinter!BB54-'C. Winter Peak 2015-01-15'!GO54","v":0},{"$f":"ColdWinter!BC54-'C. Winter Peak 2015-01-15'!GP54","v":0},{"$f":"ColdWinter!BD54-'C. Winter Peak 2015-01-15'!GQ54","v":0},{"$f":"ColdWinter!BE54-'C. Winter Peak 2015-01-15'!GR54","v":0},{"$f":"ColdWinter!BF54-'C. Winter Peak 2015-01-15'!GS54","v":0},{"$f":"ColdWinter!BG54-'C. Winter Peak 2015-01-15'!GT54","v":0},{"$f":"ColdWinter!BH54-'C. Winter Peak 2015-01-15'!GU54","v":0},{"$f":"ColdWinter!BI54-'C. Winter Peak 2015-01-15'!GV54","v":0},{"$f":"ColdWinter!BJ54-'C. Winter Peak 2015-01-15'!GW54","v":0},{"$f":"ColdWinter!BK54-'C. Winter Peak 2015-01-15'!GX54","v":0},{"$f":"ColdWinter!BL54-'C. Winter Peak 2015-01-15'!GY54","v":0},{"$f":"ColdWinter!BM54-'C. Winter Peak 2015-01-15'!GZ54","v":0},{"$f":"ColdWinter!BN54-'C. Winter Peak 2015-01-15'!HA54","v":0},{"$f":"ColdWinter!BO54-'C. Winter Peak 2015-01-15'!HB54","v":0},{"$f":"ColdWinter!BP54-'C. Winter Peak 2015-01-15'!HC54","v":0},{"$f":"ColdWinter!BQ54-'C. Winter Peak 2015-01-15'!HD54","v":0},{"$f":"ColdWinter!BR54-'C. Winter Peak 2015-01-15'!HE54","v":0},{"$f":"ColdWinter!BS54-'C. Winter Peak 2015-01-15'!HF54","v":0},{"$f":"ColdWinter!BT54-'C. Winter Peak 2015-01-15'!HG54","v":0},{"$f":"ColdWinter!BU54-'C. Winter Peak 2015-01-15'!HH54","v":0},{"$f":"ColdWinter!BV54-'C. Winter Peak 2015-01-15'!HI54","v":0},{"$f":"ColdWinter!BW54-'C. Winter Peak 2015-01-15'!HJ54","v":0},{"$f":"ColdWinter!BX54-'C. Winter Peak 2015-01-15'!HK54","v":0},{"$f":"ColdWinter!BY54-'C. Winter Peak 2015-01-15'!HL54","v":0},{"$f":"ColdWinter!BZ54-'C. Winter Peak 2015-01-15'!HM54","v":0},{"$f":"ColdWinter!CA54-'C. Winter Peak 2015-01-15'!HN54","v":0},{"$f":"ColdWinter!CB54-'C. Winter Peak 2015-01-15'!HO54","v":0},{"$f":"ColdWinter!CC54-'C. Winter Peak 2015-01-15'!HP54","v":0},{"$f":"ColdWinter!CD54-'C. Winter Peak 2015-01-15'!HQ54","v":0},{"$f":"ColdWinter!CE54-'C. Winter Peak 2015-01-15'!HR54","v":0},{"$f":"ColdWinter!CF54-'C. Winter Peak 2015-01-15'!HS54","v":0},{"$f":"ColdWinter!CG54-'C. Winter Peak 2015-01-15'!HT54","v":0},{"$f":"ColdWinter!CH54-'C. Winter Peak 2015-01-15'!HU54","v":0},{"$f":"ColdWinter!CI54-'C. Winter Peak 2015-01-15'!HV54","v":0},{"$f":"ColdWinter!CJ54-'C. Winter Peak 2015-01-15'!HW54","v":0},{"$f":"ColdWinter!CK54-'C. Winter Peak 2015-01-15'!HX54","v":0},{"$f":"ColdWinter!CL54-'C. Winter Peak 2015-01-15'!HY54","v":0},{"$f":"ColdWinter!CM54-'C. Winter Peak 2015-01-15'!HZ54","v":0},{"$f":"ColdWinter!CN54-'C. Winter Peak 2015-01-15'!IA54","v":0},{"$f":"ColdWinter!CO54-'C. Winter Peak 2015-01-15'!IB54","v":0},{"$f":"ColdWinter!CP54-'C. Winter Peak 2015-01-15'!IC54","v":0},{"$f":"ColdWinter!CQ54-'C. Winter Peak 2015-01-15'!ID54","v":0},{"$f":"ColdWinter!CR54-'C. Winter Peak 2015-01-15'!IE54","v":0},{"$f":"ColdWinter!CS54-'C. Winter Peak 2015-01-15'!IF54","v":0},{"$f":"ColdWinter!CT54-'C. Winter Peak 2015-01-15'!IG54","v":0},{"$f":"ColdWinter!CU54-'C. Winter Peak 2015-01-15'!IH54","v":0},{"$f":"ColdWinter!CV54-'C. Winter Peak 2015-01-15'!II54","v":0},{"$f":"ColdWinter!CW54-'C. Winter Peak 2015-01-15'!IJ54","v":0},{"$f":"ColdWinter!CX54-'C. Winter Peak 2015-01-15'!IK54","v":0},{"$f":"ColdWinter!CY54-'C. Winter Peak 2015-01-15'!IL54","v":0},{"$f":"ColdWinter!CZ54-'C. Winter Peak 2015-01-15'!IM54","v":0},{"$f":"ColdWinter!DA54-'C. Winter Peak 2015-01-15'!IN54","v":0},{"$f":"ColdWinter!DB54-'C. Winter Peak 2015-01-15'!IO54","v":0},{"$f":"ColdWinter!DC54-'C. Winter Peak 2015-01-15'!IP54","v":0},{"$f":"ColdWinter!DD54-'C. Winter Peak 2015-01-15'!IQ54","v":0},{"$f":"ColdWinter!DE54-'C. Winter Peak 2015-01-15'!IR54","v":0},{"$f":"ColdWinter!DF54-'C. Winter Peak 2015-01-15'!IS54","v":0},{"$f":"ColdWinter!DG54-'C. Winter Peak 2015-01-15'!IT54","v":0},{"$f":"ColdWinter!DH54-'C. Winter Peak 2015-01-15'!IU54","v":0},{"$f":"ColdWinter!DI54-'C. Winter Peak 2015-01-15'!IV54","v":0},{"$f":"ColdWinter!DJ54-'C. Winter Peak 2015-01-15'!IW54","v":0},{"$f":"ColdWinter!DK54-'C. Winter Peak 2015-01-15'!IX54","v":0},{"$f":"ColdWinter!DL54-'C. Winter Peak 2015-01-15'!IY54","v":0},{"$f":"ColdWinter!DM54-'C. Winter Peak 2015-01-15'!IZ54","v":0},{"$f":"ColdWinter!DN54-'C. Winter Peak 2015-01-15'!JA54","v":0},{"$f":"ColdWinter!DO54-'C. Winter Peak 2015-01-15'!JB54","v":0},{"$f":"ColdWinter!DP54-'C. Winter Peak 2015-01-15'!JC54","v":0},{"$f":"ColdWinter!DQ54-'C. Winter Peak 2015-01-15'!JD54","v":0},{"$f":"ColdWinter!DR54-'C. Winter Peak 2015-01-15'!JE54","v":0},{"$f":"ColdWinter!DS54-'C. Winter Peak 2015-01-15'!JF54","v":0}]
[null,"PWC1",{"$f":"ColdWinter!C55-'C. Winter Peak 2015-01-15'!EP55","v":0},{"$f":"ColdWinter!D55-'C. Winter Peak 2015-01-15'!EQ55","v":0},{"$f":"ColdWinter!E55-'C. Winter Peak 2015-01-15'!ER55","v":0},{"$f":"ColdWinter!F55-'C. Winter Peak 2015-01-15'!ES55","v":0},{"$f":"ColdWinter!G55-'C. Winter Peak 2015-01-15'!ET55","v":0},{"$f":"ColdWinter!H55-'C. Winter Peak 2015-01-15'!EU55","v":0},{"$f":"ColdWinter!I55-'C. Winter Peak 2015-01-15'!EV55","v":0},{"$f":"ColdWinter!J55-'C. Winter Peak 2015-01-15'!EW55","v":0},{"$f":"ColdWinter!K55-'C. Winter Peak 2015-01-15'!EX55","v":0},{"$f":"ColdWinter!L55-'C. Winter Peak 2015-01-15'!EY55","v":0},{"$f":"ColdWinter!M55-'C. Winter Peak 2015-01-15'!EZ55","v":0},{"$f":"ColdWinter!N55-'C. Winter Peak 2015-01-15'!FA55","v":0},{"$f":"ColdWinter!O55-'C. Winter Peak 2015-01-15'!FB55","v":0},{"$f":"ColdWinter!P55-'C. Winter Peak 2015-01-15'!FC55","v":0},{"$f":"ColdWinter!Q55-'C. Winter Peak 2015-01-15'!FD55","v":0},{"$f":"ColdWinter!R55-'C. Winter Peak 2015-01-15'!FE55","v":0},{"$f":"ColdWinter!S55-'C. Winter Peak 2015-01-15'!FF55","v":0},{"$f":"ColdWinter!T55-'C. Winter Peak 2015-01-15'!FG55","v":0},{"$f":"ColdWinter!U55-'C. Winter Peak 2015-01-15'!FH55","v":0},{"$f":"ColdWinter!V55-'C. Winter Peak 2015-01-15'!FI55","v":0},{"$f":"ColdWinter!W55-'C. Winter Peak 2015-01-15'!FJ55","v":0},{"$f":"ColdWinter!X55-'C. Winter Peak 2015-01-15'!FK55","v":0},{"$f":"ColdWinter!Y55-'C. Winter Peak 2015-01-15'!FL55","v":0},{"$f":"ColdWinter!Z55-'C. Winter Peak 2015-01-15'!FM55","v":0},{"$f":"ColdWinter!AA55-'C. Winter Peak 2015-01-15'!FN55","v":0},{"$f":"ColdWinter!AB55-'C. Winter Peak 2015-01-15'!FO55","v":0},{"$f":"ColdWinter!AC55-'C. Winter Peak 2015-01-15'!FP55","v":0},{"$f":"ColdWinter!AD55-'C. Winter Peak 2015-01-15'!FQ55","v":0},{"$f":"ColdWinter!AE55-'C. Winter Peak 2015-01-15'!FR55","v":0},{"$f":"ColdWinter!AF55-'C. Winter Peak 2015-01-15'!FS55","v":0},{"$f":"ColdWinter!AG55-'C. Winter Peak 2015-01-15'!FT55","v":0},{"$f":"ColdWinter!AH55-'C. Winter Peak 2015-01-15'!FU55","v":0},{"$f":"ColdWinter!AI55-'C. Winter Peak 2015-01-15'!FV55","v":0},{"$f":"ColdWinter!AJ55-'C. Winter Peak 2015-01-15'!FW55","v":0},{"$f":"ColdWinter!AK55-'C. Winter Peak 2015-01-15'!FX55","v":0},{"$f":"ColdWinter!AL55-'C. Winter Peak 2015-01-15'!FY55","v":0},{"$f":"ColdWinter!AM55-'C. Winter Peak 2015-01-15'!FZ55","v":0},{"$f":"ColdWinter!AN55-'C. Winter Peak 2015-01-15'!GA55","v":0},{"$f":"ColdWinter!AO55-'C. Winter Peak 2015-01-15'!GB55","v":0},{"$f":"ColdWinter!AP55-'C. Winter Peak 2015-01-15'!GC55","v":0},{"$f":"ColdWinter!AQ55-'C. Winter Peak 2015-01-15'!GD55","v":0},{"$f":"ColdWinter!AR55-'C. Winter Peak 2015-01-15'!GE55","v":0},{"$f":"ColdWinter!AS55-'C. Winter Peak 2015-01-15'!GF55","v":0},{"$f":"ColdWinter!AT55-'C. Winter Peak 2015-01-15'!GG55","v":0},{"$f":"ColdWinter!AU55-'C. Winter Peak 2015-01-15'!GH55","v":0},{"$f":"ColdWinter!AV55-'C. Winter Peak 2015-01-15'!GI55","v":0},{"$f":"ColdWinter!AW55-'C. Winter Peak 2015-01-15'!GJ55","v":0},{"$f":"ColdWinter!AX55-'C. Winter Peak 2015-01-15'!GK55","v":0},{"$f":"ColdWinter!AY55-'C. Winter Peak 2015-01-15'!GL55","v":0},{"$f":"ColdWinter!AZ55-'C. Winter Peak 2015-01-15'!GM55","v":0},{"$f":"ColdWinter!BA55-'C. Winter Peak 2015-01-15'!GN55","v":0},{"$f":"ColdWinter!BB55-'C. Winter Peak 2015-01-15'!GO55","v":0},{"$f":"ColdWinter!BC55-'C. Winter Peak 2015-01-15'!GP55","v":0},{"$f":"ColdWinter!BD55-'C. Winter Peak 2015-01-15'!GQ55","v":0},{"$f":"ColdWinter!BE55-'C. Winter Peak 2015-01-15'!GR55","v":0},{"$f":"ColdWinter!BF55-'C. Winter Peak 2015-01-15'!GS55","v":0},{"$f":"ColdWinter!BG55-'C. Winter Peak 2015-01-15'!GT55","v":0},{"$f":"ColdWinter!BH55-'C. Winter Peak 2015-01-15'!GU55","v":0},{"$f":"ColdWinter!BI55-'C. Winter Peak 2015-01-15'!GV55","v":0},{"$f":"ColdWinter!BJ55-'C. Winter Peak 2015-01-15'!GW55","v":0},{"$f":"ColdWinter!BK55-'C. Winter Peak 2015-01-15'!GX55","v":0},{"$f":"ColdWinter!BL55-'C. Winter Peak 2015-01-15'!GY55","v":0},{"$f":"ColdWinter!BM55-'C. Winter Peak 2015-01-15'!GZ55","v":0},{"$f":"ColdWinter!BN55-'C. Winter Peak 2015-01-15'!HA55","v":0},{"$f":"ColdWinter!BO55-'C. Winter Peak 2015-01-15'!HB55","v":0},{"$f":"ColdWinter!BP55-'C. Winter Peak 2015-01-15'!HC55","v":0},{"$f":"ColdWinter!BQ55-'C. Winter Peak 2015-01-15'!HD55","v":0},{"$f":"ColdWinter!BR55-'C. Winter Peak 2015-01-15'!HE55","v":0},{"$f":"ColdWinter!BS55-'C. Winter Peak 2015-01-15'!HF55","v":0},{"$f":"ColdWinter!BT55-'C. Winter Peak 2015-01-15'!HG55","v":0},{"$f":"ColdWinter!BU55-'C. Winter Peak 2015-01-15'!HH55","v":0},{"$f":"ColdWinter!BV55-'C. Winter Peak 2015-01-15'!HI55","v":0},{"$f":"ColdWinter!BW55-'C. Winter Peak 2015-01-15'!HJ55","v":0},{"$f":"ColdWinter!BX55-'C. Winter Peak 2015-01-15'!HK55","v":0},{"$f":"ColdWinter!BY55-'C. Winter Peak 2015-01-15'!HL55","v":0},{"$f":"ColdWinter!BZ55-'C. Winter Peak 2015-01-15'!HM55","v":0},{"$f":"ColdWinter!CA55-'C. Winter Peak 2015-01-15'!HN55","v":0},{"$f":"ColdWinter!CB55-'C. Winter Peak 2015-01-15'!HO55","v":0},{"$f":"ColdWinter!CC55-'C. Winter Peak 2015-01-15'!HP55","v":0},{"$f":"ColdWinter!CD55-'C. Winter Peak 2015-01-15'!HQ55","v":0},{"$f":"ColdWinter!CE55-'C. Winter Peak 2015-01-15'!HR55","v":0},{"$f":"ColdWinter!CF55-'C. Winter Peak 2015-01-15'!HS55","v":0},{"$f":"ColdWinter!CG55-'C. Winter Peak 2015-01-15'!HT55","v":0},{"$f":"ColdWinter!CH55-'C. Winter Peak 2015-01-15'!HU55","v":0},{"$f":"ColdWinter!CI55-'C. Winter Peak 2015-01-15'!HV55","v":0},{"$f":"ColdWinter!CJ55-'C. Winter Peak 2015-01-15'!HW55","v":0},{"$f":"ColdWinter!CK55-'C. Winter Peak 2015-01-15'!HX55","v":0},{"$f":"ColdWinter!CL55-'C. Winter Peak 2015-01-15'!HY55","v":0},{"$f":"ColdWinter!CM55-'C. Winter Peak 2015-01-15'!HZ55","v":0},{"$f":"ColdWinter!CN55-'C. Winter Peak 2015-01-15'!IA55","v":0},{"$f":"ColdWinter!CO55-'C. Winter Peak 2015-01-15'!IB55","v":0},{"$f":"ColdWinter!CP55-'C. Winter Peak 2015-01-15'!IC55","v":0},{"$f":"ColdWinter!CQ55-'C. Winter Peak 2015-01-15'!ID55","v":0},{"$f":"ColdWinter!CR55-'C. Winter Peak 2015-01-15'!IE55","v":0},{"$f":"ColdWinter!CS55-'C. Winter Peak 2015-01-15'!IF55","v":0},{"$f":"ColdWinter!CT55-'C. Winter Peak 2015-01-15'!IG55","v":0},{"$f":"ColdWinter!CU55-'C. Winter Peak 2015-01-15'!IH55","v":0},{"$f":"ColdWinter!CV55-'C. Winter Peak 2015-01-15'!II55","v":0},{"$f":"ColdWinter!CW55-'C. Winter Peak 2015-01-15'!IJ55","v":0},{"$f":"ColdWinter!CX55-'C. Winter Peak 2015-01-15'!IK55","v":0},{"$f":"ColdWinter!CY55-'C. Winter Peak 2015-01-15'!IL55","v":0},{"$f":"ColdWinter!CZ55-'C. Winter Peak 2015-01-15'!IM55","v":0},{"$f":"ColdWinter!DA55-'C. Winter Peak 2015-01-15'!IN55","v":0},{"$f":"ColdWinter!DB55-'C. Winter Peak 2015-01-15'!IO55","v":0},{"$f":"ColdWinter!DC55-'C. Winter Peak 2015-01-15'!IP55","v":0},{"$f":"ColdWinter!DD55-'C. Winter Peak 2015-01-15'!IQ55","v":0},{"$f":"ColdWinter!DE55-'C. Winter Peak 2015-01-15'!IR55","v":0},{"$f":"ColdWinter!DF55-'C. Winter Peak 2015-01-15'!IS55","v":0},{"$f":"ColdWinter!DG55-'C. Winter Peak 2015-01-15'!IT55","v":0},{"$f":"ColdWinter!DH55-'C. Winter Peak 2015-01-15'!IU55","v":0},{"$f":"ColdWinter!DI55-'C. Winter Peak 2015-01-15'!IV55","v":0},{"$f":"ColdWinter!DJ55-'C. Winter Peak 2015-01-15'!IW55","v":0},{"$f":"ColdWinter!DK55-'C. Winter Peak 2015-01-15'!IX55","v":0},{"$f":"ColdWinter!DL55-'C. Winter Peak 2015-01-15'!IY55","v":0},{"$f":"ColdWinter!DM55-'C. Winter Peak 2015-01-15'!IZ55","v":0},{"$f":"ColdWinter!DN55-'C. Winter Peak 2015-01-15'!JA55","v":0},{"$f":"ColdWinter!DO55-'C. Winter Peak 2015-01-15'!JB55","v":0},{"$f":"ColdWinter!DP55-'C. Winter Peak 2015-01-15'!JC55","v":0},{"$f":"ColdWinter!DQ55-'C. Winter Peak 2015-01-15'!JD55","v":0},{"$f":"ColdWinter!DR55-'C. Winter Peak 2015-01-15'!JE55","v":0},{"$f":"ColdWinter!DS55-'C. Winter Peak 2015-01-15'!JF55","v":0}]
[null,"PWC2",{"$f":"ColdWinter!C56-'C. Winter Peak 2015-01-15'!EP56","v":0},{"$f":"ColdWinter!D56-'C. Winter Peak 2015-01-15'!EQ56","v":0},{"$f":"ColdWinter!E56-'C. Winter Peak 2015-01-15'!ER56","v":0},{"$f":"ColdWinter!F56-'C. Winter Peak 2015-01-15'!ES56","v":0},{"$f":"ColdWinter!G56-'C. Winter Peak 2015-01-15'!ET56","v":0},{"$f":"ColdWinter!H56-'C. Winter Peak 2015-01-15'!EU56","v":0},{"$f":"ColdWinter!I56-'C. Winter Peak 2015-01-15'!EV56","v":0},{"$f":"ColdWinter!J56-'C. Winter Peak 2015-01-15'!EW56","v":0},{"$f":"ColdWinter!K56-'C. Winter Peak 2015-01-15'!EX56","v":0},{"$f":"ColdWinter!L56-'C. Winter Peak 2015-01-15'!EY56","v":0},{"$f":"ColdWinter!M56-'C. Winter Peak 2015-01-15'!EZ56","v":0},{"$f":"ColdWinter!N56-'C. Winter Peak 2015-01-15'!FA56","v":0},{"$f":"ColdWinter!O56-'C. Winter Peak 2015-01-15'!FB56","v":0},{"$f":"ColdWinter!P56-'C. Winter Peak 2015-01-15'!FC56","v":0},{"$f":"ColdWinter!Q56-'C. Winter Peak 2015-01-15'!FD56","v":0},{"$f":"ColdWinter!R56-'C. Winter Peak 2015-01-15'!FE56","v":0},{"$f":"ColdWinter!S56-'C. Winter Peak 2015-01-15'!FF56","v":0},{"$f":"ColdWinter!T56-'C. Winter Peak 2015-01-15'!FG56","v":0},{"$f":"ColdWinter!U56-'C. Winter Peak 2015-01-15'!FH56","v":0},{"$f":"ColdWinter!V56-'C. Winter Peak 2015-01-15'!FI56","v":0},{"$f":"ColdWinter!W56-'C. Winter Peak 2015-01-15'!FJ56","v":0},{"$f":"ColdWinter!X56-'C. Winter Peak 2015-01-15'!FK56","v":0},{"$f":"ColdWinter!Y56-'C. Winter Peak 2015-01-15'!FL56","v":0},{"$f":"ColdWinter!Z56-'C. Winter Peak 2015-01-15'!FM56","v":0},{"$f":"ColdWinter!AA56-'C. Winter Peak 2015-01-15'!FN56","v":0},{"$f":"ColdWinter!AB56-'C. Winter Peak 2015-01-15'!FO56","v":0},{"$f":"ColdWinter!AC56-'C. Winter Peak 2015-01-15'!FP56","v":0},{"$f":"ColdWinter!AD56-'C. Winter Peak 2015-01-15'!FQ56","v":0},{"$f":"ColdWinter!AE56-'C. Winter Peak 2015-01-15'!FR56","v":0},{"$f":"ColdWinter!AF56-'C. Winter Peak 2015-01-15'!FS56","v":0},{"$f":"ColdWinter!AG56-'C. Winter Peak 2015-01-15'!FT56","v":0},{"$f":"ColdWinter!AH56-'C. Winter Peak 2015-01-15'!FU56","v":0},{"$f":"ColdWinter!AI56-'C. Winter Peak 2015-01-15'!FV56","v":0},{"$f":"ColdWinter!AJ56-'C. Winter Peak 2015-01-15'!FW56","v":0},{"$f":"ColdWinter!AK56-'C. Winter Peak 2015-01-15'!FX56","v":0},{"$f":"ColdWinter!AL56-'C. Winter Peak 2015-01-15'!FY56","v":0},{"$f":"ColdWinter!AM56-'C. Winter Peak 2015-01-15'!FZ56","v":0},{"$f":"ColdWinter!AN56-'C. Winter Peak 2015-01-15'!GA56","v":0},{"$f":"ColdWinter!AO56-'C. Winter Peak 2015-01-15'!GB56","v":0},{"$f":"ColdWinter!AP56-'C. Winter Peak 2015-01-15'!GC56","v":0},{"$f":"ColdWinter!AQ56-'C. Winter Peak 2015-01-15'!GD56","v":0},{"$f":"ColdWinter!AR56-'C. Winter Peak 2015-01-15'!GE56","v":0},{"$f":"ColdWinter!AS56-'C. Winter Peak 2015-01-15'!GF56","v":0},{"$f":"ColdWinter!AT56-'C. Winter Peak 2015-01-15'!GG56","v":0},{"$f":"ColdWinter!AU56-'C. Winter Peak 2015-01-15'!GH56","v":0},{"$f":"ColdWinter!AV56-'C. Winter Peak 2015-01-15'!GI56","v":0},{"$f":"ColdWinter!AW56-'C. Winter Peak 2015-01-15'!GJ56","v":0},{"$f":"ColdWinter!AX56-'C. Winter Peak 2015-01-15'!GK56","v":0},{"$f":"ColdWinter!AY56-'C. Winter Peak 2015-01-15'!GL56","v":0},{"$f":"ColdWinter!AZ56-'C. Winter Peak 2015-01-15'!GM56","v":0},{"$f":"ColdWinter!BA56-'C. Winter Peak 2015-01-15'!GN56","v":0},{"$f":"ColdWinter!BB56-'C. Winter Peak 2015-01-15'!GO56","v":0},{"$f":"ColdWinter!BC56-'C. Winter Peak 2015-01-15'!GP56","v":0},{"$f":"ColdWinter!BD56-'C. Winter Peak 2015-01-15'!GQ56","v":0},{"$f":"ColdWinter!BE56-'C. Winter Peak 2015-01-15'!GR56","v":0},{"$f":"ColdWinter!BF56-'C. Winter Peak 2015-01-15'!GS56","v":0},{"$f":"ColdWinter!BG56-'C. Winter Peak 2015-01-15'!GT56","v":0},{"$f":"ColdWinter!BH56-'C. Winter Peak 2015-01-15'!GU56","v":0},{"$f":"ColdWinter!BI56-'C. Winter Peak 2015-01-15'!GV56","v":0},{"$f":"ColdWinter!BJ56-'C. Winter Peak 2015-01-15'!GW56","v":0},{"$f":"ColdWinter!BK56-'C. Winter Peak 2015-01-15'!GX56","v":0},{"$f":"ColdWinter!BL56-'C. Winter Peak 2015-01-15'!GY56","v":0},{"$f":"ColdWinter!BM56-'C. Winter Peak 2015-01-15'!GZ56","v":0},{"$f":"ColdWinter!BN56-'C. Winter Peak 2015-01-15'!HA56","v":0},{"$f":"ColdWinter!BO56-'C. Winter Peak 2015-01-15'!HB56","v":0},{"$f":"ColdWinter!BP56-'C. Winter Peak 2015-01-15'!HC56","v":0},{"$f":"ColdWinter!BQ56-'C. Winter Peak 2015-01-15'!HD56","v":0},{"$f":"ColdWinter!BR56-'C. Winter Peak 2015-01-15'!HE56","v":0},{"$f":"ColdWinter!BS56-'C. Winter Peak 2015-01-15'!HF56","v":0},{"$f":"ColdWinter!BT56-'C. Winter Peak 2015-01-15'!HG56","v":0},{"$f":"ColdWinter!BU56-'C. Winter Peak 2015-01-15'!HH56","v":0},{"$f":"ColdWinter!BV56-'C. Winter Peak 2015-01-15'!HI56","v":0},{"$f":"ColdWinter!BW56-'C. Winter Peak 2015-01-15'!HJ56","v":0},{"$f":"ColdWinter!BX56-'C. Winter Peak 2015-01-15'!HK56","v":0},{"$f":"ColdWinter!BY56-'C. Winter Peak 2015-01-15'!HL56","v":0},{"$f":"ColdWinter!BZ56-'C. Winter Peak 2015-01-15'!HM56","v":0},{"$f":"ColdWinter!CA56-'C. Winter Peak 2015-01-15'!HN56","v":0},{"$f":"ColdWinter!CB56-'C. Winter Peak 2015-01-15'!HO56","v":0},{"$f":"ColdWinter!CC56-'C. Winter Peak 2015-01-15'!HP56","v":0},{"$f":"ColdWinter!CD56-'C. Winter Peak 2015-01-15'!HQ56","v":0},{"$f":"ColdWinter!CE56-'C. Winter Peak 2015-01-15'!HR56","v":0},{"$f":"ColdWinter!CF56-'C. Winter Peak 2015-01-15'!HS56","v":0},{"$f":"ColdWinter!CG56-'C. Winter Peak 2015-01-15'!HT56","v":0},{"$f":"ColdWinter!CH56-'C. Winter Peak 2015-01-15'!HU56","v":0},{"$f":"ColdWinter!CI56-'C. Winter Peak 2015-01-15'!HV56","v":0},{"$f":"ColdWinter!CJ56-'C. Winter Peak 2015-01-15'!HW56","v":0},{"$f":"ColdWinter!CK56-'C. Winter Peak 2015-01-15'!HX56","v":0},{"$f":"ColdWinter!CL56-'C. Winter Peak 2015-01-15'!HY56","v":0},{"$f":"ColdWinter!CM56-'C. Winter Peak 2015-01-15'!HZ56","v":0},{"$f":"ColdWinter!CN56-'C. Winter Peak 2015-01-15'!IA56","v":0},{"$f":"ColdWinter!CO56-'C. Winter Peak 2015-01-15'!IB56","v":0},{"$f":"ColdWinter!CP56-'C. Winter Peak 2015-01-15'!IC56","v":0},{"$f":"ColdWinter!CQ56-'C. Winter Peak 2015-01-15'!ID56","v":0},{"$f":"ColdWinter!CR56-'C. Winter Peak 2015-01-15'!IE56","v":0},{"$f":"ColdWinter!CS56-'C. Winter Peak 2015-01-15'!IF56","v":0},{"$f":"ColdWinter!CT56-'C. Winter Peak 2015-01-15'!IG56","v":0},{"$f":"ColdWinter!CU56-'C. Winter Peak 2015-01-15'!IH56","v":0},{"$f":"ColdWinter!CV56-'C. Winter Peak 2015-01-15'!II56","v":0},{"$f":"ColdWinter!CW56-'C. Winter Peak 2015-01-15'!IJ56","v":0},{"$f":"ColdWinter!CX56-'C. Winter Peak 2015-01-15'!IK56","v":0},{"$f":"ColdWinter!CY56-'C. Winter Peak 2015-01-15'!IL56","v":0},{"$f":"ColdWinter!CZ56-'C. Winter Peak 2015-01-15'!IM56","v":0},{"$f":"ColdWinter!DA56-'C. Winter Peak 2015-01-15'!IN56","v":0},{"$f":"ColdWinter!DB56-'C. Winter Peak 2015-01-15'!IO56","v":0},{"$f":"ColdWinter!DC56-'C. Winter Peak 2015-01-15'!IP56","v":0},{"$f":"ColdWinter!DD56-'C. Winter Peak 2015-01-15'!IQ56","v":0},{"$f":"ColdWinter!DE56-'C. Winter Peak 2015-01-15'!IR56","v":0},{"$f":"ColdWinter!DF56-'C. Winter Peak 2015-01-15'!IS56","v":0},{"$f":"ColdWinter!DG56-'C. Winter Peak 2015-01-15'!IT56","v":0},{"$f":"ColdWinter!DH56-'C. Winter Peak 2015-01-15'!IU56","v":0},{"$f":"ColdWinter!DI56-'C. Winter Peak 2015-01-15'!IV56","v":0},{"$f":"ColdWinter!DJ56-'C. Winter Peak 2015-01-15'!IW56","v":0},{"$f":"ColdWinter!DK56-'C. Winter Peak 2015-01-15'!IX56","v":0},{"$f":"ColdWinter!DL56-'C. Winter Peak 2015-01-15'!IY56","v":0},{"$f":"ColdWinter!DM56-'C. Winter Peak 2015-01-15'!IZ56","v":0},{"$f":"ColdWinter!DN56-'C. Winter Peak 2015-01-15'!JA56","v":0},{"$f":"ColdWinter!DO56-'C. Winter Peak 2015-01-15'!JB56","v":0},{"$f":"ColdWinter!DP56-'C. Winter Peak 2015-01-15'!JC56","v":0},{"$f":"ColdWinter!DQ56-'C. Winter Peak 2015-01-15'!JD56","v":0},{"$f":"ColdWinter!DR56-'C. Winter Peak 2015-01-15'!JE56","v":0},{"$f":"ColdWinter!DS56-'C. Winter Peak 2015-01-15'!JF56","v":0}]
[null,"PWC3",{"$f":"ColdWinter!C57-'C. Winter Peak 2015-01-15'!EP57","v":0},{"$f":"ColdWinter!D57-'C. Winter Peak 2015-01-15'!EQ57","v":0},{"$f":"ColdWinter!E57-'C. Winter Peak 2015-01-15'!ER57","v":0},{"$f":"ColdWinter!F57-'C. Winter Peak 2015-01-15'!ES57","v":0},{"$f":"ColdWinter!G57-'C. Winter Peak 2015-01-15'!ET57","v":0},{"$f":"ColdWinter!H57-'C. Winter Peak 2015-01-15'!EU57","v":0},{"$f":"ColdWinter!I57-'C. Winter Peak 2015-01-15'!EV57","v":0},{"$f":"ColdWinter!J57-'C. Winter Peak 2015-01-15'!EW57","v":0},{"$f":"ColdWinter!K57-'C. Winter Peak 2015-01-15'!EX57","v":0},{"$f":"ColdWinter!L57-'C. Winter Peak 2015-01-15'!EY57","v":0},{"$f":"ColdWinter!M57-'C. Winter Peak 2015-01-15'!EZ57","v":0},{"$f":"ColdWinter!N57-'C. Winter Peak 2015-01-15'!FA57","v":0},{"$f":"ColdWinter!O57-'C. Winter Peak 2015-01-15'!FB57","v":0},{"$f":"ColdWinter!P57-'C. Winter Peak 2015-01-15'!FC57","v":0},{"$f":"ColdWinter!Q57-'C. Winter Peak 2015-01-15'!FD57","v":0},{"$f":"ColdWinter!R57-'C. Winter Peak 2015-01-15'!FE57","v":0},{"$f":"ColdWinter!S57-'C. Winter Peak 2015-01-15'!FF57","v":0},{"$f":"ColdWinter!T57-'C. Winter Peak 2015-01-15'!FG57","v":0},{"$f":"ColdWinter!U57-'C. Winter Peak 2015-01-15'!FH57","v":0},{"$f":"ColdWinter!V57-'C. Winter Peak 2015-01-15'!FI57","v":0},{"$f":"ColdWinter!W57-'C. Winter Peak 2015-01-15'!FJ57","v":0},{"$f":"ColdWinter!X57-'C. Winter Peak 2015-01-15'!FK57","v":0},{"$f":"ColdWinter!Y57-'C. Winter Peak 2015-01-15'!FL57","v":0},{"$f":"ColdWinter!Z57-'C. Winter Peak 2015-01-15'!FM57","v":0},{"$f":"ColdWinter!AA57-'C. Winter Peak 2015-01-15'!FN57","v":0},{"$f":"ColdWinter!AB57-'C. Winter Peak 2015-01-15'!FO57","v":0},{"$f":"ColdWinter!AC57-'C. Winter Peak 2015-01-15'!FP57","v":0},{"$f":"ColdWinter!AD57-'C. Winter Peak 2015-01-15'!FQ57","v":0},{"$f":"ColdWinter!AE57-'C. Winter Peak 2015-01-15'!FR57","v":0},{"$f":"ColdWinter!AF57-'C. Winter Peak 2015-01-15'!FS57","v":0},{"$f":"ColdWinter!AG57-'C. Winter Peak 2015-01-15'!FT57","v":0},{"$f":"ColdWinter!AH57-'C. Winter Peak 2015-01-15'!FU57","v":0},{"$f":"ColdWinter!AI57-'C. Winter Peak 2015-01-15'!FV57","v":0},{"$f":"ColdWinter!AJ57-'C. Winter Peak 2015-01-15'!FW57","v":0},{"$f":"ColdWinter!AK57-'C. Winter Peak 2015-01-15'!FX57","v":0},{"$f":"ColdWinter!AL57-'C. Winter Peak 2015-01-15'!FY57","v":0},{"$f":"ColdWinter!AM57-'C. Winter Peak 2015-01-15'!FZ57","v":0},{"$f":"ColdWinter!AN57-'C. Winter Peak 2015-01-15'!GA57","v":0},{"$f":"ColdWinter!AO57-'C. Winter Peak 2015-01-15'!GB57","v":0},{"$f":"ColdWinter!AP57-'C. Winter Peak 2015-01-15'!GC57","v":0},{"$f":"ColdWinter!AQ57-'C. Winter Peak 2015-01-15'!GD57","v":0},{"$f":"ColdWinter!AR57-'C. Winter Peak 2015-01-15'!GE57","v":0},{"$f":"ColdWinter!AS57-'C. Winter Peak 2015-01-15'!GF57","v":0},{"$f":"ColdWinter!AT57-'C. Winter Peak 2015-01-15'!GG57","v":0},{"$f":"ColdWinter!AU57-'C. Winter Peak 2015-01-15'!GH57","v":0},{"$f":"ColdWinter!AV57-'C. Winter Peak 2015-01-15'!GI57","v":0},{"$f":"ColdWinter!AW57-'C. Winter Peak 2015-01-15'!GJ57","v":0},{"$f":"ColdWinter!AX57-'C. Winter Peak 2015-01-15'!GK57","v":0},{"$f":"ColdWinter!AY57-'C. Winter Peak 2015-01-15'!GL57","v":0},{"$f":"ColdWinter!AZ57-'C. Winter Peak 2015-01-15'!GM57","v":0},{"$f":"ColdWinter!BA57-'C. Winter Peak 2015-01-15'!GN57","v":0},{"$f":"ColdWinter!BB57-'C. Winter Peak 2015-01-15'!GO57","v":0},{"$f":"ColdWinter!BC57-'C. Winter Peak 2015-01-15'!GP57","v":0},{"$f":"ColdWinter!BD57-'C. Winter Peak 2015-01-15'!GQ57","v":0},{"$f":"ColdWinter!BE57-'C. Winter Peak 2015-01-15'!GR57","v":0},{"$f":"ColdWinter!BF57-'C. Winter Peak 2015-01-15'!GS57","v":0},{"$f":"ColdWinter!BG57-'C. Winter Peak 2015-01-15'!GT57","v":0},{"$f":"ColdWinter!BH57-'C. Winter Peak 2015-01-15'!GU57","v":0},{"$f":"ColdWinter!BI57-'C. Winter Peak 2015-01-15'!GV57","v":0},{"$f":"ColdWinter!BJ57-'C. Winter Peak 2015-01-15'!GW57","v":0},{"$f":"ColdWinter!BK57-'C. Winter Peak 2015-01-15'!GX57","v":0},{"$f":"ColdWinter!BL57-'C. Winter Peak 2015-01-15'!GY57","v":0},{"$f":"ColdWinter!BM57-'C. Winter Peak 2015-01-15'!GZ57","v":0},{"$f":"ColdWinter!BN57-'C. Winter Peak 2015-01-15'!HA57","v":0},{"$f":"ColdWinter!BO57-'C. Winter Peak 2015-01-15'!HB57","v":0},{"$f":"ColdWinter!BP57-'C. Winter Peak 2015-01-15'!HC57","v":0},{"$f":"ColdWinter!BQ57-'C. Winter Peak 2015-01-15'!HD57","v":0},{"$f":"ColdWinter!BR57-'C. Winter Peak 2015-01-15'!HE57","v":0},{"$f":"ColdWinter!BS57-'C. Winter Peak 2015-01-15'!HF57","v":0},{"$f":"ColdWinter!BT57-'C. Winter Peak 2015-01-15'!HG57","v":0},{"$f":"ColdWinter!BU57-'C. Winter Peak 2015-01-15'!HH57","v":0},{"$f":"ColdWinter!BV57-'C. Winter Peak 2015-01-15'!HI57","v":0},{"$f":"ColdWinter!BW57-'C. Winter Peak 2015-01-15'!HJ57","v":0},{"$f":"ColdWinter!BX57-'C. Winter Peak 2015-01-15'!HK57","v":0},{"$f":"ColdWinter!BY57-'C. Winter Peak 2015-01-15'!HL57","v":0},{"$f":"ColdWinter!BZ57-'C. Winter Peak 2015-01-15'!HM57","v":0},{"$f":"ColdWinter!CA57-'C. Winter Peak 2015-01-15'!HN57","v":0},{"$f":"ColdWinter!CB57-'C. Winter Peak 2015-01-15'!HO57","v":0},{"$f":"ColdWinter!CC57-'C. Winter Peak 2015-01-15'!HP57","v":0},{"$f":"ColdWinter!CD57-'C. Winter Peak 2015-01-15'!HQ57","v":0},{"$f":"ColdWinter!CE57-'C. Winter Peak 2015-01-15'!HR57","v":0},{"$f":"ColdWinter!CF57-'C. Winter Peak 2015-01-15'!HS57","v":0},{"$f":"ColdWinter!CG57-'C. Winter Peak 2015-01-15'!HT57","v":0},{"$f":"ColdWinter!CH57-'C. Winter Peak 2015-01-15'!HU57","v":0},{"$f":"ColdWinter!CI57-'C. Winter Peak 2015-01-15'!HV57","v":0},{"$f":"ColdWinter!CJ57-'C. Winter Peak 2015-01-15'!HW57","v":0},{"$f":"ColdWinter!CK57-'C. Winter Peak 2015-01-15'!HX57","v":0},{"$f":"ColdWinter!CL57-'C. Winter Peak 2015-01-15'!HY57","v":0},{"$f":"ColdWinter!CM57-'C. Winter Peak 2015-01-15'!HZ57","v":0},{"$f":"ColdWinter!CN57-'C. Winter Peak 2015-01-15'!IA57","v":0},{"$f":"ColdWinter!CO57-'C. Winter Peak 2015-01-15'!IB57","v":0},{"$f":"ColdWinter!CP57-'C. Winter Peak 2015-01-15'!IC57","v":0},{"$f":"ColdWinter!CQ57-'C. Winter Peak 2015-01-15'!ID57","v":0},{"$f":"ColdWinter!CR57-'C. Winter Peak 2015-01-15'!IE57","v":0},{"$f":"ColdWinter!CS57-'C. Winter Peak 2015-01-15'!IF57","v":0},{"$f":"ColdWinter!CT57-'C. Winter Peak 2015-01-15'!IG57","v":0},{"$f":"ColdWinter!CU57-'C. Winter Peak 2015-01-15'!IH57","v":0},{"$f":"ColdWinter!CV57-'C. Winter Peak 2015-01-15'!II57","v":0},{"$f":"ColdWinter!CW57-'C. Winter Peak 2015-01-15'!IJ57","v":0},{"$f":"ColdWinter!CX57-'C. Winter Peak 2015-01-15'!IK57","v":0},{"$f":"ColdWinter!CY57-'C. Winter Peak 2015-01-15'!IL57","v":0},{"$f":"ColdWinter!CZ57-'C. Winter Peak 2015-01-15'!IM57","v":0},{"$f":"ColdWinter!DA57-'C. Winter Peak 2015-01-15'!IN57","v":0},{"$f":"ColdWinter!DB57-'C. Winter Peak 2015-01-15'!IO57","v":0},{"$f":"ColdWinter!DC57-'C. Winter Peak 2015-01-15'!IP57","v":0},{"$f":"ColdWinter!DD57-'C. Winter Peak 2015-01-15'!IQ57","v":0},{"$f":"ColdWinter!DE57-'C. Winter Peak 2015-01-15'!IR57","v":0},{"$f":"ColdWinter!DF57-'C. Winter Peak 2015-01-15'!IS57","v":0},{"$f":"ColdWinter!DG57-'C. Winter Peak 2015-01-15'!IT57","v":0},{"$f":"ColdWinter!DH57-'C. Winter Peak 2015-01-15'!IU57","v":0},{"$f":"ColdWinter!DI57-'C. Winter Peak 2015-01-15'!IV57","v":0},{"$f":"ColdWinter!DJ57-'C. Winter Peak 2015-01-15'!IW57","v":0},{"$f":"ColdWinter!DK57-'C. Winter Peak 2015-01-15'!IX57","v":0},{"$f":"ColdWinter!DL57-'C. Winter Peak 2015-01-15'!IY57","v":0},{"$f":"ColdWinter!DM57-'C. Winter Peak 2015-01-15'!IZ57","v":0},{"$f":"ColdWinter!DN57-'C. Winter Peak 2015-01-15'!JA57","v":0},{"$f":"ColdWinter!DO57-'C. Winter Peak 2015-01-15'!JB57","v":0},{"$f":"ColdWinter!DP57-'C. Winter Peak 2015-01-15'!JC57","v":0},{"$f":"ColdWinter!DQ57-'C. Winter Peak 2015-01-15'!JD57","v":0},{"$f":"ColdWinter!DR57-'C. Winter Peak 2015-01-15'!JE57","v":0},{"$f":"ColdWinter!DS57-'C. Winter Peak 2015-01-15'!JF57","v":0}]
[null,null,{"$f":"ColdWinter!C58-'C. Winter Peak 2015-01-15'!EP58","v":0},{"$f":"ColdWinter!D58-'C. Winter Peak 2015-01-15'!EQ58","v":0},{"$f":"ColdWinter!E58-'C. Winter Peak 2015-01-15'!ER58","v":0},{"$f":"ColdWinter!F58-'C. Winter Peak 2015-01-15'!ES58","v":0},{"$f":"ColdWinter!G58-'C. Winter Peak 2015-01-15'!ET58","v":0},{"$f":"ColdWinter!H58-'C. Winter Peak 2015-01-15'!EU58","v":0},{"$f":"ColdWinter!I58-'C. Winter Peak 2015-01-15'!EV58","v":0},{"$f":"ColdWinter!J58-'C. Winter Peak 2015-01-15'!EW58","v":0},{"$f":"ColdWinter!K58-'C. Winter Peak 2015-01-15'!EX58","v":0},{"$f":"ColdWinter!L58-'C. Winter Peak 2015-01-15'!EY58","v":0},{"$f":"ColdWinter!M58-'C. Winter Peak 2015-01-15'!EZ58","v":0},{"$f":"ColdWinter!N58-'C. Winter Peak 2015-01-15'!FA58","v":0},{"$f":"ColdWinter!O58-'C. Winter Peak 2015-01-15'!FB58","v":0},{"$f":"ColdWinter!P58-'C. Winter Peak 2015-01-15'!FC58","v":0},{"$f":"ColdWinter!Q58-'C. Winter Peak 2015-01-15'!FD58","v":0},{"$f":"ColdWinter!R58-'C. Winter Peak 2015-01-15'!FE58","v":0},{"$f":"ColdWinter!S58-'C. Winter Peak 2015-01-15'!FF58","v":0},{"$f":"ColdWinter!T58-'C. Winter Peak 2015-01-15'!FG58","v":0},{"$f":"ColdWinter!U58-'C. Winter Peak 2015-01-15'!FH58","v":0},{"$f":"ColdWinter!V58-'C. Winter Peak 2015-01-15'!FI58","v":0},{"$f":"ColdWinter!W58-'C. Winter Peak 2015-01-15'!FJ58","v":0},{"$f":"ColdWinter!X58-'C. Winter Peak 2015-01-15'!FK58","v":0},{"$f":"ColdWinter!Y58-'C. Winter Peak 2015-01-15'!FL58","v":0},{"$f":"ColdWinter!Z58-'C. Winter Peak 2015-01-15'!FM58","v":0},{"$f":"ColdWinter!AA58-'C. Winter Peak 2015-01-15'!FN58","v":0},{"$f":"ColdWinter!AB58-'C. Winter Peak 2015-01-15'!FO58","v":0},{"$f":"ColdWinter!AC58-'C. Winter Peak 2015-01-15'!FP58","v":0},{"$f":"ColdWinter!AD58-'C. Winter Peak 2015-01-15'!FQ58","v":0},{"$f":"ColdWinter!AE58-'C. Winter Peak 2015-01-15'!FR58","v":0},{"$f":"ColdWinter!AF58-'C. Winter Peak 2015-01-15'!FS58","v":0},{"$f":"ColdWinter!AG58-'C. Winter Peak 2015-01-15'!FT58","v":0},{"$f":"ColdWinter!AH58-'C. Winter Peak 2015-01-15'!FU58","v":0},{"$f":"ColdWinter!AI58-'C. Winter Peak 2015-01-15'!FV58","v":0},{"$f":"ColdWinter!AJ58-'C. Winter Peak 2015-01-15'!FW58","v":0},{"$f":"ColdWinter!AK58-'C. Winter Peak 2015-01-15'!FX58","v":0},{"$f":"ColdWinter!AL58-'C. Winter Peak 2015-01-15'!FY58","v":0},{"$f":"ColdWinter!AM58-'C. Winter Peak 2015-01-15'!FZ58","v":0},{"$f":"ColdWinter!AN58-'C. Winter Peak 2015-01-15'!GA58","v":0},{"$f":"ColdWinter!AO58-'C. Winter Peak 2015-01-15'!GB58","v":0},{"$f":"ColdWinter!AP58-'C. Winter Peak 2015-01-15'!GC58","v":0},{"$f":"ColdWinter!AQ58-'C. Winter Peak 2015-01-15'!GD58","v":0},{"$f":"ColdWinter!AR58-'C. Winter Peak 2015-01-15'!GE58","v":0},{"$f":"ColdWinter!AS58-'C. Winter Peak 2015-01-15'!GF58","v":0},{"$f":"ColdWinter!AT58-'C. Winter Peak 2015-01-15'!GG58","v":0},{"$f":"ColdWinter!AU58-'C. Winter Peak 2015-01-15'!GH58","v":0},{"$f":"ColdWinter!AV58-'C. Winter Peak 2015-01-15'!GI58","v":0},{"$f":"ColdWinter!AW58-'C. Winter Peak 2015-01-15'!GJ58","v":0},{"$f":"ColdWinter!AX58-'C. Winter Peak 2015-01-15'!GK58","v":0},{"$f":"ColdWinter!AY58-'C. Winter Peak 2015-01-15'!GL58","v":0},{"$f":"ColdWinter!AZ58-'C. Winter Peak 2015-01-15'!GM58","v":0},{"$f":"ColdWinter!BA58-'C. Winter Peak 2015-01-15'!GN58","v":0},{"$f":"ColdWinter!BB58-'C. Winter Peak 2015-01-15'!GO58","v":0},{"$f":"ColdWinter!BC58-'C. Winter Peak 2015-01-15'!GP58","v":0},{"$f":"ColdWinter!BD58-'C. Winter Peak 2015-01-15'!GQ58","v":0},{"$f":"ColdWinter!BE58-'C. Winter Peak 2015-01-15'!GR58","v":0},{"$f":"ColdWinter!BF58-'C. Winter Peak 2015-01-15'!GS58","v":0},{"$f":"ColdWinter!BG58-'C. Winter Peak 2015-01-15'!GT58","v":0},{"$f":"ColdWinter!BH58-'C. Winter Peak 2015-01-15'!GU58","v":0},{"$f":"ColdWinter!BI58-'C. Winter Peak 2015-01-15'!GV58","v":0},{"$f":"ColdWinter!BJ58-'C. Winter Peak 2015-01-15'!GW58","v":0},{"$f":"ColdWinter!BK58-'C. Winter Peak 2015-01-15'!GX58","v":0},{"$f":"ColdWinter!BL58-'C. Winter Peak 2015-01-15'!GY58","v":0},{"$f":"ColdWinter!BM58-'C. Winter Peak 2015-01-15'!GZ58","v":0},{"$f":"ColdWinter!BN58-'C. Winter Peak 2015-01-15'!HA58","v":0},{"$f":"ColdWinter!BO58-'C. Winter Peak 2015-01-15'!HB58","v":0},{"$f":"ColdWinter!BP58-'C. Winter Peak 2015-01-15'!HC58","v":0},{"$f":"ColdWinter!BQ58-'C. Winter Peak 2015-01-15'!HD58","v":0},{"$f":"ColdWinter!BR58-'C. Winter Peak 2015-01-15'!HE58","v":0},{"$f":"ColdWinter!BS58-'C. Winter Peak 2015-01-15'!HF58","v":0},{"$f":"ColdWinter!BT58-'C. Winter Peak 2015-01-15'!HG58","v":0},{"$f":"ColdWinter!BU58-'C. Winter Peak 2015-01-15'!HH58","v":0},{"$f":"ColdWinter!BV58-'C. Winter Peak 2015-01-15'!HI58","v":0},{"$f":"ColdWinter!BW58-'C. Winter Peak 2015-01-15'!HJ58","v":0},{"$f":"ColdWinter!BX58-'C. Winter Peak 2015-01-15'!HK58","v":0},{"$f":"ColdWinter!BY58-'C. Winter Peak 2015-01-15'!HL58","v":0},{"$f":"ColdWinter!BZ58-'C. Winter Peak 2015-01-15'!HM58","v":0},{"$f":"ColdWinter!CA58-'C. Winter Peak 2015-01-15'!HN58","v":0},{"$f":"ColdWinter!CB58-'C. Winter Peak 2015-01-15'!HO58","v":0},{"$f":"ColdWinter!CC58-'C. Winter Peak 2015-01-15'!HP58","v":0},{"$f":"ColdWinter!CD58-'C. Winter Peak 2015-01-15'!HQ58","v":0},{"$f":"ColdWinter!CE58-'C. Winter Peak 2015-01-15'!HR58","v":0},{"$f":"ColdWinter!CF58-'C. Winter Peak 2015-01-15'!HS58","v":0},{"$f":"ColdWinter!CG58-'C. Winter Peak 2015-01-15'!HT58","v":0},{"$f":"ColdWinter!CH58-'C. Winter Peak 2015-01-15'!HU58","v":0},{"$f":"ColdWinter!CI58-'C. Winter Peak 2015-01-15'!HV58","v":0},{"$f":"ColdWinter!CJ58-'C. Winter Peak 2015-01-15'!HW58","v":0},{"$f":"ColdWinter!CK58-'C. Winter Peak 2015-01-15'!HX58","v":0},{"$f":"ColdWinter!CL58-'C. Winter Peak 2015-01-15'!HY58","v":0},{"$f":"ColdWinter!CM58-'C. Winter Peak 2015-01-15'!HZ58","v":0},{"$f":"ColdWinter!CN58-'C. Winter Peak 2015-01-15'!IA58","v":0},{"$f":"ColdWinter!CO58-'C. Winter Peak 2015-01-15'!IB58","v":0},{"$f":"ColdWinter!CP58-'C. Winter Peak 2015-01-15'!IC58","v":0},{"$f":"ColdWinter!CQ58-'C. Winter Peak 2015-01-15'!ID58","v":0},{"$f":"ColdWinter!CR58-'C. Winter Peak 2015-01-15'!IE58","v":0},{"$f":"ColdWinter!CS58-'C. Winter Peak 2015-01-15'!IF58","v":0},{"$f":"ColdWinter!CT58-'C. Winter Peak 2015-01-15'!IG58","v":0},{"$f":"ColdWinter!CU58-'C. Winter Peak 2015-01-15'!IH58","v":0},{"$f":"ColdWinter!CV58-'C. Winter Peak 2015-01-15'!II58","v":0},{"$f":"ColdWinter!CW58-'C. Winter Peak 2015-01-15'!IJ58","v":0},{"$f":"ColdWinter!CX58-'C. Winter Peak 2015-01-15'!IK58","v":0},{"$f":"ColdWinter!CY58-'C. Winter Peak 2015-01-15'!IL58","v":0},{"$f":"ColdWinter!CZ58-'C. Winter Peak 2015-01-15'!IM58","v":0},{"$f":"ColdWinter!DA58-'C. Winter Peak 2015-01-15'!IN58","v":0},{"$f":"ColdWinter!DB58-'C. Winter Peak 2015-01-15'!IO58","v":0},{"$f":"ColdWinter!DC58-'C. Winter Peak 2015-01-15'!IP58","v":0},{"$f":"ColdWinter!DD58-'C. Winter Peak 2015-01-15'!IQ58","v":0},{"$f":"ColdWinter!DE58-'C. Winter Peak 2015-01-15'!IR58","v":0},{"$f":"ColdWinter!DF58-'C. Winter Peak 2015-01-15'!IS58","v":0},{"$f":"ColdWinter!DG58-'C. Winter Peak 2015-01-15'!IT58","v":0},{"$f":"ColdWinter!DH58-'C. Winter Peak 2015-01-15'!IU58","v":0},{"$f":"ColdWinter!DI58-'C. Winter Peak 2015-01-15'!IV58","v":0},{"$f":"ColdWinter!DJ58-'C. Winter Peak 2015-01-15'!IW58","v":0},{"$f":"ColdWinter!DK58-'C. Winter Peak 2015-01-15'!IX58","v":0},{"$f":"ColdWinter!DL58-'C. Winter Peak 2015-01-15'!IY58","v":0},{"$f":"ColdWinter!DM58-'C. Winter Peak 2015-01-15'!IZ58","v":0},{"$f":"ColdWinter!DN58-'C. Winter Peak 2015-01-15'!JA58","v":0},{"$f":"ColdWinter!DO58-'C. Winter Peak 2015-01-15'!JB58","v":0},{"$f":"ColdWinter!DP58-'C. Winter Peak 2015-01-15'!JC58","v":0},{"$f":"ColdWinter!DQ58-'C. Winter Peak 2015-01-15'!JD58","v":0},{"$f":"ColdWinter!DR58-'C. Winter Peak 2015-01-15'!JE58","v":0},{"$f":"ColdWinter!DS58-'C. Winter Peak 2015-01-15'!JF58","v":0}]
[null,"Total",{"$f":"ColdWinter!C59-'C. Winter Peak 2015-01-15'!EP59","v":0},{"$f":"ColdWinter!D59-'C. Winter Peak 2015-01-15'!EQ59","v":0},{"$f":"ColdWinter!E59-'C. Winter Peak 2015-01-15'!ER59","v":0},{"$f":"ColdWinter!F59-'C. Winter Peak 2015-01-15'!ES59","v":0},{"$f":"ColdWinter!G59-'C. Winter Peak 2015-01-15'!ET59","v":0},{"$f":"ColdWinter!H59-'C. Winter Peak 2015-01-15'!EU59","v":0},{"$f":"ColdWinter!I59-'C. Winter Peak 2015-01-15'!EV59","v":0},{"$f":"ColdWinter!J59-'C. Winter Peak 2015-01-15'!EW59","v":0},{"$f":"ColdWinter!K59-'C. Winter Peak 2015-01-15'!EX59","v":0},{"$f":"ColdWinter!L59-'C. Winter Peak 2015-01-15'!EY59","v":0},{"$f":"ColdWinter!M59-'C. Winter Peak 2015-01-15'!EZ59","v":0},{"$f":"ColdWinter!N59-'C. Winter Peak 2015-01-15'!FA59","v":0},{"$f":"ColdWinter!O59-'C. Winter Peak 2015-01-15'!FB59","v":0},{"$f":"ColdWinter!P59-'C. Winter Peak 2015-01-15'!FC59","v":0},{"$f":"ColdWinter!Q59-'C. Winter Peak 2015-01-15'!FD59","v":0},{"$f":"ColdWinter!R59-'C. Winter Peak 2015-01-15'!FE59","v":0},{"$f":"ColdWinter!S59-'C. Winter Peak 2015-01-15'!FF59","v":0},{"$f":"ColdWinter!T59-'C. Winter Peak 2015-01-15'!FG59","v":0},{"$f":"ColdWinter!U59-'C. Winter Peak 2015-01-15'!FH59","v":0},{"$f":"ColdWinter!V59-'C. Winter Peak 2015-01-15'!FI59","v":0},{"$f":"ColdWinter!W59-'C. Winter Peak 2015-01-15'!FJ59","v":0},{"$f":"ColdWinter!X59-'C. Winter Peak 2015-01-15'!FK59","v":0},{"$f":"ColdWinter!Y59-'C. Winter Peak 2015-01-15'!FL59","v":0},{"$f":"ColdWinter!Z59-'C. Winter Peak 2015-01-15'!FM59","v":0},{"$f":"ColdWinter!AA59-'C. Winter Peak 2015-01-15'!FN59","v":0},{"$f":"ColdWinter!AB59-'C. Winter Peak 2015-01-15'!FO59","v":0},{"$f":"ColdWinter!AC59-'C. Winter Peak 2015-01-15'!FP59","v":0},{"$f":"ColdWinter!AD59-'C. Winter Peak 2015-01-15'!FQ59","v":0},{"$f":"ColdWinter!AE59-'C. Winter Peak 2015-01-15'!FR59","v":0},{"$f":"ColdWinter!AF59-'C. Winter Peak 2015-01-15'!FS59","v":0},{"$f":"ColdWinter!AG59-'C. Winter Peak 2015-01-15'!FT59","v":83},{"$f":"ColdWinter!AH59-'C. Winter Peak 2015-01-15'!FU59","v":83},{"$f":"ColdWinter!AI59-'C. Winter Peak 2015-01-15'!FV59","v":83},{"$f":"ColdWinter!AJ59-'C. Winter Peak 2015-01-15'!FW59","v":83},{"$f":"ColdWinter!AK59-'C. Winter Peak 2015-01-15'!FX59","v":83},{"$f":"ColdWinter!AL59-'C. Winter Peak 2015-01-15'!FY59","v":83},{"$f":"ColdWinter!AM59-'C. Winter Peak 2015-01-15'!FZ59","v":83},{"$f":"ColdWinter!AN59-'C. Winter Peak 2015-01-15'!GA59","v":83},{"$f":"ColdWinter!AO59-'C. Winter Peak 2015-01-15'!GB59","v":83},{"$f":"ColdWinter!AP59-'C. Winter Peak 2015-01-15'!GC59","v":83},{"$f":"ColdWinter!AQ59-'C. Winter Peak 2015-01-15'!GD59","v":83},{"$f":"ColdWinter!AR59-'C. Winter Peak 2015-01-15'!GE59","v":83},{"$f":"ColdWinter!AS59-'C. Winter Peak 2015-01-15'!GF59","v":83},{"$f":"ColdWinter!AT59-'C. Winter Peak 2015-01-15'!GG59","v":83},{"$f":"ColdWinter!AU59-'C. Winter Peak 2015-01-15'!GH59","v":83},{"$f":"ColdWinter!AV59-'C. Winter Peak 2015-01-15'!GI59","v":83},{"$f":"ColdWinter!AW59-'C. Winter Peak 2015-01-15'!GJ59","v":83},{"$f":"ColdWinter!AX59-'C. Winter Peak 2015-01-15'!GK59","v":83},{"$f":"ColdWinter!AY59-'C. Winter Peak 2015-01-15'!GL59","v":83},{"$f":"ColdWinter!AZ59-'C. Winter Peak 2015-01-15'!GM59","v":83},{"$f":"ColdWinter!BA59-'C. Winter Peak 2015-01-15'!GN59","v":83},{"$f":"ColdWinter!BB59-'C. Winter Peak 2015-01-15'!GO59","v":83},{"$f":"ColdWinter!BC59-'C. Winter Peak 2015-01-15'!GP59","v":83},{"$f":"ColdWinter!BD59-'C. Winter Peak 2015-01-15'!GQ59","v":83},{"$f":"ColdWinter!BE59-'C. Winter Peak 2015-01-15'!GR59","v":83},{"$f":"ColdWinter!BF59-'C. Winter Peak 2015-01-15'!GS59","v":83},{"$f":"ColdWinter!BG59-'C. Winter Peak 2015-01-15'!GT59","v":83},{"$f":"ColdWinter!BH59-'C. Winter Peak 2015-01-15'!GU59","v":83},{"$f":"ColdWinter!BI59-'C. Winter Peak 2015-01-15'!GV59","v":83},{"$f":"ColdWinter!BJ59-'C. Winter Peak 2015-01-15'!GW59","v":83},{"$f":"ColdWinter!BK59-'C. Winter Peak 2015-01-15'!GX59","v":83},{"$f":"ColdWinter!BL59-'C. Winter Peak 2015-01-15'!GY59","v":83},{"$f":"ColdWinter!BM59-'C. Winter Peak 2015-01-15'!GZ59","v":83},{"$f":"ColdWinter!BN59-'C. Winter Peak 2015-01-15'!HA59","v":83},{"$f":"ColdWinter!BO59-'C. Winter Peak 2015-01-15'!HB59","v":83},{"$f":"ColdWinter!BP59-'C. Winter Peak 2015-01-15'!HC59","v":83},{"$f":"ColdWinter!BQ59-'C. Winter Peak 2015-01-15'!HD59","v":83},{"$f":"ColdWinter!BR59-'C. Winter Peak 2015-01-15'!HE59","v":83},{"$f":"ColdWinter!BS59-'C. Winter Peak 2015-01-15'!HF59","v":83},{"$f":"ColdWinter!BT59-'C. Winter Peak 2015-01-15'!HG59","v":83},{"$f":"ColdWinter!BU59-'C. Winter Peak 2015-01-15'!HH59","v":83},{"$f":"ColdWinter!BV59-'C. Winter Peak 2015-01-15'!HI59","v":83},{"$f":"ColdWinter!BW59-'C. Winter Peak 2015-01-15'!HJ59","v":83},{"$f":"ColdWinter!BX59-'C. Winter Peak 2015-01-15'!HK59","v":83},{"$f":"ColdWinter!BY59-'C. Winter Peak 2015-01-15'!HL59","v":83},{"$f":"ColdWinter!BZ59-'C. Winter Peak 2015-01-15'!HM59","v":83},{"$f":"ColdWinter!CA59-'C. Winter Peak 2015-01-15'!HN59","v":83},{"$f":"ColdWinter!CB59-'C. Winter Peak 2015-01-15'!HO59","v":83},{"$f":"ColdWinter!CC59-'C. Winter Peak 2015-01-15'!HP59","v":83},{"$f":"ColdWinter!CD59-'C. Winter Peak 2015-01-15'!HQ59","v":83},{"$f":"ColdWinter!CE59-'C. Winter Peak 2015-01-15'!HR59","v":83},{"$f":"ColdWinter!CF59-'C. Winter Peak 2015-01-15'!HS59","v":83},{"$f":"ColdWinter!CG59-'C. Winter Peak 2015-01-15'!HT59","v":83},{"$f":"ColdWinter!CH59-'C. Winter Peak 2015-01-15'!HU59","v":83},{"$f":"ColdWinter!CI59-'C. Winter Peak 2015-01-15'!HV59","v":83},{"$f":"ColdWinter!CJ59-'C. Winter Peak 2015-01-15'!HW59","v":83},{"$f":"ColdWinter!CK59-'C. Winter Peak 2015-01-15'!HX59","v":83},{"$f":"ColdWinter!CL59-'C. Winter Peak 2015-01-15'!HY59","v":83},{"$f":"ColdWinter!CM59-'C. Winter Peak 2015-01-15'!HZ59","v":83},{"$f":"ColdWinter!CN59-'C. Winter Peak 2015-01-15'!IA59","v":83},{"$f":"ColdWinter!CO59-'C. Winter Peak 2015-01-15'!IB59","v":83},{"$f":"ColdWinter!CP59-'C. Winter Peak 2015-01-15'!IC59","v":83},{"$f":"ColdWinter!CQ59-'C. Winter Peak 2015-01-15'!ID59","v":83},{"$f":"ColdWinter!CR59-'C. Winter Peak 2015-01-15'!IE59","v":83},{"$f":"ColdWinter!CS59-'C. Winter Peak 2015-01-15'!IF59","v":83},{"$f":"ColdWinter!CT59-'C. Winter Peak 2015-01-15'!IG59","v":83},{"$f":"ColdWinter!CU59-'C. Winter Peak 2015-01-15'!IH59","v":83},{"$f":"ColdWinter!CV59-'C. Winter Peak 2015-01-15'!II59","v":83},{"$f":"ColdWinter!CW59-'C. Winter Peak 2015-01-15'!IJ59","v":83},{"$f":"ColdWinter!CX59-'C. Winter Peak 2015-01-15'!IK59","v":83},{"$f":"ColdWinter!CY59-'C. Winter Peak 2015-01-15'!IL59","v":83},{"$f":"ColdWinter!CZ59-'C. Winter Peak 2015-01-15'!IM59","v":83},{"$f":"ColdWinter!DA59-'C. Winter Peak 2015-01-15'!IN59","v":83},{"$f":"ColdWinter!DB59-'C. Winter Peak 2015-01-15'!IO59","v":83},{"$f":"ColdWinter!DC59-'C. Winter Peak 2015-01-15'!IP59","v":83},{"$f":"ColdWinter!DD59-'C. Winter Peak 2015-01-15'!IQ59","v":83},{"$f":"ColdWinter!DE59-'C. Winter Peak 2015-01-15'!IR59","v":83},{"$f":"ColdWinter!DF59-'C. Winter Peak 2015-01-15'!IS59","v":83},{"$f":"ColdWinter!DG59-'C. Winter Peak 2015-01-15'!IT59","v":83},{"$f":"ColdWinter!DH59-'C. Winter Peak 2015-01-15'!IU59","v":83},{"$f":"ColdWinter!DI59-'C. Winter Peak 2015-01-15'!IV59","v":83},{"$f":"ColdWinter!DJ59-'C. Winter Peak 2015-01-15'!IW59","v":83},{"$f":"ColdWinter!DK59-'C. Winter Peak 2015-01-15'!IX59","v":83},{"$f":"ColdWinter!DL59-'C. Winter Peak 2015-01-15'!IY59","v":83},{"$f":"ColdWinter!DM59-'C. Winter Peak 2015-01-15'!IZ59","v":83},{"$f":"ColdWinter!DN59-'C. Winter Peak 2015-01-15'!JA59","v":83},{"$f":"ColdWinter!DO59-'C. Winter Peak 2015-01-15'!JB59","v":83},{"$f":"ColdWinter!DP59-'C. Winter Peak 2015-01-15'!JC59","v":83},{"$f":"ColdWinter!DQ59-'C. Winter Peak 2015-01-15'!JD59","v":83},{"$f":"ColdWinter!DR59-'C. Winter Peak 2015-01-15'!JE59","v":83},{"$f":"ColdWinter!DS59-'C. Winter Peak 2015-01-15'!JF59","v":83}]
[null,null,{"$f":"ColdWinter!C60-'C. Winter Peak 2015-01-15'!EP60","v":0},{"$f":"ColdWinter!D60-'C. Winter Peak 2015-01-15'!EQ60","v":0},{"$f":"ColdWinter!E60-'C. Winter Peak 2015-01-15'!ER60","v":0},{"$f":"ColdWinter!F60-'C. Winter Peak 2015-01-15'!ES60","v":0},{"$f":"ColdWinter!G60-'C. Winter Peak 2015-01-15'!ET60","v":0},{"$f":"ColdWinter!H60-'C. Winter Peak 2015-01-15'!EU60","v":0},{"$f":"ColdWinter!I60-'C. Winter Peak 2015-01-15'!EV60","v":0},{"$f":"ColdWinter!J60-'C. Winter Peak 2015-01-15'!EW60","v":0},{"$f":"ColdWinter!K60-'C. Winter Peak 2015-01-15'!EX60","v":0},{"$f":"ColdWinter!L60-'C. Winter Peak 2015-01-15'!EY60","v":0},{"$f":"ColdWinter!M60-'C. Winter Peak 2015-01-15'!EZ60","v":0},{"$f":"ColdWinter!N60-'C. Winter Peak 2015-01-15'!FA60","v":0},{"$f":"ColdWinter!O60-'C. Winter Peak 2015-01-15'!FB60","v":0},{"$f":"ColdWinter!P60-'C. Winter Peak 2015-01-15'!FC60","v":0},{"$f":"ColdWinter!Q60-'C. Winter Peak 2015-01-15'!FD60","v":0},{"$f":"ColdWinter!R60-'C. Winter Peak 2015-01-15'!FE60","v":0},{"$f":"ColdWinter!S60-'C. Winter Peak 2015-01-15'!FF60","v":0},{"$f":"ColdWinter!T60-'C. Winter Peak 2015-01-15'!FG60","v":0},{"$f":"ColdWinter!U60-'C. Winter Peak 2015-01-15'!FH60","v":0},{"$f":"ColdWinter!V60-'C. Winter Peak 2015-01-15'!FI60","v":0},{"$f":"ColdWinter!W60-'C. Winter Peak 2015-01-15'!FJ60","v":0},{"$f":"ColdWinter!X60-'C. Winter Peak 2015-01-15'!FK60","v":0},{"$f":"ColdWinter!Y60-'C. Winter Peak 2015-01-15'!FL60","v":0},{"$f":"ColdWinter!Z60-'C. Winter Peak 2015-01-15'!FM60","v":0},{"$f":"ColdWinter!AA60-'C. Winter Peak 2015-01-15'!FN60","v":0},{"$f":"ColdWinter!AB60-'C. Winter Peak 2015-01-15'!FO60","v":0},{"$f":"ColdWinter!AC60-'C. Winter Peak 2015-01-15'!FP60","v":0},{"$f":"ColdWinter!AD60-'C. Winter Peak 2015-01-15'!FQ60","v":0},{"$f":"ColdWinter!AE60-'C. Winter Peak 2015-01-15'!FR60","v":0},{"$f":"ColdWinter!AF60-'C. Winter Peak 2015-01-15'!FS60","v":0},{"$f":"ColdWinter!AG60-'C. Winter Peak 2015-01-15'!FT60","v":0},{"$f":"ColdWinter!AH60-'C. Winter Peak 2015-01-15'!FU60","v":0},{"$f":"ColdWinter!AI60-'C. Winter Peak 2015-01-15'!FV60","v":0},{"$f":"ColdWinter!AJ60-'C. Winter Peak 2015-01-15'!FW60","v":0},{"$f":"ColdWinter!AK60-'C. Winter Peak 2015-01-15'!FX60","v":0},{"$f":"ColdWinter!AL60-'C. Winter Peak 2015-01-15'!FY60","v":0},{"$f":"ColdWinter!AM60-'C. Winter Peak 2015-01-15'!FZ60","v":0},{"$f":"ColdWinter!AN60-'C. Winter Peak 2015-01-15'!GA60","v":0},{"$f":"ColdWinter!AO60-'C. Winter Peak 2015-01-15'!GB60","v":0},{"$f":"ColdWinter!AP60-'C. Winter Peak 2015-01-15'!GC60","v":0},{"$f":"ColdWinter!AQ60-'C. Winter Peak 2015-01-15'!GD60","v":0},{"$f":"ColdWinter!AR60-'C. Winter Peak 2015-01-15'!GE60","v":0},{"$f":"ColdWinter!AS60-'C. Winter Peak 2015-01-15'!GF60","v":0},{"$f":"ColdWinter!AT60-'C. Winter Peak 2015-01-15'!GG60","v":0},{"$f":"ColdWinter!AU60-'C. Winter Peak 2015-01-15'!GH60","v":0},{"$f":"ColdWinter!AV60-'C. Winter Peak 2015-01-15'!GI60","v":0},{"$f":"ColdWinter!AW60-'C. Winter Peak 2015-01-15'!GJ60","v":0},{"$f":"ColdWinter!AX60-'C. Winter Peak 2015-01-15'!GK60","v":0},{"$f":"ColdWinter!AY60-'C. Winter Peak 2015-01-15'!GL60","v":0},{"$f":"ColdWinter!AZ60-'C. Winter Peak 2015-01-15'!GM60","v":0},{"$f":"ColdWinter!BA60-'C. Winter Peak 2015-01-15'!GN60","v":0},{"$f":"ColdWinter!BB60-'C. Winter Peak 2015-01-15'!GO60","v":0},{"$f":"ColdWinter!BC60-'C. Winter Peak 2015-01-15'!GP60","v":0},{"$f":"ColdWinter!BD60-'C. Winter Peak 2015-01-15'!GQ60","v":0},{"$f":"ColdWinter!BE60-'C. Winter Peak 2015-01-15'!GR60","v":0},{"$f":"ColdWinter!BF60-'C. Winter Peak 2015-01-15'!GS60","v":0},{"$f":"ColdWinter!BG60-'C. Winter Peak 2015-01-15'!GT60","v":0},{"$f":"ColdWinter!BH60-'C. Winter Peak 2015-01-15'!GU60","v":0},{"$f":"ColdWinter!BI60-'C. Winter Peak 2015-01-15'!GV60","v":0},{"$f":"ColdWinter!BJ60-'C. Winter Peak 2015-01-15'!GW60","v":0},{"$f":"ColdWinter!BK60-'C. Winter Peak 2015-01-15'!GX60","v":0},{"$f":"ColdWinter!BL60-'C. Winter Peak 2015-01-15'!GY60","v":0},{"$f":"ColdWinter!BM60-'C. Winter Peak 2015-01-15'!GZ60","v":0},{"$f":"ColdWinter!BN60-'C. Winter Peak 2015-01-15'!HA60","v":0},{"$f":"ColdWinter!BO60-'C. Winter Peak 2015-01-15'!HB60","v":0},{"$f":"ColdWinter!BP60-'C. Winter Peak 2015-01-15'!HC60","v":0},{"$f":"ColdWinter!BQ60-'C. Winter Peak 2015-01-15'!HD60","v":0},{"$f":"ColdWinter!BR60-'C. Winter Peak 2015-01-15'!HE60","v":0},{"$f":"ColdWinter!BS60-'C. Winter Peak 2015-01-15'!HF60","v":0},{"$f":"ColdWinter!BT60-'C. Winter Peak 2015-01-15'!HG60","v":0},{"$f":"ColdWinter!BU60-'C. Winter Peak 2015-01-15'!HH60","v":0},{"$f":"ColdWinter!BV60-'C. Winter Peak 2015-01-15'!HI60","v":0},{"$f":"ColdWinter!BW60-'C. Winter Peak 2015-01-15'!HJ60","v":0},{"$f":"ColdWinter!BX60-'C. Winter Peak 2015-01-15'!HK60","v":0},{"$f":"ColdWinter!BY60-'C. Winter Peak 2015-01-15'!HL60","v":0},{"$f":"ColdWinter!BZ60-'C. Winter Peak 2015-01-15'!HM60","v":0},{"$f":"ColdWinter!CA60-'C. Winter Peak 2015-01-15'!HN60","v":0},{"$f":"ColdWinter!CB60-'C. Winter Peak 2015-01-15'!HO60","v":0},{"$f":"ColdWinter!CC60-'C. Winter Peak 2015-01-15'!HP60","v":0},{"$f":"ColdWinter!CD60-'C. Winter Peak 2015-01-15'!HQ60","v":0},{"$f":"ColdWinter!CE60-'C. Winter Peak 2015-01-15'!HR60","v":0},{"$f":"ColdWinter!CF60-'C. Winter Peak 2015-01-15'!HS60","v":0},{"$f":"ColdWinter!CG60-'C. Winter Peak 2015-01-15'!HT60","v":0},{"$f":"ColdWinter!CH60-'C. Winter Peak 2015-01-15'!HU60","v":0},{"$f":"ColdWinter!CI60-'C. Winter Peak 2015-01-15'!HV60","v":0},{"$f":"ColdWinter!CJ60-'C. Winter Peak 2015-01-15'!HW60","v":0},{"$f":"ColdWinter!CK60-'C. Winter Peak 2015-01-15'!HX60","v":0},{"$f":"ColdWinter!CL60-'C. Winter Peak 2015-01-15'!HY60","v":0},{"$f":"ColdWinter!CM60-'C. Winter Peak 2015-01-15'!HZ60","v":0},{"$f":"ColdWinter!CN60-'C. Winter Peak 2015-01-15'!IA60","v":0},{"$f":"ColdWinter!CO60-'C. Winter Peak 2015-01-15'!IB60","v":0},{"$f":"ColdWinter!CP60-'C. Winter Peak 2015-01-15'!IC60","v":0},{"$f":"ColdWinter!CQ60-'C. Winter Peak 2015-01-15'!ID60","v":0},{"$f":"ColdWinter!CR60-'C. Winter Peak 2015-01-15'!IE60","v":0},{"$f":"ColdWinter!CS60-'C. Winter Peak 2015-01-15'!IF60","v":0},{"$f":"ColdWinter!CT60-'C. Winter Peak 2015-01-15'!IG60","v":0},{"$f":"ColdWinter!CU60-'C. Winter Peak 2015-01-15'!IH60","v":0},{"$f":"ColdWinter!CV60-'C. Winter Peak 2015-01-15'!II60","v":0},{"$f":"ColdWinter!CW60-'C. Winter Peak 2015-01-15'!IJ60","v":0},{"$f":"ColdWinter!CX60-'C. Winter Peak 2015-01-15'!IK60","v":0},{"$f":"ColdWinter!CY60-'C. Winter Peak 2015-01-15'!IL60","v":0},{"$f":"ColdWinter!CZ60-'C. Winter Peak 2015-01-15'!IM60","v":0},{"$f":"ColdWinter!DA60-'C. Winter Peak 2015-01-15'!IN60","v":0},{"$f":"ColdWinter!DB60-'C. Winter Peak 2015-01-15'!IO60","v":0},{"$f":"ColdWinter!DC60-'C. Winter Peak 2015-01-15'!IP60","v":0},{"$f":"ColdWinter!DD60-'C. Winter Peak 2015-01-15'!IQ60","v":0},{"$f":"ColdWinter!DE60-'C. Winter Peak 2015-01-15'!IR60","v":0},{"$f":"ColdWinter!DF60-'C. Winter Peak 2015-01-15'!IS60","v":0},{"$f":"ColdWinter!DG60-'C. Winter Peak 2015-01-15'!IT60","v":0},{"$f":"ColdWinter!DH60-'C. Winter Peak 2015-01-15'!IU60","v":0},{"$f":"ColdWinter!DI60-'C. Winter Peak 2015-01-15'!IV60","v":0},{"$f":"ColdWinter!DJ60-'C. Winter Peak 2015-01-15'!IW60","v":0},{"$f":"ColdWinter!DK60-'C. Winter Peak 2015-01-15'!IX60","v":0},{"$f":"ColdWinter!DL60-'C. Winter Peak 2015-01-15'!IY60","v":0},{"$f":"ColdWinter!DM60-'C. Winter Peak 2015-01-15'!IZ60","v":0},{"$f":"ColdWinter!DN60-'C. Winter Peak 2015-01-15'!JA60","v":0},{"$f":"ColdWinter!DO60-'C. Winter Peak 2015-01-15'!JB60","v":0},{"$f":"ColdWinter!DP60-'C. Winter Peak 2015-01-15'!JC60","v":0},{"$f":"ColdWinter!DQ60-'C. Winter Peak 2015-01-15'!JD60","v":0},{"$f":"ColdWinter!DR60-'C. Winter Peak 2015-01-15'!JE60","v":0},{"$f":"ColdWinter!DS60-'C. Winter Peak 2015-01-15'!JF60","v":0}]
[null,"New Gen",{"$f":"ColdWinter!C61-'C. Winter Peak 2015-01-15'!EP61","v":0},{"$f":"ColdWinter!D61-'C. Winter Peak 2015-01-15'!EQ61","v":0},{"$f":"ColdWinter!E61-'C. Winter Peak 2015-01-15'!ER61","v":0},{"$f":"ColdWinter!F61-'C. Winter Peak 2015-01-15'!ES61","v":0},{"$f":"ColdWinter!G61-'C. Winter Peak 2015-01-15'!ET61","v":0},{"$f":"ColdWinter!H61-'C. Winter Peak 2015-01-15'!EU61","v":0},{"$f":"ColdWinter!I61-'C. Winter Peak 2015-01-15'!EV61","v":0},{"$f":"ColdWinter!J61-'C. Winter Peak 2015-01-15'!EW61","v":0},{"$f":"ColdWinter!K61-'C. Winter Peak 2015-01-15'!EX61","v":0},{"$f":"ColdWinter!L61-'C. Winter Peak 2015-01-15'!EY61","v":0},{"$f":"ColdWinter!M61-'C. Winter Peak 2015-01-15'!EZ61","v":0},{"$f":"ColdWinter!N61-'C. Winter Peak 2015-01-15'!FA61","v":0},{"$f":"ColdWinter!O61-'C. Winter Peak 2015-01-15'!FB61","v":0},{"$f":"ColdWinter!P61-'C. Winter Peak 2015-01-15'!FC61","v":0},{"$f":"ColdWinter!Q61-'C. Winter Peak 2015-01-15'!FD61","v":0},{"$f":"ColdWinter!R61-'C. Winter Peak 2015-01-15'!FE61","v":0},{"$f":"ColdWinter!S61-'C. Winter Peak 2015-01-15'!FF61","v":0},{"$f":"ColdWinter!T61-'C. Winter Peak 2015-01-15'!FG61","v":0},{"$f":"ColdWinter!U61-'C. Winter Peak 2015-01-15'!FH61","v":0},{"$f":"ColdWinter!V61-'C. Winter Peak 2015-01-15'!FI61","v":0},{"$f":"ColdWinter!W61-'C. Winter Peak 2015-01-15'!FJ61","v":0},{"$f":"ColdWinter!X61-'C. Winter Peak 2015-01-15'!FK61","v":0},{"$f":"ColdWinter!Y61-'C. Winter Peak 2015-01-15'!FL61","v":0},{"$f":"ColdWinter!Z61-'C. Winter Peak 2015-01-15'!FM61","v":0},{"$f":"ColdWinter!AA61-'C. Winter Peak 2015-01-15'!FN61","v":0},{"$f":"ColdWinter!AB61-'C. Winter Peak 2015-01-15'!FO61","v":0},{"$f":"ColdWinter!AC61-'C. Winter Peak 2015-01-15'!FP61","v":0},{"$f":"ColdWinter!AD61-'C. Winter Peak 2015-01-15'!FQ61","v":0},{"$f":"ColdWinter!AE61-'C. Winter Peak 2015-01-15'!FR61","v":0},{"$f":"ColdWinter!AF61-'C. Winter Peak 2015-01-15'!FS61","v":0},{"$f":"ColdWinter!AG61-'C. Winter Peak 2015-01-15'!FT61","v":83},{"$f":"ColdWinter!AH61-'C. Winter Peak 2015-01-15'!FU61","v":0},{"$f":"ColdWinter!AI61-'C. Winter Peak 2015-01-15'!FV61","v":0},{"$f":"ColdWinter!AJ61-'C. Winter Peak 2015-01-15'!FW61","v":0},{"$f":"ColdWinter!AK61-'C. Winter Peak 2015-01-15'!FX61","v":0},{"$f":"ColdWinter!AL61-'C. Winter Peak 2015-01-15'!FY61","v":0},{"$f":"ColdWinter!AM61-'C. Winter Peak 2015-01-15'!FZ61","v":0},{"$f":"ColdWinter!AN61-'C. Winter Peak 2015-01-15'!GA61","v":0},{"$f":"ColdWinter!AO61-'C. Winter Peak 2015-01-15'!GB61","v":0},{"$f":"ColdWinter!AP61-'C. Winter Peak 2015-01-15'!GC61","v":0},{"$f":"ColdWinter!AQ61-'C. Winter Peak 2015-01-15'!GD61","v":0},{"$f":"ColdWinter!AR61-'C. Winter Peak 2015-01-15'!GE61","v":0},{"$f":"ColdWinter!AS61-'C. Winter Peak 2015-01-15'!GF61","v":0},{"$f":"ColdWinter!AT61-'C. Winter Peak 2015-01-15'!GG61","v":0},{"$f":"ColdWinter!AU61-'C. Winter Peak 2015-01-15'!GH61","v":0},{"$f":"ColdWinter!AV61-'C. Winter Peak 2015-01-15'!GI61","v":0},{"$f":"ColdWinter!AW61-'C. Winter Peak 2015-01-15'!GJ61","v":0},{"$f":"ColdWinter!AX61-'C. Winter Peak 2015-01-15'!GK61","v":0},{"$f":"ColdWinter!AY61-'C. Winter Peak 2015-01-15'!GL61","v":0},{"$f":"ColdWinter!AZ61-'C. Winter Peak 2015-01-15'!GM61","v":0},{"$f":"ColdWinter!BA61-'C. Winter Peak 2015-01-15'!GN61","v":0},{"$f":"ColdWinter!BB61-'C. Winter Peak 2015-01-15'!GO61","v":0},{"$f":"ColdWinter!BC61-'C. Winter Peak 2015-01-15'!GP61","v":0},{"$f":"ColdWinter!BD61-'C. Winter Peak 2015-01-15'!GQ61","v":0},{"$f":"ColdWinter!BE61-'C. Winter Peak 2015-01-15'!GR61","v":0},{"$f":"ColdWinter!BF61-'C. Winter Peak 2015-01-15'!GS61","v":0},{"$f":"ColdWinter!BG61-'C. Winter Peak 2015-01-15'!GT61","v":0},{"$f":"ColdWinter!BH61-'C. Winter Peak 2015-01-15'!GU61","v":0},{"$f":"ColdWinter!BI61-'C. Winter Peak 2015-01-15'!GV61","v":0},{"$f":"ColdWinter!BJ61-'C. Winter Peak 2015-01-15'!GW61","v":0},{"$f":"ColdWinter!BK61-'C. Winter Peak 2015-01-15'!GX61","v":0},{"$f":"ColdWinter!BL61-'C. Winter Peak 2015-01-15'!GY61","v":0},{"$f":"ColdWinter!BM61-'C. Winter Peak 2015-01-15'!GZ61","v":0},{"$f":"ColdWinter!BN61-'C. Winter Peak 2015-01-15'!HA61","v":0},{"$f":"ColdWinter!BO61-'C. Winter Peak 2015-01-15'!HB61","v":0},{"$f":"ColdWinter!BP61-'C. Winter Peak 2015-01-15'!HC61","v":0},{"$f":"ColdWinter!BQ61-'C. Winter Peak 2015-01-15'!HD61","v":0},{"$f":"ColdWinter!BR61-'C. Winter Peak 2015-01-15'!HE61","v":0},{"$f":"ColdWinter!BS61-'C. Winter Peak 2015-01-15'!HF61","v":0},{"$f":"ColdWinter!BT61-'C. Winter Peak 2015-01-15'!HG61","v":0},{"$f":"ColdWinter!BU61-'C. Winter Peak 2015-01-15'!HH61","v":0},{"$f":"ColdWinter!BV61-'C. Winter Peak 2015-01-15'!HI61","v":0},{"$f":"ColdWinter!BW61-'C. Winter Peak 2015-01-15'!HJ61","v":0},{"$f":"ColdWinter!BX61-'C. Winter Peak 2015-01-15'!HK61","v":0},{"$f":"ColdWinter!BY61-'C. Winter Peak 2015-01-15'!HL61","v":0},{"$f":"ColdWinter!BZ61-'C. Winter Peak 2015-01-15'!HM61","v":0},{"$f":"ColdWinter!CA61-'C. Winter Peak 2015-01-15'!HN61","v":0},{"$f":"ColdWinter!CB61-'C. Winter Peak 2015-01-15'!HO61","v":0},{"$f":"ColdWinter!CC61-'C. Winter Peak 2015-01-15'!HP61","v":0},{"$f":"ColdWinter!CD61-'C. Winter Peak 2015-01-15'!HQ61","v":0},{"$f":"ColdWinter!CE61-'C. Winter Peak 2015-01-15'!HR61","v":0},{"$f":"ColdWinter!CF61-'C. Winter Peak 2015-01-15'!HS61","v":0},{"$f":"ColdWinter!CG61-'C. Winter Peak 2015-01-15'!HT61","v":0},{"$f":"ColdWinter!CH61-'C. Winter Peak 2015-01-15'!HU61","v":0},{"$f":"ColdWinter!CI61-'C. Winter Peak 2015-01-15'!HV61","v":0},{"$f":"ColdWinter!CJ61-'C. Winter Peak 2015-01-15'!HW61","v":0},{"$f":"ColdWinter!CK61-'C. Winter Peak 2015-01-15'!HX61","v":0},{"$f":"ColdWinter!CL61-'C. Winter Peak 2015-01-15'!HY61","v":0},{"$f":"ColdWinter!CM61-'C. Winter Peak 2015-01-15'!HZ61","v":0},{"$f":"ColdWinter!CN61-'C. Winter Peak 2015-01-15'!IA61","v":0},{"$f":"ColdWinter!CO61-'C. Winter Peak 2015-01-15'!IB61","v":0},{"$f":"ColdWinter!CP61-'C. Winter Peak 2015-01-15'!IC61","v":0},{"$f":"ColdWinter!CQ61-'C. Winter Peak 2015-01-15'!ID61","v":0},{"$f":"ColdWinter!CR61-'C. Winter Peak 2015-01-15'!IE61","v":0},{"$f":"ColdWinter!CS61-'C. Winter Peak 2015-01-15'!IF61","v":0},{"$f":"ColdWinter!CT61-'C. Winter Peak 2015-01-15'!IG61","v":0},{"$f":"ColdWinter!CU61-'C. Winter Peak 2015-01-15'!IH61","v":0},{"$f":"ColdWinter!CV61-'C. Winter Peak 2015-01-15'!II61","v":0},{"$f":"ColdWinter!CW61-'C. Winter Peak 2015-01-15'!IJ61","v":0},{"$f":"ColdWinter!CX61-'C. Winter Peak 2015-01-15'!IK61","v":0},{"$f":"ColdWinter!CY61-'C. Winter Peak 2015-01-15'!IL61","v":0},{"$f":"ColdWinter!CZ61-'C. Winter Peak 2015-01-15'!IM61","v":0},{"$f":"ColdWinter!DA61-'C. Winter Peak 2015-01-15'!IN61","v":0},{"$f":"ColdWinter!DB61-'C. Winter Peak 2015-01-15'!IO61","v":0},{"$f":"ColdWinter!DC61-'C. Winter Peak 2015-01-15'!IP61","v":0},{"$f":"ColdWinter!DD61-'C. Winter Peak 2015-01-15'!IQ61","v":0},{"$f":"ColdWinter!DE61-'C. Winter Peak 2015-01-15'!IR61","v":0},{"$f":"ColdWinter!DF61-'C. Winter Peak 2015-01-15'!IS61","v":0},{"$f":"ColdWinter!DG61-'C. Winter Peak 2015-01-15'!IT61","v":0},{"$f":"ColdWinter!DH61-'C. Winter Peak 2015-01-15'!IU61","v":0},{"$f":"ColdWinter!DI61-'C. Winter Peak 2015-01-15'!IV61","v":0},{"$f":"ColdWinter!DJ61-'C. Winter Peak 2015-01-15'!IW61","v":0},{"$f":"ColdWinter!DK61-'C. Winter Peak 2015-01-15'!IX61","v":0},{"$f":"ColdWinter!DL61-'C. Winter Peak 2015-01-15'!IY61","v":0},{"$f":"ColdWinter!DM61-'C. Winter Peak 2015-01-15'!IZ61","v":0},{"$f":"ColdWinter!DN61-'C. Winter Peak 2015-01-15'!JA61","v":0},{"$f":"ColdWinter!DO61-'C. Winter Peak 2015-01-15'!JB61","v":0},{"$f":"ColdWinter!DP61-'C. Winter Peak 2015-01-15'!JC61","v":0},{"$f":"ColdWinter!DQ61-'C. Winter Peak 2015-01-15'!JD61","v":0},{"$f":"ColdWinter!DR61-'C. Winter Peak 2015-01-15'!JE61","v":0},{"$f":"ColdWinter!DS61-'C. Winter Peak 2015-01-15'!JF61","v":0}]
[null,"Repower",{"$f":"ColdWinter!C62-'C. Winter Peak 2015-01-15'!EP62","v":0},{"$f":"ColdWinter!D62-'C. Winter Peak 2015-01-15'!EQ62","v":0},{"$f":"ColdWinter!E62-'C. Winter Peak 2015-01-15'!ER62","v":0},{"$f":"ColdWinter!F62-'C. Winter Peak 2015-01-15'!ES62","v":0},{"$f":"ColdWinter!G62-'C. Winter Peak 2015-01-15'!ET62","v":0},{"$f":"ColdWinter!H62-'C. Winter Peak 2015-01-15'!EU62","v":0},{"$f":"ColdWinter!I62-'C. Winter Peak 2015-01-15'!EV62","v":0},{"$f":"ColdWinter!J62-'C. Winter Peak 2015-01-15'!EW62","v":0},{"$f":"ColdWinter!K62-'C. Winter Peak 2015-01-15'!EX62","v":0},{"$f":"ColdWinter!L62-'C. Winter Peak 2015-01-15'!EY62","v":0},{"$f":"ColdWinter!M62-'C. Winter Peak 2015-01-15'!EZ62","v":0},{"$f":"ColdWinter!N62-'C. Winter Peak 2015-01-15'!FA62","v":0},{"$f":"ColdWinter!O62-'C. Winter Peak 2015-01-15'!FB62","v":0},{"$f":"ColdWinter!P62-'C. Winter Peak 2015-01-15'!FC62","v":0},{"$f":"ColdWinter!Q62-'C. Winter Peak 2015-01-15'!FD62","v":0},{"$f":"ColdWinter!R62-'C. Winter Peak 2015-01-15'!FE62","v":0},{"$f":"ColdWinter!S62-'C. Winter Peak 2015-01-15'!FF62","v":0},{"$f":"ColdWinter!T62-'C. Winter Peak 2015-01-15'!FG62","v":0},{"$f":"ColdWinter!U62-'C. Winter Peak 2015-01-15'!FH62","v":0},{"$f":"ColdWinter!V62-'C. Winter Peak 2015-01-15'!FI62","v":0},{"$f":"ColdWinter!W62-'C. Winter Peak 2015-01-15'!FJ62","v":0},{"$f":"ColdWinter!X62-'C. Winter Peak 2015-01-15'!FK62","v":0},{"$f":"ColdWinter!Y62-'C. Winter Peak 2015-01-15'!FL62","v":0},{"$f":"ColdWinter!Z62-'C. Winter Peak 2015-01-15'!FM62","v":0},{"$f":"ColdWinter!AA62-'C. Winter Peak 2015-01-15'!FN62","v":0},{"$f":"ColdWinter!AB62-'C. Winter Peak 2015-01-15'!FO62","v":0},{"$f":"ColdWinter!AC62-'C. Winter Peak 2015-01-15'!FP62","v":0},{"$f":"ColdWinter!AD62-'C. Winter Peak 2015-01-15'!FQ62","v":0},{"$f":"ColdWinter!AE62-'C. Winter Peak 2015-01-15'!FR62","v":0},{"$f":"ColdWinter!AF62-'C. Winter Peak 2015-01-15'!FS62","v":0},{"$f":"ColdWinter!AG62-'C. Winter Peak 2015-01-15'!FT62","v":0},{"$f":"ColdWinter!AH62-'C. Winter Peak 2015-01-15'!FU62","v":0},{"$f":"ColdWinter!AI62-'C. Winter Peak 2015-01-15'!FV62","v":0},{"$f":"ColdWinter!AJ62-'C. Winter Peak 2015-01-15'!FW62","v":0},{"$f":"ColdWinter!AK62-'C. Winter Peak 2015-01-15'!FX62","v":0},{"$f":"ColdWinter!AL62-'C. Winter Peak 2015-01-15'!FY62","v":0},{"$f":"ColdWinter!AM62-'C. Winter Peak 2015-01-15'!FZ62","v":0},{"$f":"ColdWinter!AN62-'C. Winter Peak 2015-01-15'!GA62","v":0},{"$f":"ColdWinter!AO62-'C. Winter Peak 2015-01-15'!GB62","v":0},{"$f":"ColdWinter!AP62-'C. Winter Peak 2015-01-15'!GC62","v":0},{"$f":"ColdWinter!AQ62-'C. Winter Peak 2015-01-15'!GD62","v":0},{"$f":"ColdWinter!AR62-'C. Winter Peak 2015-01-15'!GE62","v":0},{"$f":"ColdWinter!AS62-'C. Winter Peak 2015-01-15'!GF62","v":0},{"$f":"ColdWinter!AT62-'C. Winter Peak 2015-01-15'!GG62","v":0},{"$f":"ColdWinter!AU62-'C. Winter Peak 2015-01-15'!GH62","v":0},{"$f":"ColdWinter!AV62-'C. Winter Peak 2015-01-15'!GI62","v":0},{"$f":"ColdWinter!AW62-'C. Winter Peak 2015-01-15'!GJ62","v":0},{"$f":"ColdWinter!AX62-'C. Winter Peak 2015-01-15'!GK62","v":0},{"$f":"ColdWinter!AY62-'C. Winter Peak 2015-01-15'!GL62","v":0},{"$f":"ColdWinter!AZ62-'C. Winter Peak 2015-01-15'!GM62","v":0},{"$f":"ColdWinter!BA62-'C. Winter Peak 2015-01-15'!GN62","v":0},{"$f":"ColdWinter!BB62-'C. Winter Peak 2015-01-15'!GO62","v":0},{"$f":"ColdWinter!BC62-'C. Winter Peak 2015-01-15'!GP62","v":0},{"$f":"ColdWinter!BD62-'C. Winter Peak 2015-01-15'!GQ62","v":0},{"$f":"ColdWinter!BE62-'C. Winter Peak 2015-01-15'!GR62","v":0},{"$f":"ColdWinter!BF62-'C. Winter Peak 2015-01-15'!GS62","v":0},{"$f":"ColdWinter!BG62-'C. Winter Peak 2015-01-15'!GT62","v":0},{"$f":"ColdWinter!BH62-'C. Winter Peak 2015-01-15'!GU62","v":0},{"$f":"ColdWinter!BI62-'C. Winter Peak 2015-01-15'!GV62","v":0},{"$f":"ColdWinter!BJ62-'C. Winter Peak 2015-01-15'!GW62","v":0},{"$f":"ColdWinter!BK62-'C. Winter Peak 2015-01-15'!GX62","v":0},{"$f":"ColdWinter!BL62-'C. Winter Peak 2015-01-15'!GY62","v":0},{"$f":"ColdWinter!BM62-'C. Winter Peak 2015-01-15'!GZ62","v":0},{"$f":"ColdWinter!BN62-'C. Winter Peak 2015-01-15'!HA62","v":0},{"$f":"ColdWinter!BO62-'C. Winter Peak 2015-01-15'!HB62","v":0},{"$f":"ColdWinter!BP62-'C. Winter Peak 2015-01-15'!HC62","v":0},{"$f":"ColdWinter!BQ62-'C. Winter Peak 2015-01-15'!HD62","v":0},{"$f":"ColdWinter!BR62-'C. Winter Peak 2015-01-15'!HE62","v":0},{"$f":"ColdWinter!BS62-'C. Winter Peak 2015-01-15'!HF62","v":0},{"$f":"ColdWinter!BT62-'C. Winter Peak 2015-01-15'!HG62","v":0},{"$f":"ColdWinter!BU62-'C. Winter Peak 2015-01-15'!HH62","v":0},{"$f":"ColdWinter!BV62-'C. Winter Peak 2015-01-15'!HI62","v":0},{"$f":"ColdWinter!BW62-'C. Winter Peak 2015-01-15'!HJ62","v":0},{"$f":"ColdWinter!BX62-'C. Winter Peak 2015-01-15'!HK62","v":0},{"$f":"ColdWinter!BY62-'C. Winter Peak 2015-01-15'!HL62","v":0},{"$f":"ColdWinter!BZ62-'C. Winter Peak 2015-01-15'!HM62","v":0},{"$f":"ColdWinter!CA62-'C. Winter Peak 2015-01-15'!HN62","v":0},{"$f":"ColdWinter!CB62-'C. Winter Peak 2015-01-15'!HO62","v":0},{"$f":"ColdWinter!CC62-'C. Winter Peak 2015-01-15'!HP62","v":0},{"$f":"ColdWinter!CD62-'C. Winter Peak 2015-01-15'!HQ62","v":0},{"$f":"ColdWinter!CE62-'C. Winter Peak 2015-01-15'!HR62","v":0},{"$f":"ColdWinter!CF62-'C. Winter Peak 2015-01-15'!HS62","v":0},{"$f":"ColdWinter!CG62-'C. Winter Peak 2015-01-15'!HT62","v":0},{"$f":"ColdWinter!CH62-'C. Winter Peak 2015-01-15'!HU62","v":0},{"$f":"ColdWinter!CI62-'C. Winter Peak 2015-01-15'!HV62","v":0},{"$f":"ColdWinter!CJ62-'C. Winter Peak 2015-01-15'!HW62","v":0},{"$f":"ColdWinter!CK62-'C. Winter Peak 2015-01-15'!HX62","v":0},{"$f":"ColdWinter!CL62-'C. Winter Peak 2015-01-15'!HY62","v":0},{"$f":"ColdWinter!CM62-'C. Winter Peak 2015-01-15'!HZ62","v":0},{"$f":"ColdWinter!CN62-'C. Winter Peak 2015-01-15'!IA62","v":0},{"$f":"ColdWinter!CO62-'C. Winter Peak 2015-01-15'!IB62","v":0},{"$f":"ColdWinter!CP62-'C. Winter Peak 2015-01-15'!IC62","v":0},{"$f":"ColdWinter!CQ62-'C. Winter Peak 2015-01-15'!ID62","v":0},{"$f":"ColdWinter!CR62-'C. Winter Peak 2015-01-15'!IE62","v":0},{"$f":"ColdWinter!CS62-'C. Winter Peak 2015-01-15'!IF62","v":0},{"$f":"ColdWinter!CT62-'C. Winter Peak 2015-01-15'!IG62","v":0},{"$f":"ColdWinter!CU62-'C. Winter Peak 2015-01-15'!IH62","v":0},{"$f":"ColdWinter!CV62-'C. Winter Peak 2015-01-15'!II62","v":0},{"$f":"ColdWinter!CW62-'C. Winter Peak 2015-01-15'!IJ62","v":0},{"$f":"ColdWinter!CX62-'C. Winter Peak 2015-01-15'!IK62","v":0},{"$f":"ColdWinter!CY62-'C. Winter Peak 2015-01-15'!IL62","v":0},{"$f":"ColdWinter!CZ62-'C. Winter Peak 2015-01-15'!IM62","v":0},{"$f":"ColdWinter!DA62-'C. Winter Peak 2015-01-15'!IN62","v":0},{"$f":"ColdWinter!DB62-'C. Winter Peak 2015-01-15'!IO62","v":0},{"$f":"ColdWinter!DC62-'C. Winter Peak 2015-01-15'!IP62","v":0},{"$f":"ColdWinter!DD62-'C. Winter Peak 2015-01-15'!IQ62","v":0},{"$f":"ColdWinter!DE62-'C. Winter Peak 2015-01-15'!IR62","v":0},{"$f":"ColdWinter!DF62-'C. Winter Peak 2015-01-15'!IS62","v":0},{"$f":"ColdWinter!DG62-'C. Winter Peak 2015-01-15'!IT62","v":0},{"$f":"ColdWinter!DH62-'C. Winter Peak 2015-01-15'!IU62","v":0},{"$f":"ColdWinter!DI62-'C. Winter Peak 2015-01-15'!IV62","v":0},{"$f":"ColdWinter!DJ62-'C. Winter Peak 2015-01-15'!IW62","v":0},{"$f":"ColdWinter!DK62-'C. Winter Peak 2015-01-15'!IX62","v":0},{"$f":"ColdWinter!DL62-'C. Winter Peak 2015-01-15'!IY62","v":0},{"$f":"ColdWinter!DM62-'C. Winter Peak 2015-01-15'!IZ62","v":0},{"$f":"ColdWinter!DN62-'C. Winter Peak 2015-01-15'!JA62","v":0},{"$f":"ColdWinter!DO62-'C. Winter Peak 2015-01-15'!JB62","v":0},{"$f":"ColdWinter!DP62-'C. Winter Peak 2015-01-15'!JC62","v":0},{"$f":"ColdWinter!DQ62-'C. Winter Peak 2015-01-15'!JD62","v":0},{"$f":"ColdWinter!DR62-'C. Winter Peak 2015-01-15'!JE62","v":0},{"$f":"ColdWinter!DS62-'C. Winter Peak 2015-01-15'!JF62","v":0}]
[null,"EPU",{"$f":"ColdWinter!C63-'C. Winter Peak 2015-01-15'!EP63","v":0},{"$f":"ColdWinter!D63-'C. Winter Peak 2015-01-15'!EQ63","v":0},{"$f":"ColdWinter!E63-'C. Winter Peak 2015-01-15'!ER63","v":0},{"$f":"ColdWinter!F63-'C. Winter Peak 2015-01-15'!ES63","v":0},{"$f":"ColdWinter!G63-'C. Winter Peak 2015-01-15'!ET63","v":0},{"$f":"ColdWinter!H63-'C. Winter Peak 2015-01-15'!EU63","v":0},{"$f":"ColdWinter!I63-'C. Winter Peak 2015-01-15'!EV63","v":0},{"$f":"ColdWinter!J63-'C. Winter Peak 2015-01-15'!EW63","v":0},{"$f":"ColdWinter!K63-'C. Winter Peak 2015-01-15'!EX63","v":0},{"$f":"ColdWinter!L63-'C. Winter Peak 2015-01-15'!EY63","v":0},{"$f":"ColdWinter!M63-'C. Winter Peak 2015-01-15'!EZ63","v":0},{"$f":"ColdWinter!N63-'C. Winter Peak 2015-01-15'!FA63","v":0},{"$f":"ColdWinter!O63-'C. Winter Peak 2015-01-15'!FB63","v":0},{"$f":"ColdWinter!P63-'C. Winter Peak 2015-01-15'!FC63","v":0},{"$f":"ColdWinter!Q63-'C. Winter Peak 2015-01-15'!FD63","v":0},{"$f":"ColdWinter!R63-'C. Winter Peak 2015-01-15'!FE63","v":0},{"$f":"ColdWinter!S63-'C. Winter Peak 2015-01-15'!FF63","v":0},{"$f":"ColdWinter!T63-'C. Winter Peak 2015-01-15'!FG63","v":0},{"$f":"ColdWinter!U63-'C. Winter Peak 2015-01-15'!FH63","v":0},{"$f":"ColdWinter!V63-'C. Winter Peak 2015-01-15'!FI63","v":0},{"$f":"ColdWinter!W63-'C. Winter Peak 2015-01-15'!FJ63","v":0},{"$f":"ColdWinter!X63-'C. Winter Peak 2015-01-15'!FK63","v":0},{"$f":"ColdWinter!Y63-'C. Winter Peak 2015-01-15'!FL63","v":0},{"$f":"ColdWinter!Z63-'C. Winter Peak 2015-01-15'!FM63","v":0},{"$f":"ColdWinter!AA63-'C. Winter Peak 2015-01-15'!FN63","v":0},{"$f":"ColdWinter!AB63-'C. Winter Peak 2015-01-15'!FO63","v":0},{"$f":"ColdWinter!AC63-'C. Winter Peak 2015-01-15'!FP63","v":0},{"$f":"ColdWinter!AD63-'C. Winter Peak 2015-01-15'!FQ63","v":0},{"$f":"ColdWinter!AE63-'C. Winter Peak 2015-01-15'!FR63","v":0},{"$f":"ColdWinter!AF63-'C. Winter Peak 2015-01-15'!FS63","v":0},{"$f":"ColdWinter!AG63-'C. Winter Peak 2015-01-15'!FT63","v":0},{"$f":"ColdWinter!AH63-'C. Winter Peak 2015-01-15'!FU63","v":0},{"$f":"ColdWinter!AI63-'C. Winter Peak 2015-01-15'!FV63","v":0},{"$f":"ColdWinter!AJ63-'C. Winter Peak 2015-01-15'!FW63","v":0},{"$f":"ColdWinter!AK63-'C. Winter Peak 2015-01-15'!FX63","v":0},{"$f":"ColdWinter!AL63-'C. Winter Peak 2015-01-15'!FY63","v":0},{"$f":"ColdWinter!AM63-'C. Winter Peak 2015-01-15'!FZ63","v":0},{"$f":"ColdWinter!AN63-'C. Winter Peak 2015-01-15'!GA63","v":0},{"$f":"ColdWinter!AO63-'C. Winter Peak 2015-01-15'!GB63","v":0},{"$f":"ColdWinter!AP63-'C. Winter Peak 2015-01-15'!GC63","v":0},{"$f":"ColdWinter!AQ63-'C. Winter Peak 2015-01-15'!GD63","v":0},{"$f":"ColdWinter!AR63-'C. Winter Peak 2015-01-15'!GE63","v":0},{"$f":"ColdWinter!AS63-'C. Winter Peak 2015-01-15'!GF63","v":0},{"$f":"ColdWinter!AT63-'C. Winter Peak 2015-01-15'!GG63","v":0},{"$f":"ColdWinter!AU63-'C. Winter Peak 2015-01-15'!GH63","v":0},{"$f":"ColdWinter!AV63-'C. Winter Peak 2015-01-15'!GI63","v":0},{"$f":"ColdWinter!AW63-'C. Winter Peak 2015-01-15'!GJ63","v":0},{"$f":"ColdWinter!AX63-'C. Winter Peak 2015-01-15'!GK63","v":0},{"$f":"ColdWinter!AY63-'C. Winter Peak 2015-01-15'!GL63","v":0},{"$f":"ColdWinter!AZ63-'C. Winter Peak 2015-01-15'!GM63","v":0},{"$f":"ColdWinter!BA63-'C. Winter Peak 2015-01-15'!GN63","v":0},{"$f":"ColdWinter!BB63-'C. Winter Peak 2015-01-15'!GO63","v":0},{"$f":"ColdWinter!BC63-'C. Winter Peak 2015-01-15'!GP63","v":0},{"$f":"ColdWinter!BD63-'C. Winter Peak 2015-01-15'!GQ63","v":0},{"$f":"ColdWinter!BE63-'C. Winter Peak 2015-01-15'!GR63","v":0},{"$f":"ColdWinter!BF63-'C. Winter Peak 2015-01-15'!GS63","v":0},{"$f":"ColdWinter!BG63-'C. Winter Peak 2015-01-15'!GT63","v":0},{"$f":"ColdWinter!BH63-'C. Winter Peak 2015-01-15'!GU63","v":0},{"$f":"ColdWinter!BI63-'C. Winter Peak 2015-01-15'!GV63","v":0},{"$f":"ColdWinter!BJ63-'C. Winter Peak 2015-01-15'!GW63","v":0},{"$f":"ColdWinter!BK63-'C. Winter Peak 2015-01-15'!GX63","v":0},{"$f":"ColdWinter!BL63-'C. Winter Peak 2015-01-15'!GY63","v":0},{"$f":"ColdWinter!BM63-'C. Winter Peak 2015-01-15'!GZ63","v":0},{"$f":"ColdWinter!BN63-'C. Winter Peak 2015-01-15'!HA63","v":0},{"$f":"ColdWinter!BO63-'C. Winter Peak 2015-01-15'!HB63","v":0},{"$f":"ColdWinter!BP63-'C. Winter Peak 2015-01-15'!HC63","v":0},{"$f":"ColdWinter!BQ63-'C. Winter Peak 2015-01-15'!HD63","v":0},{"$f":"ColdWinter!BR63-'C. Winter Peak 2015-01-15'!HE63","v":0},{"$f":"ColdWinter!BS63-'C. Winter Peak 2015-01-15'!HF63","v":0},{"$f":"ColdWinter!BT63-'C. Winter Peak 2015-01-15'!HG63","v":0},{"$f":"ColdWinter!BU63-'C. Winter Peak 2015-01-15'!HH63","v":0},{"$f":"ColdWinter!BV63-'C. Winter Peak 2015-01-15'!HI63","v":0},{"$f":"ColdWinter!BW63-'C. Winter Peak 2015-01-15'!HJ63","v":0},{"$f":"ColdWinter!BX63-'C. Winter Peak 2015-01-15'!HK63","v":0},{"$f":"ColdWinter!BY63-'C. Winter Peak 2015-01-15'!HL63","v":0},{"$f":"ColdWinter!BZ63-'C. Winter Peak 2015-01-15'!HM63","v":0},{"$f":"ColdWinter!CA63-'C. Winter Peak 2015-01-15'!HN63","v":0},{"$f":"ColdWinter!CB63-'C. Winter Peak 2015-01-15'!HO63","v":0},{"$f":"ColdWinter!CC63-'C. Winter Peak 2015-01-15'!HP63","v":0},{"$f":"ColdWinter!CD63-'C. Winter Peak 2015-01-15'!HQ63","v":0},{"$f":"ColdWinter!CE63-'C. Winter Peak 2015-01-15'!HR63","v":0},{"$f":"ColdWinter!CF63-'C. Winter Peak 2015-01-15'!HS63","v":0},{"$f":"ColdWinter!CG63-'C. Winter Peak 2015-01-15'!HT63","v":0},{"$f":"ColdWinter!CH63-'C. Winter Peak 2015-01-15'!HU63","v":0},{"$f":"ColdWinter!CI63-'C. Winter Peak 2015-01-15'!HV63","v":0},{"$f":"ColdWinter!CJ63-'C. Winter Peak 2015-01-15'!HW63","v":0},{"$f":"ColdWinter!CK63-'C. Winter Peak 2015-01-15'!HX63","v":0},{"$f":"ColdWinter!CL63-'C. Winter Peak 2015-01-15'!HY63","v":0},{"$f":"ColdWinter!CM63-'C. Winter Peak 2015-01-15'!HZ63","v":0},{"$f":"ColdWinter!CN63-'C. Winter Peak 2015-01-15'!IA63","v":0},{"$f":"ColdWinter!CO63-'C. Winter Peak 2015-01-15'!IB63","v":0},{"$f":"ColdWinter!CP63-'C. Winter Peak 2015-01-15'!IC63","v":0},{"$f":"ColdWinter!CQ63-'C. Winter Peak 2015-01-15'!ID63","v":0},{"$f":"ColdWinter!CR63-'C. Winter Peak 2015-01-15'!IE63","v":0},{"$f":"ColdWinter!CS63-'C. Winter Peak 2015-01-15'!IF63","v":0},{"$f":"ColdWinter!CT63-'C. Winter Peak 2015-01-15'!IG63","v":0},{"$f":"ColdWinter!CU63-'C. Winter Peak 2015-01-15'!IH63","v":0},{"$f":"ColdWinter!CV63-'C. Winter Peak 2015-01-15'!II63","v":0},{"$f":"ColdWinter!CW63-'C. Winter Peak 2015-01-15'!IJ63","v":0},{"$f":"ColdWinter!CX63-'C. Winter Peak 2015-01-15'!IK63","v":0},{"$f":"ColdWinter!CY63-'C. Winter Peak 2015-01-15'!IL63","v":0},{"$f":"ColdWinter!CZ63-'C. Winter Peak 2015-01-15'!IM63","v":0},{"$f":"ColdWinter!DA63-'C. Winter Peak 2015-01-15'!IN63","v":0},{"$f":"ColdWinter!DB63-'C. Winter Peak 2015-01-15'!IO63","v":0},{"$f":"ColdWinter!DC63-'C. Winter Peak 2015-01-15'!IP63","v":0},{"$f":"ColdWinter!DD63-'C. Winter Peak 2015-01-15'!IQ63","v":0},{"$f":"ColdWinter!DE63-'C. Winter Peak 2015-01-15'!IR63","v":0},{"$f":"ColdWinter!DF63-'C. Winter Peak 2015-01-15'!IS63","v":0},{"$f":"ColdWinter!DG63-'C. Winter Peak 2015-01-15'!IT63","v":0},{"$f":"ColdWinter!DH63-'C. Winter Peak 2015-01-15'!IU63","v":0},{"$f":"ColdWinter!DI63-'C. Winter Peak 2015-01-15'!IV63","v":0},{"$f":"ColdWinter!DJ63-'C. Winter Peak 2015-01-15'!IW63","v":0},{"$f":"ColdWinter!DK63-'C. Winter Peak 2015-01-15'!IX63","v":0},{"$f":"ColdWinter!DL63-'C. Winter Peak 2015-01-15'!IY63","v":0},{"$f":"ColdWinter!DM63-'C. Winter Peak 2015-01-15'!IZ63","v":0},{"$f":"ColdWinter!DN63-'C. Winter Peak 2015-01-15'!JA63","v":0},{"$f":"ColdWinter!DO63-'C. Winter Peak 2015-01-15'!JB63","v":0},{"$f":"ColdWinter!DP63-'C. Winter Peak 2015-01-15'!JC63","v":0},{"$f":"ColdWinter!DQ63-'C. Winter Peak 2015-01-15'!JD63","v":0},{"$f":"ColdWinter!DR63-'C. Winter Peak 2015-01-15'!JE63","v":0},{"$f":"ColdWinter!DS63-'C. Winter Peak 2015-01-15'!JF63","v":0}]
[null,"CT Upgrade",{"$f":"ColdWinter!C64-'C. Winter Peak 2015-01-15'!EP64","v":0},{"$f":"ColdWinter!D64-'C. Winter Peak 2015-01-15'!EQ64","v":0},{"$f":"ColdWinter!E64-'C. Winter Peak 2015-01-15'!ER64","v":0},{"$f":"ColdWinter!F64-'C. Winter Peak 2015-01-15'!ES64","v":0},{"$f":"ColdWinter!G64-'C. Winter Peak 2015-01-15'!ET64","v":0},{"$f":"ColdWinter!H64-'C. Winter Peak 2015-01-15'!EU64","v":0},{"$f":"ColdWinter!I64-'C. Winter Peak 2015-01-15'!EV64","v":0},{"$f":"ColdWinter!J64-'C. Winter Peak 2015-01-15'!EW64","v":0},{"$f":"ColdWinter!K64-'C. Winter Peak 2015-01-15'!EX64","v":0},{"$f":"ColdWinter!L64-'C. Winter Peak 2015-01-15'!EY64","v":0},{"$f":"ColdWinter!M64-'C. Winter Peak 2015-01-15'!EZ64","v":0},{"$f":"ColdWinter!N64-'C. Winter Peak 2015-01-15'!FA64","v":0},{"$f":"ColdWinter!O64-'C. Winter Peak 2015-01-15'!FB64","v":0},{"$f":"ColdWinter!P64-'C. Winter Peak 2015-01-15'!FC64","v":0},{"$f":"ColdWinter!Q64-'C. Winter Peak 2015-01-15'!FD64","v":0},{"$f":"ColdWinter!R64-'C. Winter Peak 2015-01-15'!FE64","v":0},{"$f":"ColdWinter!S64-'C. Winter Peak 2015-01-15'!FF64","v":0},{"$f":"ColdWinter!T64-'C. Winter Peak 2015-01-15'!FG64","v":0},{"$f":"ColdWinter!U64-'C. Winter Peak 2015-01-15'!FH64","v":0},{"$f":"ColdWinter!V64-'C. Winter Peak 2015-01-15'!FI64","v":0},{"$f":"ColdWinter!W64-'C. Winter Peak 2015-01-15'!FJ64","v":0},{"$f":"ColdWinter!X64-'C. Winter Peak 2015-01-15'!FK64","v":0},{"$f":"ColdWinter!Y64-'C. Winter Peak 2015-01-15'!FL64","v":0},{"$f":"ColdWinter!Z64-'C. Winter Peak 2015-01-15'!FM64","v":0},{"$f":"ColdWinter!AA64-'C. Winter Peak 2015-01-15'!FN64","v":0},{"$f":"ColdWinter!AB64-'C. Winter Peak 2015-01-15'!FO64","v":0},{"$f":"ColdWinter!AC64-'C. Winter Peak 2015-01-15'!FP64","v":0},{"$f":"ColdWinter!AD64-'C. Winter Peak 2015-01-15'!FQ64","v":0},{"$f":"ColdWinter!AE64-'C. Winter Peak 2015-01-15'!FR64","v":0},{"$f":"ColdWinter!AF64-'C. Winter Peak 2015-01-15'!FS64","v":0},{"$f":"ColdWinter!AG64-'C. Winter Peak 2015-01-15'!FT64","v":0},{"$f":"ColdWinter!AH64-'C. Winter Peak 2015-01-15'!FU64","v":0},{"$f":"ColdWinter!AI64-'C. Winter Peak 2015-01-15'!FV64","v":0},{"$f":"ColdWinter!AJ64-'C. Winter Peak 2015-01-15'!FW64","v":0},{"$f":"ColdWinter!AK64-'C. Winter Peak 2015-01-15'!FX64","v":0},{"$f":"ColdWinter!AL64-'C. Winter Peak 2015-01-15'!FY64","v":0},{"$f":"ColdWinter!AM64-'C. Winter Peak 2015-01-15'!FZ64","v":0},{"$f":"ColdWinter!AN64-'C. Winter Peak 2015-01-15'!GA64","v":0},{"$f":"ColdWinter!AO64-'C. Winter Peak 2015-01-15'!GB64","v":0},{"$f":"ColdWinter!AP64-'C. Winter Peak 2015-01-15'!GC64","v":0},{"$f":"ColdWinter!AQ64-'C. Winter Peak 2015-01-15'!GD64","v":0},{"$f":"ColdWinter!AR64-'C. Winter Peak 2015-01-15'!GE64","v":0},{"$f":"ColdWinter!AS64-'C. Winter Peak 2015-01-15'!GF64","v":0},{"$f":"ColdWinter!AT64-'C. Winter Peak 2015-01-15'!GG64","v":0},{"$f":"ColdWinter!AU64-'C. Winter Peak 2015-01-15'!GH64","v":0},{"$f":"ColdWinter!AV64-'C. Winter Peak 2015-01-15'!GI64","v":0},{"$f":"ColdWinter!AW64-'C. Winter Peak 2015-01-15'!GJ64","v":0},{"$f":"ColdWinter!AX64-'C. Winter Peak 2015-01-15'!GK64","v":0},{"$f":"ColdWinter!AY64-'C. Winter Peak 2015-01-15'!GL64","v":0},{"$f":"ColdWinter!AZ64-'C. Winter Peak 2015-01-15'!GM64","v":0},{"$f":"ColdWinter!BA64-'C. Winter Peak 2015-01-15'!GN64","v":0},{"$f":"ColdWinter!BB64-'C. Winter Peak 2015-01-15'!GO64","v":0},{"$f":"ColdWinter!BC64-'C. Winter Peak 2015-01-15'!GP64","v":0},{"$f":"ColdWinter!BD64-'C. Winter Peak 2015-01-15'!GQ64","v":0},{"$f":"ColdWinter!BE64-'C. Winter Peak 2015-01-15'!GR64","v":0},{"$f":"ColdWinter!BF64-'C. Winter Peak 2015-01-15'!GS64","v":0},{"$f":"ColdWinter!BG64-'C. Winter Peak 2015-01-15'!GT64","v":0},{"$f":"ColdWinter!BH64-'C. Winter Peak 2015-01-15'!GU64","v":0},{"$f":"ColdWinter!BI64-'C. Winter Peak 2015-01-15'!GV64","v":0},{"$f":"ColdWinter!BJ64-'C. Winter Peak 2015-01-15'!GW64","v":0},{"$f":"ColdWinter!BK64-'C. Winter Peak 2015-01-15'!GX64","v":0},{"$f":"ColdWinter!BL64-'C. Winter Peak 2015-01-15'!GY64","v":0},{"$f":"ColdWinter!BM64-'C. Winter Peak 2015-01-15'!GZ64","v":0},{"$f":"ColdWinter!BN64-'C. Winter Peak 2015-01-15'!HA64","v":0},{"$f":"ColdWinter!BO64-'C. Winter Peak 2015-01-15'!HB64","v":0},{"$f":"ColdWinter!BP64-'C. Winter Peak 2015-01-15'!HC64","v":0},{"$f":"ColdWinter!BQ64-'C. Winter Peak 2015-01-15'!HD64","v":0},{"$f":"ColdWinter!BR64-'C. Winter Peak 2015-01-15'!HE64","v":0},{"$f":"ColdWinter!BS64-'C. Winter Peak 2015-01-15'!HF64","v":0},{"$f":"ColdWinter!BT64-'C. Winter Peak 2015-01-15'!HG64","v":0},{"$f":"ColdWinter!BU64-'C. Winter Peak 2015-01-15'!HH64","v":0},{"$f":"ColdWinter!BV64-'C. Winter Peak 2015-01-15'!HI64","v":0},{"$f":"ColdWinter!BW64-'C. Winter Peak 2015-01-15'!HJ64","v":0},{"$f":"ColdWinter!BX64-'C. Winter Peak 2015-01-15'!HK64","v":0},{"$f":"ColdWinter!BY64-'C. Winter Peak 2015-01-15'!HL64","v":0},{"$f":"ColdWinter!BZ64-'C. Winter Peak 2015-01-15'!HM64","v":0},{"$f":"ColdWinter!CA64-'C. Winter Peak 2015-01-15'!HN64","v":0},{"$f":"ColdWinter!CB64-'C. Winter Peak 2015-01-15'!HO64","v":0},{"$f":"ColdWinter!CC64-'C. Winter Peak 2015-01-15'!HP64","v":0},{"$f":"ColdWinter!CD64-'C. Winter Peak 2015-01-15'!HQ64","v":0},{"$f":"ColdWinter!CE64-'C. Winter Peak 2015-01-15'!HR64","v":0},{"$f":"ColdWinter!CF64-'C. Winter Peak 2015-01-15'!HS64","v":0},{"$f":"ColdWinter!CG64-'C. Winter Peak 2015-01-15'!HT64","v":0},{"$f":"ColdWinter!CH64-'C. Winter Peak 2015-01-15'!HU64","v":0},{"$f":"ColdWinter!CI64-'C. Winter Peak 2015-01-15'!HV64","v":0},{"$f":"ColdWinter!CJ64-'C. Winter Peak 2015-01-15'!HW64","v":0},{"$f":"ColdWinter!CK64-'C. Winter Peak 2015-01-15'!HX64","v":0},{"$f":"ColdWinter!CL64-'C. Winter Peak 2015-01-15'!HY64","v":0},{"$f":"ColdWinter!CM64-'C. Winter Peak 2015-01-15'!HZ64","v":0},{"$f":"ColdWinter!CN64-'C. Winter Peak 2015-01-15'!IA64","v":0},{"$f":"ColdWinter!CO64-'C. Winter Peak 2015-01-15'!IB64","v":0},{"$f":"ColdWinter!CP64-'C. Winter Peak 2015-01-15'!IC64","v":0},{"$f":"ColdWinter!CQ64-'C. Winter Peak 2015-01-15'!ID64","v":0},{"$f":"ColdWinter!CR64-'C. Winter Peak 2015-01-15'!IE64","v":0},{"$f":"ColdWinter!CS64-'C. Winter Peak 2015-01-15'!IF64","v":0},{"$f":"ColdWinter!CT64-'C. Winter Peak 2015-01-15'!IG64","v":0},{"$f":"ColdWinter!CU64-'C. Winter Peak 2015-01-15'!IH64","v":0},{"$f":"ColdWinter!CV64-'C. Winter Peak 2015-01-15'!II64","v":0},{"$f":"ColdWinter!CW64-'C. Winter Peak 2015-01-15'!IJ64","v":0},{"$f":"ColdWinter!CX64-'C. Winter Peak 2015-01-15'!IK64","v":0},{"$f":"ColdWinter!CY64-'C. Winter Peak 2015-01-15'!IL64","v":0},{"$f":"ColdWinter!CZ64-'C. Winter Peak 2015-01-15'!IM64","v":0},{"$f":"ColdWinter!DA64-'C. Winter Peak 2015-01-15'!IN64","v":0},{"$f":"ColdWinter!DB64-'C. Winter Peak 2015-01-15'!IO64","v":0},{"$f":"ColdWinter!DC64-'C. Winter Peak 2015-01-15'!IP64","v":0},{"$f":"ColdWinter!DD64-'C. Winter Peak 2015-01-15'!IQ64","v":0},{"$f":"ColdWinter!DE64-'C. Winter Peak 2015-01-15'!IR64","v":0},{"$f":"ColdWinter!DF64-'C. Winter Peak 2015-01-15'!IS64","v":0},{"$f":"ColdWinter!DG64-'C. Winter Peak 2015-01-15'!IT64","v":0},{"$f":"ColdWinter!DH64-'C. Winter Peak 2015-01-15'!IU64","v":0},{"$f":"ColdWinter!DI64-'C. Winter Peak 2015-01-15'!IV64","v":0},{"$f":"ColdWinter!DJ64-'C. Winter Peak 2015-01-15'!IW64","v":0},{"$f":"ColdWinter!DK64-'C. Winter Peak 2015-01-15'!IX64","v":0},{"$f":"ColdWinter!DL64-'C. Winter Peak 2015-01-15'!IY64","v":0},{"$f":"ColdWinter!DM64-'C. Winter Peak 2015-01-15'!IZ64","v":0},{"$f":"ColdWinter!DN64-'C. Winter Peak 2015-01-15'!JA64","v":0},{"$f":"ColdWinter!DO64-'C. Winter Peak 2015-01-15'!JB64","v":0},{"$f":"ColdWinter!DP64-'C. Winter Peak 2015-01-15'!JC64","v":0},{"$f":"ColdWinter!DQ64-'C. Winter Peak 2015-01-15'!JD64","v":0},{"$f":"ColdWinter!DR64-'C. Winter Peak 2015-01-15'!JE64","v":0},{"$f":"ColdWinter!DS64-'C. Winter Peak 2015-01-15'!JF64","v":0}]
[null,"Capability",{"$f":"ColdWinter!C65-'C. Winter Peak 2015-01-15'!EP65","v":0},{"$f":"ColdWinter!D65-'C. Winter Peak 2015-01-15'!EQ65","v":0},{"$f":"ColdWinter!E65-'C. Winter Peak 2015-01-15'!ER65","v":0},{"$f":"ColdWinter!F65-'C. Winter Peak 2015-01-15'!ES65","v":0},{"$f":"ColdWinter!G65-'C. Winter Peak 2015-01-15'!ET65","v":0},{"$f":"ColdWinter!H65-'C. Winter Peak 2015-01-15'!EU65","v":0},{"$f":"ColdWinter!I65-'C. Winter Peak 2015-01-15'!EV65","v":0},{"$f":"ColdWinter!J65-'C. Winter Peak 2015-01-15'!EW65","v":0},{"$f":"ColdWinter!K65-'C. Winter Peak 2015-01-15'!EX65","v":0},{"$f":"ColdWinter!L65-'C. Winter Peak 2015-01-15'!EY65","v":0},{"$f":"ColdWinter!M65-'C. Winter Peak 2015-01-15'!EZ65","v":0},{"$f":"ColdWinter!N65-'C. Winter Peak 2015-01-15'!FA65","v":0},{"$f":"ColdWinter!O65-'C. Winter Peak 2015-01-15'!FB65","v":0},{"$f":"ColdWinter!P65-'C. Winter Peak 2015-01-15'!FC65","v":0},{"$f":"ColdWinter!Q65-'C. Winter Peak 2015-01-15'!FD65","v":0},{"$f":"ColdWinter!R65-'C. Winter Peak 2015-01-15'!FE65","v":0},{"$f":"ColdWinter!S65-'C. Winter Peak 2015-01-15'!FF65","v":0},{"$f":"ColdWinter!T65-'C. Winter Peak 2015-01-15'!FG65","v":0},{"$f":"ColdWinter!U65-'C. Winter Peak 2015-01-15'!FH65","v":0},{"$f":"ColdWinter!V65-'C. Winter Peak 2015-01-15'!FI65","v":0},{"$f":"ColdWinter!W65-'C. Winter Peak 2015-01-15'!FJ65","v":0},{"$f":"ColdWinter!X65-'C. Winter Peak 2015-01-15'!FK65","v":0},{"$f":"ColdWinter!Y65-'C. Winter Peak 2015-01-15'!FL65","v":0},{"$f":"ColdWinter!Z65-'C. Winter Peak 2015-01-15'!FM65","v":0},{"$f":"ColdWinter!AA65-'C. Winter Peak 2015-01-15'!FN65","v":0},{"$f":"ColdWinter!AB65-'C. Winter Peak 2015-01-15'!FO65","v":0},{"$f":"ColdWinter!AC65-'C. Winter Peak 2015-01-15'!FP65","v":0},{"$f":"ColdWinter!AD65-'C. Winter Peak 2015-01-15'!FQ65","v":0},{"$f":"ColdWinter!AE65-'C. Winter Peak 2015-01-15'!FR65","v":0},{"$f":"ColdWinter!AF65-'C. Winter Peak 2015-01-15'!FS65","v":0},{"$f":"ColdWinter!AG65-'C. Winter Peak 2015-01-15'!FT65","v":0},{"$f":"ColdWinter!AH65-'C. Winter Peak 2015-01-15'!FU65","v":0},{"$f":"ColdWinter!AI65-'C. Winter Peak 2015-01-15'!FV65","v":0},{"$f":"ColdWinter!AJ65-'C. Winter Peak 2015-01-15'!FW65","v":0},{"$f":"ColdWinter!AK65-'C. Winter Peak 2015-01-15'!FX65","v":0},{"$f":"ColdWinter!AL65-'C. Winter Peak 2015-01-15'!FY65","v":0},{"$f":"ColdWinter!AM65-'C. Winter Peak 2015-01-15'!FZ65","v":0},{"$f":"ColdWinter!AN65-'C. Winter Peak 2015-01-15'!GA65","v":0},{"$f":"ColdWinter!AO65-'C. Winter Peak 2015-01-15'!GB65","v":0},{"$f":"ColdWinter!AP65-'C. Winter Peak 2015-01-15'!GC65","v":0},{"$f":"ColdWinter!AQ65-'C. Winter Peak 2015-01-15'!GD65","v":0},{"$f":"ColdWinter!AR65-'C. Winter Peak 2015-01-15'!GE65","v":0},{"$f":"ColdWinter!AS65-'C. Winter Peak 2015-01-15'!GF65","v":0},{"$f":"ColdWinter!AT65-'C. Winter Peak 2015-01-15'!GG65","v":0},{"$f":"ColdWinter!AU65-'C. Winter Peak 2015-01-15'!GH65","v":0},{"$f":"ColdWinter!AV65-'C. Winter Peak 2015-01-15'!GI65","v":0},{"$f":"ColdWinter!AW65-'C. Winter Peak 2015-01-15'!GJ65","v":0},{"$f":"ColdWinter!AX65-'C. Winter Peak 2015-01-15'!GK65","v":0},{"$f":"ColdWinter!AY65-'C. Winter Peak 2015-01-15'!GL65","v":0},{"$f":"ColdWinter!AZ65-'C. Winter Peak 2015-01-15'!GM65","v":0},{"$f":"ColdWinter!BA65-'C. Winter Peak 2015-01-15'!GN65","v":0},{"$f":"ColdWinter!BB65-'C. Winter Peak 2015-01-15'!GO65","v":0},{"$f":"ColdWinter!BC65-'C. Winter Peak 2015-01-15'!GP65","v":0},{"$f":"ColdWinter!BD65-'C. Winter Peak 2015-01-15'!GQ65","v":0},{"$f":"ColdWinter!BE65-'C. Winter Peak 2015-01-15'!GR65","v":0},{"$f":"ColdWinter!BF65-'C. Winter Peak 2015-01-15'!GS65","v":0},{"$f":"ColdWinter!BG65-'C. Winter Peak 2015-01-15'!GT65","v":0},{"$f":"ColdWinter!BH65-'C. Winter Peak 2015-01-15'!GU65","v":0},{"$f":"ColdWinter!BI65-'C. Winter Peak 2015-01-15'!GV65","v":0},{"$f":"ColdWinter!BJ65-'C. Winter Peak 2015-01-15'!GW65","v":0},{"$f":"ColdWinter!BK65-'C. Winter Peak 2015-01-15'!GX65","v":0},{"$f":"ColdWinter!BL65-'C. Winter Peak 2015-01-15'!GY65","v":0},{"$f":"ColdWinter!BM65-'C. Winter Peak 2015-01-15'!GZ65","v":0},{"$f":"ColdWinter!BN65-'C. Winter Peak 2015-01-15'!HA65","v":0},{"$f":"ColdWinter!BO65-'C. Winter Peak 2015-01-15'!HB65","v":0},{"$f":"ColdWinter!BP65-'C. Winter Peak 2015-01-15'!HC65","v":0},{"$f":"ColdWinter!BQ65-'C. Winter Peak 2015-01-15'!HD65","v":0},{"$f":"ColdWinter!BR65-'C. Winter Peak 2015-01-15'!HE65","v":0},{"$f":"ColdWinter!BS65-'C. Winter Peak 2015-01-15'!HF65","v":0},{"$f":"ColdWinter!BT65-'C. Winter Peak 2015-01-15'!HG65","v":0},{"$f":"ColdWinter!BU65-'C. Winter Peak 2015-01-15'!HH65","v":0},{"$f":"ColdWinter!BV65-'C. Winter Peak 2015-01-15'!HI65","v":0},{"$f":"ColdWinter!BW65-'C. Winter Peak 2015-01-15'!HJ65","v":0},{"$f":"ColdWinter!BX65-'C. Winter Peak 2015-01-15'!HK65","v":0},{"$f":"ColdWinter!BY65-'C. Winter Peak 2015-01-15'!HL65","v":0},{"$f":"ColdWinter!BZ65-'C. Winter Peak 2015-01-15'!HM65","v":0},{"$f":"ColdWinter!CA65-'C. Winter Peak 2015-01-15'!HN65","v":0},{"$f":"ColdWinter!CB65-'C. Winter Peak 2015-01-15'!HO65","v":0},{"$f":"ColdWinter!CC65-'C. Winter Peak 2015-01-15'!HP65","v":0},{"$f":"ColdWinter!CD65-'C. Winter Peak 2015-01-15'!HQ65","v":0},{"$f":"ColdWinter!CE65-'C. Winter Peak 2015-01-15'!HR65","v":0},{"$f":"ColdWinter!CF65-'C. Winter Peak 2015-01-15'!HS65","v":0},{"$f":"ColdWinter!CG65-'C. Winter Peak 2015-01-15'!HT65","v":0},{"$f":"ColdWinter!CH65-'C. Winter Peak 2015-01-15'!HU65","v":0},{"$f":"ColdWinter!CI65-'C. Winter Peak 2015-01-15'!HV65","v":0},{"$f":"ColdWinter!CJ65-'C. Winter Peak 2015-01-15'!HW65","v":0},{"$f":"ColdWinter!CK65-'C. Winter Peak 2015-01-15'!HX65","v":0},{"$f":"ColdWinter!CL65-'C. Winter Peak 2015-01-15'!HY65","v":0},{"$f":"ColdWinter!CM65-'C. Winter Peak 2015-01-15'!HZ65","v":0},{"$f":"ColdWinter!CN65-'C. Winter Peak 2015-01-15'!IA65","v":0},{"$f":"ColdWinter!CO65-'C. Winter Peak 2015-01-15'!IB65","v":0},{"$f":"ColdWinter!CP65-'C. Winter Peak 2015-01-15'!IC65","v":0},{"$f":"ColdWinter!CQ65-'C. Winter Peak 2015-01-15'!ID65","v":0},{"$f":"ColdWinter!CR65-'C. Winter Peak 2015-01-15'!IE65","v":0},{"$f":"ColdWinter!CS65-'C. Winter Peak 2015-01-15'!IF65","v":0},{"$f":"ColdWinter!CT65-'C. Winter Peak 2015-01-15'!IG65","v":0},{"$f":"ColdWinter!CU65-'C. Winter Peak 2015-01-15'!IH65","v":0},{"$f":"ColdWinter!CV65-'C. Winter Peak 2015-01-15'!II65","v":0},{"$f":"ColdWinter!CW65-'C. Winter Peak 2015-01-15'!IJ65","v":0},{"$f":"ColdWinter!CX65-'C. Winter Peak 2015-01-15'!IK65","v":0},{"$f":"ColdWinter!CY65-'C. Winter Peak 2015-01-15'!IL65","v":0},{"$f":"ColdWinter!CZ65-'C. Winter Peak 2015-01-15'!IM65","v":0},{"$f":"ColdWinter!DA65-'C. Winter Peak 2015-01-15'!IN65","v":0},{"$f":"ColdWinter!DB65-'C. Winter Peak 2015-01-15'!IO65","v":0},{"$f":"ColdWinter!DC65-'C. Winter Peak 2015-01-15'!IP65","v":0},{"$f":"ColdWinter!DD65-'C. Winter Peak 2015-01-15'!IQ65","v":0},{"$f":"ColdWinter!DE65-'C. Winter Peak 2015-01-15'!IR65","v":0},{"$f":"ColdWinter!DF65-'C. Winter Peak 2015-01-15'!IS65","v":0},{"$f":"ColdWinter!DG65-'C. Winter Peak 2015-01-15'!IT65","v":0},{"$f":"ColdWinter!DH65-'C. Winter Peak 2015-01-15'!IU65","v":0},{"$f":"ColdWinter!DI65-'C. Winter Peak 2015-01-15'!IV65","v":0},{"$f":"ColdWinter!DJ65-'C. Winter Peak 2015-01-15'!IW65","v":0},{"$f":"ColdWinter!DK65-'C. Winter Peak 2015-01-15'!IX65","v":0},{"$f":"ColdWinter!DL65-'C. Winter Peak 2015-01-15'!IY65","v":0},{"$f":"ColdWinter!DM65-'C. Winter Peak 2015-01-15'!IZ65","v":0},{"$f":"ColdWinter!DN65-'C. Winter Peak 2015-01-15'!JA65","v":0},{"$f":"ColdWinter!DO65-'C. Winter Peak 2015-01-15'!JB65","v":0},{"$f":"ColdWinter!DP65-'C. Winter Peak 2015-01-15'!JC65","v":0},{"$f":"ColdWinter!DQ65-'C. Winter Peak 2015-01-15'!JD65","v":0},{"$f":"ColdWinter!DR65-'C. Winter Peak 2015-01-15'!JE65","v":0},{"$f":"ColdWinter!DS65-'C. Winter Peak 2015-01-15'!JF65","v":0}]
[null,"Temp",{"$f":"ColdWinter!C66-'C. Winter Peak 2015-01-15'!EP66","v":0},{"$f":"ColdWinter!D66-'C. Winter Peak 2015-01-15'!EQ66","v":0},{"$f":"ColdWinter!E66-'C. Winter Peak 2015-01-15'!ER66","v":0},{"$f":"ColdWinter!F66-'C. Winter Peak 2015-01-15'!ES66","v":0},{"$f":"ColdWinter!G66-'C. Winter Peak 2015-01-15'!ET66","v":0},{"$f":"ColdWinter!H66-'C. Winter Peak 2015-01-15'!EU66","v":0},{"$f":"ColdWinter!I66-'C. Winter Peak 2015-01-15'!EV66","v":0},{"$f":"ColdWinter!J66-'C. Winter Peak 2015-01-15'!EW66","v":0},{"$f":"ColdWinter!K66-'C. Winter Peak 2015-01-15'!EX66","v":0},{"$f":"ColdWinter!L66-'C. Winter Peak 2015-01-15'!EY66","v":0},{"$f":"ColdWinter!M66-'C. Winter Peak 2015-01-15'!EZ66","v":0},{"$f":"ColdWinter!N66-'C. Winter Peak 2015-01-15'!FA66","v":0},{"$f":"ColdWinter!O66-'C. Winter Peak 2015-01-15'!FB66","v":0},{"$f":"ColdWinter!P66-'C. Winter Peak 2015-01-15'!FC66","v":0},{"$f":"ColdWinter!Q66-'C. Winter Peak 2015-01-15'!FD66","v":0},{"$f":"ColdWinter!R66-'C. Winter Peak 2015-01-15'!FE66","v":0},{"$f":"ColdWinter!S66-'C. Winter Peak 2015-01-15'!FF66","v":0},{"$f":"ColdWinter!T66-'C. Winter Peak 2015-01-15'!FG66","v":0},{"$f":"ColdWinter!U66-'C. Winter Peak 2015-01-15'!FH66","v":0},{"$f":"ColdWinter!V66-'C. Winter Peak 2015-01-15'!FI66","v":0},{"$f":"ColdWinter!W66-'C. Winter Peak 2015-01-15'!FJ66","v":0},{"$f":"ColdWinter!X66-'C. Winter Peak 2015-01-15'!FK66","v":0},{"$f":"ColdWinter!Y66-'C. Winter Peak 2015-01-15'!FL66","v":0},{"$f":"ColdWinter!Z66-'C. Winter Peak 2015-01-15'!FM66","v":0},{"$f":"ColdWinter!AA66-'C. Winter Peak 2015-01-15'!FN66","v":0},{"$f":"ColdWinter!AB66-'C. Winter Peak 2015-01-15'!FO66","v":0},{"$f":"ColdWinter!AC66-'C. Winter Peak 2015-01-15'!FP66","v":0},{"$f":"ColdWinter!AD66-'C. Winter Peak 2015-01-15'!FQ66","v":0},{"$f":"ColdWinter!AE66-'C. Winter Peak 2015-01-15'!FR66","v":0},{"$f":"ColdWinter!AF66-'C. Winter Peak 2015-01-15'!FS66","v":0},{"$f":"ColdWinter!AG66-'C. Winter Peak 2015-01-15'!FT66","v":0},{"$f":"ColdWinter!AH66-'C. Winter Peak 2015-01-15'!FU66","v":0},{"$f":"ColdWinter!AI66-'C. Winter Peak 2015-01-15'!FV66","v":0},{"$f":"ColdWinter!AJ66-'C. Winter Peak 2015-01-15'!FW66","v":0},{"$f":"ColdWinter!AK66-'C. Winter Peak 2015-01-15'!FX66","v":0},{"$f":"ColdWinter!AL66-'C. Winter Peak 2015-01-15'!FY66","v":0},{"$f":"ColdWinter!AM66-'C. Winter Peak 2015-01-15'!FZ66","v":0},{"$f":"ColdWinter!AN66-'C. Winter Peak 2015-01-15'!GA66","v":0},{"$f":"ColdWinter!AO66-'C. Winter Peak 2015-01-15'!GB66","v":0},{"$f":"ColdWinter!AP66-'C. Winter Peak 2015-01-15'!GC66","v":0},{"$f":"ColdWinter!AQ66-'C. Winter Peak 2015-01-15'!GD66","v":0},{"$f":"ColdWinter!AR66-'C. Winter Peak 2015-01-15'!GE66","v":0},{"$f":"ColdWinter!AS66-'C. Winter Peak 2015-01-15'!GF66","v":0},{"$f":"ColdWinter!AT66-'C. Winter Peak 2015-01-15'!GG66","v":0},{"$f":"ColdWinter!AU66-'C. Winter Peak 2015-01-15'!GH66","v":0},{"$f":"ColdWinter!AV66-'C. Winter Peak 2015-01-15'!GI66","v":0},{"$f":"ColdWinter!AW66-'C. Winter Peak 2015-01-15'!GJ66","v":0},{"$f":"ColdWinter!AX66-'C. Winter Peak 2015-01-15'!GK66","v":0},{"$f":"ColdWinter!AY66-'C. Winter Peak 2015-01-15'!GL66","v":0},{"$f":"ColdWinter!AZ66-'C. Winter Peak 2015-01-15'!GM66","v":0},{"$f":"ColdWinter!BA66-'C. Winter Peak 2015-01-15'!GN66","v":0},{"$f":"ColdWinter!BB66-'C. Winter Peak 2015-01-15'!GO66","v":0},{"$f":"ColdWinter!BC66-'C. Winter Peak 2015-01-15'!GP66","v":0},{"$f":"ColdWinter!BD66-'C. Winter Peak 2015-01-15'!GQ66","v":0},{"$f":"ColdWinter!BE66-'C. Winter Peak 2015-01-15'!GR66","v":0},{"$f":"ColdWinter!BF66-'C. Winter Peak 2015-01-15'!GS66","v":0},{"$f":"ColdWinter!BG66-'C. Winter Peak 2015-01-15'!GT66","v":0},{"$f":"ColdWinter!BH66-'C. Winter Peak 2015-01-15'!GU66","v":0},{"$f":"ColdWinter!BI66-'C. Winter Peak 2015-01-15'!GV66","v":0},{"$f":"ColdWinter!BJ66-'C. Winter Peak 2015-01-15'!GW66","v":0},{"$f":"ColdWinter!BK66-'C. Winter Peak 2015-01-15'!GX66","v":0},{"$f":"ColdWinter!BL66-'C. Winter Peak 2015-01-15'!GY66","v":0},{"$f":"ColdWinter!BM66-'C. Winter Peak 2015-01-15'!GZ66","v":0},{"$f":"ColdWinter!BN66-'C. Winter Peak 2015-01-15'!HA66","v":0},{"$f":"ColdWinter!BO66-'C. Winter Peak 2015-01-15'!HB66","v":0},{"$f":"ColdWinter!BP66-'C. Winter Peak 2015-01-15'!HC66","v":0},{"$f":"ColdWinter!BQ66-'C. Winter Peak 2015-01-15'!HD66","v":0},{"$f":"ColdWinter!BR66-'C. Winter Peak 2015-01-15'!HE66","v":0},{"$f":"ColdWinter!BS66-'C. Winter Peak 2015-01-15'!HF66","v":0},{"$f":"ColdWinter!BT66-'C. Winter Peak 2015-01-15'!HG66","v":0},{"$f":"ColdWinter!BU66-'C. Winter Peak 2015-01-15'!HH66","v":0},{"$f":"ColdWinter!BV66-'C. Winter Peak 2015-01-15'!HI66","v":0},{"$f":"ColdWinter!BW66-'C. Winter Peak 2015-01-15'!HJ66","v":0},{"$f":"ColdWinter!BX66-'C. Winter Peak 2015-01-15'!HK66","v":0},{"$f":"ColdWinter!BY66-'C. Winter Peak 2015-01-15'!HL66","v":0},{"$f":"ColdWinter!BZ66-'C. Winter Peak 2015-01-15'!HM66","v":0},{"$f":"ColdWinter!CA66-'C. Winter Peak 2015-01-15'!HN66","v":0},{"$f":"ColdWinter!CB66-'C. Winter Peak 2015-01-15'!HO66","v":0},{"$f":"ColdWinter!CC66-'C. Winter Peak 2015-01-15'!HP66","v":0},{"$f":"ColdWinter!CD66-'C. Winter Peak 2015-01-15'!HQ66","v":0},{"$f":"ColdWinter!CE66-'C. Winter Peak 2015-01-15'!HR66","v":0},{"$f":"ColdWinter!CF66-'C. Winter Peak 2015-01-15'!HS66","v":0},{"$f":"ColdWinter!CG66-'C. Winter Peak 2015-01-15'!HT66","v":0},{"$f":"ColdWinter!CH66-'C. Winter Peak 2015-01-15'!HU66","v":0},{"$f":"ColdWinter!CI66-'C. Winter Peak 2015-01-15'!HV66","v":0},{"$f":"ColdWinter!CJ66-'C. Winter Peak 2015-01-15'!HW66","v":0},{"$f":"ColdWinter!CK66-'C. Winter Peak 2015-01-15'!HX66","v":0},{"$f":"ColdWinter!CL66-'C. Winter Peak 2015-01-15'!HY66","v":0},{"$f":"ColdWinter!CM66-'C. Winter Peak 2015-01-15'!HZ66","v":0},{"$f":"ColdWinter!CN66-'C. Winter Peak 2015-01-15'!IA66","v":0},{"$f":"ColdWinter!CO66-'C. Winter Peak 2015-01-15'!IB66","v":0},{"$f":"ColdWinter!CP66-'C. Winter Peak 2015-01-15'!IC66","v":0},{"$f":"ColdWinter!CQ66-'C. Winter Peak 2015-01-15'!ID66","v":0},{"$f":"ColdWinter!CR66-'C. Winter Peak 2015-01-15'!IE66","v":0},{"$f":"ColdWinter!CS66-'C. Winter Peak 2015-01-15'!IF66","v":0},{"$f":"ColdWinter!CT66-'C. Winter Peak 2015-01-15'!IG66","v":0},{"$f":"ColdWinter!CU66-'C. Winter Peak 2015-01-15'!IH66","v":0},{"$f":"ColdWinter!CV66-'C. Winter Peak 2015-01-15'!II66","v":0},{"$f":"ColdWinter!CW66-'C. Winter Peak 2015-01-15'!IJ66","v":0},{"$f":"ColdWinter!CX66-'C. Winter Peak 2015-01-15'!IK66","v":0},{"$f":"ColdWinter!CY66-'C. Winter Peak 2015-01-15'!IL66","v":0},{"$f":"ColdWinter!CZ66-'C. Winter Peak 2015-01-15'!IM66","v":0},{"$f":"ColdWinter!DA66-'C. Winter Peak 2015-01-15'!IN66","v":0},{"$f":"ColdWinter!DB66-'C. Winter Peak 2015-01-15'!IO66","v":0},{"$f":"ColdWinter!DC66-'C. Winter Peak 2015-01-15'!IP66","v":0},{"$f":"ColdWinter!DD66-'C. Winter Peak 2015-01-15'!IQ66","v":0},{"$f":"ColdWinter!DE66-'C. Winter Peak 2015-01-15'!IR66","v":0},{"$f":"ColdWinter!DF66-'C. Winter Peak 2015-01-15'!IS66","v":0},{"$f":"ColdWinter!DG66-'C. Winter Peak 2015-01-15'!IT66","v":0},{"$f":"ColdWinter!DH66-'C. Winter Peak 2015-01-15'!IU66","v":0},{"$f":"ColdWinter!DI66-'C. Winter Peak 2015-01-15'!IV66","v":0},{"$f":"ColdWinter!DJ66-'C. Winter Peak 2015-01-15'!IW66","v":0},{"$f":"ColdWinter!DK66-'C. Winter Peak 2015-01-15'!IX66","v":0},{"$f":"ColdWinter!DL66-'C. Winter Peak 2015-01-15'!IY66","v":0},{"$f":"ColdWinter!DM66-'C. Winter Peak 2015-01-15'!IZ66","v":0},{"$f":"ColdWinter!DN66-'C. Winter Peak 2015-01-15'!JA66","v":0},{"$f":"ColdWinter!DO66-'C. Winter Peak 2015-01-15'!JB66","v":0},{"$f":"ColdWinter!DP66-'C. Winter Peak 2015-01-15'!JC66","v":0},{"$f":"ColdWinter!DQ66-'C. Winter Peak 2015-01-15'!JD66","v":0},{"$f":"ColdWinter!DR66-'C. Winter Peak 2015-01-15'!JE66","v":0},{"$f":"ColdWinter!DS66-'C. Winter Peak 2015-01-15'!JF66","v":0}]
[null,"Retired",{"$f":"ColdWinter!C67-'C. Winter Peak 2015-01-15'!EP67","v":0},{"$f":"ColdWinter!D67-'C. Winter Peak 2015-01-15'!EQ67","v":0},{"$f":"ColdWinter!E67-'C. Winter Peak 2015-01-15'!ER67","v":0},{"$f":"ColdWinter!F67-'C. Winter Peak 2015-01-15'!ES67","v":0},{"$f":"ColdWinter!G67-'C. Winter Peak 2015-01-15'!ET67","v":0},{"$f":"ColdWinter!H67-'C. Winter Peak 2015-01-15'!EU67","v":0},{"$f":"ColdWinter!I67-'C. Winter Peak 2015-01-15'!EV67","v":0},{"$f":"ColdWinter!J67-'C. Winter Peak 2015-01-15'!EW67","v":0},{"$f":"ColdWinter!K67-'C. Winter Peak 2015-01-15'!EX67","v":0},{"$f":"ColdWinter!L67-'C. Winter Peak 2015-01-15'!EY67","v":0},{"$f":"ColdWinter!M67-'C. Winter Peak 2015-01-15'!EZ67","v":0},{"$f":"ColdWinter!N67-'C. Winter Peak 2015-01-15'!FA67","v":0},{"$f":"ColdWinter!O67-'C. Winter Peak 2015-01-15'!FB67","v":0},{"$f":"ColdWinter!P67-'C. Winter Peak 2015-01-15'!FC67","v":0},{"$f":"ColdWinter!Q67-'C. Winter Peak 2015-01-15'!FD67","v":0},{"$f":"ColdWinter!R67-'C. Winter Peak 2015-01-15'!FE67","v":0},{"$f":"ColdWinter!S67-'C. Winter Peak 2015-01-15'!FF67","v":0},{"$f":"ColdWinter!T67-'C. Winter Peak 2015-01-15'!FG67","v":0},{"$f":"ColdWinter!U67-'C. Winter Peak 2015-01-15'!FH67","v":0},{"$f":"ColdWinter!V67-'C. Winter Peak 2015-01-15'!FI67","v":0},{"$f":"ColdWinter!W67-'C. Winter Peak 2015-01-15'!FJ67","v":0},{"$f":"ColdWinter!X67-'C. Winter Peak 2015-01-15'!FK67","v":0},{"$f":"ColdWinter!Y67-'C. Winter Peak 2015-01-15'!FL67","v":0},{"$f":"ColdWinter!Z67-'C. Winter Peak 2015-01-15'!FM67","v":0},{"$f":"ColdWinter!AA67-'C. Winter Peak 2015-01-15'!FN67","v":0},{"$f":"ColdWinter!AB67-'C. Winter Peak 2015-01-15'!FO67","v":0},{"$f":"ColdWinter!AC67-'C. Winter Peak 2015-01-15'!FP67","v":0},{"$f":"ColdWinter!AD67-'C. Winter Peak 2015-01-15'!FQ67","v":0},{"$f":"ColdWinter!AE67-'C. Winter Peak 2015-01-15'!FR67","v":0},{"$f":"ColdWinter!AF67-'C. Winter Peak 2015-01-15'!FS67","v":0},{"$f":"ColdWinter!AG67-'C. Winter Peak 2015-01-15'!FT67","v":0},{"$f":"ColdWinter!AH67-'C. Winter Peak 2015-01-15'!FU67","v":0},{"$f":"ColdWinter!AI67-'C. Winter Peak 2015-01-15'!FV67","v":0},{"$f":"ColdWinter!AJ67-'C. Winter Peak 2015-01-15'!FW67","v":0},{"$f":"ColdWinter!AK67-'C. Winter Peak 2015-01-15'!FX67","v":0},{"$f":"ColdWinter!AL67-'C. Winter Peak 2015-01-15'!FY67","v":0},{"$f":"ColdWinter!AM67-'C. Winter Peak 2015-01-15'!FZ67","v":0},{"$f":"ColdWinter!AN67-'C. Winter Peak 2015-01-15'!GA67","v":0},{"$f":"ColdWinter!AO67-'C. Winter Peak 2015-01-15'!GB67","v":0},{"$f":"ColdWinter!AP67-'C. Winter Peak 2015-01-15'!GC67","v":0},{"$f":"ColdWinter!AQ67-'C. Winter Peak 2015-01-15'!GD67","v":0},{"$f":"ColdWinter!AR67-'C. Winter Peak 2015-01-15'!GE67","v":0},{"$f":"ColdWinter!AS67-'C. Winter Peak 2015-01-15'!GF67","v":0},{"$f":"ColdWinter!AT67-'C. Winter Peak 2015-01-15'!GG67","v":0},{"$f":"ColdWinter!AU67-'C. Winter Peak 2015-01-15'!GH67","v":0},{"$f":"ColdWinter!AV67-'C. Winter Peak 2015-01-15'!GI67","v":0},{"$f":"ColdWinter!AW67-'C. Winter Peak 2015-01-15'!GJ67","v":0},{"$f":"ColdWinter!AX67-'C. Winter Peak 2015-01-15'!GK67","v":0},{"$f":"ColdWinter!AY67-'C. Winter Peak 2015-01-15'!GL67","v":0},{"$f":"ColdWinter!AZ67-'C. Winter Peak 2015-01-15'!GM67","v":0},{"$f":"ColdWinter!BA67-'C. Winter Peak 2015-01-15'!GN67","v":0},{"$f":"ColdWinter!BB67-'C. Winter Peak 2015-01-15'!GO67","v":0},{"$f":"ColdWinter!BC67-'C. Winter Peak 2015-01-15'!GP67","v":0},{"$f":"ColdWinter!BD67-'C. Winter Peak 2015-01-15'!GQ67","v":0},{"$f":"ColdWinter!BE67-'C. Winter Peak 2015-01-15'!GR67","v":0},{"$f":"ColdWinter!BF67-'C. Winter Peak 2015-01-15'!GS67","v":0},{"$f":"ColdWinter!BG67-'C. Winter Peak 2015-01-15'!GT67","v":0},{"$f":"ColdWinter!BH67-'C. Winter Peak 2015-01-15'!GU67","v":0},{"$f":"ColdWinter!BI67-'C. Winter Peak 2015-01-15'!GV67","v":0},{"$f":"ColdWinter!BJ67-'C. Winter Peak 2015-01-15'!GW67","v":0},{"$f":"ColdWinter!BK67-'C. Winter Peak 2015-01-15'!GX67","v":0},{"$f":"ColdWinter!BL67-'C. Winter Peak 2015-01-15'!GY67","v":0},{"$f":"ColdWinter!BM67-'C. Winter Peak 2015-01-15'!GZ67","v":0},{"$f":"ColdWinter!BN67-'C. Winter Peak 2015-01-15'!HA67","v":0},{"$f":"ColdWinter!BO67-'C. Winter Peak 2015-01-15'!HB67","v":0},{"$f":"ColdWinter!BP67-'C. Winter Peak 2015-01-15'!HC67","v":0},{"$f":"ColdWinter!BQ67-'C. Winter Peak 2015-01-15'!HD67","v":0},{"$f":"ColdWinter!BR67-'C. Winter Peak 2015-01-15'!HE67","v":0},{"$f":"ColdWinter!BS67-'C. Winter Peak 2015-01-15'!HF67","v":0},{"$f":"ColdWinter!BT67-'C. Winter Peak 2015-01-15'!HG67","v":0},{"$f":"ColdWinter!BU67-'C. Winter Peak 2015-01-15'!HH67","v":0},{"$f":"ColdWinter!BV67-'C. Winter Peak 2015-01-15'!HI67","v":0},{"$f":"ColdWinter!BW67-'C. Winter Peak 2015-01-15'!HJ67","v":0},{"$f":"ColdWinter!BX67-'C. Winter Peak 2015-01-15'!HK67","v":0},{"$f":"ColdWinter!BY67-'C. Winter Peak 2015-01-15'!HL67","v":0},{"$f":"ColdWinter!BZ67-'C. Winter Peak 2015-01-15'!HM67","v":0},{"$f":"ColdWinter!CA67-'C. Winter Peak 2015-01-15'!HN67","v":0},{"$f":"ColdWinter!CB67-'C. Winter Peak 2015-01-15'!HO67","v":0},{"$f":"ColdWinter!CC67-'C. Winter Peak 2015-01-15'!HP67","v":0},{"$f":"ColdWinter!CD67-'C. Winter Peak 2015-01-15'!HQ67","v":0},{"$f":"ColdWinter!CE67-'C. Winter Peak 2015-01-15'!HR67","v":0},{"$f":"ColdWinter!CF67-'C. Winter Peak 2015-01-15'!HS67","v":0},{"$f":"ColdWinter!CG67-'C. Winter Peak 2015-01-15'!HT67","v":0},{"$f":"ColdWinter!CH67-'C. Winter Peak 2015-01-15'!HU67","v":0},{"$f":"ColdWinter!CI67-'C. Winter Peak 2015-01-15'!HV67","v":0},{"$f":"ColdWinter!CJ67-'C. Winter Peak 2015-01-15'!HW67","v":0},{"$f":"ColdWinter!CK67-'C. Winter Peak 2015-01-15'!HX67","v":0},{"$f":"ColdWinter!CL67-'C. Winter Peak 2015-01-15'!HY67","v":0},{"$f":"ColdWinter!CM67-'C. Winter Peak 2015-01-15'!HZ67","v":0},{"$f":"ColdWinter!CN67-'C. Winter Peak 2015-01-15'!IA67","v":0},{"$f":"ColdWinter!CO67-'C. Winter Peak 2015-01-15'!IB67","v":0},{"$f":"ColdWinter!CP67-'C. Winter Peak 2015-01-15'!IC67","v":0},{"$f":"ColdWinter!CQ67-'C. Winter Peak 2015-01-15'!ID67","v":0},{"$f":"ColdWinter!CR67-'C. Winter Peak 2015-01-15'!IE67","v":0},{"$f":"ColdWinter!CS67-'C. Winter Peak 2015-01-15'!IF67","v":0},{"$f":"ColdWinter!CT67-'C. Winter Peak 2015-01-15'!IG67","v":0},{"$f":"ColdWinter!CU67-'C. Winter Peak 2015-01-15'!IH67","v":0},{"$f":"ColdWinter!CV67-'C. Winter Peak 2015-01-15'!II67","v":0},{"$f":"ColdWinter!CW67-'C. Winter Peak 2015-01-15'!IJ67","v":0},{"$f":"ColdWinter!CX67-'C. Winter Peak 2015-01-15'!IK67","v":0},{"$f":"ColdWinter!CY67-'C. Winter Peak 2015-01-15'!IL67","v":0},{"$f":"ColdWinter!CZ67-'C. Winter Peak 2015-01-15'!IM67","v":0},{"$f":"ColdWinter!DA67-'C. Winter Peak 2015-01-15'!IN67","v":0},{"$f":"ColdWinter!DB67-'C. Winter Peak 2015-01-15'!IO67","v":0},{"$f":"ColdWinter!DC67-'C. Winter Peak 2015-01-15'!IP67","v":0},{"$f":"ColdWinter!DD67-'C. Winter Peak 2015-01-15'!IQ67","v":0},{"$f":"ColdWinter!DE67-'C. Winter Peak 2015-01-15'!IR67","v":0},{"$f":"ColdWinter!DF67-'C. Winter Peak 2015-01-15'!IS67","v":0},{"$f":"ColdWinter!DG67-'C. Winter Peak 2015-01-15'!IT67","v":0},{"$f":"ColdWinter!DH67-'C. Winter Peak 2015-01-15'!IU67","v":0},{"$f":"ColdWinter!DI67-'C. Winter Peak 2015-01-15'!IV67","v":0},{"$f":"ColdWinter!DJ67-'C. Winter Peak 2015-01-15'!IW67","v":0},{"$f":"ColdWinter!DK67-'C. Winter Peak 2015-01-15'!IX67","v":0},{"$f":"ColdWinter!DL67-'C. Winter Peak 2015-01-15'!IY67","v":0},{"$f":"ColdWinter!DM67-'C. Winter Peak 2015-01-15'!IZ67","v":0},{"$f":"ColdWinter!DN67-'C. Winter Peak 2015-01-15'!JA67","v":0},{"$f":"ColdWinter!DO67-'C. Winter Peak 2015-01-15'!JB67","v":0},{"$f":"ColdWinter!DP67-'C. Winter Peak 2015-01-15'!JC67","v":0},{"$f":"ColdWinter!DQ67-'C. Winter Peak 2015-01-15'!JD67","v":0},{"$f":"ColdWinter!DR67-'C. Winter Peak 2015-01-15'!JE67","v":0},{"$f":"ColdWinter!DS67-'C. Winter Peak 2015-01-15'!JF67","v":0},{"$f":"SUM(C4:DS67)","v":15189}]
[null,"Cap Letter"]
[]
[null,null,null,null,null,null,null,null,null,null,null,null,null,null,{"$f":"O59-SUM(O9,O39)","v":0},null,null,null,null,null,null,null,null,null,null,null,{"$f":"AA59-SUM(AA9,AA39)","v":0},null,null,null,null,null,null,null,null,null,null,null,{"$f":"AM59-SUM(AM9,AM39)","v":83},null,null,null,null,null,null,null,null,null,null,null,{"$f":"AY59-SUM(AY9,AY39)","v":83},null,null,null,null,null,null,null,null,null,null,null,{"$f":"BK59-SUM(BK9,BK39)","v":83},null,null,null,null,null,null,null,null,null,null,null,{"$f":"BW59-SUM(BW9,BW39)","v":83},null,null,null,null,null,null,null,null,null,null,null,{"$f":"CI59-SUM(CI9,CI39)","v":83},null,null,null,null,null,null,null,null,null,null,null,{"$f":"CU59-SUM(CU9,CU39)","v":83},null,null,null,null,null,null,null,null,null,null,null,{"$f":"DG59-SUM(DG9,DG39)","v":83},null,null,null,null,null,null,null,null,null,null,null,{"$f":"DS59-SUM(DS9,DS39)","v":83}]
[null,null,{"$f":"C59-C47","v":0}]

{"sheet":"FPL System Capability (winter)","index":6,"n_rows":99,"n_cols":25,"rows_kept":99,"cut":false,"hidden":false,"merged":[[22,20,24,24],[25,20,29,24],[31,19,31,24],[98,0,98,5],[0,1,0,5],[0,19,0,24],[1,1,1,5],[1,8,1,12],[1,19,1,24],[5,8,5,12]]}
["OPC 006107","POWER PLANT CAPABILITY",null,null,null,null,null,null,"DRM summary by type of generating unit",null,null,null,null,null,null,null,null,"Total",null,"FPL System Capacity"]
["FPL RC-16","2014-12-31",null,null,null,null,null,"Sub-total",{"$f":"SUM(I4:M4)","v":24194},null,null,null,null,{"$f":"N4","v":2439},{"$f":"O4","v":35},{"$f":"SUM(I2:O2)","v":26668},null,null,null,{"$f":"B2","v":"2014-12-31"}]
[null,null,null,null,null,null,null,"# Units",{"$f":"COUNT(I8:I73)","v":4},{"$f":"COUNT(J8:J73)","v":6},{"$f":"COUNT(K8:K73)","v":14},{"$f":"COUNT(L8:L73)","v":0},{"$f":"COUNT(M8:M73)","v":3},{"$f":"SUMIF(N8:N73,\">1\",H8:H71)","v":50},{"$f":"COUNT(O8:O73)","v":2},{"$f":"SUM(I3:O3)","v":79},"Purchase Power",null,null,null,null,null,"# of Units","Megawatts","% of Total"]
[null,null,null,null,null,null,null,"Capacity",{"$f":"SUM(I8:I73)","v":3550},{"$f":"SUM(J8:J73)","v":5902},{"$f":"SUM(K8:K73)","v":13831},{"$f":"SUM(L8:L73)","v":0},{"$f":"SUM(M8:M74)","v":911},{"$f":"SUM(N8:N74)","v":2439},{"$f":"SUM(O8:O74)","v":35},{"$f":"SUM(I4:O4)","v":26668},1963,{"$f":"Q4+P4","v":28631},null,"Owned Baseload and Intermediate Capacity"]
[null,"Firm Capability",null,null,"Cold Winter Peak",null,null,"% of Total",{"$f":"I4/$E$77","v":0.13311834408279585},0.22131393430328483,0.51863656817159143,0,3.4160791960401983E-2,9.1457927103644823E-2,1.3124343782810861E-3,{"$f":"SUM(I5:O5)","v":1},{"$f":"Q4/R4","v":6.856204812964968E-2},null,null,null,"Nuclear",null,{"$f":"I3","v":4},{"$f":"I4","v":3550},{"$f":"X5/$X$20","v":0.12399147776885194}]
[null,"Unit","Unit #","Type","Megawatts (1)","Commercial Operation Date",null,null,"Baseload and Intermediate Capacity",null,null,null,null,"Peaking","Non-firm",null,null,null,null,null,"Gas:"]
[null,null,null,null,null,null,null,null,"Nuclear","Gas","Gas/Oil","Oil","Coal/Pet Coke","GT's","Solar PV",null,null,null,null,null,null,"Gas only",{"$f":"J3","v":6},{"$f":"J4","v":5902},{"$f":"X7/$X$20","v":0.20614019768782088}]
[null,"Broward Gas Turbine Power Park",null,"Gas Turbines - peaking - 36",{"$f":"SUM(ColdWinter!O12:O13,ColdWinter!O33)","v":1377},"8/70, 8/71, 8/72",null,36,{"$f":"IF($D8=I$7,$E8,\"\")","v":""},{"$f":"IF($D8=J$7,$E8,\"\")","v":""},{"$f":"IF(AND($D8=K$7,$H8=1),$E8,\"\")","v":""},{"$f":"IF(AND($D8=L$7,$H8=1),$E8,\"\")","v":""},{"$f":"IF(OR($D8=\"Coal/Pet Coke\",$D8=\"Coal\"),$E8,\"\")","v":""},{"$f":"IF($H8>1,$E8,\"\")","v":1377},{"$f":"IF($D8=O$7,$E8,\"\")","v":""},null,null,null,null,null,null,"Gas, with oil capability (1)",{"$f":"K3","v":14},{"$f":"K4","v":13831},{"$f":"X8/$X$20","v":0.48307778282281444}]
[null,null,null,null,null,null,null,null,null,null,"","",{"$f":"IF(OR($D9=\"Coal/Pet Coke\",$D9=\"Coal\"),$E9,\"\")","v":""},{"$f":"IF($H9>1,$E9,\"\")","v":""},null,null,null,null,null,null,"Coal - SJRPP and Scherer",null,{"$f":"M3","v":3},{"$f":"M4","v":911},{"$f":"X9/$X$20","v":3.1818658097865951E-2}]
[null,"Cape Canaveral(2)",3,"Gas/Oil",{"$f":"ColdWinter!O6","v":1355},"4/13",null,1,{"$f":"IF($D10=I$7,$E10,\"\")","v":""},{"$f":"IF($D10=J$7,$E10,\"\")","v":""},1355,{"$f":"IF(AND($D10=L$7,$H10=1),$E10,\"\")","v":""},"",{"$f":"IF($H10>1,$E10,\"\")","v":""},{"$f":"IF($D10=O$7,$E10,\"\")","v":""},null,null,null,null,null,null,"Total Owned Baseload Capacity",{"$f":"SUM(W5:W9)","v":27},{"$f":"SUM(X5:X9)","v":24194},{"$f":"SUM(Y5:Y9)","v":0.84502811637735331}]
[null,null,null,null,null,null,null,null,null,null,"","","",""]
[null,"Ft Lauderdale(3)",4,"Gas/Oil",{"$f":"ColdWinter!O10","v":483},"5/93",null,1,{"$f":"IF($D12=I$7,$E12,\"\")","v":""},"",483,"","",{"$f":"IF($H12>1,$E12,\"\")","v":""},{"$f":"IF($D12=O$7,$E12,\"\")","v":""},null,null,null,null,"Owned Peaking Capacity:"]
[null,null,5,"Gas/Oil",{"$f":"ColdWinter!O11","v":483},"6/93",null,1,"","",483,"","","","",null,null,null,null,null,"Gas Turbines",null,{"$f":"N3","v":50},{"$f":"N4","v":2439},{"$f":"X13/$X$20","v":8.5187384303726729E-2}]
[null,null,null,"Total",{"$f":"SUM(E12:E13)","v":966},null,null,null,"","","","","","",""]
[null,null,null,null,null,null,null,null,"","","","","","","",null,null,null,null,"Owned Non-firm Capacity: (2)"]
[null,"Ft Myers(4)",2,"Gas",{"$f":"ColdWinter!O15","v":1491},"2000, 2001 and 5/02",null,1,"",1491,"",{"$f":"IF(AND($D16=L$7,$H16=1),$E16,\"\")","v":""},"","","",null,null,null,null,null,"Solar",null,{"$f":"O3","v":2},{"$f":"O4","v":35},{"$f":"X16/$X$20","v":1.2224511892703713E-3}]
[null,null,3,"Gas/Oil - peaking - 2",{"$f":"ColdWinter!O16","v":352},"6/03",null,2,"","","","","",352,"",null,null,null,null,null,null,"Total Owned Capacity",{"$f":"W10+W13+W16","v":79},{"$f":"X10+X13+X16","v":26668},{"$f":"Y10+Y13","v":0.93021550068108005}]
[null,null,null,"Gas Turbines - peaking - 12",{"$f":"ColdWinter!O17","v":710},"6/74",null,12,"","","","","",710,""]
[null,null,null,"Total",{"$f":"SUM(E16:E18)","v":2553},null,null,null,"","","","","","","",null,null,null,null,"Purchased Power (see below)",null,null,null,1963,{"$f":"X19/$X$20","v":6.856204812964968E-2}]
[null,null,null,null,null,null,null,null,"","","","","","","",null,null,null,null,"TOTAL CAPACITY",null,null,null,{"$f":"X17+X19","v":28631},{"$f":"Y17+Y19","v":0.99877754881072978}]
[null,"Manatee",1,"Gas/Oil",{"$f":"ColdWinter!O25","v":819},"10/76",null,1,"","",819,{"$f":"IF(AND($D21=L$7,$H21=1),$E21,\"\")","v":""},"","",""]
[null,null,2,"Gas/Oil",{"$f":"ColdWinter!O26","v":819},"12/77",null,1,"","",819,"","","",""]
[null,null,3,"Gas",{"$f":"ColdWinter!O27","v":1233},"6/05",null,1,"",1233,"","","","","",null,null,null,null,"(1)","The Martin Solar Energy Center (75mw) went into service in 2010.  The 75mw is non-incremental.  It is considered a non-firm source for replacing steam produced by burning natural gas at the Martin Unit 8 combined cycle unit."]
[null,null,null,"Total",{"$f":"SUM(E21:E23)","v":2871},null,null,null,"","","","","","",""]
[null,null,null,null,null,null,null,null,"","","","","","",""]
[null,"Martin",1,"Gas/Oil",{"$f":"ColdWinter!O20","v":829},"12/80",null,1,"","",829,"","","","",null,null,null,null,"(2)","Because of the intermittent nature of the photovoltaics (PV) resource, FPL is currently assigning no firm capacity benefit to solar generating assets.  FPL will reassess this once actual operating data from the PV facilities is available.  This non-firm designation is needed in order to gauge consistent output during the peak hours which are accounted for in FPL's reserve margin calculations. (comments from Ten Year Site Plan)"]
[null,null,2,"Gas/Oil",{"$f":"ColdWinter!O21","v":832},"6/81",null,1,"","",832,"","","",""]
[null,null,3,"Gas",{"$f":"ColdWinter!O22","v":489},"2/94",null,1,{"$f":"IF($D28=I$7,$E28,\"\")","v":""},489,"","","","",""]
[null,null,4,"Gas",{"$f":"ColdWinter!O23","v":489},"4/94",null,1,"",489,"","","","",""]
[null,null,8,"Gas/Oil/Solar Thermal",{"$f":"ColdWinter!O24","v":1227},"6/01, 6/05  (5)",null,1,"",null,{"$f":"E30","v":1227},"","","",""]
[null,null,null,"Total",{"$f":"SUM(E26:E30)","v":3866},null,null,null,"","","","","","",""]
[null,null,null,null,null,null,null,null,"","","","","","","",null,null,null,null,"C-3"]
[null,"Port Everglades (6)(7)",1,"Gas/Oil",null,"6/60 (6)",null,null,null,null,null,null,""]
[null,null,2,"Gas/Oil",null,"4/61 (6)",null,null,null,null,null,null,""]
[null,null,3,"Gas/Oil",null,"7/64 (7)",null,null,null,null,null,null,""]
[null,null,4,"Gas/Oil",null,"4/65 (7)",null,null,null,null,null,null,""]
[null,null,5,"Gas/Oil",null,null,null,null,null,null,null,null,""]
[null,null,null,"Total",null,null,null,null,null,null,null,null,""]
[null,null,null,null,null,null,null,null,null,null,null,null,""]
[null,"Riviera",5,"Gas/Oil",{"$f":"ColdWinter!O38","v":1344},"4/14 (8)",null,1,"","",{"$f":"IF(AND($D40=K$7,$H40=1),$E40,\"\")","v":1344},{"$f":"IF(AND($D40=L$7,$H40=1),$E40,\"\")","v":""},"","",""]
[null,null,null,null,null,null,null,null,"","","","","","",""]
[null,null,null,null,{"$f":"ColdWinter!O40/0.7636","v":852.54059717129394},null,null,null,"","","","","","",""]
[null,"Scherer (9)",4,"Coal",{"$f":"ColdWinter!O40","v":651},"2/89",null,1,"","","","",651,"",""]
[null,null,null,null,null,null,null,null,"","","","","","",""]
[null,"St Johns River Power Park (10)",1,"Coal/Pet Coke",{"$f":"ColdWinter!O18","v":130},"3/87",null,1,"","","","",130,"",""]
[null,null,2,"Coal/Pet Coke",{"$f":"ColdWinter!O19","v":130},"5/88",null,1,"","","","",130,"",""]
[null,null,null,"Total",{"$f":"SUM(E45:E46)","v":260},null,null,null,{"$f":"IF($D47=I$7,$E47,\"\")","v":""},"","","","","",""]
[null,null,null,null,null,null,null,null,"","","","","","",""]
[null,"St Lucie (11)",1,"Nuclear",{"$f":"ColdWinter!O41","v":1003},"12/76",null,1,1003,"","","","","",""]
[null,null,2,"Nuclear",{"$f":"ColdWinter!O42","v":860},"8/83",null,1,860,"","","","","",""]
[null,null,null,"Total",{"$f":"SUM(E49:E50)","v":1863},null,null,null,"","","","","","",""]
[null,null,null,null,null,null,null,null,"","","","","","",""]
[null,"Sanford (12)",4,"Gas",{"$f":"ColdWinter!O44","v":1100},"4CTs @ 3/03, 10/03  (11)",null,1,"",1100,"","","","",""]
[null,null,5,"Gas",{"$f":"ColdWinter!O45","v":1100},"4CTs @ 5/02, 6/02  (11)",null,1,"",1100,"","","","",""]
[null,null,null,"Total",{"$f":"SUM(E53:E54)","v":2200},null,null,null,"","","","","","",""]
[null,null,null,null,null,null,null,null,"","","","","","",""]
[null,"Turkey Point",1,"Gas/Oil",{"$f":"ColdWinter!O46","v":398},"4/67",null,1,"","",398,"","","",""]
[null,null,3,"Nuclear",{"$f":"ColdWinter!O48","v":839},"12/72",null,1,839,"","","","","",""]
[null,null,4,"Nuclear",{"$f":"ColdWinter!O49","v":848},"9/73",null,1,848,"","","","","",""]
[null,null,5,"Gas/Oil",{"$f":"ColdWinter!O50","v":1237},"5/07",null,1,"","",1237,"","","",""]
[null,null,null,"Total",{"$f":"SUM(E57:E60)","v":3322},null,null,null,"","","","","","",""]
[null,null,null,null,null,null,null,null,"","","","","","",""]
[null,"West County",1,"Gas/Oil",{"$f":"ColdWinter!O55","v":1335},"8/27/09",null,1,"","",1335,"","","",""]
[null,null,2,"Gas/Oil",{"$f":"ColdWinter!O56","v":1335},"11/3/09",null,1,"","",1335,"","","",""]
[null,null,3,"Gas/Oil",{"$f":"ColdWinter!O57","v":1335},"5/1/11",null,1,"","",1335,"","","",""]
[null,null,null,"Total",{"$f":"SUM(E63:E65)","v":4005},null,null,null,"","","","","","",""]
[null,null,null,null,null,null,null,null,"","","","","","",""]
[null,"System Total (Firm Capability)",null,null,{"$f":"SUMIF(D8:D67,\"Total\",E8:E67)+E43+E8+E10+E40","v":26633},null,null,{"$f":"SUM(H8:H65)","v":77},"","","","","",null,""]
[null,null,null,null,null,null,null,null,"","","","","","",""]
[null,"Non-Firm Capability",null,null,null,null,null,1,"","","","","","",""]
[null,"Unit","Unit #","Type","Megawatts","Commercial Operation Date",null,1,"","","","","","",""]
[null,"DeSoto",1,"Solar PV",{"$f":"ColdWinter!I9","v":25},"10/27/09",null,null,"","","","","","",25]
[null,"Space Coast",1,"Solar PV",{"$f":"ColdWinter!I39","v":10},"4/16/10",null,{"$f":"SUM(H70:H71)","v":2},"","","","",{"$f":"IF(OR($D73=\"Coal / Pet Coke\",$D73=\"Coal\"),$E73,\"\")","v":""},null,10]
[]
[null,"System Total (Non-Firm Capability)",null,null,{"$f":"E72+E73","v":35},null,null,{"$f":"SUM(H8:H63,H70:H71)","v":77}]
[]
[null,"System Total (Firm and Non-Firm Capability)",null,null,{"$f":"E68+E75","v":26668}]
[]
["(1)","Represents FPL's net warm weather peaking capability used for long-term planning, updated in February 2014."]
["(2)","Units 1 and 2 were removed from service in June, 2010. Cape Canaveral Next Generation Energy Center went into service on April 24, 2013."]
["(3)","Units resumed operation after repowering unit 4 & 5 (originally COD 9/57 & 4/58, respectively). Unit 4 resumed commercial operation as a"]
["(4)","Oil unit 1&2 retired from service on September 1, 2001.  CT's in operation in 10/00, 11/00, 12/00, 4/01 and 2 in 5/01.  Unit 2 combined cycle"]
[null,"commercial operation on 5/30/2002.  Unit 3 added two simple cycle CT's totaling 314 MW on June 1, 2003."]
["(5)","Two simple cycle combustion turbine units added 298 MW on June 14, 2001.  Commercial operation as a combined cycle unit on 6/30/2005."]
[null,"The Martin Solar Energy Center (75mw) went in service 12/10/10. The 75mw is not incremental. It is considered a non-firm source for replacing"]
[null,"steam produced by burning natural gas at the Martin Unit 8 combined cycle unit."]
["(6)","Units were removed from service 11/30/12.  Port Everglades Next Generation Clean Energy Center is expected to be in service by June 2016."]
["(7)","Units were removed from service 1/31/13.  Port Everglades Next Generation Clean Energy Center is expected to be in service by June 2016."]
["(8)","Riviera Beach Next Generation Clean Energy Center unit #5 went into service on April 1, 2014 adding 1,212 MW to the system total."]
["(9)","Represents FPL’s 76.36% share of 880 MW unit after line and transformer losses.  Units purchased in four closings 7/91, 6/93, 6/94 and"]
[null,"6/95."]
["(10)","Represents FPL’s 20% share of SJRPP Units Nos. 1 and 2."]
["(11)","Represents FPL’s share of St. Lucie Unit No. 2, excluding Orlando Utilities Commission’s and Florida Municipal Power Agency’s combined"]
[null,"share of about 15%."]
["(12)","Oil/gas unit 5 was retired from service on October 2, 2001.  Four unit 5 CT's in operation in 5/02 and combined cycle operation on 6/14/02."]
[null,"Oil/gas unit 4 was retired from service on July 20, 2002.  Four unit 4 CTs in operation in 3/03 and operation as a combined cycle facility on"]
[null,"October 24, 2003. Oil/gas unit 3 was retired 11/30/12."]
[]
["C-4"]

{"sheet":"FPL System Capability (summer)","index":7,"n_rows":99,"n_cols":25,"rows_kept":99,"cut":false,"hidden":false,"merged":[[98,0,98,5],[31,19,31,24],[25,20,29,24],[22,20,24,24],[0,1,0,5],[1,1,1,5],[0,19,0,24],[1,8,1,12],[1,19,1,24],[5,8,5,12]]}
["OPC 006108","POWER PLANT CAPABILITY",null,null,null,null,null,null,"DRM summary by type of generating unit",null,null,null,null,null,null,null,null,"Total",null,"FPL System Capacity"]
["FPL RC-16","2014-12-31",null,null,null,null,null,"Sub-total",{"$f":"SUM(I4:M4)","v":22830},null,null,null,null,{"$f":"N4","v":2227},{"$f":"O4","v":35},{"$f":"SUM(I2:O2)","v":25092},null,null,null,{"$f":"B2","v":"2014-12-31"}]
[null,null,null,null,null,null,null,"# Units",{"$f":"COUNT(I8:I73)","v":4},{"$f":"COUNT(J8:J73)","v":6},{"$f":"COUNT(K8:K73)","v":14},{"$f":"COUNT(L8:L73)","v":0},{"$f":"COUNT(M8:M73)","v":3},{"$f":"SUMIF(N8:N73,\">1\",H8:H71)","v":50},{"$f":"COUNT(O8:O73)","v":2},{"$f":"SUM(I3:O3)","v":79},"Purchase Power",null,null,null,null,null,"# of Units","Megawatts","% of Total"]
[null,null,null,null,null,null,null,"Capacity",{"$f":"SUM(I8:I73)","v":3453},{"$f":"SUM(J8:J73)","v":5527},{"$f":"SUM(K8:K73)","v":12953},{"$f":"SUM(L8:L73)","v":0},{"$f":"SUM(M8:M74)","v":897},{"$f":"SUM(N8:N74)","v":2227},{"$f":"SUM(O8:O74)","v":35},{"$f":"SUM(I4:O4)","v":25092},1963,{"$f":"Q4+P4","v":27055},null,"Owned Baseload and Intermediate Capacity"]
[null,"Firm Capability",null,null,"Summer Peak",null,null,"% of Total",{"$f":"I4/$E$77","v":0.13761358201817311},0.2202694085764387,0.5162203092619162,0,3.5748445719751318E-2,8.8753387533875336E-2,1.3948668898453691E-3,{"$f":"SUM(I5:O5)","v":1},{"$f":"Q4/R4","v":7.2555904638698945E-2},null,null,null,"Nuclear",null,{"$f":"I3","v":4},{"$f":"I4","v":3453},{"$f":"X5/$X$20","v":0.12762890408427277}]
[null,"Unit","Unit #","Type","Megawatts (1)","Commercial Operation Date",null,null,"Baseload and Intermediate Capacity",null,null,null,null,"Peaking","Non-firm",null,null,null,null,null,"Gas:"]
[null,null,null,null,null,null,null,null,"Nuclear","Gas","Gas/Oil","Oil","Coal/Pet Coke","GT's","Solar PV",null,null,null,null,null,null,"Gas only",{"$f":"J3","v":6},{"$f":"J4","v":5527},{"$f":"X7/$X$20","v":0.20428756237294401}]
[null,"Broward Gas Turbine Power Park",null,"Gas Turbines - peaking - 36",{"$f":"SUM(Summer!O12:O13,Summer!O33)","v":1260},"8/70, 8/71, 8/72",null,36,{"$f":"IF($D8=I$7,$E8,\"\")","v":""},{"$f":"IF($D8=J$7,$E8,\"\")","v":""},{"$f":"IF(AND($D8=K$7,$H8=1),$E8,\"\")","v":""},{"$f":"IF(AND($D8=L$7,$H8=1),$E8,\"\")","v":""},{"$f":"IF(OR($D8=\"Coal/Pet Coke\",$D8=\"Coal\"),$E8,\"\")","v":""},{"$f":"IF($H8>1,$E8,\"\")","v":1260},{"$f":"IF($D8=O$7,$E8,\"\")","v":""},null,null,null,null,null,null,"Gas, with oil capability (1)",{"$f":"K3","v":14},{"$f":"K4","v":12953},{"$f":"X8/$X$20","v":0.47876547773054889}]
[null,null,null,null,null,null,null,null,null,null,"","",{"$f":"IF(OR($D9=\"Coal/Pet Coke\",$D9=\"Coal\"),$E9,\"\")","v":""},{"$f":"IF($H9>1,$E9,\"\")","v":""},null,null,null,null,null,null,"Coal - SJRPP and Scherer",null,{"$f":"M3","v":3},{"$f":"M4","v":897},{"$f":"X9/$X$20","v":3.3154684901127336E-2}]
[null,"Cape Canaveral(2)",3,"Gas/Oil",{"$f":"Summer!O6","v":1210},"4/13",null,1,{"$f":"IF($D10=I$7,$E10,\"\")","v":""},{"$f":"IF($D10=J$7,$E10,\"\")","v":""},1210,{"$f":"IF(AND($D10=L$7,$H10=1),$E10,\"\")","v":""},"",{"$f":"IF($H10>1,$E10,\"\")","v":""},{"$f":"IF($D10=O$7,$E10,\"\")","v":""},null,null,null,null,null,null,"Total Owned Baseload Capacity",{"$f":"SUM(W5:W9)","v":27},{"$f":"SUM(X5:X9)","v":22830},{"$f":"SUM(Y5:Y9)","v":0.84383662908889312}]
[null,null,null,null,null,null,null,null,null,null,"","","",""]
[null,"Ft Lauderdale(3)",4,"Gas/Oil",{"$f":"Summer!O10","v":442},"5/93",null,1,{"$f":"IF($D12=I$7,$E12,\"\")","v":""},"",442,"","",{"$f":"IF($H12>1,$E12,\"\")","v":""},{"$f":"IF($D12=O$7,$E12,\"\")","v":""},null,null,null,null,"Owned Peaking Capacity:"]
[null,null,5,"Gas/Oil",{"$f":"Summer!O11","v":442},"6/93",null,1,"","",442,"","","","",null,null,null,null,null,"Gas Turbines",null,{"$f":"N3","v":50},{"$f":"N4","v":2227},{"$f":"X13/$X$20","v":8.2313805211605987E-2}]
[null,null,null,"Total",{"$f":"SUM(E12:E13)","v":884},null,null,null,"","","","","","",""]
[null,null,null,null,null,null,null,null,"","","","","","","",null,null,null,null,"Owned Non-firm Capacity: (2)"]
[null,"Ft Myers(4)",2,"Gas",{"$f":"Summer!O15","v":1436},"2000, 2001 and 5/02",null,1,"",1436,"",{"$f":"IF(AND($D16=L$7,$H16=1),$E16,\"\")","v":""},"","","",null,null,null,null,null,"Solar",null,{"$f":"O3","v":2},{"$f":"O4","v":35},{"$f":"X16/$X$20","v":1.29366106080207E-3}]
[null,null,3,"Gas/Oil - peaking - 2",{"$f":"Summer!O16","v":319},"6/03",null,2,"","","","","",319,"",null,null,null,null,null,null,"Total Owned Capacity",{"$f":"W10+W13+W16","v":79},{"$f":"X10+X13+X16","v":25092},{"$f":"Y10+Y13","v":0.92615043430049915}]
[null,null,null,"Gas Turbines - peaking - 12",{"$f":"Summer!O17","v":648},"6/74",null,12,"","","","","",648,""]
[null,null,null,"Total",{"$f":"SUM(E16:E18)","v":2403},null,null,null,"","","","","","","",null,null,null,null,"Purchased Power (see below)",null,null,null,1963,{"$f":"X19/$X$20","v":7.2555904638698945E-2}]
[null,null,null,null,null,null,null,null,"","","","","","","",null,null,null,null,"TOTAL CAPACITY",null,null,null,{"$f":"X17+X19","v":27055},{"$f":"Y17+Y19","v":0.99870633893919813}]
[null,"Manatee",1,"Gas/Oil",{"$f":"Summer!O25","v":809},"10/76",null,1,"","",809,{"$f":"IF(AND($D21=L$7,$H21=1),$E21,\"\")","v":""},"","",""]
[null,null,2,"Gas/Oil",{"$f":"Summer!O26","v":809},"12/77",null,1,"","",809,"","","",""]
[null,null,3,"Gas",{"$f":"Summer!O27","v":1143},"6/05",null,1,"",1143,"","","","","",null,null,null,null,"(1)","The Martin Solar Energy Center (75mw) went into service in 2010.  The 75mw is non-incremental.  It is considered a non-firm source for replacing steam produced by burning natural gas at the Martin Unit 8 combined cycle unit."]
[null,null,null,"Total",{"$f":"SUM(E21:E23)","v":2761},null,null,null,{"$f":"IF($D24=I$7,$E24,\"\")","v":""},"","","","","",""]
[null,null,null,null,null,null,null,null,"","","","","","",""]
[null,"Martin",1,"Gas/Oil",{"$f":"Summer!O20","v":823},"12/80",null,1,"","",823,"","","","",null,null,null,null,"(2)","Because of the intermittent nature of the photovoltaics (PV) resource, FPL is currently assigning no firm capacity benefit to solar generating assets.  FPL will reassess this once actual operating data from the PV facilities is available.  This non-firm designation is needed in order to gauge consistent output during the peak hours which are accounted for in FPL's reserve margin calculations. (comments from Ten Year Site Plan)"]
[null,null,2,"Gas/Oil",{"$f":"Summer!O21","v":826},"6/81",null,1,"","",826,"","","",""]
[null,null,3,"Gas",{"$f":"Summer!O22","v":469},"2/94",null,1,"",469,"","","","",""]
[null,null,4,"Gas",{"$f":"Summer!O23","v":469},"4/94",null,1,"",469,"","","","",""]
[null,null,8,"Gas/Oil/Solar Thermal",{"$f":"Summer!O24","v":1135},"6/01, 6/05  (5)",null,1,"",null,{"$f":"E30","v":1135},"","","",""]
[null,null,null,"Total",{"$f":"SUM(E26:E30)","v":3722},null,null,null,"","","","","","",""]
[null,null,null,null,null,null,null,null,"","","","","","","",null,null,null,null,"C-3"]
[null,"Port Everglades (6)(7)",1,"Gas/Oil",null,"6/60 (6)",null,null,null,null,null,null,""]
[null,null,2,"Gas/Oil",null,"4/61 (6)",null,null,null,null,null,null,""]
[null,null,3,"Gas/Oil",null,"7/64 (7)",null,null,null,null,null,null,""]
[null,null,4,"Gas/Oil",null,"4/65 (7)",null,null,null,null,null,null,""]
[null,null,5,"Gas/Oil",null,null,null,null,null,null,null,null,""]
[null,null,null,"Total",null,null,null,null,null,null,null,null,""]
[null,null,null,null,null,null,null,null,null,null,null,null,""]
[null,"Riviera",5,"Gas/Oil",{"$f":"Summer!O38","v":1212},"4/14 (8)",null,1,"","",{"$f":"IF(AND($D40=K$7,$H40=1),$E40,\"\")","v":1212},{"$f":"IF(AND($D40=L$7,$H40=1),$E40,\"\")","v":""},"","",""]
[null,null,null,null,null,null,null,null,"","","","","","",""]
[null,null,null,null,{"$f":"Summer!O40/0.7636","v":842.06390780513368},null,null,null,"","","","","","",""]
[null,"Scherer (9)",4,"Coal",{"$f":"Summer!O40","v":643},"2/89",null,1,{"$f":"IF($D43=I$7,$E43,\"\")","v":""},"","","",643,"",""]
[null,null,null,null,null,null,null,null,"","","","","","",""]
[null,"St Johns River Power Park (10)",1,"Coal/Pet Coke",{"$f":"Summer!O18","v":127},"3/87",null,1,"","","","",127,"",""]
[null,null,2,"Coal/Pet Coke",{"$f":"Summer!O19","v":127},"5/88",null,1,"","","","",127,"",""]
[null,null,null,"Total",{"$f":"SUM(E45:E46)","v":254},null,null,null,"","","","","","",""]
[null,null,null,null,null,null,null,null,"","","","","","",""]
[null,"St Lucie (11)",1,"Nuclear",{"$f":"Summer!O41","v":981},"12/76",null,1,981,"","","","","",""]
[null,null,2,"Nuclear",{"$f":"Summer!O42","v":840},"8/83",null,1,840,"","","","","",""]
[null,null,null,"Total",{"$f":"SUM(E49:E50)","v":1821},null,null,null,"","","","","","",""]
[null,null,null,null,null,null,null,null,"","","","","","",""]
[null,"Sanford (12)",4,"Gas",{"$f":"Summer!O44","v":1005},"4CTs @ 3/03, 10/03  (11)",null,1,"",1005,"","","","",""]
[null,null,5,"Gas",{"$f":"Summer!O45","v":1005},"4CTs @ 5/02, 6/02  (11)",null,1,"",1005,"","","","",""]
[null,null,null,"Total",{"$f":"SUM(E53:E54)","v":2010},null,null,null,"","","","","","",""]
[null,null,null,null,null,null,null,null,"","","","","","",""]
[null,"Turkey Point",1,"Gas/Oil",{"$f":"Summer!O46","v":396},"4/67",null,1,"","",396,"","","",""]
[null,null,3,"Nuclear",{"$f":"Summer!O48","v":811},"12/72",null,1,811,"","","","","",""]
[null,null,4,"Nuclear",{"$f":"Summer!O49","v":821},"9/73",null,1,821,"","","","","",""]
[null,null,5,"Gas/Oil",{"$f":"Summer!O50","v":1192},"5/07",null,1,"","",1192,"","","",""]
[null,null,null,"Total",{"$f":"SUM(E57:E60)","v":3220},null,null,null,"","","","","","",""]
[null,null,null,null,null,null,null,null,"","","","","","",""]
[null,"West County",1,"Gas/Oil",{"$f":"Summer!O55","v":1219},"8/27/09",null,1,"","",1219,"","","",""]
[null,null,2,"Gas/Oil",{"$f":"Summer!O56","v":1219},"11/3/09",null,1,"","",1219,"","","",""]
[null,null,3,"Gas/Oil",{"$f":"Summer!O57","v":1219},"5/1/11",null,1,"","",1219,"",{"$f":"IF(OR($D65=\"Coal/Pet Coke\",$D65=\"Coal\"),$E65,\"\")","v":""},"",""]
[null,null,null,"Total",{"$f":"SUM(E63:E65)","v":3657},null,null,null,"","","","","","",""]
[null,null,null,null,null,null,null,null,"","","","","","",""]
[null,"System Total (Firm Capability)",null,null,{"$f":"SUMIF(D8:D67,\"Total\",E8:E67)+E43+E8+E10+E40","v":25057},null,null,{"$f":"SUM(H8:H65)","v":77},"","","","","",null,""]
[null,null,null,null,null,null,null,null,"","","","","","",""]
[null,"Non-Firm Capability",null,null,null,null,null,1,"","","","","","",""]
[null,"Unit","Unit #","Type","Megawatts","Commercial Operation Date",null,1,"","","","","","",""]
[null,"DeSoto",1,"Solar PV",{"$f":"Summer!I9","v":25},"10/27/09",null,null,"","","","","","",25]
[null,"Space Coast",1,"Solar PV",{"$f":"Summer!I39","v":10},"4/16/10",null,{"$f":"SUM(H70:H71)","v":2},"","","","",{"$f":"IF(OR($D73=\"Coal / Pet Coke\",$D73=\"Coal\"),$E73,\"\")","v":""},null,10]
[]
[null,"System Total (Non-Firm Capability)",null,null,{"$f":"E72+E73","v":35},null,null,{"$f":"SUM(H8:H63,H70:H71)","v":77}]
[]
[null,"System Total (Firm and Non-Firm Capability)",null,null,{"$f":"E68+E75","v":25092}]
[]
["(1)","Represents FPL's net warm weather peaking capability used for long-term planning, updated in February 2014."]
["(2)","Units 1 and 2 were removed from service in June, 2010. Cape Canaveral Next Generation Energy Center went into service on April 24, 2013."]
["(3)","Units resumed operation after repowering unit 4 & 5 (originally COD 9/57 & 4/58, respectively). Unit 4 resumed commercial operation as a"]
["(4)","Oil unit 1&2 retired from service on September 1, 2001.  CT's in operation in 10/00, 11/00, 12/00, 4/01 and 2 in 5/01.  Unit 2 combined cycle"]
[null,"commercial operation on 5/30/2002.  Unit 3 added two simple cycle CT's totaling 314 MW on June 1, 2003."]
["(5)","Two simple cycle combustion turbine units added 298 MW on June 14, 2001.  Commercial operation as a combined cycle unit on 6/30/2005."]
[null,"The Martin Solar Energy Center (75mw) went in service 12/10/10. The 75mw is not incremental. It is considered a non-firm source for replacing"]
[null,"steam produced by burning natural gas at the Martin Unit 8 combined cycle unit."]
["(6)","Units were removed from service 11/30/12.  Port Everglades Next Generation Clean Energy Center is expected to be in service by June 2016."]
["(7)","Units were removed from service 1/31/13.  Port Everglades Next Generation Clean Energy Center is expected to be in service by June 2016."]
["(8)","Riviera Beach Next Generation Clean Energy Center unit #5 went into service on April 1, 2014 adding 1,212 MW to the system total."]
["(9)","Represents FPL’s 76.36% share of 880 MW unit after line and transformer losses.  Units purchased in four closings 7/91, 6/93, 6/94 and"]
[null,"6/95."]
["(10)","Represents FPL’s 20% share of SJRPP Units Nos. 1 and 2."]
["(11)","Represents FPL’s share of St. Lucie Unit No. 2, excluding Orlando Utilities Commission’s and Florida Municipal Power Agency’s combined"]
[null,"share of about 15%."]
["(12)","Oil/gas unit 5 was retired from service on October 2, 2001.  Four unit 5 CT's in operation in 5/02 and combined cycle operation on 6/14/02."]
[null,"Oil/gas unit 4 was retired from service on July 20, 2002.  Four unit 4 CTs in operation in 3/03 and operation as a combined cycle facility on"]
[null,"October 24, 2003. Oil/gas unit 3 was retired 11/30/12."]
[]
["C-4"]

{"sheet":"FPL Generation MW Capacity","index":8,"n_rows":31,"n_cols":12,"rows_kept":31,"cut":false,"hidden":false,"merged":[[29,1,29,10],[31,1,31,10],[1,0,1,10],[19,1,19,10],[20,1,20,10],[21,1,21,10],[26,1,26,10],[25,1,25,10],[23,1,23,10],[24,1,24,10],[22,1,22,10],[30,0,30,10],[27,1,27,10],[28,1,28,10]]}
["DRM Report Update","4th","Quarter",2014,null,null,null,null,null,null,null,"OPC 006109"]
["FPL GENERATION MW CAPABILITY (1)",null,null,null,null,null,null,null,null,null,null,"FPL RC-16"]
[]
[null,2014,2015,2016,2017,2018,2019,2020,2021,2022,2023]
["Total from prior year (excludes solar)",{"$f":"Summer!C59-Summer!C9-Summer!C39-Summer!C47","v":24238},{"$f":"B15","v":25057},25094,25943,25987,25943,25688,25688,25688,26875]
[]
["New Additions:"]
["Riviera modernization",{"$f":"Summer!G61","v":1212}]
["Port Everglades modernization (7)",null,null,{"$f":"SUM(Summer!AB61:AM61)","v":1237}]
["Turkey Point Nuclear Units 6&7 (1)",null,null,null,null,null,null,null,null,{"$f":"SUM(Summer!CV61:DG61)","v":1100},{"$f":"SUM(Summer!DH61:DS61)","v":1100}]
["Peaking Gas Turbines",null,null,null,null,null,1005]
["Changes to Existing Units (8,9,10)",{"$f":"SUM(Summer!D64:O66)","v":101},{"$f":"SUM(Summer!P64:AA66)","v":37},{"$f":"SUM(Summer!AB64:AM66)","v":8},null,null,null,null,null,{"$f":"SUM(Summer!CV64:DG66)","v":87},{"$f":"SUM(Summer!DH64:DS66)","v":83}]
["Acquired units (1,6)",null,null,null,{"$f":"SUM(Summer!AN61:AY61)","v":44}]
["Projected Retirements  (3)",{"$f":"Summer!O67","v":-494},null,{"$f":"SUM(Summer!AB67:AM67)","v":-396},null,{"$f":"SUM(Summer!AZ67:BK67)","v":-44},-1260]
["New Total Firm Capability (excludes solar)",{"$f":"B5+SUM(B8:B14)","v":25057},25094,25943,25987,25943,25688,25688,25688,26875,28058]
[]
["Solar Non-Firm Capability:  PV  (4)",35,35,35,35,35,35,35,35,35,35]
["Solar Non-Firm Capability:  Solar Thermal  (5)",75,75,75,75,75,75,75,75,75,75]
[]
["(1)","2014 - 2023 additions from 2014-2023 Ten Year Power Plant Site Plan"]
["(2)","From Miguel Arechabala Long-Term Planning Capabilities Letter published February 7, 2014."]
["(3)","2014 includes the permanent retirement of Putnam 1&2, 2016 includes Turkey Point 1 conversion to a synchronous condenser,  and 2018 includes the permanent retirement of Vero Beach combined cycle."]
["(4)","Includes 25 mw of PV solar at DeSoto site (commissioned in 2009) and 10 mw of PV solar at Space Coast site (commissioned April 2010)."]
["(5)","Includes 75 MW at Martin Next Generation Solar Energy Center (commissioned in 2010).  The 75 MW is not incremental.  It will produce steam to replace steam produced by burning natural gas at the Martin 8 combined cycle unit."]
["(6)","Unit acquired from Vero beach Utilities agreement in 2017 and expected retirement in 2018."]
["(7)","Port Everglades revised for design changes"]
["(8)","Cape Canaveral gas turbine upgrade in 2022."]
["(9)","Riviera Beach gas turbine upgrade in 2023."]
["(10)","Includes .04 Upgrades in 2015 and 2016 at Fort Myers Plant, and ESP installation at Martin 2 in 2015."]
[]
["C-7"]

{"sheet":"FPL Profile","index":9,"n_rows":26,"n_cols":6,"rows_kept":26,"cut":false,"hidden":false,"merged":[]}
["OPC 006110"]
["FPL RC-16","FPL Power Generation"]
[null,"As of December 31, 2014"]
[null,null,null,null,null,"Net"]
[null,null,null,"Units","Fuel","Capability"]
[null,null,null,null,null,"(MW)"]
[null,"A","Turkey Point",4,"Nuclear/Gas/Oil",{"$f":"SUM('FPL System Capability (summer)'!E57:E60)","v":3220}]
[null,"B","St. Lucie",2,"Nuclear",{"$f":"SUM('FPL System Capability (summer)'!E49:E50)","v":1821}]
[null,"C","Manatee",3,"Gas/Oil",{"$f":"SUM('FPL System Capability (summer)'!E21:E23)","v":2761}]
[null,"D","Fort Myers",3,"Gas/Oil",{"$f":"SUM('FPL System Capability (summer)'!E16:E17)","v":1755}]
[null,"F","DeSoto",1,"Solar PV",{"$f":"'FPL System Capability (summer)'!E72","v":25}]
[null,"G","Lauderdale",2,"Gas/Oil",{"$f":"SUM('FPL System Capability (summer)'!E12:E13)","v":884}]
[null,"H","Port Everglades",2,"Currently Under Modernization"]
[null,"I","Riviera",1,"Gas/Oil",{"$f":"'FPL System Capability (summer)'!E40","v":1212}]
[null,"J","Martin",5,"Gas/Oil",{"$f":"SUM('FPL System Capability (summer)'!E26:E30)","v":3722}]
[null,"K","Cape Canaveral",1,"Gas/Oil",{"$f":"'FPL System Capability (summer)'!E10","v":1210}]
[null,"L","Sanford",2,"Gas/Oil",{"$f":"SUM('FPL System Capability (summer)'!E53:E54)","v":2010}]
[null,"M","Putnam",2,"Gas/Oil",0]
[null,"N","St. John's River",2,"Coal/Petroleum Coke",{"$f":"SUM('FPL System Capability (summer)'!E45:E46)","v":254}]
[null,"O","West County",3,"Gas/Oil",{"$f":"SUM('FPL System Capability (summer)'!E63:E65)","v":3657}]
[null,null,"Scherer (in GA)",1,"Coal",{"$f":"'FPL System Capability (summer)'!E43","v":643}]
[null,null,"Gas Turbines (Peaking Units)",36,null,{"$f":"SUM('FPL System Capability (summer)'!E8,'FPL System Capability (summer)'!E18)","v":1908}]
[null,null,"Space Coast",1,"Solar PV",{"$f":"'FPL System Capability (summer)'!E73","v":10}]
[null,null,"FPL Generation (subtotal)",null,null,{"$f":"SUM(F7:F23)","v":25092}]
[null,null,"Purchased Power",null,null,"????"]
[null,null,"System Total",null,null,"????"]

{"sheet":"Pareto Data OFFCC Incr","index":11,"n_rows":15,"n_cols":4,"rows_kept":15,"cut":false,"hidden":true,"merged":[]}
[]
[]
["Legend","Data","PERCENT"]
["Labels",{"$f":"SUM(B5:$B$12)","v":8},0]
["PSN5",1,{"$f":"B5/SUM(B5:$B$12)","v":0.125}]
["PMG8",1,{"$f":"SUM(($B$5):B6)/SUM(($B$5):$B$12)","v":0.25}]
["PMR2",1,{"$f":"SUM(($B$5):B7)/SUM(($B$5):$B$12)","v":0.375}]
["PFM3",1,{"$f":"SUM(($B$5):B8)/SUM(($B$5):$B$12)","v":0.5}]
["PPE4",1,{"$f":"SUM(($B$5):B9)/SUM(($B$5):$B$12)","v":0.625}]
["PFL4",1,{"$f":"SUM(($B$5):B10)/SUM(($B$5):$B$12)","v":0.75}]
["PTF1",1,{"$f":"SUM(($B$5):B11)/SUM(($B$5):$B$12)","v":0.875}]
["PMR1",1,{"$f":"SUM(($B$5):B12)/SUM(($B$5):$B$12)","v":1},93]
[]
[]
[null,"NOT USED IN 2005 LETTER"]

{"sheet":"Exhibit J-3","index":12,"n_rows":31,"n_cols":9,"rows_kept":31,"cut":false,"hidden":false,"merged":[[3,2,3,3],[3,5,3,6]]}
[null,null,null,null,null,null,"Exhibit J-3",null,"OPC 006111"]
["Generation Owned or Purchased by Florida Power and Light",null,null,null,null,null,null,null,"FPL RC-16"]
[]
[null,null,"Total Capacity (MW)",null,"Ownership","Owned Capacity (MW)"]
["BAA","Plant Name","Summer","Winter","Share","Summer","Winter"]
["FPL","DeSoto",{"$f":"'FPL System Capability (summer)'!E72","v":25},{"$f":"'FPL System Capability (winter)'!E72","v":25},1,{"$f":"C6*$E6","v":25},{"$f":"D6*$E6","v":25}]
["FPL","Cape Canaveral",{"$f":"'FPL System Capability (summer)'!E10","v":1210},{"$f":"'FPL System Capability (winter)'!E10","v":1355},1,{"$f":"C7*$E7","v":1210},1355]
["FPL","Fort Myers",{"$f":"'FPL System Capability (summer)'!E19","v":2403},{"$f":"'FPL System Capability (winter)'!E19","v":2553},1,2403,2553]
["FPL","Lauderdale",{"$f":"'FPL System Capability (summer)'!E14+'FPL System Capability (summer)'!E8*2/3","v":1724},{"$f":"'FPL System Capability (winter)'!E14+'FPL System Capability (winter)'!E8*2/3","v":1884},1,1724,1884]
["FPL","Manatee",{"$f":"'FPL System Capability (summer)'!E24","v":2761},{"$f":"'FPL System Capability (winter)'!E24","v":2871},1,2761,2871]
["FPL","Martin",{"$f":"'FPL System Capability (summer)'!E31","v":3722},{"$f":"'FPL System Capability (winter)'!E31","v":3866},1,3722,3866]
["FPL","Port Everglades ",{"$f":"'FPL System Capability (summer)'!E38+'FPL System Capability (summer)'!E8*1/3","v":420},{"$f":"'FPL System Capability (winter)'!E38+'FPL System Capability (winter)'!E8*1/3","v":459},1,420,459]
["FPL","Riviera Beach Energy Center",{"$f":"'FPL System Capability (summer)'!E40","v":1212},{"$f":"'FPL System Capability (winter)'!E40","v":1344},1,1212,1344]
["FPL","Sanford",{"$f":"'FPL System Capability (summer)'!E55","v":2010},{"$f":"'FPL System Capability (winter)'!E55","v":2200},1,2010,2200]
["FPL","Space Coast",{"$f":"'FPL System Capability (summer)'!E73","v":10},{"$f":"'FPL System Capability (winter)'!E73","v":10},1,10,10]
["FPL","St. Lucie",{"$f":"'FPL System Capability (summer)'!E51","v":1821},{"$f":"'FPL System Capability (winter)'!E51","v":1863},1,1821,1863]
["FPL","Turkey Point",{"$f":"'FPL System Capability (summer)'!E61","v":3220},{"$f":"'FPL System Capability (winter)'!E61","v":3322},1,3220,3322]
["FPL","West County",{"$f":"'FPL System Capability (summer)'!E66","v":3657},{"$f":"'FPL System Capability (winter)'!E66","v":4005},1,3657,4005]
["FPL","Scherer 1/",{"$f":"F19/$E19","v":841.62303664921467},{"$f":"G19/$E19","v":852.09424083769636},0.76400000000000001,{"$f":"'FPL System Capability (summer)'!E43","v":643},{"$f":"'FPL System Capability (winter)'!E43","v":651}]
["FPL","St Johns River Power Park 2/",{"$f":"F20/$E20","v":1270},{"$f":"G20/$E20","v":1300},0.2,{"$f":"'FPL System Capability (summer)'!E47","v":254},{"$f":"'FPL System Capability (winter)'!E47","v":260}]
["Subtotal, Existing Generation",null,null,null,null,{"$f":"SUM(F6:F20)","v":25092},{"$f":"SUM(G6:G20)","v":26668}]
[]
["FPL","Port Everglades Energy Center",{"$f":"Summer!AG32","v":1237},{"$f":"ColdWinter!AG32","v":1429},1,{"$f":"C23*$E23","v":1237},{"$f":"D23*$E23","v":1429}]
["Subtotal, Existing Generation",null,null,null,null,{"$f":"F23","v":1237},{"$f":"G23","v":1429}]
[]
["Total Generation",null,null,null,null,{"$f":"F24+F21","v":26329},{"$f":"G24+G21","v":28097}]
[]
[]
[]
["1/","The Scherer plant is  located in SOCO, but is dynamically scheduled into FPL."]
["2/","The St Johns River plant is located in JEA, but is dynamically scheduled into FPL."]

{"sheet":"Sheet3","index":13,"n_rows":47,"n_cols":13,"rows_kept":47,"cut":false,"hidden":false,"merged":[[0,10,2,10],[43,1,43,10],[4,8,4,9],[14,8,14,9],[15,8,15,9],[22,8,22,9],[23,8,23,9],[25,8,25,9],[26,8,26,9],[30,8,30,9],[31,8,31,9],[34,8,34,9],[35,8,35,9],[3,8,3,9],[0,0,2,0],[0,1,2,1],[0,2,2,2],[0,3,2,3],[0,5,2,5],[0,6,2,6],[0,7,2,7],[0,8,0,9],[1,8,1,9],[2,8,2,9]]}
["FPL Facilities",null,"Location",null,"No.",null,"Fuel",null,"Net",null,null,null,"OPC 006112"]
[null,null,null,null,"of Units",null,null,null,"Capability",null,null,null,"FPL RC-16"]
[null,null,null,null,null,null,null,null,"(mw)(a)"]
["Fossil"]
["Combined-cycle"]
["Fort Myers",null,"Fort Myers, FL",null,1,null,"Gas",null,1432]
["Lauderdale",null,"Dania, FL",null,2,null,"Gas/Oil",null,884]
["Manatee",null,"Parrish, FL",null,1,null,"Gas",null,1111]
["Martin",null,"Indiantown, FL",null,1,null,"Gas/Oil/Solar Thermal",null,1141,null,"(b)"]
["Martin",null,"Indiantown, FL",null,2,null,"Gas",null,938]
["Putnam",null,"Palatka, FL",null,2,null,"Gas/Oil",null,498]
["Sanford",null,"Lake Monroe, FL",null,2,null,"Gas",null,1946]
["Turkey Point",null,"Florida City, FL",null,1,null,"Gas/Oil",null,1148]
["West County",null,"West Palm Beach, FL",null,3,null,"Gas/Oil",null,3657]
[]
["Steam turbines"]
["Manatee",null,"Parrish, FL",null,2,null,"Oil/Gas",null,1621]
["Martin",null,"Indiantown, FL",null,2,null,"Oil/Gas",null,1652]
["Port Everglades",null,"Port Everglades, FL",null,2,null,"Oil/Gas",null,761,null,"(c)"]
["St. Johns River Power Park",null,"Jacksonville, FL",null,2,null,"Coal/Petroleum Coke",null,254,null,"(d)"]
["Scherer",null,"Monroe County, GA",null,1,null,"Coal",null,642,null,"(e)"]
["Turkey Point",null,"Florida City, FL",null,2,null,"Oil/Gas",null,788]
[]
["Simple-cycle combustion turbines"]
["Fort Myers",null,"Fort Myers, FL",null,2,null,"Gas/Oil",null,315]
[]
["Gas turbines"]
["Fort Myers",null,"Fort Myers, FL",null,12,null,"Oil",null,648]
["Lauderdale",null,"Dania, FL",null,24,null,"Oil/Gas",null,840]
["Port Everglades",null,"Port Everglades, FL",null,12,null,"Oil/Gas",null,420]
[]
["Nuclear"]
["St. Lucie",null,"Hutchinson Island, FL",null,2,null,"Nuclear",null,1824,null,"(f)"]
["Turkey Point",null,"Florida City, FL",null,2,null,"Nuclear",null,1502]
[]
["Solar PV"]
["DeSoto",null,"Arcadia, FL",null,1,null,"Solar PV",null,25]
["Space Coast",null,"Cocoa, FL",null,1,null,"Solar PV",null,10]
["TOTAL",null,null,null,null,null,null,null,24057]
[]
[]
["(a)","Represents FPL's net ownership interest in warm weather peaking capability."]
["(b)","The megawatts generated by the 75 mw solar thermal facility replace steam produced by this unit and therefore are not incremental."]
["(c)","As part of the modernization of the Port Everglades plant, two units were retired in November 2012 and the remaining two units will be retired during the first quarter of 2013."]
["(d)","Represents FPL's 20% ownership interest in each of SJRPP Units Nos. 1 and 2, which are jointly owned with JEA."]
["(e)","Represents FPL's approximately 76% ownership of Scherer Unit No. 4, which is jointly owned with JEA."]
["(f)","Excludes Orlando Utilities Commission's and the Florida Municipal Power Agency's combined share of approximately 15% of St. Lucie Unit No. 2."]